{"text_format":"1","workbook":"xlsx","n_sheets":7,"sheets":["formule","kosten tabel 2015","Berekening BGK","Tabel","Versies","Uitleg","indexcijfers"],"not_rendered":{"charts":1,"images":0,"macros":0,"external_links":0,"defined_names":2,"comments":1,"pivot_tables":0},"unopened":[],"bounds":{"document_bytes":16777216,"sheet_cells":100000,"rows_first":2000,"rows_last":500,"rows_between":2000,"halvings":0,"cell_chars":16384,"cell_head_chars":4096},"cells_cut":0,"cells_raw":0,"read":"whole","date_system":"1900"}

{"sheet":"formule","index":0,"n_rows":44,"n_cols":8,"rows_kept":44,"cut":false,"hidden":true,"merged":[]}
["Originele regressieformule MEY (incl BTW)"]
["kosten = ",56.9,29,"* wortel(schade)","gulden"]
["kosten = ",{"$f":"56.9/2.20371","v":25.820094295528904},{"$f":"29/SQRT(2.20371)","v":19.535331113953681},"* wortel(schade)","euro"]
[]
[null,null,null,null,null,null,null,0.32200000000000001]
["Ophoging regressieformule tm 1-1-2001 (incl BTW )"]
["kosten = ",{"$f":"B2*(1+H5)","v":75.221800000000002},{"$f":"C2*(1+H5)","v":38.338000000000001},"* wortel(schade)","gulden"]
["kosten = ",{"$f":"B3*(1+H5)","v":34.134164658689215},{"$f":"C3*(1+H5)","v":25.825707732646769},"* wortel(schade)","euro"]
[]
[]
["index CAO-lonen particuliere bedrijven / fin. en zakelijke dienstverlening Bron: CBS"]
["jaar",null,null,"loonindex","consumentenprijsindex"]
[2001,null,null,5.6716417910447792E-2,4.2000000000000003E-2]
[2002,null,null,3.3898305084745672E-2,3.3000000000000002E-2]
[2003,null,null,2.5999999999999999E-2,2.1000000000000001E-2]
[2004,null,null,0.03,1.2E-2]
[2005,null,null,0.03,1.7000000000000001E-2]
[2006,null,null,2.1999999999999999E-2,1.2E-2]
[2007,null,null,1.7999999999999999E-2,1.6E-2,{"$f":"(1+D19)/(1+E19)-1","v":1.9685039370078705E-3}]
[2008,null,null,3.5000000000000003E-2,2.5000000000000001E-2,{"$f":"(1+D20)/(1+E20)-1","v":9.7560975609756184E-3}]
[2009,null,null,{"$f":"indexcijfers!B22","v":2.1999999999999999E-2},{"$f":"indexcijfers!B39","v":1.2E-2},{"$f":"(1+D21)/(1+E21)-1","v":9.8814229249011287E-3}]
[2010,null,null,{"$f":"indexcijfers!B23","v":0.01},{"$f":"indexcijfers!B40","v":1.2999999999999999E-2},{"$f":"(1+D22)/(1+E22)-1","v":-2.9615004935833467E-3}]
[2011,null,null,{"$f":"indexcijfers!B24","v":1.2999999999999999E-2},{"$f":"indexcijfers!B41","v":2.3E-2},{"$f":"(1+D23)/(1+E23)-1","v":-9.7751710654936375E-3}]
[2012,null,null,{"$f":"indexcijfers!B25","v":1.4999999999999999E-2},{"$f":"indexcijfers!B42","v":2.5000000000000001E-2},-9.7560975609756184E-3]
[2013,null,null,{"$f":"indexcijfers!B26","v":0.01},{"$f":"indexcijfers!B43","v":2.5000000000000001E-2},-1.4634146341463317E-2]
[2014,null,null,{"$f":"indexcijfers!B27","v":1.0999999999999999E-2},{"$f":"indexcijfers!B44","v":0.01},9.9009900990099098E-4]
[null,null,null,{"$f":"(1+D13)*(1+D14)*(1+D15)*(1+D16)*(1+D17)*(1+D18)*(1+D19)*(1+D20)*(1+D21)*(1+D22)*(1+D23)*(1+D24)*(1+D25)*(1+D26)-1","v":0.38776969249746895},{"$f":"(1+E13)*(1+E14)*(1+E15)*(1+E16)*(1+E17)*(1+E18)*(1+E19)*(1+E20)*(1+E21)*(1+E22)*(1+E23)*(1+E24)*(1+E25)*(1+E26)-1","v":0.32656345827251942},{"$f":"(1+F19)*(1+F20)*(1+F21)*(1+F22)*(1+F23)*(1+F24)*(1+F25)*(1+F26)-1","v":-1.4727991084716341E-2}]
[]
[]
["regressieformule 2013 (incl BTW)"]
["kosten = ",{"$f":"B7*(1+D27)","v":104.39053425510612},"+",{"$f":"+C7*(1+D27)/SQRT(1+E27)","v":46.193709276601254},"* wortel(schade)","gulden"]
["kosten = ",{"$f":"B8*(1+D27)","v":47.370359192047104},"+",{"$f":"C8*(1+D27)/SQRT(1+E27)","v":31.117565727590325},"* wortel(schade)"]
[]
["regressieformule 2013 (excl BTW)"]
["kosten = ",{"$f":"B31/1.19","v":87.723138029500944},"+",{"$f":"D31/1.19","v":38.818243089580889},"* wortel(schade)","gulden"]
["kosten = ",{"$f":"B32/1.19","v":39.807024531132022},"+",{"$f":"D32/1.19","v":26.149214897134726},"* wortel(schade)"]
[]
[]
["opslagen tabel",null,"basisverhoging ","indexatie per 1-1-08","totaal verhoging","opmerking"]
["< 25.000",null,0.1,null,{"$f":"C40","v":0.1},"boven op kosten conform regressieformule"]
["25.000 tot 45.000",null,0.125,null,{"$f":"C41","v":0.125},"boven op kosten conform regressieformule"]
["45.000 tot 75.000",null,0.17499999999999999,{"$f":"F27","v":-1.4727991084716341E-2},{"$f":"C42*(1+D42)","v":0.17242260156017464},"kosten bij 45.000 (afgerond) + percentage van (schadebedrag - 45.000)"]
["75.000 tot 100.000",null,0.15,{"$f":"F27","v":-1.4727991084716341E-2},{"$f":"C43*(1+D43)","v":0.14779080133729255},"kosten bij 75.000 (afgerond) + percentage van (schadebedrag - 75.000)"]
["> 100.000",null,0.1,{"$f":"F27","v":-1.4727991084716341E-2},{"$f":"C44*(1+D44)","v":9.8527200891528374E-2},"kosten bij 100.000 (afgerond) + percentage van (schadebedrag - 100.000)"]

{"sheet":"kosten tabel 2015","index":1,"n_rows":2503,"n_cols":12,"rows_kept":2503,"cut":false,"hidden":true,"merged":[[0,7,0,8],[0,10,0,11]]}
["schadebedrag",null,"kosten volgens tabel oud",null,"Basis tabel 2010",null,null,"Kosten volgens tabel 2010 (- 2011) + extra vergoeding",null,null,"Kosten volgens tabel 2015"]
[null,null,"excl BTW","incl BTW","Excl. BTW","Incl. BTW",null,"Excl. BTW + extra vergoeding € 450 in zaken > € 3000","Incl. BTW + extra vergoeding € 535 in zaken > € 3000",null,"Kosten Exclusief BTW","Exclusief BTW, inclusief 5% opslag"]
["euro"]
[100,null,null,null,600,{"$f":"E4*1.19","v":714},null,{"$f":"E4","v":600},{"$f":"F4","v":714},null,{"$f":"E4","v":600},{"$f":"K4*1.05","v":630}]
[{"$f":"A4+100","v":200},null,null,null,600,714,null,{"$f":"E5","v":600},{"$f":"F5","v":714},null,{"$f":"E5","v":600},{"$f":"K5*1.05","v":630}]
[{"$f":"A5+100","v":300},null,null,null,600,714,null,600,714,null,600,630]
[{"$f":"A6+100","v":400},null,null,null,600,714,null,600,714,null,600,630]
[{"$f":"A7+100","v":500},{"$f":"(formule!$B$36+formule!$D$36*SQRT(A8))","v":624.5212452135662},{"$f":"CEILING((formule!$B$36+formule!$D$36*SQRT(A8))/100,1)*100","v":700},{"$f":"C8*1.19","v":833},{"$f":"CEILING(((1+formule!$E$40)*(formule!$B$36+formule!$D$36*SQRT(A8)))/100,1)*100","v":700},833,null,700,833,null,700,735]
[{"$f":"A8+100","v":600},{"$f":"(formule!$B$36+formule!$D$36*SQRT(A9))","v":680.32936125477795},{"$f":"CEILING((formule!$B$36+formule!$D$36*SQRT(A9))/100,1)*100","v":700},{"$f":"C9*1.19","v":833},{"$f":"CEILING(((1+formule!$E$40)*(formule!$B$36+formule!$D$36*SQRT(A9)))/100,1)*100","v":800},952,null,800,952,null,800,840]
[{"$f":"A9+100","v":700},{"$f":"(formule!$B$36+formule!$D$36*SQRT(A10))","v":731.65022050517121},{"$f":"CEILING((formule!$B$36+formule!$D$36*SQRT(A10))/100,1)*100","v":800},952,{"$f":"CEILING(((1+formule!$E$40)*(formule!$B$36+formule!$D$36*SQRT(A10)))/100,1)*100","v":900},1071,null,900,1071,null,900,945]
[800,{"$f":"(formule!$B$36+formule!$D$36*SQRT(A11))","v":779.41851158986219},{"$f":"CEILING((formule!$B$36+formule!$D$36*SQRT(A11))/100,1)*100","v":800},952,{"$f":"CEILING(((1+formule!$E$40)*(formule!$B$36+formule!$D$36*SQRT(A11)))/100,1)*100","v":900},1071,null,900,1071,null,900,945]
[900,{"$f":"(formule!$B$36+formule!$D$36*SQRT(A12))","v":824.28347144517386},{"$f":"CEILING((formule!$B$36+formule!$D$36*SQRT(A12))/100,1)*100","v":900},1071,{"$f":"CEILING(((1+formule!$E$40)*(formule!$B$36+formule!$D$36*SQRT(A12)))/100,1)*100","v":1000},1190,null,1000,1190,null,1000,1050]
[1000,{"$f":"(formule!$B$36+formule!$D$36*SQRT(A13))","v":866.71780553264534},{"$f":"CEILING((formule!$B$36+formule!$D$36*SQRT(A13))/100,1)*100","v":900},1071,{"$f":"CEILING(((1+formule!$E$40)*(formule!$B$36+formule!$D$36*SQRT(A13)))/100,1)*100","v":1000},1190,null,1000,1190,null,1000,1050]
[1100,{"$f":"(formule!$B$36+formule!$D$36*SQRT(A14))","v":907.07836829280973},{"$f":"CEILING((formule!$B$36+formule!$D$36*SQRT(A14))/100,1)*100","v":1000},1190,{"$f":"CEILING(((1+formule!$E$40)*(formule!$B$36+formule!$D$36*SQRT(A14)))/100,1)*100","v":1000},1190,null,1000,1190,null,1000,1050]
[1200,{"$f":"(formule!$B$36+formule!$D$36*SQRT(A15))","v":945.64240012861853},{"$f":"CEILING((formule!$B$36+formule!$D$36*SQRT(A15))/100,1)*100","v":1000},1190,{"$f":"CEILING(((1+formule!$E$40)*(formule!$B$36+formule!$D$36*SQRT(A15)))/100,1)*100","v":1100},1309,null,1100,1309,null,1100,1155]
[1300,{"$f":"(formule!$B$36+formule!$D$36*SQRT(A16))","v":982.63037577859257},{"$f":"CEILING((formule!$B$36+formule!$D$36*SQRT(A16))/100,1)*100","v":1000},1190,{"$f":"CEILING(((1+formule!$E$40)*(formule!$B$36+formule!$D$36*SQRT(A16)))/100,1)*100","v":1100},1309,null,1100,1309,null,1100,1155]
[1400,{"$f":"(formule!$B$36+formule!$D$36*SQRT(A17))","v":1018.2210553131655},{"$f":"CEILING((formule!$B$36+formule!$D$36*SQRT(A17))/100,1)*100","v":1100},1309,{"$f":"CEILING(((1+formule!$E$40)*(formule!$B$36+formule!$D$36*SQRT(A17)))/100,1)*100","v":1200},1428,null,1200,1428,null,1200,1260]
[1500,{"$f":"(formule!$B$36+formule!$D$36*SQRT(A18))","v":1052.561762661149},{"$f":"CEILING((formule!$B$36+formule!$D$36*SQRT(A18))/100,1)*100","v":1100},1309,{"$f":"CEILING(((1+formule!$E$40)*(formule!$B$36+formule!$D$36*SQRT(A18)))/100,1)*100","v":1200},1428,null,1200,1428,null,1200,1260]
[1600,{"$f":"(formule!$B$36+formule!$D$36*SQRT(A19))","v":1085.7756204165212},{"$f":"CEILING((formule!$B$36+formule!$D$36*SQRT(A19))/100,1)*100","v":1100},1309,{"$f":"CEILING(((1+formule!$E$40)*(formule!$B$36+formule!$D$36*SQRT(A19)))/100,1)*100","v":1200},1428,null,1200,1428,null,1200,1260]
[1700,{"$f":"(formule!$B$36+formule!$D$36*SQRT(A20))","v":1117.9667750097453},{"$f":"CEILING((formule!$B$36+formule!$D$36*SQRT(A20))/100,1)*100","v":1200},1428,{"$f":"CEILING(((1+formule!$E$40)*(formule!$B$36+formule!$D$36*SQRT(A20)))/100,1)*100","v":1300},1547,null,1300,1547,null,1300,1365]
[1800,{"$f":"(formule!$B$36+formule!$D$36*SQRT(A21))","v":1149.2242551192273},{"$f":"CEILING((formule!$B$36+formule!$D$36*SQRT(A21))/100,1)*100","v":1200},1428,{"$f":"CEILING(((1+formule!$E$40)*(formule!$B$36+formule!$D$36*SQRT(A21)))/100,1)*100","v":1300},1547,null,1300,1547,null,1300,1365]
[1900,{"$f":"(formule!$B$36+formule!$D$36*SQRT(A22))","v":1179.6248764265183},{"$f":"CEILING((formule!$B$36+formule!$D$36*SQRT(A22))/100,1)*100","v":1200},1428,{"$f":"CEILING(((1+formule!$E$40)*(formule!$B$36+formule!$D$36*SQRT(A22)))/100,1)*100","v":1300},1547,null,1300,1547,null,1300,1365]
[2000,{"$f":"(formule!$B$36+formule!$D$36*SQRT(A23))","v":1209.2354658960005},{"$f":"CEILING((formule!$B$36+formule!$D$36*SQRT(A23))/100,1)*100","v":1300},1547,{"$f":"CEILING(((1+formule!$E$40)*(formule!$B$36+formule!$D$36*SQRT(A23)))/100,1)*100","v":1400},1666,null,1400,1666,null,1400,1470]
[2100,{"$f":"(formule!$B$36+formule!$D$36*SQRT(A24))","v":1238.1145908289998},{"$f":"CEILING((formule!$B$36+formule!$D$36*SQRT(A24))/100,1)*100","v":1300},1547,{"$f":"CEILING(((1+formule!$E$40)*(formule!$B$36+formule!$D$36*SQRT(A24)))/100,1)*100","v":1400},1666,null,1400,1666,null,1400,1470]
[2200,{"$f":"(formule!$B$36+formule!$D$36*SQRT(A25))","v":1266.3139211364355},{"$f":"CEILING((formule!$B$36+formule!$D$36*SQRT(A25))/100,1)*100","v":1300},1547,{"$f":"CEILING(((1+formule!$E$40)*(formule!$B$36+formule!$D$36*SQRT(A25)))/100,1)*100","v":1400},1666,null,1400,1666,null,1400,1470]
[2300,{"$f":"(formule!$B$36+formule!$D$36*SQRT(A26))","v":1293.879315666705},{"$f":"CEILING((formule!$B$36+formule!$D$36*SQRT(A26))/100,1)*100","v":1300},1547,{"$f":"CEILING(((1+formule!$E$40)*(formule!$B$36+formule!$D$36*SQRT(A26)))/100,1)*100","v":1500},1785,null,1500,1785,null,1500,1575]
[2400,{"$f":"(formule!$B$36+formule!$D$36*SQRT(A27))","v":1320.851697978424},{"$f":"CEILING((formule!$B$36+formule!$D$36*SQRT(A27))/100,1)*100","v":1400},1666,{"$f":"CEILING(((1+formule!$E$40)*(formule!$B$36+formule!$D$36*SQRT(A27)))/100,1)*100","v":1500},1785,null,1500,1785,null,1500,1575]
[2500,{"$f":"(formule!$B$36+formule!$D$36*SQRT(A28))","v":1347.2677693878684},{"$f":"CEILING((formule!$B$36+formule!$D$36*SQRT(A28))/100,1)*100","v":1400},1666,{"$f":"CEILING(((1+formule!$E$40)*(formule!$B$36+formule!$D$36*SQRT(A28)))/100,1)*100","v":1500},1785,null,1500,1785,null,1500,1575]
[2600,{"$f":"(formule!$B$36+formule!$D$36*SQRT(A29))","v":1373.1605947873434},{"$f":"CEILING((formule!$B$36+formule!$D$36*SQRT(A29))/100,1)*100","v":1400},1666,{"$f":"CEILING(((1+formule!$E$40)*(formule!$B$36+formule!$D$36*SQRT(A29)))/100,1)*100","v":1600},1904,null,1600,1904,null,1600,1680]
[2700,{"$f":"(formule!$B$36+formule!$D$36*SQRT(A30))","v":1398.5600879273618},{"$f":"CEILING((formule!$B$36+formule!$D$36*SQRT(A30))/100,1)*100","v":1400},1666,{"$f":"CEILING(((1+formule!$E$40)*(formule!$B$36+formule!$D$36*SQRT(A30)))/100,1)*100","v":1600},1904,null,{"$f":"E30","v":1600},1904,null,1600,1680]
[2800,{"$f":"(formule!$B$36+formule!$D$36*SQRT(A31))","v":1423.4934164792105},{"$f":"CEILING((formule!$B$36+formule!$D$36*SQRT(A31))/100,1)*100","v":1500},1785,{"$f":"CEILING(((1+formule!$E$40)*(formule!$B$36+formule!$D$36*SQRT(A31)))/100,1)*100","v":1600},1904,null,1600,1904,null,1600,1680]
[2900,{"$f":"(formule!$B$36+formule!$D$36*SQRT(A32))","v":1447.9853425136043},{"$f":"CEILING((formule!$B$36+formule!$D$36*SQRT(A32))/100,1)*100","v":1500},1785,{"$f":"CEILING(((1+formule!$E$40)*(formule!$B$36+formule!$D$36*SQRT(A32)))/100,1)*100","v":1600},1904,null,1600,1904,null,1600,1680]
[3000,{"$f":"(formule!$B$36+formule!$D$36*SQRT(A33))","v":1472.0585105522143},{"$f":"CEILING((formule!$B$36+formule!$D$36*SQRT(A33))/100,1)*100","v":1500},1785,{"$f":"CEILING(((1+formule!$E$40)*(formule!$B$36+formule!$D$36*SQRT(A33)))/100,1)*100","v":1700},2023,null,1700,2023,null,1700,1785]
[3100,{"$f":"(formule!$B$36+formule!$D$36*SQRT(A34))","v":1495.7336927336385},{"$f":"CEILING((formule!$B$36+formule!$D$36*SQRT(A34))/100,1)*100","v":1500},1785,{"$f":"CEILING(((1+formule!$E$40)*(formule!$B$36+formule!$D$36*SQRT(A34)))/100,1)*100","v":1700},2023,null,{"$f":"E34+450","v":2150},{"$f":"F34+535","v":2558},null,1700,1785]
[3200,{"$f":"(formule!$B$36+formule!$D$36*SQRT(A35))","v":1519.0299986485925},{"$f":"CEILING((formule!$B$36+formule!$D$36*SQRT(A35))/100,1)*100","v":1600},1904,{"$f":"CEILING(((1+formule!$E$40)*(formule!$B$36+formule!$D$36*SQRT(A35)))/100,1)*100","v":1700},2023,null,{"$f":"E35+450","v":2150},{"$f":"F35+535","v":2558},null,1700,1785]
[3300,{"$f":"(formule!$B$36+formule!$D$36*SQRT(A36))","v":1541.9650558748913},{"$f":"CEILING((formule!$B$36+formule!$D$36*SQRT(A36))/100,1)*100","v":1600},1904,{"$f":"CEILING(((1+formule!$E$40)*(formule!$B$36+formule!$D$36*SQRT(A36)))/100,1)*100","v":1700},2023,null,2150,2558,null,1700,1785]
[3400,{"$f":"(formule!$B$36+formule!$D$36*SQRT(A37))","v":1564.5551660627791},{"$f":"CEILING((formule!$B$36+formule!$D$36*SQRT(A37))/100,1)*100","v":1600},1904,{"$f":"CEILING(((1+formule!$E$40)*(formule!$B$36+formule!$D$36*SQRT(A37)))/100,1)*100","v":1800},2142,null,2250,2677,null,1800,1890]
[3500,{"$f":"(formule!$B$36+formule!$D$36*SQRT(A38))","v":1586.8154404997927},{"$f":"CEILING((formule!$B$36+formule!$D$36*SQRT(A38))/100,1)*100","v":1600},1904,{"$f":"CEILING(((1+formule!$E$40)*(formule!$B$36+formule!$D$36*SQRT(A38)))/100,1)*100","v":1800},2142,null,2250,2677,null,1800,1890]
[3600,{"$f":"(formule!$B$36+formule!$D$36*SQRT(A39))","v":1608.7599183592158},{"$f":"CEILING((formule!$B$36+formule!$D$36*SQRT(A39))/100,1)*100","v":1700},2023,{"$f":"CEILING(((1+formule!$E$40)*(formule!$B$36+formule!$D$36*SQRT(A39)))/100,1)*100","v":1800},2142,null,2250,2677,null,1800,1890]
[3700,{"$f":"(formule!$B$36+formule!$D$36*SQRT(A40))","v":1630.4016702612034},{"$f":"CEILING((formule!$B$36+formule!$D$36*SQRT(A40))/100,1)*100","v":1700},2023,{"$f":"CEILING(((1+formule!$E$40)*(formule!$B$36+formule!$D$36*SQRT(A40)))/100,1)*100","v":1800},2142,null,2250,2677,null,1800,1890]
[3800,{"$f":"(formule!$B$36+formule!$D$36*SQRT(A41))","v":1651.752889316555},{"$f":"CEILING((formule!$B$36+formule!$D$36*SQRT(A41))/100,1)*100","v":1700},2023,{"$f":"CEILING(((1+formule!$E$40)*(formule!$B$36+formule!$D$36*SQRT(A41)))/100,1)*100","v":1900},2261,null,{"$f":"E41+450","v":2350},{"$f":"F41+535","v":2796},null,1900,1995]
[3900,{"$f":"(formule!$B$36+formule!$D$36*SQRT(A42))","v":1672.8249714540914},{"$f":"CEILING((formule!$B$36+formule!$D$36*SQRT(A42))/100,1)*100","v":1700},2023,{"$f":"CEILING(((1+formule!$E$40)*(formule!$B$36+formule!$D$36*SQRT(A42)))/100,1)*100","v":1900},2261,null,2350,2796,null,1900,1995]
[4000,{"$f":"(formule!$B$36+formule!$D$36*SQRT(A43))","v":1693.6285865341588},{"$f":"CEILING((formule!$B$36+formule!$D$36*SQRT(A43))/100,1)*100","v":1700},2023,{"$f":"CEILING(((1+formule!$E$40)*(formule!$B$36+formule!$D$36*SQRT(A43)))/100,1)*100","v":1900},2261,null,2350,2796,null,1900,1995]
[4100,{"$f":"(formule!$B$36+formule!$D$36*SQRT(A44))","v":1714.173741507967},{"$f":"CEILING((formule!$B$36+formule!$D$36*SQRT(A44))/100,1)*100","v":1800},2142,{"$f":"CEILING(((1+formule!$E$40)*(formule!$B$36+formule!$D$36*SQRT(A44)))/100,1)*100","v":1900},2261,null,2350,2796,null,1900,1995]
[4200,{"$f":"(formule!$B$36+formule!$D$36*SQRT(A45))","v":1734.4698366838734},{"$f":"CEILING((formule!$B$36+formule!$D$36*SQRT(A45))/100,1)*100","v":1800},2142,{"$f":"CEILING(((1+formule!$E$40)*(formule!$B$36+formule!$D$36*SQRT(A45)))/100,1)*100","v":2000},2380,null,2450,2915,null,2000,2100]
[4300,{"$f":"(formule!$B$36+formule!$D$36*SQRT(A46))","v":1754.5257159983623},{"$f":"CEILING((formule!$B$36+formule!$D$36*SQRT(A46))/100,1)*100","v":1800},2142,{"$f":"CEILING(((1+formule!$E$40)*(formule!$B$36+formule!$D$36*SQRT(A46)))/100,1)*100","v":2000},2380,null,2450,2915,null,2000,2100]
[4400,{"$f":"(formule!$B$36+formule!$D$36*SQRT(A47))","v":1774.3497120544876},{"$f":"CEILING((formule!$B$36+formule!$D$36*SQRT(A47))/100,1)*100","v":1800},2142,{"$f":"CEILING(((1+formule!$E$40)*(formule!$B$36+formule!$D$36*SQRT(A47)))/100,1)*100","v":2000},2380,null,2450,2915,null,2000,2100]
[4500,{"$f":"(formule!$B$36+formule!$D$36*SQRT(A48))","v":1793.9496865784347},{"$f":"CEILING((formule!$B$36+formule!$D$36*SQRT(A48))/100,1)*100","v":1800},2142,{"$f":"CEILING(((1+formule!$E$40)*(formule!$B$36+formule!$D$36*SQRT(A48)))/100,1)*100","v":2000},2380,null,2450,2915,null,2000,2100]
[4600,{"$f":"(formule!$B$36+formule!$D$36*SQRT(A49))","v":1813.3330668513599},{"$f":"CEILING((formule!$B$36+formule!$D$36*SQRT(A49))/100,1)*100","v":1900},2261,{"$f":"CEILING(((1+formule!$E$40)*(formule!$B$36+formule!$D$36*SQRT(A49)))/100,1)*100","v":2000},2380,null,2450,2915,null,2000,2100]
[4700,{"$f":"(formule!$B$36+formule!$D$36*SQRT(A50))","v":1832.5068785953042},{"$f":"CEILING((formule!$B$36+formule!$D$36*SQRT(A50))/100,1)*100","v":1900},2261,{"$f":"CEILING(((1+formule!$E$40)*(formule!$B$36+formule!$D$36*SQRT(A50)))/100,1)*100","v":2100},2499,null,2550,3034,null,2100,2205]
[4800,{"$f":"(formule!$B$36+formule!$D$36*SQRT(A51))","v":1851.4777757261052},{"$f":"CEILING((formule!$B$36+formule!$D$36*SQRT(A51))/100,1)*100","v":1900},2261,{"$f":"CEILING(((1+formule!$E$40)*(formule!$B$36+formule!$D$36*SQRT(A51)))/100,1)*100","v":2100},2499,null,2550,3034,null,2100,2205]
[4900,{"$f":"(formule!$B$36+formule!$D$36*SQRT(A52))","v":1870.252067330563},{"$f":"CEILING((formule!$B$36+formule!$D$36*SQRT(A52))/100,1)*100","v":1900},2261,{"$f":"CEILING(((1+formule!$E$40)*(formule!$B$36+formule!$D$36*SQRT(A52)))/100,1)*100","v":2100},2499,null,2550,3034,null,2100,2205]
[5000,{"$f":"(formule!$B$36+formule!$D$36*SQRT(A53))","v":1888.8357421779576},{"$f":"CEILING((formule!$B$36+formule!$D$36*SQRT(A53))/100,1)*100","v":1900},2261,{"$f":"CEILING(((1+formule!$E$40)*(formule!$B$36+formule!$D$36*SQRT(A53)))/100,1)*100","v":2100},2499,null,2550,3034,null,2100,2205]
[5100,{"$f":"(formule!$B$36+formule!$D$36*SQRT(A54))","v":1907.2344910358734},{"$f":"CEILING((formule!$B$36+formule!$D$36*SQRT(A54))/100,1)*100","v":2000},2380,{"$f":"CEILING(((1+formule!$E$40)*(formule!$B$36+formule!$D$36*SQRT(A54)))/100,1)*100","v":2100},2499,null,2550,3034,null,2100,2205]
[5200,{"$f":"(formule!$B$36+formule!$D$36*SQRT(A55))","v":1925.4537270260532},{"$f":"CEILING((formule!$B$36+formule!$D$36*SQRT(A55))/100,1)*100","v":2000},2380,{"$f":"CEILING(((1+formule!$E$40)*(formule!$B$36+formule!$D$36*SQRT(A55)))/100,1)*100","v":2200},2618,null,2650,3153,null,2200,2310]
[5300,{"$f":"(formule!$B$36+formule!$D$36*SQRT(A56))","v":1943.4986042266519},{"$f":"CEILING((formule!$B$36+formule!$D$36*SQRT(A56))/100,1)*100","v":2000},2380,{"$f":"CEILING(((1+formule!$E$40)*(formule!$B$36+formule!$D$36*SQRT(A56)))/100,1)*100","v":2200},2618,null,2650,3153,null,2200,2310]
[5400,{"$f":"(formule!$B$36+formule!$D$36*SQRT(A57))","v":1961.37403470207},{"$f":"CEILING((formule!$B$36+formule!$D$36*SQRT(A57))/100,1)*100","v":2000},2380,{"$f":"CEILING(((1+formule!$E$40)*(formule!$B$36+formule!$D$36*SQRT(A57)))/100,1)*100","v":2200},2618,null,2650,3153,null,2200,2310]
[5500,{"$f":"(formule!$B$36+formule!$D$36*SQRT(A58))","v":1979.0847041198315},{"$f":"CEILING((formule!$B$36+formule!$D$36*SQRT(A58))/100,1)*100","v":2000},2380,{"$f":"CEILING(((1+formule!$E$40)*(formule!$B$36+formule!$D$36*SQRT(A58)))/100,1)*100","v":2200},2618,null,2650,3153,null,2200,2310]
[5600,{"$f":"(formule!$B$36+formule!$D$36*SQRT(A59))","v":1996.6350860951991},{"$f":"CEILING((formule!$B$36+formule!$D$36*SQRT(A59))/100,1)*100","v":2000},2380,{"$f":"CEILING(((1+formule!$E$40)*(formule!$B$36+formule!$D$36*SQRT(A59)))/100,1)*100","v":2200},2618,null,2650,3153,null,2200,2310]
[5700,{"$f":"(formule!$B$36+formule!$D$36*SQRT(A60))","v":2014.0294553879583},{"$f":"CEILING((formule!$B$36+formule!$D$36*SQRT(A60))/100,1)*100","v":2100},2499,{"$f":"CEILING(((1+formule!$E$40)*(formule!$B$36+formule!$D$36*SQRT(A60)))/100,1)*100","v":2300},2737,null,2750,3272,null,2300,2415]
[5800,{"$f":"(formule!$B$36+formule!$D$36*SQRT(A61))","v":2031.2719000616773},{"$f":"CEILING((formule!$B$36+formule!$D$36*SQRT(A61))/100,1)*100","v":2100},2499,{"$f":"CEILING(((1+formule!$E$40)*(formule!$B$36+formule!$D$36*SQRT(A61)))/100,1)*100","v":2300},2737,null,2750,3272,null,2300,2415]
[5900,{"$f":"(formule!$B$36+formule!$D$36*SQRT(A62))","v":2048.3663327034205},{"$f":"CEILING((formule!$B$36+formule!$D$36*SQRT(A62))/100,1)*100","v":2100},2499,{"$f":"CEILING(((1+formule!$E$40)*(formule!$B$36+formule!$D$36*SQRT(A62)))/100,1)*100","v":2300},2737,null,2750,3272,null,2300,2415]
[6000,{"$f":"(formule!$B$36+formule!$D$36*SQRT(A63))","v":2065.3165007911657},{"$f":"CEILING((formule!$B$36+formule!$D$36*SQRT(A63))/100,1)*100","v":2100},2499,{"$f":"CEILING(((1+formule!$E$40)*(formule!$B$36+formule!$D$36*SQRT(A63)))/100,1)*100","v":2300},2737,null,2750,3272,null,2300,2415]
[6100,{"$f":"(formule!$B$36+formule!$D$36*SQRT(A64))","v":2082.1259962867316},{"$f":"CEILING((formule!$B$36+formule!$D$36*SQRT(A64))/100,1)*100","v":2100},2499,{"$f":"CEILING(((1+formule!$E$40)*(formule!$B$36+formule!$D$36*SQRT(A64)))/100,1)*100","v":2300},2737,null,2750,3272,null,2300,2415]
[6200,{"$f":"(formule!$B$36+formule!$D$36*SQRT(A65))","v":2098.7982645237898},{"$f":"CEILING((formule!$B$36+formule!$D$36*SQRT(A65))/100,1)*100","v":2100},2499,{"$f":"CEILING(((1+formule!$E$40)*(formule!$B$36+formule!$D$36*SQRT(A65)))/100,1)*100","v":2400},2856,null,2850,3391,null,2400,2520]
[6300,{"$f":"(formule!$B$36+formule!$D$36*SQRT(A66))","v":2115.3366124532495},{"$f":"CEILING((formule!$B$36+formule!$D$36*SQRT(A66))/100,1)*100","v":2200},2618,{"$f":"CEILING(((1+formule!$E$40)*(formule!$B$36+formule!$D$36*SQRT(A66)))/100,1)*100","v":2400},2856,null,2850,3391,null,2400,2520]
[6400,{"$f":"(formule!$B$36+formule!$D$36*SQRT(A67))","v":2131.74421630191},{"$f":"CEILING((formule!$B$36+formule!$D$36*SQRT(A67))/100,1)*100","v":2200},2618,{"$f":"CEILING(((1+formule!$E$40)*(formule!$B$36+formule!$D$36*SQRT(A67)))/100,1)*100","v":2400},2856,null,2850,3391,null,2400,2520]
[6500,{"$f":"(formule!$B$36+formule!$D$36*SQRT(A68))","v":2148.0241286946148},{"$f":"CEILING((formule!$B$36+formule!$D$36*SQRT(A68))/100,1)*100","v":2200},2618,{"$f":"CEILING(((1+formule!$E$40)*(formule!$B$36+formule!$D$36*SQRT(A68)))/100,1)*100","v":2400},{"$f":"E68*1.19","v":2856},null,2850,3391,null,2400,2520]
[6600,{"$f":"(formule!$B$36+formule!$D$36*SQRT(A69))","v":2164.1792852851449},{"$f":"CEILING((formule!$B$36+formule!$D$36*SQRT(A69))/100,1)*100","v":2200},2618,{"$f":"CEILING(((1+formule!$E$40)*(formule!$B$36+formule!$D$36*SQRT(A69)))/100,1)*100","v":2400},2856,null,2850,3391,null,{"$f":"E69","v":2400},{"$f":"K69*1.05","v":2520}]
[6700,{"$f":"(formule!$B$36+formule!$D$36*SQRT(A70))","v":2180.2125109366325},{"$f":"CEILING((formule!$B$36+formule!$D$36*SQRT(A70))/100,1)*100","v":2200},2618,{"$f":"CEILING(((1+formule!$E$40)*(formule!$B$36+formule!$D$36*SQRT(A70)))/100,1)*100","v":2400},2856,null,2850,3391,null,2400,2520]
[6800,{"$f":"(formule!$B$36+formule!$D$36*SQRT(A71))","v":2196.1265254883583},{"$f":"CEILING((formule!$B$36+formule!$D$36*SQRT(A71))/100,1)*100","v":2200},2618,{"$f":"CEILING(((1+formule!$E$40)*(formule!$B$36+formule!$D$36*SQRT(A71)))/100,1)*100","v":2500},2975,null,2950,3510,null,2500,2625]
[6900,{"$f":"(formule!$B$36+formule!$D$36*SQRT(A72))","v":2211.9239491422532},{"$f":"CEILING((formule!$B$36+formule!$D$36*SQRT(A72))/100,1)*100","v":2300},2737,{"$f":"CEILING(((1+formule!$E$40)*(formule!$B$36+formule!$D$36*SQRT(A72)))/100,1)*100","v":2500},2975,null,2950,3510,null,2500,2625]
[7000,{"$f":"(formule!$B$36+formule!$D$36*SQRT(A73))","v":2227.6073074993305},{"$f":"CEILING((formule!$B$36+formule!$D$36*SQRT(A73))/100,1)*100","v":2300},{"$f":"C73*1.19","v":2737},{"$f":"CEILING(((1+formule!$E$40)*(formule!$B$36+formule!$D$36*SQRT(A73)))/100,1)*100","v":2500},2975,null,2950,3510,null,2500,2625]
[{"$f":"A73+100","v":7100},{"$f":"(formule!$B$36+formule!$D$36*SQRT(A74))","v":2243.1790362734482},{"$f":"CEILING((formule!$B$36+formule!$D$36*SQRT(A74))/100,1)*100","v":2300},2737,{"$f":"CEILING(((1+formule!$E$40)*(formule!$B$36+formule!$D$36*SQRT(A74)))/100,1)*100","v":2500},2975,null,2950,3510,null,2500,2625]
[7200,{"$f":"(formule!$B$36+formule!$D$36*SQRT(A75))","v":2258.6414857073223},{"$f":"CEILING((formule!$B$36+formule!$D$36*SQRT(A75))/100,1)*100","v":2300},2737,{"$f":"CEILING(((1+formule!$E$40)*(formule!$B$36+formule!$D$36*SQRT(A75)))/100,1)*100","v":2500},2975,null,2950,3510,null,2500,2625]
[7300,{"$f":"(formule!$B$36+formule!$D$36*SQRT(A76))","v":2273.9969247134527},{"$f":"CEILING((formule!$B$36+formule!$D$36*SQRT(A76))/100,1)*100","v":2300},2737,{"$f":"CEILING(((1+formule!$E$40)*(formule!$B$36+formule!$D$36*SQRT(A76)))/100,1)*100","v":2600},3094,null,3050,3629,null,2600,2730]
[7400,{"$f":"(formule!$B$36+formule!$D$36*SQRT(A77))","v":2289.2475447606271},{"$f":"CEILING((formule!$B$36+formule!$D$36*SQRT(A77))/100,1)*100","v":2300},2737,{"$f":"CEILING(((1+formule!$E$40)*(formule!$B$36+formule!$D$36*SQRT(A77)))/100,1)*100","v":2600},3094,null,3050,3629,null,2600,2730]
[7500,{"$f":"(formule!$B$36+formule!$D$36*SQRT(A78))","v":2304.3954635248479},{"$f":"CEILING((formule!$B$36+formule!$D$36*SQRT(A78))/100,1)*100","v":2400},2856,{"$f":"CEILING(((1+formule!$E$40)*(formule!$B$36+formule!$D$36*SQRT(A78)))/100,1)*100","v":2600},3094,null,3050,3629,null,2600,2730]
[7600,{"$f":"(formule!$B$36+formule!$D$36*SQRT(A79))","v":2319.4427283219043},{"$f":"CEILING((formule!$B$36+formule!$D$36*SQRT(A79))/100,1)*100","v":2400},2856,{"$f":"CEILING(((1+formule!$E$40)*(formule!$B$36+formule!$D$36*SQRT(A79)))/100,1)*100","v":2600},3094,null,3050,3629,null,2600,2730]
[7700,{"$f":"(formule!$B$36+formule!$D$36*SQRT(A80))","v":2334.3913193373396},{"$f":"CEILING((formule!$B$36+formule!$D$36*SQRT(A80))/100,1)*100","v":2400},2856,{"$f":"CEILING(((1+formule!$E$40)*(formule!$B$36+formule!$D$36*SQRT(A80)))/100,1)*100","v":2600},3094,null,3050,3629,null,2600,2730]
[7800,{"$f":"(formule!$B$36+formule!$D$36*SQRT(A81))","v":2349.2431526682481},{"$f":"CEILING((formule!$B$36+formule!$D$36*SQRT(A81))/100,1)*100","v":2400},2856,{"$f":"CEILING(((1+formule!$E$40)*(formule!$B$36+formule!$D$36*SQRT(A81)))/100,1)*100","v":2600},3094,null,3050,3629,null,2600,2730]
[7900,{"$f":"(formule!$B$36+formule!$D$36*SQRT(A82))","v":2364.000083190117},{"$f":"CEILING((formule!$B$36+formule!$D$36*SQRT(A82))/100,1)*100","v":2400},2856,{"$f":"CEILING(((1+formule!$E$40)*(formule!$B$36+formule!$D$36*SQRT(A82)))/100,1)*100","v":2700},3213,null,3150,3748,null,2700,2835]
[8000,{"$f":"(formule!$B$36+formule!$D$36*SQRT(A83))","v":2378.6639072608687},{"$f":"CEILING((formule!$B$36+formule!$D$36*SQRT(A83))/100,1)*100","v":2400},2856,{"$f":"CEILING(((1+formule!$E$40)*(formule!$B$36+formule!$D$36*SQRT(A83)))/100,1)*100","v":2700},3213,null,3150,3748,null,2700,2835]
[8100,{"$f":"(formule!$B$36+formule!$D$36*SQRT(A84))","v":2393.2363652732574},{"$f":"CEILING((formule!$B$36+formule!$D$36*SQRT(A84))/100,1)*100","v":2400},2856,{"$f":"CEILING(((1+formule!$E$40)*(formule!$B$36+formule!$D$36*SQRT(A84)))/100,1)*100","v":2700},3213,null,3150,3748,null,2700,2835]
[8200,{"$f":"(formule!$B$36+formule!$D$36*SQRT(A85))","v":2407.7191440658853},{"$f":"CEILING((formule!$B$36+formule!$D$36*SQRT(A85))/100,1)*100","v":2500},2975,{"$f":"CEILING(((1+formule!$E$40)*(formule!$B$36+formule!$D$36*SQRT(A85)))/100,1)*100","v":2700},3213,null,3150,3748,null,2700,2835]
[8300,{"$f":"(formule!$B$36+formule!$D$36*SQRT(A86))","v":2422.1138792022975},{"$f":"CEILING((formule!$B$36+formule!$D$36*SQRT(A86))/100,1)*100","v":2500},2975,{"$f":"CEILING(((1+formule!$E$40)*(formule!$B$36+formule!$D$36*SQRT(A86)))/100,1)*100","v":2700},3213,null,3150,3748,null,2700,2835]
[8400,{"$f":"(formule!$B$36+formule!$D$36*SQRT(A87))","v":2436.4221571268672},{"$f":"CEILING((formule!$B$36+formule!$D$36*SQRT(A87))/100,1)*100","v":2500},2975,{"$f":"CEILING(((1+formule!$E$40)*(formule!$B$36+formule!$D$36*SQRT(A87)))/100,1)*100","v":2700},3213,null,3150,3748,null,2700,2835]
[8500,{"$f":"(formule!$B$36+formule!$D$36*SQRT(A88))","v":2450.6455172055225},{"$f":"CEILING((formule!$B$36+formule!$D$36*SQRT(A88))/100,1)*100","v":2500},2975,{"$f":"CEILING(((1+formule!$E$40)*(formule!$B$36+formule!$D$36*SQRT(A88)))/100,1)*100","v":2700},3213,null,3150,3748,null,2700,2835]
[8600,{"$f":"(formule!$B$36+formule!$D$36*SQRT(A89))","v":2464.7854536587356},{"$f":"CEILING((formule!$B$36+formule!$D$36*SQRT(A89))/100,1)*100","v":2500},2975,{"$f":"CEILING(((1+formule!$E$40)*(formule!$B$36+formule!$D$36*SQRT(A89)))/100,1)*100","v":2800},3332,null,3250,3867,null,2800,2940]
[8700,{"$f":"(formule!$B$36+formule!$D$36*SQRT(A90))","v":2478.8434173936562},{"$f":"CEILING((formule!$B$36+formule!$D$36*SQRT(A90))/100,1)*100","v":2500},2975,{"$f":"CEILING(((1+formule!$E$40)*(formule!$B$36+formule!$D$36*SQRT(A90)))/100,1)*100","v":2800},3332,null,3250,3867,null,2800,2940]
[8800,{"$f":"(formule!$B$36+formule!$D$36*SQRT(A91))","v":2492.8208177417387},{"$f":"CEILING((formule!$B$36+formule!$D$36*SQRT(A91))/100,1)*100","v":2500},2975,{"$f":"CEILING(((1+formule!$E$40)*(formule!$B$36+formule!$D$36*SQRT(A91)))/100,1)*100","v":2800},3332,null,3250,3867,null,2800,2940]
[8900,{"$f":"(formule!$B$36+formule!$D$36*SQRT(A92))","v":2506.7190241077569},{"$f":"CEILING((formule!$B$36+formule!$D$36*SQRT(A92))/100,1)*100","v":2600},3094,{"$f":"CEILING(((1+formule!$E$40)*(formule!$B$36+formule!$D$36*SQRT(A92)))/100,1)*100","v":2800},3332,null,3250,3867,null,2800,2940]
[9000,{"$f":"(formule!$B$36+formule!$D$36*SQRT(A93))","v":2520.5393675356718},{"$f":"CEILING((formule!$B$36+formule!$D$36*SQRT(A93))/100,1)*100","v":2600},3094,{"$f":"CEILING(((1+formule!$E$40)*(formule!$B$36+formule!$D$36*SQRT(A93)))/100,1)*100","v":2800},3332,null,3250,3867,null,2800,2940]
[9100,{"$f":"(formule!$B$36+formule!$D$36*SQRT(A94))","v":2534.283142196412},{"$f":"CEILING((formule!$B$36+formule!$D$36*SQRT(A94))/100,1)*100","v":2600},3094,{"$f":"CEILING(((1+formule!$E$40)*(formule!$B$36+formule!$D$36*SQRT(A94)))/100,1)*100","v":2800},3332,null,3250,3867,null,2800,2940]
[9200,{"$f":"(formule!$B$36+formule!$D$36*SQRT(A95))","v":2547.9516068022776},{"$f":"CEILING((formule!$B$36+formule!$D$36*SQRT(A95))/100,1)*100","v":2600},3094,{"$f":"CEILING(((1+formule!$E$40)*(formule!$B$36+formule!$D$36*SQRT(A95)))/100,1)*100","v":2900},3451,null,3350,3986,null,2900,3045]
[9300,{"$f":"(formule!$B$36+formule!$D$36*SQRT(A96))","v":2561.545985952348},{"$f":"CEILING((formule!$B$36+formule!$D$36*SQRT(A96))/100,1)*100","v":2600},3094,{"$f":"CEILING(((1+formule!$E$40)*(formule!$B$36+formule!$D$36*SQRT(A96)))/100,1)*100","v":2900},3451,null,3350,3986,null,2900,3045]
[9400,{"$f":"(formule!$B$36+formule!$D$36*SQRT(A97))","v":2575.0674714129523},{"$f":"CEILING((formule!$B$36+formule!$D$36*SQRT(A97))/100,1)*100","v":2600},3094,{"$f":"CEILING(((1+formule!$E$40)*(formule!$B$36+formule!$D$36*SQRT(A97)))/100,1)*100","v":2900},3451,null,3350,3986,null,2900,3045]
[9500,{"$f":"(formule!$B$36+formule!$D$36*SQRT(A98))","v":2588.5172233370026},{"$f":"CEILING((formule!$B$36+formule!$D$36*SQRT(A98))/100,1)*100","v":2600},3094,{"$f":"CEILING(((1+formule!$E$40)*(formule!$B$36+formule!$D$36*SQRT(A98)))/100,1)*100","v":2900},3451,null,3350,3986,null,2900,3045]
[9600,{"$f":"(formule!$B$36+formule!$D$36*SQRT(A99))","v":2601.8963714257156},{"$f":"CEILING((formule!$B$36+formule!$D$36*SQRT(A99))/100,1)*100","v":2700},3213,{"$f":"CEILING(((1+formule!$E$40)*(formule!$B$36+formule!$D$36*SQRT(A99)))/100,1)*100","v":2900},3451,null,3350,3986,null,2900,3045]
[9700,{"$f":"(formule!$B$36+formule!$D$36*SQRT(A100))","v":2615.2060160360147},{"$f":"CEILING((formule!$B$36+formule!$D$36*SQRT(A100))/100,1)*100","v":2700},3213,{"$f":"CEILING(((1+formule!$E$40)*(formule!$B$36+formule!$D$36*SQRT(A100)))/100,1)*100","v":2900},3451,null,3350,3986,null,2900,3045]
[9800,{"$f":"(formule!$B$36+formule!$D$36*SQRT(A101))","v":2628.4472292366877},{"$f":"CEILING((formule!$B$36+formule!$D$36*SQRT(A101))/100,1)*100","v":2700},3213,{"$f":"CEILING(((1+formule!$E$40)*(formule!$B$36+formule!$D$36*SQRT(A101)))/100,1)*100","v":2900},3451,null,3350,3986,null,2900,3045]
[9900,{"$f":"(formule!$B$36+formule!$D$36*SQRT(A102))","v":2641.6210558161647},{"$f":"CEILING((formule!$B$36+formule!$D$36*SQRT(A102))/100,1)*100","v":2700},3213,{"$f":"CEILING(((1+formule!$E$40)*(formule!$B$36+formule!$D$36*SQRT(A102)))/100,1)*100","v":3000},3570,null,3450,4105,null,3000,3150]
[10000,{"$f":"(formule!$B$36+formule!$D$36*SQRT(A103))","v":2654.7285142446044},{"$f":"CEILING((formule!$B$36+formule!$D$36*SQRT(A103))/100,1)*100","v":2700},3213,{"$f":"CEILING(((1+formule!$E$40)*(formule!$B$36+formule!$D$36*SQRT(A103)))/100,1)*100","v":3000},3570,null,3450,4105,null,3000,3150]
[10100,{"$f":"(formule!$B$36+formule!$D$36*SQRT(A104))","v":2667.7705975927865},{"$f":"CEILING((formule!$B$36+formule!$D$36*SQRT(A104))/100,1)*100","v":2700},3213,{"$f":"CEILING(((1+formule!$E$40)*(formule!$B$36+formule!$D$36*SQRT(A104)))/100,1)*100","v":3000},3570,null,3450,4105,null,3000,3150]
[10200,{"$f":"(formule!$B$36+formule!$D$36*SQRT(A105))","v":2680.7482744101658},{"$f":"CEILING((formule!$B$36+formule!$D$36*SQRT(A105))/100,1)*100","v":2700},3213,{"$f":"CEILING(((1+formule!$E$40)*(formule!$B$36+formule!$D$36*SQRT(A105)))/100,1)*100","v":3000},3570,null,{"$f":"E105+450","v":3450},{"$f":"F105+535","v":4105},null,3000,3150]
[10300,{"$f":"(formule!$B$36+formule!$D$36*SQRT(A106))","v":2693.6624895642763},{"$f":"CEILING((formule!$B$36+formule!$D$36*SQRT(A106))/100,1)*100","v":2700},3213,{"$f":"CEILING(((1+formule!$E$40)*(formule!$B$36+formule!$D$36*SQRT(A106)))/100,1)*100","v":3000},3570,null,3450,4105,null,3000,3150]
[10400,{"$f":"(formule!$B$36+formule!$D$36*SQRT(A107))","v":2706.5141650435544},{"$f":"CEILING((formule!$B$36+formule!$D$36*SQRT(A107))/100,1)*100","v":2800},3332,{"$f":"CEILING(((1+formule!$E$40)*(formule!$B$36+formule!$D$36*SQRT(A107)))/100,1)*100","v":3000},3570,null,3450,4105,null,3000,3150]
[10500,{"$f":"(formule!$B$36+formule!$D$36*SQRT(A108))","v":2719.3042007255003},{"$f":"CEILING((formule!$B$36+formule!$D$36*SQRT(A108))/100,1)*100","v":2800},3332,{"$f":"CEILING(((1+formule!$E$40)*(formule!$B$36+formule!$D$36*SQRT(A108)))/100,1)*100","v":3000},3570,null,3450,4105,null,3000,3150]
[10600,{"$f":"(formule!$B$36+formule!$D$36*SQRT(A109))","v":2732.0334751119976},{"$f":"CEILING((formule!$B$36+formule!$D$36*SQRT(A109))/100,1)*100","v":2800},3332,{"$f":"CEILING(((1+formule!$E$40)*(formule!$B$36+formule!$D$36*SQRT(A109)))/100,1)*100","v":3100},3689,null,3550,4224,null,3100,3255]
[10700,{"$f":"(formule!$B$36+formule!$D$36*SQRT(A110))","v":2744.7028460334868},{"$f":"CEILING((formule!$B$36+formule!$D$36*SQRT(A110))/100,1)*100","v":2800},3332,{"$f":"CEILING(((1+formule!$E$40)*(formule!$B$36+formule!$D$36*SQRT(A110)))/100,1)*100","v":3100},3689,null,3550,4224,null,3100,3255]
[10800,{"$f":"(formule!$B$36+formule!$D$36*SQRT(A111))","v":2757.3131513235912},{"$f":"CEILING((formule!$B$36+formule!$D$36*SQRT(A111))/100,1)*100","v":2800},3332,{"$f":"CEILING(((1+formule!$E$40)*(formule!$B$36+formule!$D$36*SQRT(A111)))/100,1)*100","v":3100},3689,null,3550,4224,null,3100,3255]
[10900,{"$f":"(formule!$B$36+formule!$D$36*SQRT(A112))","v":2769.8652094656959},{"$f":"CEILING((formule!$B$36+formule!$D$36*SQRT(A112))/100,1)*100","v":2800},3332,{"$f":"CEILING(((1+formule!$E$40)*(formule!$B$36+formule!$D$36*SQRT(A112)))/100,1)*100","v":3100},3689,null,3550,4224,null,3100,3255]
[11000,{"$f":"(formule!$B$36+formule!$D$36*SQRT(A113))","v":2782.359820212896},{"$f":"CEILING((formule!$B$36+formule!$D$36*SQRT(A113))/100,1)*100","v":2800},3332,{"$f":"CEILING(((1+formule!$E$40)*(formule!$B$36+formule!$D$36*SQRT(A113)))/100,1)*100","v":3100},3689,null,3550,4224,null,3100,3255]
[11100,{"$f":"(formule!$B$36+formule!$D$36*SQRT(A114))","v":2794.7977651826341},{"$f":"CEILING((formule!$B$36+formule!$D$36*SQRT(A114))/100,1)*100","v":2800},3332,{"$f":"CEILING(((1+formule!$E$40)*(formule!$B$36+formule!$D$36*SQRT(A114)))/100,1)*100","v":3100},3689,null,3550,4224,null,3100,3255]
[11200,{"$f":"(formule!$B$36+formule!$D$36*SQRT(A115))","v":2807.1798084272887},{"$f":"CEILING((formule!$B$36+formule!$D$36*SQRT(A115))/100,1)*100","v":2900},3451,{"$f":"CEILING(((1+formule!$E$40)*(formule!$B$36+formule!$D$36*SQRT(A115)))/100,1)*100","v":3100},3689,null,3550,4224,null,3100,3255]
[11300,{"$f":"(formule!$B$36+formule!$D$36*SQRT(A116))","v":2819.506696981884},{"$f":"CEILING((formule!$B$36+formule!$D$36*SQRT(A116))/100,1)*100","v":2900},3451,{"$f":"CEILING(((1+formule!$E$40)*(formule!$B$36+formule!$D$36*SQRT(A116)))/100,1)*100","v":3200},3808,null,3650,4343,null,3200,3360]
[11400,{"$f":"(formule!$B$36+formule!$D$36*SQRT(A117))","v":2831.7791613900354},{"$f":"CEILING((formule!$B$36+formule!$D$36*SQRT(A117))/100,1)*100","v":2900},3451,{"$f":"CEILING(((1+formule!$E$40)*(formule!$B$36+formule!$D$36*SQRT(A117)))/100,1)*100","v":3200},3808,null,3650,4343,null,3200,3360]
[11500,{"$f":"(formule!$B$36+formule!$D$36*SQRT(A118))","v":2843.9979162091799},{"$f":"CEILING((formule!$B$36+formule!$D$36*SQRT(A118))/100,1)*100","v":2900},3451,{"$f":"CEILING(((1+formule!$E$40)*(formule!$B$36+formule!$D$36*SQRT(A118)))/100,1)*100","v":3200},3808,null,3650,4343,null,3200,3360]
[11600,{"$f":"(formule!$B$36+formule!$D$36*SQRT(A119))","v":2856.1636604960763},{"$f":"CEILING((formule!$B$36+formule!$D$36*SQRT(A119))/100,1)*100","v":2900},3451,{"$f":"CEILING(((1+formule!$E$40)*(formule!$B$36+formule!$D$36*SQRT(A119)))/100,1)*100","v":3200},3808,null,3650,4343,null,3200,3360]
[11700,{"$f":"(formule!$B$36+formule!$D$36*SQRT(A120))","v":2868.2770782735138},{"$f":"CEILING((formule!$B$36+formule!$D$36*SQRT(A120))/100,1)*100","v":2900},3451,{"$f":"CEILING(((1+formule!$E$40)*(formule!$B$36+formule!$D$36*SQRT(A120)))/100,1)*100","v":3200},3808,null,3650,4343,null,3200,3360]
[11800,{"$f":"(formule!$B$36+formule!$D$36*SQRT(A121))","v":2880.3388389791035},{"$f":"CEILING((formule!$B$36+formule!$D$36*SQRT(A121))/100,1)*100","v":2900},3451,{"$f":"CEILING(((1+formule!$E$40)*(formule!$B$36+formule!$D$36*SQRT(A121)))/100,1)*100","v":3200},3808,null,3650,4343,null,3200,3360]
[11900,{"$f":"(formule!$B$36+formule!$D$36*SQRT(A122))","v":2892.349597896995},{"$f":"CEILING((formule!$B$36+formule!$D$36*SQRT(A122))/100,1)*100","v":2900},3451,{"$f":"CEILING(((1+formule!$E$40)*(formule!$B$36+formule!$D$36*SQRT(A122)))/100,1)*100","v":3200},3808,null,3650,4343,null,3200,3360]
[12000,{"$f":"(formule!$B$36+formule!$D$36*SQRT(A123))","v":2904.3099965732963},{"$f":"CEILING((formule!$B$36+formule!$D$36*SQRT(A123))/100,1)*100","v":3000},3570,{"$f":"CEILING(((1+formule!$E$40)*(formule!$B$36+formule!$D$36*SQRT(A123)))/100,1)*100","v":3200},3808,null,3650,4343,null,3200,3360]
[12100,{"$f":"(formule!$B$36+formule!$D$36*SQRT(A124))","v":2916.2206632159518},{"$f":"CEILING((formule!$B$36+formule!$D$36*SQRT(A124))/100,1)*100","v":3000},3570,{"$f":"CEILING(((1+formule!$E$40)*(formule!$B$36+formule!$D$36*SQRT(A124)))/100,1)*100","v":3300},3927,null,3750,4462,null,3300,3465]
[12200,{"$f":"(formule!$B$36+formule!$D$36*SQRT(A125))","v":2928.0822130797751},{"$f":"CEILING((formule!$B$36+formule!$D$36*SQRT(A125))/100,1)*100","v":3000},3570,{"$f":"CEILING(((1+formule!$E$40)*(formule!$B$36+formule!$D$36*SQRT(A125)))/100,1)*100","v":3300},3927,null,3750,4462,null,3300,3465]
[12300,{"$f":"(formule!$B$36+formule!$D$36*SQRT(A126))","v":2939.8952488373084},{"$f":"CEILING((formule!$B$36+formule!$D$36*SQRT(A126))/100,1)*100","v":3000},3570,{"$f":"CEILING(((1+formule!$E$40)*(formule!$B$36+formule!$D$36*SQRT(A126)))/100,1)*100","v":3300},3927,null,3750,4462,null,3300,3465]
[12400,{"$f":"(formule!$B$36+formule!$D$36*SQRT(A127))","v":2951.6603609361446},{"$f":"CEILING((formule!$B$36+formule!$D$36*SQRT(A127))/100,1)*100","v":3000},3570,{"$f":"CEILING(((1+formule!$E$40)*(formule!$B$36+formule!$D$36*SQRT(A127)))/100,1)*100","v":3300},3927,null,3750,4462,null,3300,3465]
[12500,{"$f":"(formule!$B$36+formule!$D$36*SQRT(A128))","v":2963.3781279433028},{"$f":"CEILING((formule!$B$36+formule!$D$36*SQRT(A128))/100,1)*100","v":3000},3570,{"$f":"CEILING(((1+formule!$E$40)*(formule!$B$36+formule!$D$36*SQRT(A128)))/100,1)*100","v":3300},3927,null,3750,4462,null,3300,3465]
[12600,{"$f":"(formule!$B$36+formule!$D$36*SQRT(A129))","v":2975.0491168772323},{"$f":"CEILING((formule!$B$36+formule!$D$36*SQRT(A129))/100,1)*100","v":3000},3570,{"$f":"CEILING(((1+formule!$E$40)*(formule!$B$36+formule!$D$36*SQRT(A129)))/100,1)*100","v":3300},3927,null,3750,4462,null,3300,3465]
[12700,{"$f":"(formule!$B$36+formule!$D$36*SQRT(A130))","v":2986.673883527983},{"$f":"CEILING((formule!$B$36+formule!$D$36*SQRT(A130))/100,1)*100","v":3000},3570,{"$f":"CEILING(((1+formule!$E$40)*(formule!$B$36+formule!$D$36*SQRT(A130)))/100,1)*100","v":3300},3927,null,3750,4462,null,3300,3465]
[12800,{"$f":"(formule!$B$36+formule!$D$36*SQRT(A131))","v":2998.2529727660526},{"$f":"CEILING((formule!$B$36+formule!$D$36*SQRT(A131))/100,1)*100","v":3000},3570,{"$f":"CEILING(((1+formule!$E$40)*(formule!$B$36+formule!$D$36*SQRT(A131)))/100,1)*100","v":3300},3927,null,3750,4462,null,3300,3465]
[12900,{"$f":"(formule!$B$36+formule!$D$36*SQRT(A132))","v":3009.7869188403965},{"$f":"CEILING((formule!$B$36+formule!$D$36*SQRT(A132))/100,1)*100","v":3100},3689,{"$f":"CEILING(((1+formule!$E$40)*(formule!$B$36+formule!$D$36*SQRT(A132)))/100,1)*100","v":3400},{"$f":"E132*1.19","v":4046},null,3850,4581,null,3400,3570]
[13000,{"$f":"(formule!$B$36+formule!$D$36*SQRT(A133))","v":3021.2762456660616},{"$f":"CEILING((formule!$B$36+formule!$D$36*SQRT(A133))/100,1)*100","v":3100},3689,{"$f":"CEILING(((1+formule!$E$40)*(formule!$B$36+formule!$D$36*SQRT(A133)))/100,1)*100","v":3400},4046,null,3850,4581,null,{"$f":"E133","v":3400},{"$f":"K133*1.05","v":3570}]
[13100,{"$f":"(formule!$B$36+formule!$D$36*SQRT(A134))","v":3032.721467101881},{"$f":"CEILING((formule!$B$36+formule!$D$36*SQRT(A134))/100,1)*100","v":3100},3689,{"$f":"CEILING(((1+formule!$E$40)*(formule!$B$36+formule!$D$36*SQRT(A134)))/100,1)*100","v":3400},4046,null,3850,4581,null,3400,3570]
[13200,{"$f":"(formule!$B$36+formule!$D$36*SQRT(A135))","v":3044.1230872186502},{"$f":"CEILING((formule!$B$36+formule!$D$36*SQRT(A135))/100,1)*100","v":3100},3689,{"$f":"CEILING(((1+formule!$E$40)*(formule!$B$36+formule!$D$36*SQRT(A135)))/100,1)*100","v":3400},4046,null,3850,4581,null,3400,3570]
[13300,{"$f":"(formule!$B$36+formule!$D$36*SQRT(A136))","v":3055.4816005581747},{"$f":"CEILING((formule!$B$36+formule!$D$36*SQRT(A136))/100,1)*100","v":3100},3689,{"$f":"CEILING(((1+formule!$E$40)*(formule!$B$36+formule!$D$36*SQRT(A136)))/100,1)*100","v":3400},4046,null,3850,4581,null,3400,3570]
[13400,{"$f":"(formule!$B$36+formule!$D$36*SQRT(A137))","v":3066.7974923835723},{"$f":"CEILING((formule!$B$36+formule!$D$36*SQRT(A137))/100,1)*100","v":3100},{"$f":"C137*1.19","v":3689},{"$f":"CEILING(((1+formule!$E$40)*(formule!$B$36+formule!$D$36*SQRT(A137)))/100,1)*100","v":3400},4046,null,3850,4581,null,3400,3570]
[{"$f":"A137+100","v":13500},{"$f":"(formule!$B$36+formule!$D$36*SQRT(A138))","v":3078.0712389211826},{"$f":"CEILING((formule!$B$36+formule!$D$36*SQRT(A138))/100,1)*100","v":3100},3689,{"$f":"CEILING(((1+formule!$E$40)*(formule!$B$36+formule!$D$36*SQRT(A138)))/100,1)*100","v":3400},4046,null,3850,4581,null,3400,3570]
[13600,{"$f":"(formule!$B$36+formule!$D$36*SQRT(A139))","v":3089.3033075944259},{"$f":"CEILING((formule!$B$36+formule!$D$36*SQRT(A139))/100,1)*100","v":3100},3689,{"$f":"CEILING(((1+formule!$E$40)*(formule!$B$36+formule!$D$36*SQRT(A139)))/100,1)*100","v":3400},4046,null,3850,4581,null,3400,3570]
[13700,{"$f":"(formule!$B$36+formule!$D$36*SQRT(A140))","v":3100.4941572499433},{"$f":"CEILING((formule!$B$36+formule!$D$36*SQRT(A140))/100,1)*100","v":3200},3808,{"$f":"CEILING(((1+formule!$E$40)*(formule!$B$36+formule!$D$36*SQRT(A140)))/100,1)*100","v":3500},4165,null,3950,4700,null,3500,3675]
[13800,{"$f":"(formule!$B$36+formule!$D$36*SQRT(A141))","v":3111.6442383763174},{"$f":"CEILING((formule!$B$36+formule!$D$36*SQRT(A141))/100,1)*100","v":3200},3808,{"$f":"CEILING(((1+formule!$E$40)*(formule!$B$36+formule!$D$36*SQRT(A141)))/100,1)*100","v":3500},4165,null,3950,4700,null,3500,3675]
[13900,{"$f":"(formule!$B$36+formule!$D$36*SQRT(A142))","v":3122.7539933156754},{"$f":"CEILING((formule!$B$36+formule!$D$36*SQRT(A142))/100,1)*100","v":3200},3808,{"$f":"CEILING(((1+formule!$E$40)*(formule!$B$36+formule!$D$36*SQRT(A142)))/100,1)*100","v":3500},4165,null,3950,4700,null,3500,3675]
[14000,{"$f":"(formule!$B$36+formule!$D$36*SQRT(A143))","v":3133.823856468453},{"$f":"CEILING((formule!$B$36+formule!$D$36*SQRT(A143))/100,1)*100","v":3200},3808,{"$f":"CEILING(((1+formule!$E$40)*(formule!$B$36+formule!$D$36*SQRT(A143)))/100,1)*100","v":3500},4165,null,3950,4700,null,3500,3675]
[14100,{"$f":"(formule!$B$36+formule!$D$36*SQRT(A144))","v":3144.8542544915895},{"$f":"CEILING((formule!$B$36+formule!$D$36*SQRT(A144))/100,1)*100","v":3200},3808,{"$f":"CEILING(((1+formule!$E$40)*(formule!$B$36+formule!$D$36*SQRT(A144)))/100,1)*100","v":3500},4165,null,3950,4700,null,3500,3675]
[14200,{"$f":"(formule!$B$36+formule!$D$36*SQRT(A145))","v":3155.8456064904062},{"$f":"CEILING((formule!$B$36+formule!$D$36*SQRT(A145))/100,1)*100","v":3200},3808,{"$f":"CEILING(((1+formule!$E$40)*(formule!$B$36+formule!$D$36*SQRT(A145)))/100,1)*100","v":3500},4165,null,3950,4700,null,3500,3675]
[14300,{"$f":"(formule!$B$36+formule!$D$36*SQRT(A146))","v":3166.7983242044165},{"$f":"CEILING((formule!$B$36+formule!$D$36*SQRT(A146))/100,1)*100","v":3200},3808,{"$f":"CEILING(((1+formule!$E$40)*(formule!$B$36+formule!$D$36*SQRT(A146)))/100,1)*100","v":3500},4165,null,3950,4700,null,3500,3675]
[14400,{"$f":"(formule!$B$36+formule!$D$36*SQRT(A147))","v":3177.7128121872993},{"$f":"CEILING((formule!$B$36+formule!$D$36*SQRT(A147))/100,1)*100","v":3200},3808,{"$f":"CEILING(((1+formule!$E$40)*(formule!$B$36+formule!$D$36*SQRT(A147)))/100,1)*100","v":3500},4165,null,3950,4700,null,3500,3675]
[14500,{"$f":"(formule!$B$36+formule!$D$36*SQRT(A148))","v":3188.5894679812545},{"$f":"CEILING((formule!$B$36+formule!$D$36*SQRT(A148))/100,1)*100","v":3200},3808,{"$f":"CEILING(((1+formule!$E$40)*(formule!$B$36+formule!$D$36*SQRT(A148)))/100,1)*100","v":3600},4284,null,4050,4819,null,3600,3780]
[14600,{"$f":"(formule!$B$36+formule!$D$36*SQRT(A149))","v":3199.4286822859617},{"$f":"CEILING((formule!$B$36+formule!$D$36*SQRT(A149))/100,1)*100","v":3200},3808,{"$f":"CEILING(((1+formule!$E$40)*(formule!$B$36+formule!$D$36*SQRT(A149)))/100,1)*100","v":3600},4284,null,4050,4819,null,3600,3780]
[14700,{"$f":"(formule!$B$36+formule!$D$36*SQRT(A150))","v":3210.2308391223341},{"$f":"CEILING((formule!$B$36+formule!$D$36*SQRT(A150))/100,1)*100","v":3300},3927,{"$f":"CEILING(((1+formule!$E$40)*(formule!$B$36+formule!$D$36*SQRT(A150)))/100,1)*100","v":3600},4284,null,4050,4819,null,3600,3780]
[14800,{"$f":"(formule!$B$36+formule!$D$36*SQRT(A151))","v":3220.9963159912745},{"$f":"CEILING((formule!$B$36+formule!$D$36*SQRT(A151))/100,1)*100","v":3300},3927,{"$f":"CEILING(((1+formule!$E$40)*(formule!$B$36+formule!$D$36*SQRT(A151)))/100,1)*100","v":3600},4284,null,4050,4819,null,3600,3780]
[14900,{"$f":"(formule!$B$36+formule!$D$36*SQRT(A152))","v":3231.725484027605},{"$f":"CEILING((formule!$B$36+formule!$D$36*SQRT(A152))/100,1)*100","v":3300},3927,{"$f":"CEILING(((1+formule!$E$40)*(formule!$B$36+formule!$D$36*SQRT(A152)))/100,1)*100","v":3600},4284,null,4050,4819,null,3600,3780]
[15000,{"$f":"(formule!$B$36+formule!$D$36*SQRT(A153))","v":3242.4187081493615},{"$f":"CEILING((formule!$B$36+formule!$D$36*SQRT(A153))/100,1)*100","v":3300},3927,{"$f":"CEILING(((1+formule!$E$40)*(formule!$B$36+formule!$D$36*SQRT(A153)))/100,1)*100","v":3600},4284,null,4050,4819,null,3600,3780]
[15100,{"$f":"(formule!$B$36+formule!$D$36*SQRT(A154))","v":3253.0763472026138},{"$f":"CEILING((formule!$B$36+formule!$D$36*SQRT(A154))/100,1)*100","v":3300},3927,{"$f":"CEILING(((1+formule!$E$40)*(formule!$B$36+formule!$D$36*SQRT(A154)))/100,1)*100","v":3600},4284,null,4050,4819,null,3600,3780]
[15200,{"$f":"(formule!$B$36+formule!$D$36*SQRT(A155))","v":3263.6987541019776},{"$f":"CEILING((formule!$B$36+formule!$D$36*SQRT(A155))/100,1)*100","v":3300},3927,{"$f":"CEILING(((1+formule!$E$40)*(formule!$B$36+formule!$D$36*SQRT(A155)))/100,1)*100","v":3600},4284,null,4050,4819,null,3600,3780]
[15300,{"$f":"(formule!$B$36+formule!$D$36*SQRT(A156))","v":3274.2862759669715},{"$f":"CEILING((formule!$B$36+formule!$D$36*SQRT(A156))/100,1)*100","v":3300},3927,{"$f":"CEILING(((1+formule!$E$40)*(formule!$B$36+formule!$D$36*SQRT(A156)))/100,1)*100","v":3700},4403,null,4150,4938,null,3700,3885]
[15400,{"$f":"(formule!$B$36+formule!$D$36*SQRT(A157))","v":3284.8392542543752},{"$f":"CEILING((formule!$B$36+formule!$D$36*SQRT(A157))/100,1)*100","v":3300},3927,{"$f":"CEILING(((1+formule!$E$40)*(formule!$B$36+formule!$D$36*SQRT(A157)))/100,1)*100","v":3700},4403,null,4150,4938,null,3700,3885]
[15500,{"$f":"(formule!$B$36+formule!$D$36*SQRT(A158))","v":3295.3580248867179},{"$f":"CEILING((formule!$B$36+formule!$D$36*SQRT(A158))/100,1)*100","v":3300},3927,{"$f":"CEILING(((1+formule!$E$40)*(formule!$B$36+formule!$D$36*SQRT(A158)))/100,1)*100","v":3700},4403,null,4150,4938,null,3700,3885]
[15600,{"$f":"(formule!$B$36+formule!$D$36*SQRT(A159))","v":3305.8429183770504},{"$f":"CEILING((formule!$B$36+formule!$D$36*SQRT(A159))/100,1)*100","v":3400},4046,{"$f":"CEILING(((1+formule!$E$40)*(formule!$B$36+formule!$D$36*SQRT(A159)))/100,1)*100","v":3700},4403,null,4150,4938,null,3700,3885]
[15700,{"$f":"(formule!$B$36+formule!$D$36*SQRT(A160))","v":3316.2942599501198},{"$f":"CEILING((formule!$B$36+formule!$D$36*SQRT(A160))/100,1)*100","v":3400},4046,{"$f":"CEILING(((1+formule!$E$40)*(formule!$B$36+formule!$D$36*SQRT(A160)))/100,1)*100","v":3700},4403,null,4150,4938,null,3700,3885]
[15800,{"$f":"(formule!$B$36+formule!$D$36*SQRT(A161))","v":3326.7123696600752},{"$f":"CEILING((formule!$B$36+formule!$D$36*SQRT(A161))/100,1)*100","v":3400},4046,{"$f":"CEILING(((1+formule!$E$40)*(formule!$B$36+formule!$D$36*SQRT(A161)))/100,1)*100","v":3700},4403,null,4150,4938,null,3700,3885]
[15900,{"$f":"(formule!$B$36+formule!$D$36*SQRT(A162))","v":3337.0975625048286},{"$f":"CEILING((formule!$B$36+formule!$D$36*SQRT(A162))/100,1)*100","v":3400},4046,{"$f":"CEILING(((1+formule!$E$40)*(formule!$B$36+formule!$D$36*SQRT(A162)))/100,1)*100","v":3700},4403,null,4150,4938,null,3700,3885]
[16000,{"$f":"(formule!$B$36+formule!$D$36*SQRT(A163))","v":3347.4501485371852},{"$f":"CEILING((formule!$B$36+formule!$D$36*SQRT(A163))/100,1)*100","v":3400},4046,{"$f":"CEILING(((1+formule!$E$40)*(formule!$B$36+formule!$D$36*SQRT(A163)))/100,1)*100","v":3700},4403,null,4150,4938,null,3700,3885]
[16100,{"$f":"(formule!$B$36+formule!$D$36*SQRT(A164))","v":3357.770432972849},{"$f":"CEILING((formule!$B$36+formule!$D$36*SQRT(A164))/100,1)*100","v":3400},4046,{"$f":"CEILING(((1+formule!$E$40)*(formule!$B$36+formule!$D$36*SQRT(A164)))/100,1)*100","v":3700},4403,null,4150,4938,null,3700,3885]
[16200,{"$f":"(formule!$B$36+formule!$D$36*SQRT(A165))","v":3368.0587162954175},{"$f":"CEILING((formule!$B$36+formule!$D$36*SQRT(A165))/100,1)*100","v":3400},4046,{"$f":"CEILING(((1+formule!$E$40)*(formule!$B$36+formule!$D$36*SQRT(A165)))/100,1)*100","v":3800},4522,null,4250,5057,null,3800,3990]
[16300,{"$f":"(formule!$B$36+formule!$D$36*SQRT(A166))","v":3378.3152943584637},{"$f":"CEILING((formule!$B$36+formule!$D$36*SQRT(A166))/100,1)*100","v":3400},4046,{"$f":"CEILING(((1+formule!$E$40)*(formule!$B$36+formule!$D$36*SQRT(A166)))/100,1)*100","v":3800},4522,null,4250,5057,null,3800,3990]
[16400,{"$f":"(formule!$B$36+formule!$D$36*SQRT(A167))","v":3388.5404584848015},{"$f":"CEILING((formule!$B$36+formule!$D$36*SQRT(A167))/100,1)*100","v":3400},4046,{"$f":"CEILING(((1+formule!$E$40)*(formule!$B$36+formule!$D$36*SQRT(A167)))/100,1)*100","v":3800},4522,null,4250,5057,null,3800,3990]
[16500,{"$f":"(formule!$B$36+formule!$D$36*SQRT(A168))","v":3398.7344955630374},{"$f":"CEILING((formule!$B$36+formule!$D$36*SQRT(A168))/100,1)*100","v":3400},4046,{"$f":"CEILING(((1+formule!$E$40)*(formule!$B$36+formule!$D$36*SQRT(A168)))/100,1)*100","v":3800},4522,null,4250,5057,null,3800,3990]
[16600,{"$f":"(formule!$B$36+formule!$D$36*SQRT(A169))","v":3408.8976881414837},{"$f":"CEILING((formule!$B$36+formule!$D$36*SQRT(A169))/100,1)*100","v":3500},4165,{"$f":"CEILING(((1+formule!$E$40)*(formule!$B$36+formule!$D$36*SQRT(A169)))/100,1)*100","v":3800},4522,null,{"$f":"E169+450","v":4250},{"$f":"F169+535","v":5057},null,3800,3990]
[16700,{"$f":"(formule!$B$36+formule!$D$36*SQRT(A170))","v":3419.0303145195421},{"$f":"CEILING((formule!$B$36+formule!$D$36*SQRT(A170))/100,1)*100","v":3500},4165,{"$f":"CEILING(((1+formule!$E$40)*(formule!$B$36+formule!$D$36*SQRT(A170)))/100,1)*100","v":3800},4522,null,4250,5057,null,3800,3990]
[16800,{"$f":"(formule!$B$36+formule!$D$36*SQRT(A171))","v":3429.1326488366144},{"$f":"CEILING((formule!$B$36+formule!$D$36*SQRT(A171))/100,1)*100","v":3500},4165,{"$f":"CEILING(((1+formule!$E$40)*(formule!$B$36+formule!$D$36*SQRT(A171)))/100,1)*100","v":3800},4522,null,4250,5057,null,3800,3990]
[16900,{"$f":"(formule!$B$36+formule!$D$36*SQRT(A172))","v":3439.2049611586463},{"$f":"CEILING((formule!$B$36+formule!$D$36*SQRT(A172))/100,1)*100","v":3500},4165,{"$f":"CEILING(((1+formule!$E$40)*(formule!$B$36+formule!$D$36*SQRT(A172)))/100,1)*100","v":3800},4522,null,4250,5057,null,3800,3990]
[17000,{"$f":"(formule!$B$36+formule!$D$36*SQRT(A173))","v":3449.2475175623645},{"$f":"CEILING((formule!$B$36+formule!$D$36*SQRT(A173))/100,1)*100","v":3500},4165,{"$f":"CEILING(((1+formule!$E$40)*(formule!$B$36+formule!$D$36*SQRT(A173)))/100,1)*100","v":3800},4522,null,4250,5057,null,3800,3990]
[17100,{"$f":"(formule!$B$36+formule!$D$36*SQRT(A174))","v":3459.2605802172898},{"$f":"CEILING((formule!$B$36+formule!$D$36*SQRT(A174))/100,1)*100","v":3500},4165,{"$f":"CEILING(((1+formule!$E$40)*(formule!$B$36+formule!$D$36*SQRT(A174)))/100,1)*100","v":3900},4641,null,4350,5176,null,3900,4095]
[17200,{"$f":"(formule!$B$36+formule!$D$36*SQRT(A175))","v":3469.2444074655923},{"$f":"CEILING((formule!$B$36+formule!$D$36*SQRT(A175))/100,1)*100","v":3500},4165,{"$f":"CEILING(((1+formule!$E$40)*(formule!$B$36+formule!$D$36*SQRT(A175)))/100,1)*100","v":3900},4641,null,4350,5176,null,3900,4095]
[17300,{"$f":"(formule!$B$36+formule!$D$36*SQRT(A176))","v":3479.1992538998638},{"$f":"CEILING((formule!$B$36+formule!$D$36*SQRT(A176))/100,1)*100","v":3500},4165,{"$f":"CEILING(((1+formule!$E$40)*(formule!$B$36+formule!$D$36*SQRT(A176)))/100,1)*100","v":3900},4641,null,4350,5176,null,3900,4095]
[17400,{"$f":"(formule!$B$36+formule!$D$36*SQRT(A177))","v":3489.125370438866},{"$f":"CEILING((formule!$B$36+formule!$D$36*SQRT(A177))/100,1)*100","v":3500},4165,{"$f":"CEILING(((1+formule!$E$40)*(formule!$B$36+formule!$D$36*SQRT(A177)))/100,1)*100","v":3900},4641,null,4350,5176,null,3900,4095]
[17500,{"$f":"(formule!$B$36+formule!$D$36*SQRT(A178))","v":3499.0230044013283},{"$f":"CEILING((formule!$B$36+formule!$D$36*SQRT(A178))/100,1)*100","v":3500},4165,{"$f":"CEILING(((1+formule!$E$40)*(formule!$B$36+formule!$D$36*SQRT(A178)))/100,1)*100","v":3900},4641,null,4350,5176,null,3900,4095]
[17600,{"$f":"(formule!$B$36+formule!$D$36*SQRT(A179))","v":3508.8923995778428},{"$f":"CEILING((formule!$B$36+formule!$D$36*SQRT(A179))/100,1)*100","v":3600},4284,{"$f":"CEILING(((1+formule!$E$40)*(formule!$B$36+formule!$D$36*SQRT(A179)))/100,1)*100","v":3900},4641,null,4350,5176,null,3900,4095]
[17700,{"$f":"(formule!$B$36+formule!$D$36*SQRT(A180))","v":3518.7337963009304},{"$f":"CEILING((formule!$B$36+formule!$D$36*SQRT(A180))/100,1)*100","v":3600},4284,{"$f":"CEILING(((1+formule!$E$40)*(formule!$B$36+formule!$D$36*SQRT(A180)))/100,1)*100","v":3900},4641,null,4350,5176,null,3900,4095]
[17800,{"$f":"(formule!$B$36+formule!$D$36*SQRT(A181))","v":3528.5474315133256},{"$f":"CEILING((formule!$B$36+formule!$D$36*SQRT(A181))/100,1)*100","v":3600},4284,{"$f":"CEILING(((1+formule!$E$40)*(formule!$B$36+formule!$D$36*SQRT(A181)))/100,1)*100","v":3900},4641,null,4350,5176,null,3900,4095]
[17900,{"$f":"(formule!$B$36+formule!$D$36*SQRT(A182))","v":3538.3335388345372},{"$f":"CEILING((formule!$B$36+formule!$D$36*SQRT(A182))/100,1)*100","v":3600},4284,{"$f":"CEILING(((1+formule!$E$40)*(formule!$B$36+formule!$D$36*SQRT(A182)))/100,1)*100","v":3900},4641,null,4350,5176,null,3900,4095]
[18000,{"$f":"(formule!$B$36+formule!$D$36*SQRT(A183))","v":3548.092348625737},{"$f":"CEILING((formule!$B$36+formule!$D$36*SQRT(A183))/100,1)*100","v":3600},4284,{"$f":"CEILING(((1+formule!$E$40)*(formule!$B$36+formule!$D$36*SQRT(A183)))/100,1)*100","v":4000},4760,null,4450,5295,null,4000,4200]
[18100,{"$f":"(formule!$B$36+formule!$D$36*SQRT(A184))","v":3557.8240880530307},{"$f":"CEILING((formule!$B$36+formule!$D$36*SQRT(A184))/100,1)*100","v":3600},4284,{"$f":"CEILING(((1+formule!$E$40)*(formule!$B$36+formule!$D$36*SQRT(A184)))/100,1)*100","v":4000},4760,null,4450,5295,null,4000,4200]
[18200,{"$f":"(formule!$B$36+formule!$D$36*SQRT(A185))","v":3567.5289811491557},{"$f":"CEILING((formule!$B$36+formule!$D$36*SQRT(A185))/100,1)*100","v":3600},4284,{"$f":"CEILING(((1+formule!$E$40)*(formule!$B$36+formule!$D$36*SQRT(A185)))/100,1)*100","v":4000},4760,null,4450,5295,null,4000,4200]
[18300,{"$f":"(formule!$B$36+formule!$D$36*SQRT(A186))","v":3577.2072488736571},{"$f":"CEILING((formule!$B$36+formule!$D$36*SQRT(A186))/100,1)*100","v":3600},4284,{"$f":"CEILING(((1+formule!$E$40)*(formule!$B$36+formule!$D$36*SQRT(A186)))/100,1)*100","v":4000},4760,null,4450,5295,null,4000,4200]
[18400,{"$f":"(formule!$B$36+formule!$D$36*SQRT(A187))","v":3586.8591091715875},{"$f":"CEILING((formule!$B$36+formule!$D$36*SQRT(A187))/100,1)*100","v":3600},4284,{"$f":"CEILING(((1+formule!$E$40)*(formule!$B$36+formule!$D$36*SQRT(A187)))/100,1)*100","v":4000},4760,null,4450,5295,null,4000,4200]
[18500,{"$f":"(formule!$B$36+formule!$D$36*SQRT(A188))","v":3596.484777030767},{"$f":"CEILING((formule!$B$36+formule!$D$36*SQRT(A188))/100,1)*100","v":3600},4284,{"$f":"CEILING(((1+formule!$E$40)*(formule!$B$36+formule!$D$36*SQRT(A188)))/100,1)*100","v":4000},4760,null,4450,5295,null,4000,4200]
[18600,{"$f":"(formule!$B$36+formule!$D$36*SQRT(A189))","v":3606.0844645376592},{"$f":"CEILING((formule!$B$36+formule!$D$36*SQRT(A189))/100,1)*100","v":3700},4403,{"$f":"CEILING(((1+formule!$E$40)*(formule!$B$36+formule!$D$36*SQRT(A189)))/100,1)*100","v":4000},4760,null,4450,5295,null,4000,4200]
[18700,{"$f":"(formule!$B$36+formule!$D$36*SQRT(A190))","v":3615.6583809318931},{"$f":"CEILING((formule!$B$36+formule!$D$36*SQRT(A190))/100,1)*100","v":3700},4403,{"$f":"CEILING(((1+formule!$E$40)*(formule!$B$36+formule!$D$36*SQRT(A190)))/100,1)*100","v":4000},4760,null,4450,5295,null,4000,4200]
[18800,{"$f":"(formule!$B$36+formule!$D$36*SQRT(A191))","v":3625.2067326594761},{"$f":"CEILING((formule!$B$36+formule!$D$36*SQRT(A191))/100,1)*100","v":3700},4403,{"$f":"CEILING(((1+formule!$E$40)*(formule!$B$36+formule!$D$36*SQRT(A191)))/100,1)*100","v":4000},4760,null,4450,5295,null,4000,4200]
[18900,{"$f":"(formule!$B$36+formule!$D$36*SQRT(A192))","v":3634.7297234247353},{"$f":"CEILING((formule!$B$36+formule!$D$36*SQRT(A192))/100,1)*100","v":3700},4403,{"$f":"CEILING(((1+formule!$E$40)*(formule!$B$36+formule!$D$36*SQRT(A192)))/100,1)*100","v":4000},4760,null,4450,5295,null,4000,4200]
[19000,{"$f":"(formule!$B$36+formule!$D$36*SQRT(A193))","v":3644.2275542410216},{"$f":"CEILING((formule!$B$36+formule!$D$36*SQRT(A193))/100,1)*100","v":3700},4403,{"$f":"CEILING(((1+formule!$E$40)*(formule!$B$36+formule!$D$36*SQRT(A193)))/100,1)*100","v":4100},4879,null,4550,5414,null,4100,4305]
[19100,{"$f":"(formule!$B$36+formule!$D$36*SQRT(A194))","v":3653.7004234802171},{"$f":"CEILING((formule!$B$36+formule!$D$36*SQRT(A194))/100,1)*100","v":3700},4403,{"$f":"CEILING(((1+formule!$E$40)*(formule!$B$36+formule!$D$36*SQRT(A194)))/100,1)*100","v":4100},4879,null,4550,5414,null,4100,4305]
[19200,{"$f":"(formule!$B$36+formule!$D$36*SQRT(A195))","v":3663.148526921078},{"$f":"CEILING((formule!$B$36+formule!$D$36*SQRT(A195))/100,1)*100","v":3700},4403,{"$f":"CEILING(((1+formule!$E$40)*(formule!$B$36+formule!$D$36*SQRT(A195)))/100,1)*100","v":4100},4879,null,4550,5414,null,4100,4305]
[19300,{"$f":"(formule!$B$36+formule!$D$36*SQRT(A196))","v":3672.572057796438},{"$f":"CEILING((formule!$B$36+formule!$D$36*SQRT(A196))/100,1)*100","v":3700},4403,{"$f":"CEILING(((1+formule!$E$40)*(formule!$B$36+formule!$D$36*SQRT(A196)))/100,1)*100","v":4100},{"$f":"E196*1.19","v":4879},null,4550,5414,null,4100,4305]
[19400,{"$f":"(formule!$B$36+formule!$D$36*SQRT(A197))","v":3681.9712068393287},{"$f":"CEILING((formule!$B$36+formule!$D$36*SQRT(A197))/100,1)*100","v":3700},4403,{"$f":"CEILING(((1+formule!$E$40)*(formule!$B$36+formule!$D$36*SQRT(A197)))/100,1)*100","v":4100},4879,null,4550,5414,null,{"$f":"E197","v":4100},{"$f":"K197*1.05","v":4305}]
[19500,{"$f":"(formule!$B$36+formule!$D$36*SQRT(A198))","v":3691.3461623280127},{"$f":"CEILING((formule!$B$36+formule!$D$36*SQRT(A198))/100,1)*100","v":3700},4403,{"$f":"CEILING(((1+formule!$E$40)*(formule!$B$36+formule!$D$36*SQRT(A198)))/100,1)*100","v":4100},4879,null,4550,5414,null,4100,4305]
[19600,{"$f":"(formule!$B$36+formule!$D$36*SQRT(A199))","v":3700.6971101299937},{"$f":"CEILING((formule!$B$36+formule!$D$36*SQRT(A199))/100,1)*100","v":3800},4522,{"$f":"CEILING(((1+formule!$E$40)*(formule!$B$36+formule!$D$36*SQRT(A199)))/100,1)*100","v":4100},4879,null,4550,5414,null,4100,4305]
[19700,{"$f":"(formule!$B$36+formule!$D$36*SQRT(A200))","v":3710.0242337450081},{"$f":"CEILING((formule!$B$36+formule!$D$36*SQRT(A200))/100,1)*100","v":3800},4522,{"$f":"CEILING(((1+formule!$E$40)*(formule!$B$36+formule!$D$36*SQRT(A200)))/100,1)*100","v":4100},4879,null,4550,5414,null,4100,4305]
[19800,{"$f":"(formule!$B$36+formule!$D$36*SQRT(A201))","v":3719.3277143470414},{"$f":"CEILING((formule!$B$36+formule!$D$36*SQRT(A201))/100,1)*100","v":3800},{"$f":"C201*1.19","v":4522},{"$f":"CEILING(((1+formule!$E$40)*(formule!$B$36+formule!$D$36*SQRT(A201)))/100,1)*100","v":4100},4879,null,4550,5414,null,4100,4305]
[{"$f":"A201+100","v":19900},{"$f":"(formule!$B$36+formule!$D$36*SQRT(A202))","v":3728.607730825388},{"$f":"CEILING((formule!$B$36+formule!$D$36*SQRT(A202))/100,1)*100","v":3800},4522,{"$f":"CEILING(((1+formule!$E$40)*(formule!$B$36+formule!$D$36*SQRT(A202)))/100,1)*100","v":4200},4998,null,4650,5533,null,4200,4410]
[20000,{"$f":"(formule!$B$36+formule!$D$36*SQRT(A203))","v":3737.8644598247829},{"$f":"CEILING((formule!$B$36+formule!$D$36*SQRT(A203))/100,1)*100","v":3800},4522,{"$f":"CEILING(((1+formule!$E$40)*(formule!$B$36+formule!$D$36*SQRT(A203)))/100,1)*100","v":4200},4998,null,4650,5533,null,4200,4410]
[20100,{"$f":"(formule!$B$36+formule!$D$36*SQRT(A204))","v":3747.0980757846355},{"$f":"CEILING((formule!$B$36+formule!$D$36*SQRT(A204))/100,1)*100","v":3800},4522,{"$f":"CEILING(((1+formule!$E$40)*(formule!$B$36+formule!$D$36*SQRT(A204)))/100,1)*100","v":4200},4998,null,4650,5533,null,4200,4410]
[20200,{"$f":"(formule!$B$36+formule!$D$36*SQRT(A205))","v":3756.3087509773818},{"$f":"CEILING((formule!$B$36+formule!$D$36*SQRT(A205))/100,1)*100","v":3800},4522,{"$f":"CEILING(((1+formule!$E$40)*(formule!$B$36+formule!$D$36*SQRT(A205)))/100,1)*100","v":4200},4998,null,4650,5533,null,4200,4410]
[20300,{"$f":"(formule!$B$36+formule!$D$36*SQRT(A206))","v":3765.4966555459882},{"$f":"CEILING((formule!$B$36+formule!$D$36*SQRT(A206))/100,1)*100","v":3800},4522,{"$f":"CEILING(((1+formule!$E$40)*(formule!$B$36+formule!$D$36*SQRT(A206)))/100,1)*100","v":4200},4998,null,4650,5533,null,4200,4410]
[20400,{"$f":"(formule!$B$36+formule!$D$36*SQRT(A207))","v":3774.6619575406144},{"$f":"CEILING((formule!$B$36+formule!$D$36*SQRT(A207))/100,1)*100","v":3800},4522,{"$f":"CEILING(((1+formule!$E$40)*(formule!$B$36+formule!$D$36*SQRT(A207)))/100,1)*100","v":4200},4998,null,4650,5533,null,4200,4410]
[20500,{"$f":"(formule!$B$36+formule!$D$36*SQRT(A208))","v":3783.8048229544856},{"$f":"CEILING((formule!$B$36+formule!$D$36*SQRT(A208))/100,1)*100","v":3800},4522,{"$f":"CEILING(((1+formule!$E$40)*(formule!$B$36+formule!$D$36*SQRT(A208)))/100,1)*100","v":4200},4998,null,4650,5533,null,4200,4410]
[20600,{"$f":"(formule!$B$36+formule!$D$36*SQRT(A209))","v":3792.9254157589621},{"$f":"CEILING((formule!$B$36+formule!$D$36*SQRT(A209))/100,1)*100","v":3800},4522,{"$f":"CEILING(((1+formule!$E$40)*(formule!$B$36+formule!$D$36*SQRT(A209)))/100,1)*100","v":4200},4998,null,4650,5533,null,4200,4410]
[20700,{"$f":"(formule!$B$36+formule!$D$36*SQRT(A210))","v":3802.0238979378505},{"$f":"CEILING((formule!$B$36+formule!$D$36*SQRT(A210))/100,1)*100","v":3900},4641,{"$f":"CEILING(((1+formule!$E$40)*(formule!$B$36+formule!$D$36*SQRT(A210)))/100,1)*100","v":4200},4998,null,4650,5533,null,4200,4410]
[20800,{"$f":"(formule!$B$36+formule!$D$36*SQRT(A211))","v":3811.1004295209741},{"$f":"CEILING((formule!$B$36+formule!$D$36*SQRT(A211))/100,1)*100","v":3900},4641,{"$f":"CEILING(((1+formule!$E$40)*(formule!$B$36+formule!$D$36*SQRT(A211)))/100,1)*100","v":4200},4998,null,4650,5533,null,4200,4410]
[20900,{"$f":"(formule!$B$36+formule!$D$36*SQRT(A212))","v":3820.1551686170087},{"$f":"CEILING((formule!$B$36+formule!$D$36*SQRT(A212))/100,1)*100","v":3900},4641,{"$f":"CEILING(((1+formule!$E$40)*(formule!$B$36+formule!$D$36*SQRT(A212)))/100,1)*100","v":4300},5117,null,4750,5652,null,4300,4515]
[21000,{"$f":"(formule!$B$36+formule!$D$36*SQRT(A213))","v":3829.1882714456183},{"$f":"CEILING((formule!$B$36+formule!$D$36*SQRT(A213))/100,1)*100","v":3900},4641,{"$f":"CEILING(((1+formule!$E$40)*(formule!$B$36+formule!$D$36*SQRT(A213)))/100,1)*100","v":4300},5117,null,4750,5652,null,4300,4515]
[21100,{"$f":"(formule!$B$36+formule!$D$36*SQRT(A214))","v":3838.1998923689021},{"$f":"CEILING((formule!$B$36+formule!$D$36*SQRT(A214))/100,1)*100","v":3900},4641,{"$f":"CEILING(((1+formule!$E$40)*(formule!$B$36+formule!$D$36*SQRT(A214)))/100,1)*100","v":4300},5117,null,4750,5652,null,4300,4515]
[21200,{"$f":"(formule!$B$36+formule!$D$36*SQRT(A215))","v":3847.1901839221714},{"$f":"CEILING((formule!$B$36+formule!$D$36*SQRT(A215))/100,1)*100","v":3900},4641,{"$f":"CEILING(((1+formule!$E$40)*(formule!$B$36+formule!$D$36*SQRT(A215)))/100,1)*100","v":4300},5117,null,4750,5652,null,4300,4515]
[21300,{"$f":"(formule!$B$36+formule!$D$36*SQRT(A216))","v":3856.1592968440732},{"$f":"CEILING((formule!$B$36+formule!$D$36*SQRT(A216))/100,1)*100","v":3900},4641,{"$f":"CEILING(((1+formule!$E$40)*(formule!$B$36+formule!$D$36*SQRT(A216)))/100,1)*100","v":4300},5117,null,4750,5652,null,4300,4515]
[21400,{"$f":"(formule!$B$36+formule!$D$36*SQRT(A217))","v":3865.107380106077},{"$f":"CEILING((formule!$B$36+formule!$D$36*SQRT(A217))/100,1)*100","v":3900},4641,{"$f":"CEILING(((1+formule!$E$40)*(formule!$B$36+formule!$D$36*SQRT(A217)))/100,1)*100","v":4300},5117,null,4750,5652,null,4300,4515]
[21500,{"$f":"(formule!$B$36+formule!$D$36*SQRT(A218))","v":3874.0345809413475},{"$f":"CEILING((formule!$B$36+formule!$D$36*SQRT(A218))/100,1)*100","v":3900},4641,{"$f":"CEILING(((1+formule!$E$40)*(formule!$B$36+formule!$D$36*SQRT(A218)))/100,1)*100","v":4300},5117,null,4750,5652,null,4300,4515]
[21600,{"$f":"(formule!$B$36+formule!$D$36*SQRT(A219))","v":3882.9410448730077},{"$f":"CEILING((formule!$B$36+formule!$D$36*SQRT(A219))/100,1)*100","v":3900},4641,{"$f":"CEILING(((1+formule!$E$40)*(formule!$B$36+formule!$D$36*SQRT(A219)))/100,1)*100","v":4300},5117,null,4750,5652,null,4300,4515]
[21700,{"$f":"(formule!$B$36+formule!$D$36*SQRT(A220))","v":3891.8269157418149},{"$f":"CEILING((formule!$B$36+formule!$D$36*SQRT(A220))/100,1)*100","v":3900},4641,{"$f":"CEILING(((1+formule!$E$40)*(formule!$B$36+formule!$D$36*SQRT(A220)))/100,1)*100","v":4300},5117,null,4750,5652,null,4300,4515]
[21800,{"$f":"(formule!$B$36+formule!$D$36*SQRT(A221))","v":3900.6923357332676},{"$f":"CEILING((formule!$B$36+formule!$D$36*SQRT(A221))/100,1)*100","v":4000},4760,{"$f":"CEILING(((1+formule!$E$40)*(formule!$B$36+formule!$D$36*SQRT(A221)))/100,1)*100","v":4300},5117,null,4750,5652,null,4300,4515]
[21900,{"$f":"(formule!$B$36+formule!$D$36*SQRT(A222))","v":3909.5374454041498},{"$f":"CEILING((formule!$B$36+formule!$D$36*SQRT(A222))/100,1)*100","v":4000},4760,{"$f":"CEILING(((1+formule!$E$40)*(formule!$B$36+formule!$D$36*SQRT(A222)))/100,1)*100","v":4400},5236,null,4850,5771,null,4400,4620]
[22000,{"$f":"(formule!$B$36+formule!$D$36*SQRT(A223))","v":3918.3623837085306},{"$f":"CEILING((formule!$B$36+formule!$D$36*SQRT(A223))/100,1)*100","v":4000},4760,{"$f":"CEILING(((1+formule!$E$40)*(formule!$B$36+formule!$D$36*SQRT(A223)))/100,1)*100","v":4400},5236,null,4850,5771,null,4400,4620]
[22100,{"$f":"(formule!$B$36+formule!$D$36*SQRT(A224))","v":3927.1672880232322},{"$f":"CEILING((formule!$B$36+formule!$D$36*SQRT(A224))/100,1)*100","v":4000},4760,{"$f":"CEILING(((1+formule!$E$40)*(formule!$B$36+formule!$D$36*SQRT(A224)))/100,1)*100","v":4400},5236,null,4850,5771,null,4400,4620]
[22200,{"$f":"(formule!$B$36+formule!$D$36*SQRT(A225))","v":3935.9522941727846},{"$f":"CEILING((formule!$B$36+formule!$D$36*SQRT(A225))/100,1)*100","v":4000},4760,{"$f":"CEILING(((1+formule!$E$40)*(formule!$B$36+formule!$D$36*SQRT(A225)))/100,1)*100","v":4400},5236,null,4850,5771,null,4400,4620]
[22300,{"$f":"(formule!$B$36+formule!$D$36*SQRT(A226))","v":3944.7175364538671},{"$f":"CEILING((formule!$B$36+formule!$D$36*SQRT(A226))/100,1)*100","v":4000},4760,{"$f":"CEILING(((1+formule!$E$40)*(formule!$B$36+formule!$D$36*SQRT(A226)))/100,1)*100","v":4400},5236,null,4850,5771,null,4400,4620]
[22400,{"$f":"(formule!$B$36+formule!$D$36*SQRT(A227))","v":3953.4631476592658},{"$f":"CEILING((formule!$B$36+formule!$D$36*SQRT(A227))/100,1)*100","v":4000},4760,{"$f":"CEILING(((1+formule!$E$40)*(formule!$B$36+formule!$D$36*SQRT(A227)))/100,1)*100","v":4400},5236,null,4850,5771,null,4400,4620]
[22500,{"$f":"(formule!$B$36+formule!$D$36*SQRT(A228))","v":3962.1892591013407},{"$f":"CEILING((formule!$B$36+formule!$D$36*SQRT(A228))/100,1)*100","v":4000},4760,{"$f":"CEILING(((1+formule!$E$40)*(formule!$B$36+formule!$D$36*SQRT(A228)))/100,1)*100","v":4400},5236,null,4850,5771,null,4400,4620]
[22600,{"$f":"(formule!$B$36+formule!$D$36*SQRT(A229))","v":3970.8960006350353},{"$f":"CEILING((formule!$B$36+formule!$D$36*SQRT(A229))/100,1)*100","v":4000},4760,{"$f":"CEILING(((1+formule!$E$40)*(formule!$B$36+formule!$D$36*SQRT(A229)))/100,1)*100","v":4400},5236,null,4850,5771,null,4400,4620]
[22700,{"$f":"(formule!$B$36+formule!$D$36*SQRT(A230))","v":3979.5835006804186},{"$f":"CEILING((formule!$B$36+formule!$D$36*SQRT(A230))/100,1)*100","v":4000},4760,{"$f":"CEILING(((1+formule!$E$40)*(formule!$B$36+formule!$D$36*SQRT(A230)))/100,1)*100","v":4400},5236,null,4850,5771,null,4400,4620]
[22800,{"$f":"(formule!$B$36+formule!$D$36*SQRT(A231))","v":3988.2518862447841},{"$f":"CEILING((formule!$B$36+formule!$D$36*SQRT(A231))/100,1)*100","v":4000},4760,{"$f":"CEILING(((1+formule!$E$40)*(formule!$B$36+formule!$D$36*SQRT(A231)))/100,1)*100","v":4400},5236,null,4850,5771,null,4400,4620]
[22900,{"$f":"(formule!$B$36+formule!$D$36*SQRT(A232))","v":3996.9012829443177},{"$f":"CEILING((formule!$B$36+formule!$D$36*SQRT(A232))/100,1)*100","v":4000},4760,{"$f":"CEILING(((1+formule!$E$40)*(formule!$B$36+formule!$D$36*SQRT(A232)))/100,1)*100","v":4400},5236,null,4850,5771,null,4400,4620]
[23000,{"$f":"(formule!$B$36+formule!$D$36*SQRT(A233))","v":4005.5318150253302},{"$f":"CEILING((formule!$B$36+formule!$D$36*SQRT(A233))/100,1)*100","v":4100},4879,{"$f":"CEILING(((1+formule!$E$40)*(formule!$B$36+formule!$D$36*SQRT(A233)))/100,1)*100","v":4500},5355,null,{"$f":"E233+450","v":4950},{"$f":"F233+535","v":5890},null,4500,4725]
[23100,{"$f":"(formule!$B$36+formule!$D$36*SQRT(A234))","v":4014.1436053850871},{"$f":"CEILING((formule!$B$36+formule!$D$36*SQRT(A234))/100,1)*100","v":4100},4879,{"$f":"CEILING(((1+formule!$E$40)*(formule!$B$36+formule!$D$36*SQRT(A234)))/100,1)*100","v":4500},5355,null,4950,5890,null,4500,4725]
[23200,{"$f":"(formule!$B$36+formule!$D$36*SQRT(A235))","v":4022.7367755922223},{"$f":"CEILING((formule!$B$36+formule!$D$36*SQRT(A235))/100,1)*100","v":4100},4879,{"$f":"CEILING(((1+formule!$E$40)*(formule!$B$36+formule!$D$36*SQRT(A235)))/100,1)*100","v":4500},5355,null,4950,5890,null,4500,4725]
[23300,{"$f":"(formule!$B$36+formule!$D$36*SQRT(A236))","v":4031.3114459067629},{"$f":"CEILING((formule!$B$36+formule!$D$36*SQRT(A236))/100,1)*100","v":4100},4879,{"$f":"CEILING(((1+formule!$E$40)*(formule!$B$36+formule!$D$36*SQRT(A236)))/100,1)*100","v":4500},5355,null,4950,5890,null,4500,4725]
[23400,{"$f":"(formule!$B$36+formule!$D$36*SQRT(A237))","v":4039.8677352997652},{"$f":"CEILING((formule!$B$36+formule!$D$36*SQRT(A237))/100,1)*100","v":4100},4879,{"$f":"CEILING(((1+formule!$E$40)*(formule!$B$36+formule!$D$36*SQRT(A237)))/100,1)*100","v":4500},5355,null,4950,5890,null,4500,4725]
[23500,{"$f":"(formule!$B$36+formule!$D$36*SQRT(A238))","v":4048.405761472573},{"$f":"CEILING((formule!$B$36+formule!$D$36*SQRT(A238))/100,1)*100","v":4100},4879,{"$f":"CEILING(((1+formule!$E$40)*(formule!$B$36+formule!$D$36*SQRT(A238)))/100,1)*100","v":4500},5355,null,4950,5890,null,4500,4725]
[23600,{"$f":"(formule!$B$36+formule!$D$36*SQRT(A239))","v":4056.9256408757092},{"$f":"CEILING((formule!$B$36+formule!$D$36*SQRT(A239))/100,1)*100","v":4100},4879,{"$f":"CEILING(((1+formule!$E$40)*(formule!$B$36+formule!$D$36*SQRT(A239)))/100,1)*100","v":4500},5355,null,4950,5890,null,4500,4725]
[23700,{"$f":"(formule!$B$36+formule!$D$36*SQRT(A240))","v":4065.4274887274059},{"$f":"CEILING((formule!$B$36+formule!$D$36*SQRT(A240))/100,1)*100","v":4100},4879,{"$f":"CEILING(((1+formule!$E$40)*(formule!$B$36+formule!$D$36*SQRT(A240)))/100,1)*100","v":4500},5355,null,4950,5890,null,4500,4725]
[23800,{"$f":"(formule!$B$36+formule!$D$36*SQRT(A241))","v":4073.911419031785},{"$f":"CEILING((formule!$B$36+formule!$D$36*SQRT(A241))/100,1)*100","v":4100},4879,{"$f":"CEILING(((1+formule!$E$40)*(formule!$B$36+formule!$D$36*SQRT(A241)))/100,1)*100","v":4500},5355,null,4950,5890,null,4500,4725]
[23900,{"$f":"(formule!$B$36+formule!$D$36*SQRT(A242))","v":4082.3775445966917},{"$f":"CEILING((formule!$B$36+formule!$D$36*SQRT(A242))/100,1)*100","v":4100},4879,{"$f":"CEILING(((1+formule!$E$40)*(formule!$B$36+formule!$D$36*SQRT(A242)))/100,1)*100","v":4500},5355,null,4950,5890,null,4500,4725]
[24000,{"$f":"(formule!$B$36+formule!$D$36*SQRT(A243))","v":4090.8259770511995},{"$f":"CEILING((formule!$B$36+formule!$D$36*SQRT(A243))/100,1)*100","v":4100},4879,{"$f":"CEILING(((1+formule!$E$40)*(formule!$B$36+formule!$D$36*SQRT(A243)))/100,1)*100","v":4500},5355,null,4950,5890,null,4500,4725]
[24100,{"$f":"(formule!$B$36+formule!$D$36*SQRT(A244))","v":4099.2568268627783},{"$f":"CEILING((formule!$B$36+formule!$D$36*SQRT(A244))/100,1)*100","v":4100},4879,{"$f":"CEILING(((1+formule!$E$40)*(formule!$B$36+formule!$D$36*SQRT(A244)))/100,1)*100","v":4600},5474,null,5050,6009,null,4600,4830]
[24200,{"$f":"(formule!$B$36+formule!$D$36*SQRT(A245))","v":4107.6702033541478},{"$f":"CEILING((formule!$B$36+formule!$D$36*SQRT(A245))/100,1)*100","v":4200},4998,{"$f":"CEILING(((1+formule!$E$40)*(formule!$B$36+formule!$D$36*SQRT(A245)))/100,1)*100","v":4600},5474,null,5050,6009,null,4600,4830]
[24300,{"$f":"(formule!$B$36+formule!$D$36*SQRT(A246))","v":4116.0662147198209},{"$f":"CEILING((formule!$B$36+formule!$D$36*SQRT(A246))/100,1)*100","v":4200},4998,{"$f":"CEILING(((1+formule!$E$40)*(formule!$B$36+formule!$D$36*SQRT(A246)))/100,1)*100","v":4600},5474,null,5050,6009,null,4600,4830]
[24400,{"$f":"(formule!$B$36+formule!$D$36*SQRT(A247))","v":4124.4449680423313},{"$f":"CEILING((formule!$B$36+formule!$D$36*SQRT(A247))/100,1)*100","v":4200},4998,{"$f":"CEILING(((1+formule!$E$40)*(formule!$B$36+formule!$D$36*SQRT(A247)))/100,1)*100","v":4600},5474,null,5050,6009,null,4600,4830]
[24500,{"$f":"(formule!$B$36+formule!$D$36*SQRT(A248))","v":4132.8065693081708},{"$f":"CEILING((formule!$B$36+formule!$D$36*SQRT(A248))/100,1)*100","v":4200},4998,{"$f":"CEILING(((1+formule!$E$40)*(formule!$B$36+formule!$D$36*SQRT(A248)))/100,1)*100","v":4600},5474,null,5050,6009,null,4600,4830]
[24600,{"$f":"(formule!$B$36+formule!$D$36*SQRT(A249))","v":4141.1511234234331},{"$f":"CEILING((formule!$B$36+formule!$D$36*SQRT(A249))/100,1)*100","v":4200},4998,{"$f":"CEILING(((1+formule!$E$40)*(formule!$B$36+formule!$D$36*SQRT(A249)))/100,1)*100","v":4600},5474,null,5050,6009,null,4600,4830]
[24700,{"$f":"(formule!$B$36+formule!$D$36*SQRT(A250))","v":4149.4787342291656},{"$f":"CEILING((formule!$B$36+formule!$D$36*SQRT(A250))/100,1)*100","v":4200},4998,{"$f":"CEILING(((1+formule!$E$40)*(formule!$B$36+formule!$D$36*SQRT(A250)))/100,1)*100","v":4600},5474,null,5050,6009,null,4600,4830]
[24800,{"$f":"(formule!$B$36+formule!$D$36*SQRT(A251))","v":4157.7895045164478},{"$f":"CEILING((formule!$B$36+formule!$D$36*SQRT(A251))/100,1)*100","v":4200},4998,{"$f":"CEILING(((1+formule!$E$40)*(formule!$B$36+formule!$D$36*SQRT(A251)))/100,1)*100","v":4600},5474,null,5050,6009,null,4600,4830]
[24900,{"$f":"(formule!$B$36+formule!$D$36*SQRT(A252))","v":4166.0835360411957},{"$f":"CEILING((formule!$B$36+formule!$D$36*SQRT(A252))/100,1)*100","v":4200},4998,{"$f":"CEILING(((1+formule!$E$40)*(formule!$B$36+formule!$D$36*SQRT(A252)))/100,1)*100","v":4600},5474,null,5050,6009,null,4600,4830]
[25000,{"$f":"(formule!$B$36+formule!$D$36*SQRT(A253))","v":4174.3609295386987},{"$f":"CEILING((formule!$B$36+formule!$D$36*SQRT(A253))/100,1)*100","v":4200},4998,{"$f":"CEILING(((1+formule!$E$41)*(formule!$B$36+formule!$D$36*SQRT(A253)))/100,1)*100","v":4700},5593,null,5150,6128,null,4700,4935]
[25100,{"$f":"(formule!$B$36+formule!$D$36*SQRT(A254))","v":4182.6217847378884},{"$f":"CEILING((formule!$B$36+formule!$D$36*SQRT(A254))/100,1)*100","v":4200},4998,{"$f":"CEILING(((1+formule!$E$41)*(formule!$B$36+formule!$D$36*SQRT(A254)))/100,1)*100","v":4800},5712,null,5250,6247,null,4800,5040]
[25200,{"$f":"(formule!$B$36+formule!$D$36*SQRT(A255))","v":4190.866200375367},{"$f":"CEILING((formule!$B$36+formule!$D$36*SQRT(A255))/100,1)*100","v":4200},4998,{"$f":"CEILING(((1+formule!$E$41)*(formule!$B$36+formule!$D$36*SQRT(A255)))/100,1)*100","v":4800},5712,null,5250,6247,null,4800,5040]
[25300,{"$f":"(formule!$B$36+formule!$D$36*SQRT(A256))","v":4199.0942742091675},{"$f":"CEILING((formule!$B$36+formule!$D$36*SQRT(A256))/100,1)*100","v":4200},4998,{"$f":"CEILING(((1+formule!$E$41)*(formule!$B$36+formule!$D$36*SQRT(A256)))/100,1)*100","v":4800},5712,null,5250,6247,null,4800,5040]
[25400,{"$f":"(formule!$B$36+formule!$D$36*SQRT(A257))","v":4207.3061030322815},{"$f":"CEILING((formule!$B$36+formule!$D$36*SQRT(A257))/100,1)*100","v":4300},5117,{"$f":"CEILING(((1+formule!$E$41)*(formule!$B$36+formule!$D$36*SQRT(A257)))/100,1)*100","v":4800},5712,null,5250,6247,null,4800,5040]
[25500,{"$f":"(formule!$B$36+formule!$D$36*SQRT(A258))","v":4215.5017826859457},{"$f":"CEILING((formule!$B$36+formule!$D$36*SQRT(A258))/100,1)*100","v":4300},5117,{"$f":"CEILING(((1+formule!$E$41)*(formule!$B$36+formule!$D$36*SQRT(A258)))/100,1)*100","v":4800},5712,null,5250,6247,null,4800,5040]
[25600,{"$f":"(formule!$B$36+formule!$D$36*SQRT(A259))","v":4223.6814080726881},{"$f":"CEILING((formule!$B$36+formule!$D$36*SQRT(A259))/100,1)*100","v":4300},5117,{"$f":"CEILING(((1+formule!$E$41)*(formule!$B$36+formule!$D$36*SQRT(A259)))/100,1)*100","v":4800},5712,null,5250,6247,null,4800,5040]
[25700,{"$f":"(formule!$B$36+formule!$D$36*SQRT(A260))","v":4231.8450731691564},{"$f":"CEILING((formule!$B$36+formule!$D$36*SQRT(A260))/100,1)*100","v":4300},5117,{"$f":"CEILING(((1+formule!$E$41)*(formule!$B$36+formule!$D$36*SQRT(A260)))/100,1)*100","v":4800},{"$f":"E260*1.19","v":5712},null,5250,6247,null,4800,5040]
[25800,{"$f":"(formule!$B$36+formule!$D$36*SQRT(A261))","v":4239.9928710387057},{"$f":"CEILING((formule!$B$36+formule!$D$36*SQRT(A261))/100,1)*100","v":4300},5117,{"$f":"CEILING(((1+formule!$E$41)*(formule!$B$36+formule!$D$36*SQRT(A261)))/100,1)*100","v":4800},5712,null,5250,6247,null,{"$f":"E261","v":4800},{"$f":"K261*1.05","v":5040}]
[25900,{"$f":"(formule!$B$36+formule!$D$36*SQRT(A262))","v":4248.1248938437866},{"$f":"CEILING((formule!$B$36+formule!$D$36*SQRT(A262))/100,1)*100","v":4300},5117,{"$f":"CEILING(((1+formule!$E$41)*(formule!$B$36+formule!$D$36*SQRT(A262)))/100,1)*100","v":4800},5712,null,5250,6247,null,4800,5040]
[26000,{"$f":"(formule!$B$36+formule!$D$36*SQRT(A263))","v":4256.2412328580976},{"$f":"CEILING((formule!$B$36+formule!$D$36*SQRT(A263))/100,1)*100","v":4300},5117,{"$f":"CEILING(((1+formule!$E$41)*(formule!$B$36+formule!$D$36*SQRT(A263)))/100,1)*100","v":4800},5712,null,5250,6247,null,4800,5040]
[26100,{"$f":"(formule!$B$36+formule!$D$36*SQRT(A264))","v":4264.3419784785483},{"$f":"CEILING((formule!$B$36+formule!$D$36*SQRT(A264))/100,1)*100","v":4300},5117,{"$f":"CEILING(((1+formule!$E$41)*(formule!$B$36+formule!$D$36*SQRT(A264)))/100,1)*100","v":4800},5712,null,5250,6247,null,4800,5040]
[26200,{"$f":"(formule!$B$36+formule!$D$36*SQRT(A265))","v":4272.4272202369975},{"$f":"CEILING((formule!$B$36+formule!$D$36*SQRT(A265))/100,1)*100","v":4300},{"$f":"C265*1.19","v":5117},{"$f":"CEILING(((1+formule!$E$41)*(formule!$B$36+formule!$D$36*SQRT(A265)))/100,1)*100","v":4900},5831,null,5350,6366,null,4900,5145]
[{"$f":"A265+100","v":26300},{"$f":"(formule!$B$36+formule!$D$36*SQRT(A266))","v":4280.4970468117999},{"$f":"CEILING((formule!$B$36+formule!$D$36*SQRT(A266))/100,1)*100","v":4300},5117,{"$f":"CEILING(((1+formule!$E$41)*(formule!$B$36+formule!$D$36*SQRT(A266)))/100,1)*100","v":4900},5831,null,5350,6366,null,4900,5145]
[26400,{"$f":"(formule!$B$36+formule!$D$36*SQRT(A267))","v":4288.551546039158},{"$f":"CEILING((formule!$B$36+formule!$D$36*SQRT(A267))/100,1)*100","v":4300},5117,{"$f":"CEILING(((1+formule!$E$41)*(formule!$B$36+formule!$D$36*SQRT(A267)))/100,1)*100","v":4900},5831,null,5350,6366,null,4900,5145]
[26500,{"$f":"(formule!$B$36+formule!$D$36*SQRT(A268))","v":4296.5908049242726},{"$f":"CEILING((formule!$B$36+formule!$D$36*SQRT(A268))/100,1)*100","v":4300},5117,{"$f":"CEILING(((1+formule!$E$41)*(formule!$B$36+formule!$D$36*SQRT(A268)))/100,1)*100","v":4900},5831,null,5350,6366,null,4900,5145]
[26600,{"$f":"(formule!$B$36+formule!$D$36*SQRT(A269))","v":4304.6149096523086},{"$f":"CEILING((formule!$B$36+formule!$D$36*SQRT(A269))/100,1)*100","v":4400},5236,{"$f":"CEILING(((1+formule!$E$41)*(formule!$B$36+formule!$D$36*SQRT(A269)))/100,1)*100","v":4900},5831,null,5350,6366,null,4900,5145]
[26700,{"$f":"(formule!$B$36+formule!$D$36*SQRT(A270))","v":4312.623945599179},{"$f":"CEILING((formule!$B$36+formule!$D$36*SQRT(A270))/100,1)*100","v":4400},5236,{"$f":"CEILING(((1+formule!$E$41)*(formule!$B$36+formule!$D$36*SQRT(A270)))/100,1)*100","v":4900},5831,null,5350,6366,null,4900,5145]
[26800,{"$f":"(formule!$B$36+formule!$D$36*SQRT(A271))","v":4320.6179973421331},{"$f":"CEILING((formule!$B$36+formule!$D$36*SQRT(A271))/100,1)*100","v":4400},5236,{"$f":"CEILING(((1+formule!$E$41)*(formule!$B$36+formule!$D$36*SQRT(A271)))/100,1)*100","v":4900},5831,null,5350,6366,null,4900,5145]
[26900,{"$f":"(formule!$B$36+formule!$D$36*SQRT(A272))","v":4328.597148670191},{"$f":"CEILING((formule!$B$36+formule!$D$36*SQRT(A272))/100,1)*100","v":4400},5236,{"$f":"CEILING(((1+formule!$E$41)*(formule!$B$36+formule!$D$36*SQRT(A272)))/100,1)*100","v":4900},5831,null,5350,6366,null,4900,5145]
[27000,{"$f":"(formule!$B$36+formule!$D$36*SQRT(A273))","v":4336.5614825943785},{"$f":"CEILING((formule!$B$36+formule!$D$36*SQRT(A273))/100,1)*100","v":4400},5236,{"$f":"CEILING(((1+formule!$E$41)*(formule!$B$36+formule!$D$36*SQRT(A273)))/100,1)*100","v":4900},5831,null,5350,6366,null,4900,5145]
[27100,{"$f":"(formule!$B$36+formule!$D$36*SQRT(A274))","v":4344.5110813578076},{"$f":"CEILING((formule!$B$36+formule!$D$36*SQRT(A274))/100,1)*100","v":4400},5236,{"$f":"CEILING(((1+formule!$E$41)*(formule!$B$36+formule!$D$36*SQRT(A274)))/100,1)*100","v":4900},5831,null,5350,6366,null,4900,5145]
[27200,{"$f":"(formule!$B$36+formule!$D$36*SQRT(A275))","v":4352.4460264455847},{"$f":"CEILING((formule!$B$36+formule!$D$36*SQRT(A275))/100,1)*100","v":4400},5236,{"$f":"CEILING(((1+formule!$E$41)*(formule!$B$36+formule!$D$36*SQRT(A275)))/100,1)*100","v":4900},5831,null,5350,6366,null,4900,5145]
[27300,{"$f":"(formule!$B$36+formule!$D$36*SQRT(A276))","v":4360.3663985945577},{"$f":"CEILING((formule!$B$36+formule!$D$36*SQRT(A276))/100,1)*100","v":4400},5236,{"$f":"CEILING(((1+formule!$E$41)*(formule!$B$36+formule!$D$36*SQRT(A276)))/100,1)*100","v":5000},5950,null,5450,6485,null,5000,5250]
[27400,{"$f":"(formule!$B$36+formule!$D$36*SQRT(A277))","v":4368.2722778028965},{"$f":"CEILING((formule!$B$36+formule!$D$36*SQRT(A277))/100,1)*100","v":4400},5236,{"$f":"CEILING(((1+formule!$E$41)*(formule!$B$36+formule!$D$36*SQRT(A277)))/100,1)*100","v":5000},5950,null,5450,6485,null,5000,5250]
[27500,{"$f":"(formule!$B$36+formule!$D$36*SQRT(A278))","v":4376.1637433395199},{"$f":"CEILING((formule!$B$36+formule!$D$36*SQRT(A278))/100,1)*100","v":4400},5236,{"$f":"CEILING(((1+formule!$E$41)*(formule!$B$36+formule!$D$36*SQRT(A278)))/100,1)*100","v":5000},5950,null,5450,6485,null,5000,5250]
[27600,{"$f":"(formule!$B$36+formule!$D$36*SQRT(A279))","v":4384.0408737533744},{"$f":"CEILING((formule!$B$36+formule!$D$36*SQRT(A279))/100,1)*100","v":4400},5236,{"$f":"CEILING(((1+formule!$E$41)*(formule!$B$36+formule!$D$36*SQRT(A279)))/100,1)*100","v":5000},5950,null,5450,6485,null,5000,5250]
[27700,{"$f":"(formule!$B$36+formule!$D$36*SQRT(A280))","v":4391.90374688255},{"$f":"CEILING((formule!$B$36+formule!$D$36*SQRT(A280))/100,1)*100","v":4400},5236,{"$f":"CEILING(((1+formule!$E$41)*(formule!$B$36+formule!$D$36*SQRT(A280)))/100,1)*100","v":5000},5950,null,5450,6485,null,5000,5250]
[27800,{"$f":"(formule!$B$36+formule!$D$36*SQRT(A281))","v":4399.7524398632559},{"$f":"CEILING((formule!$B$36+formule!$D$36*SQRT(A281))/100,1)*100","v":4400},5236,{"$f":"CEILING(((1+formule!$E$41)*(formule!$B$36+formule!$D$36*SQRT(A281)))/100,1)*100","v":5000},5950,null,5450,6485,null,5000,5250]
[27900,{"$f":"(formule!$B$36+formule!$D$36*SQRT(A282))","v":4407.5870291386509},{"$f":"CEILING((formule!$B$36+formule!$D$36*SQRT(A282))/100,1)*100","v":4500},5355,{"$f":"CEILING(((1+formule!$E$41)*(formule!$B$36+formule!$D$36*SQRT(A282)))/100,1)*100","v":5000},5950,null,5450,6485,null,5000,5250]
[28000,{"$f":"(formule!$B$36+formule!$D$36*SQRT(A283))","v":4415.4075904675292},{"$f":"CEILING((formule!$B$36+formule!$D$36*SQRT(A283))/100,1)*100","v":4500},5355,{"$f":"CEILING(((1+formule!$E$41)*(formule!$B$36+formule!$D$36*SQRT(A283)))/100,1)*100","v":5000},5950,null,5450,6485,null,5000,5250]
[28100,{"$f":"(formule!$B$36+formule!$D$36*SQRT(A284))","v":4423.2141989328629},{"$f":"CEILING((formule!$B$36+formule!$D$36*SQRT(A284))/100,1)*100","v":4500},5355,{"$f":"CEILING(((1+formule!$E$41)*(formule!$B$36+formule!$D$36*SQRT(A284)))/100,1)*100","v":5000},5950,null,5450,6485,null,5000,5250]
[28200,{"$f":"(formule!$B$36+formule!$D$36*SQRT(A285))","v":4431.0069289502217},{"$f":"CEILING((formule!$B$36+formule!$D$36*SQRT(A285))/100,1)*100","v":4500},5355,{"$f":"CEILING(((1+formule!$E$41)*(formule!$B$36+formule!$D$36*SQRT(A285)))/100,1)*100","v":5000},5950,null,5450,6485,null,5000,5250]
[28300,{"$f":"(formule!$B$36+formule!$D$36*SQRT(A286))","v":4438.7858542760387},{"$f":"CEILING((formule!$B$36+formule!$D$36*SQRT(A286))/100,1)*100","v":4500},5355,{"$f":"CEILING(((1+formule!$E$41)*(formule!$B$36+formule!$D$36*SQRT(A286)))/100,1)*100","v":5000},5950,null,5450,6485,null,5000,5250]
[28400,{"$f":"(formule!$B$36+formule!$D$36*SQRT(A287))","v":4446.5510480157645},{"$f":"CEILING((formule!$B$36+formule!$D$36*SQRT(A287))/100,1)*100","v":4500},5355,{"$f":"CEILING(((1+formule!$E$41)*(formule!$B$36+formule!$D$36*SQRT(A287)))/100,1)*100","v":5100},6069,null,5550,6604,null,5100,5355]
[28500,{"$f":"(formule!$B$36+formule!$D$36*SQRT(A288))","v":4454.3025826318744},{"$f":"CEILING((formule!$B$36+formule!$D$36*SQRT(A288))/100,1)*100","v":4500},5355,{"$f":"CEILING(((1+formule!$E$41)*(formule!$B$36+formule!$D$36*SQRT(A288)))/100,1)*100","v":5100},6069,null,5550,6604,null,5100,5355]
[28600,{"$f":"(formule!$B$36+formule!$D$36*SQRT(A289))","v":4462.0405299517624},{"$f":"CEILING((formule!$B$36+formule!$D$36*SQRT(A289))/100,1)*100","v":4500},5355,{"$f":"CEILING(((1+formule!$E$41)*(formule!$B$36+formule!$D$36*SQRT(A289)))/100,1)*100","v":5100},6069,null,5550,6604,null,5100,5355]
[28700,{"$f":"(formule!$B$36+formule!$D$36*SQRT(A290))","v":4469.7649611755069},{"$f":"CEILING((formule!$B$36+formule!$D$36*SQRT(A290))/100,1)*100","v":4500},5355,{"$f":"CEILING(((1+formule!$E$41)*(formule!$B$36+formule!$D$36*SQRT(A290)))/100,1)*100","v":5100},6069,null,5550,6604,null,5100,5355]
[28800,{"$f":"(formule!$B$36+formule!$D$36*SQRT(A291))","v":4477.4759468835127},{"$f":"CEILING((formule!$B$36+formule!$D$36*SQRT(A291))/100,1)*100","v":4500},5355,{"$f":"CEILING(((1+formule!$E$41)*(formule!$B$36+formule!$D$36*SQRT(A291)))/100,1)*100","v":5100},6069,null,5550,6604,null,5100,5355]
[28900,{"$f":"(formule!$B$36+formule!$D$36*SQRT(A292))","v":4485.1735570440351},{"$f":"CEILING((formule!$B$36+formule!$D$36*SQRT(A292))/100,1)*100","v":4500},5355,{"$f":"CEILING(((1+formule!$E$41)*(formule!$B$36+formule!$D$36*SQRT(A292)))/100,1)*100","v":5100},6069,null,5550,6604,null,5100,5355]
[29000,{"$f":"(formule!$B$36+formule!$D$36*SQRT(A293))","v":4492.8578610205886},{"$f":"CEILING((formule!$B$36+formule!$D$36*SQRT(A293))/100,1)*100","v":4500},5355,{"$f":"CEILING(((1+formule!$E$41)*(formule!$B$36+formule!$D$36*SQRT(A293)))/100,1)*100","v":5100},6069,null,5550,6604,null,5100,5355]
[29100,{"$f":"(formule!$B$36+formule!$D$36*SQRT(A294))","v":4500.5289275792356},{"$f":"CEILING((formule!$B$36+formule!$D$36*SQRT(A294))/100,1)*100","v":4600},5474,{"$f":"CEILING(((1+formule!$E$41)*(formule!$B$36+formule!$D$36*SQRT(A294)))/100,1)*100","v":5100},6069,null,5550,6604,null,5100,5355]
[29200,{"$f":"(formule!$B$36+formule!$D$36*SQRT(A295))","v":4508.1868248957735},{"$f":"CEILING((formule!$B$36+formule!$D$36*SQRT(A295))/100,1)*100","v":4600},5474,{"$f":"CEILING(((1+formule!$E$41)*(formule!$B$36+formule!$D$36*SQRT(A295)))/100,1)*100","v":5100},6069,null,5550,6604,null,5100,5355]
[29300,{"$f":"(formule!$B$36+formule!$D$36*SQRT(A296))","v":4515.8316205627943},{"$f":"CEILING((formule!$B$36+formule!$D$36*SQRT(A296))/100,1)*100","v":4600},5474,{"$f":"CEILING(((1+formule!$E$41)*(formule!$B$36+formule!$D$36*SQRT(A296)))/100,1)*100","v":5100},6069,null,5550,6604,null,5100,5355]
[29400,{"$f":"(formule!$B$36+formule!$D$36*SQRT(A297))","v":4523.4633815966536},{"$f":"CEILING((formule!$B$36+formule!$D$36*SQRT(A297))/100,1)*100","v":4600},5474,{"$f":"CEILING(((1+formule!$E$41)*(formule!$B$36+formule!$D$36*SQRT(A297)))/100,1)*100","v":5100},6069,null,{"$f":"E297+450","v":5550},{"$f":"F297+535","v":6604},null,5100,5355]
[29500,{"$f":"(formule!$B$36+formule!$D$36*SQRT(A298))","v":4531.0821744443183},{"$f":"CEILING((formule!$B$36+formule!$D$36*SQRT(A298))/100,1)*100","v":4600},5474,{"$f":"CEILING(((1+formule!$E$41)*(formule!$B$36+formule!$D$36*SQRT(A298)))/100,1)*100","v":5100},6069,null,5550,6604,null,5100,5355]
[29600,{"$f":"(formule!$B$36+formule!$D$36*SQRT(A299))","v":4538.6880649901223},{"$f":"CEILING((formule!$B$36+formule!$D$36*SQRT(A299))/100,1)*100","v":4600},5474,{"$f":"CEILING(((1+formule!$E$41)*(formule!$B$36+formule!$D$36*SQRT(A299)))/100,1)*100","v":5200},6188,null,5650,6723,null,5200,5460]
[29700,{"$f":"(formule!$B$36+formule!$D$36*SQRT(A300))","v":4546.2811185624087},{"$f":"CEILING((formule!$B$36+formule!$D$36*SQRT(A300))/100,1)*100","v":4600},5474,{"$f":"CEILING(((1+formule!$E$41)*(formule!$B$36+formule!$D$36*SQRT(A300)))/100,1)*100","v":5200},6188,null,5650,6723,null,5200,5460]
[29800,{"$f":"(formule!$B$36+formule!$D$36*SQRT(A301))","v":4553.8613999400804},{"$f":"CEILING((formule!$B$36+formule!$D$36*SQRT(A301))/100,1)*100","v":4600},5474,{"$f":"CEILING(((1+formule!$E$41)*(formule!$B$36+formule!$D$36*SQRT(A301)))/100,1)*100","v":5200},6188,null,5650,6723,null,5200,5460]
[29900,{"$f":"(formule!$B$36+formule!$D$36*SQRT(A302))","v":4561.428973359044},{"$f":"CEILING((formule!$B$36+formule!$D$36*SQRT(A302))/100,1)*100","v":4600},5474,{"$f":"CEILING(((1+formule!$E$41)*(formule!$B$36+formule!$D$36*SQRT(A302)))/100,1)*100","v":5200},6188,null,5650,6723,null,5200,5460]
[30000,{"$f":"(formule!$B$36+formule!$D$36*SQRT(A303))","v":4568.9839025185638},{"$f":"CEILING((formule!$B$36+formule!$D$36*SQRT(A303))/100,1)*100","v":4600},5474,{"$f":"CEILING(((1+formule!$E$41)*(formule!$B$36+formule!$D$36*SQRT(A303)))/100,1)*100","v":5200},6188,null,5650,6723,null,5200,5460]
[30100,{"$f":"(formule!$B$36+formule!$D$36*SQRT(A304))","v":4576.5262505875162},{"$f":"CEILING((formule!$B$36+formule!$D$36*SQRT(A304))/100,1)*100","v":4600},5474,{"$f":"CEILING(((1+formule!$E$41)*(formule!$B$36+formule!$D$36*SQRT(A304)))/100,1)*100","v":5200},6188,null,5650,6723,null,5200,5460]
[30200,{"$f":"(formule!$B$36+formule!$D$36*SQRT(A305))","v":4584.0560802105501},{"$f":"CEILING((formule!$B$36+formule!$D$36*SQRT(A305))/100,1)*100","v":4600},5474,{"$f":"CEILING(((1+formule!$E$41)*(formule!$B$36+formule!$D$36*SQRT(A305)))/100,1)*100","v":5200},6188,null,5650,6723,null,5200,5460]
[30300,{"$f":"(formule!$B$36+formule!$D$36*SQRT(A306))","v":4591.5734535141637},{"$f":"CEILING((formule!$B$36+formule!$D$36*SQRT(A306))/100,1)*100","v":4600},5474,{"$f":"CEILING(((1+formule!$E$41)*(formule!$B$36+formule!$D$36*SQRT(A306)))/100,1)*100","v":5200},6188,null,5650,6723,null,5200,5460]
[30400,{"$f":"(formule!$B$36+formule!$D$36*SQRT(A307))","v":4599.0784321126766},{"$f":"CEILING((formule!$B$36+formule!$D$36*SQRT(A307))/100,1)*100","v":4600},5474,{"$f":"CEILING(((1+formule!$E$41)*(formule!$B$36+formule!$D$36*SQRT(A307)))/100,1)*100","v":5200},6188,null,5650,6723,null,5200,5460]
[30500,{"$f":"(formule!$B$36+formule!$D$36*SQRT(A308))","v":4606.5710771141257},{"$f":"CEILING((formule!$B$36+formule!$D$36*SQRT(A308))/100,1)*100","v":4700},5593,{"$f":"CEILING(((1+formule!$E$41)*(formule!$B$36+formule!$D$36*SQRT(A308)))/100,1)*100","v":5200},6188,null,5650,6723,null,5200,5460]
[30600,{"$f":"(formule!$B$36+formule!$D$36*SQRT(A309))","v":4614.0514491260728},{"$f":"CEILING((formule!$B$36+formule!$D$36*SQRT(A309))/100,1)*100","v":4700},5593,{"$f":"CEILING(((1+formule!$E$41)*(formule!$B$36+formule!$D$36*SQRT(A309)))/100,1)*100","v":5200},6188,null,5650,6723,null,5200,5460]
[30700,{"$f":"(formule!$B$36+formule!$D$36*SQRT(A310))","v":4621.5196082613193},{"$f":"CEILING((formule!$B$36+formule!$D$36*SQRT(A310))/100,1)*100","v":4700},5593,{"$f":"CEILING(((1+formule!$E$41)*(formule!$B$36+formule!$D$36*SQRT(A310)))/100,1)*100","v":5200},6188,null,5650,6723,null,5200,5460]
[30800,{"$f":"(formule!$B$36+formule!$D$36*SQRT(A311))","v":4628.9756141435473},{"$f":"CEILING((formule!$B$36+formule!$D$36*SQRT(A311))/100,1)*100","v":4700},5593,{"$f":"CEILING(((1+formule!$E$41)*(formule!$B$36+formule!$D$36*SQRT(A311)))/100,1)*100","v":5300},6307,null,5750,6842,null,5300,5565]
[30900,{"$f":"(formule!$B$36+formule!$D$36*SQRT(A312))","v":4636.4195259128674},{"$f":"CEILING((formule!$B$36+formule!$D$36*SQRT(A312))/100,1)*100","v":4700},5593,{"$f":"CEILING(((1+formule!$E$41)*(formule!$B$36+formule!$D$36*SQRT(A312)))/100,1)*100","v":5300},6307,null,5750,6842,null,5300,5565]
[31000,{"$f":"(formule!$B$36+formule!$D$36*SQRT(A313))","v":4643.8514022312984},{"$f":"CEILING((formule!$B$36+formule!$D$36*SQRT(A313))/100,1)*100","v":4700},5593,{"$f":"CEILING(((1+formule!$E$41)*(formule!$B$36+formule!$D$36*SQRT(A313)))/100,1)*100","v":5300},6307,null,5750,6842,null,5300,5565]
[31100,{"$f":"(formule!$B$36+formule!$D$36*SQRT(A314))","v":4651.271301288155},{"$f":"CEILING((formule!$B$36+formule!$D$36*SQRT(A314))/100,1)*100","v":4700},5593,{"$f":"CEILING(((1+formule!$E$41)*(formule!$B$36+formule!$D$36*SQRT(A314)))/100,1)*100","v":5300},6307,null,5750,6842,null,5300,5565]
[31200,{"$f":"(formule!$B$36+formule!$D$36*SQRT(A315))","v":4658.6792808053642},{"$f":"CEILING((formule!$B$36+formule!$D$36*SQRT(A315))/100,1)*100","v":4700},5593,{"$f":"CEILING(((1+formule!$E$41)*(formule!$B$36+formule!$D$36*SQRT(A315)))/100,1)*100","v":5300},6307,null,5750,6842,null,5300,5565]
[31300,{"$f":"(formule!$B$36+formule!$D$36*SQRT(A316))","v":4666.0753980427107},{"$f":"CEILING((formule!$B$36+formule!$D$36*SQRT(A316))/100,1)*100","v":4700},5593,{"$f":"CEILING(((1+formule!$E$41)*(formule!$B$36+formule!$D$36*SQRT(A316)))/100,1)*100","v":5300},6307,null,5750,6842,null,5300,5565]
[31400,{"$f":"(formule!$B$36+formule!$D$36*SQRT(A317))","v":4673.4597098029926},{"$f":"CEILING((formule!$B$36+formule!$D$36*SQRT(A317))/100,1)*100","v":4700},5593,{"$f":"CEILING(((1+formule!$E$41)*(formule!$B$36+formule!$D$36*SQRT(A317)))/100,1)*100","v":5300},6307,null,5750,6842,null,5300,5565]
[31500,{"$f":"(formule!$B$36+formule!$D$36*SQRT(A318))","v":4680.8322724371137},{"$f":"CEILING((formule!$B$36+formule!$D$36*SQRT(A318))/100,1)*100","v":4700},5593,{"$f":"CEILING(((1+formule!$E$41)*(formule!$B$36+formule!$D$36*SQRT(A318)))/100,1)*100","v":5300},6307,null,5750,6842,null,5300,5565]
[31600,{"$f":"(formule!$B$36+formule!$D$36*SQRT(A319))","v":4688.1931418491022},{"$f":"CEILING((formule!$B$36+formule!$D$36*SQRT(A319))/100,1)*100","v":4700},5593,{"$f":"CEILING(((1+formule!$E$41)*(formule!$B$36+formule!$D$36*SQRT(A319)))/100,1)*100","v":5300},6307,null,5750,6842,null,5300,5565]
[31700,{"$f":"(formule!$B$36+formule!$D$36*SQRT(A320))","v":4695.5423735010545},{"$f":"CEILING((formule!$B$36+formule!$D$36*SQRT(A320))/100,1)*100","v":4700},5593,{"$f":"CEILING(((1+formule!$E$41)*(formule!$B$36+formule!$D$36*SQRT(A320)))/100,1)*100","v":5300},6307,null,5750,6842,null,5300,5565]
[31800,{"$f":"(formule!$B$36+formule!$D$36*SQRT(A321))","v":4702.8800224180122},{"$f":"CEILING((formule!$B$36+formule!$D$36*SQRT(A321))/100,1)*100","v":4800},5712,{"$f":"CEILING(((1+formule!$E$41)*(formule!$B$36+formule!$D$36*SQRT(A321)))/100,1)*100","v":5300},6307,null,5750,6842,null,5300,5565]
[31900,{"$f":"(formule!$B$36+formule!$D$36*SQRT(A322))","v":4710.2061431927686},{"$f":"CEILING((formule!$B$36+formule!$D$36*SQRT(A322))/100,1)*100","v":4800},5712,{"$f":"CEILING(((1+formule!$E$41)*(formule!$B$36+formule!$D$36*SQRT(A322)))/100,1)*100","v":5300},6307,null,5750,6842,null,5300,5565]
[32000,{"$f":"(formule!$B$36+formule!$D$36*SQRT(A323))","v":4717.5207899906054},{"$f":"CEILING((formule!$B$36+formule!$D$36*SQRT(A323))/100,1)*100","v":4800},5712,{"$f":"CEILING(((1+formule!$E$41)*(formule!$B$36+formule!$D$36*SQRT(A323)))/100,1)*100","v":5400},6426,null,5850,6961,null,5400,5670]
[32100,{"$f":"(formule!$B$36+formule!$D$36*SQRT(A324))","v":4724.8240165539673},{"$f":"CEILING((formule!$B$36+formule!$D$36*SQRT(A324))/100,1)*100","v":4800},5712,{"$f":"CEILING(((1+formule!$E$41)*(formule!$B$36+formule!$D$36*SQRT(A324)))/100,1)*100","v":5400},{"$f":"E324*1.19","v":6426},null,5850,6961,null,5400,5670]
[32200,{"$f":"(formule!$B$36+formule!$D$36*SQRT(A325))","v":4732.115876207069},{"$f":"CEILING((formule!$B$36+formule!$D$36*SQRT(A325))/100,1)*100","v":4800},5712,{"$f":"CEILING(((1+formule!$E$41)*(formule!$B$36+formule!$D$36*SQRT(A325)))/100,1)*100","v":5400},6426,null,5850,6961,null,{"$f":"E325","v":5400},{"$f":"K325*1.05","v":5670}]
[32300,{"$f":"(formule!$B$36+formule!$D$36*SQRT(A326))","v":4739.3964218604351},{"$f":"CEILING((formule!$B$36+formule!$D$36*SQRT(A326))/100,1)*100","v":4800},5712,{"$f":"CEILING(((1+formule!$E$41)*(formule!$B$36+formule!$D$36*SQRT(A326)))/100,1)*100","v":5400},6426,null,5850,6961,null,5400,5670]
[32400,{"$f":"(formule!$B$36+formule!$D$36*SQRT(A327))","v":4746.665706015383},{"$f":"CEILING((formule!$B$36+formule!$D$36*SQRT(A327))/100,1)*100","v":4800},5712,{"$f":"CEILING(((1+formule!$E$41)*(formule!$B$36+formule!$D$36*SQRT(A327)))/100,1)*100","v":5400},6426,null,5850,6961,null,5400,5670]
[32500,{"$f":"(formule!$B$36+formule!$D$36*SQRT(A328))","v":4753.9237807684349},{"$f":"CEILING((formule!$B$36+formule!$D$36*SQRT(A328))/100,1)*100","v":4800},5712,{"$f":"CEILING(((1+formule!$E$41)*(formule!$B$36+formule!$D$36*SQRT(A328)))/100,1)*100","v":5400},6426,null,5850,6961,null,5400,5670]
[32600,{"$f":"(formule!$B$36+formule!$D$36*SQRT(A329))","v":4761.1706978156808},{"$f":"CEILING((formule!$B$36+formule!$D$36*SQRT(A329))/100,1)*100","v":4800},{"$f":"C329*1.19","v":5712},{"$f":"CEILING(((1+formule!$E$41)*(formule!$B$36+formule!$D$36*SQRT(A329)))/100,1)*100","v":5400},6426,null,5850,6961,null,5400,5670]
[{"$f":"A329+100","v":32700},{"$f":"(formule!$B$36+formule!$D$36*SQRT(A330))","v":4768.4065084570666},{"$f":"CEILING((formule!$B$36+formule!$D$36*SQRT(A330))/100,1)*100","v":4800},5712,{"$f":"CEILING(((1+formule!$E$41)*(formule!$B$36+formule!$D$36*SQRT(A330)))/100,1)*100","v":5400},6426,null,5850,6961,null,5400,5670]
[32800,{"$f":"(formule!$B$36+formule!$D$36*SQRT(A331))","v":4775.6312636006387},{"$f":"CEILING((formule!$B$36+formule!$D$36*SQRT(A331))/100,1)*100","v":4800},5712,{"$f":"CEILING(((1+formule!$E$41)*(formule!$B$36+formule!$D$36*SQRT(A331)))/100,1)*100","v":5400},6426,null,5850,6961,null,5400,5670]
[32900,{"$f":"(formule!$B$36+formule!$D$36*SQRT(A332))","v":4782.8450137667151},{"$f":"CEILING((formule!$B$36+formule!$D$36*SQRT(A332))/100,1)*100","v":4800},5712,{"$f":"CEILING(((1+formule!$E$41)*(formule!$B$36+formule!$D$36*SQRT(A332)))/100,1)*100","v":5400},6426,null,5850,6961,null,5400,5670]
[33000,{"$f":"(formule!$B$36+formule!$D$36*SQRT(A333))","v":4790.0478090920133},{"$f":"CEILING((formule!$B$36+formule!$D$36*SQRT(A333))/100,1)*100","v":4800},5712,{"$f":"CEILING(((1+formule!$E$41)*(formule!$B$36+formule!$D$36*SQRT(A333)))/100,1)*100","v":5400},6426,null,5850,6961,null,5400,5670]
[33100,{"$f":"(formule!$B$36+formule!$D$36*SQRT(A334))","v":4797.2396993337125},{"$f":"CEILING((formule!$B$36+formule!$D$36*SQRT(A334))/100,1)*100","v":4800},5712,{"$f":"CEILING(((1+formule!$E$41)*(formule!$B$36+formule!$D$36*SQRT(A334)))/100,1)*100","v":5400},6426,null,5850,6961,null,5400,5670]
[33200,{"$f":"(formule!$B$36+formule!$D$36*SQRT(A335))","v":4804.4207338734632},{"$f":"CEILING((formule!$B$36+formule!$D$36*SQRT(A335))/100,1)*100","v":4900},5831,{"$f":"CEILING(((1+formule!$E$41)*(formule!$B$36+formule!$D$36*SQRT(A335)))/100,1)*100","v":5500},6545,null,5950,7080,null,5500,5775]
[{"$f":"A335+100","v":33300},{"$f":"(formule!$B$36+formule!$D$36*SQRT(A336))","v":4811.5909617213456},{"$f":"CEILING((formule!$B$36+formule!$D$36*SQRT(A336))/100,1)*100","v":4900},5831,{"$f":"CEILING(((1+formule!$E$41)*(formule!$B$36+formule!$D$36*SQRT(A336)))/100,1)*100","v":5500},6545,null,5950,7080,null,5500,5775]
[33400,{"$f":"(formule!$B$36+formule!$D$36*SQRT(A337))","v":4818.7504315197721},{"$f":"CEILING((formule!$B$36+formule!$D$36*SQRT(A337))/100,1)*100","v":4900},5831,{"$f":"CEILING(((1+formule!$E$41)*(formule!$B$36+formule!$D$36*SQRT(A337)))/100,1)*100","v":5500},6545,null,5950,7080,null,5500,5775]
[33500,{"$f":"(formule!$B$36+formule!$D$36*SQRT(A338))","v":4825.8991915473334},{"$f":"CEILING((formule!$B$36+formule!$D$36*SQRT(A338))/100,1)*100","v":4900},5831,{"$f":"CEILING(((1+formule!$E$41)*(formule!$B$36+formule!$D$36*SQRT(A338)))/100,1)*100","v":5500},6545,null,5950,7080,null,5500,5775]
[33600,{"$f":"(formule!$B$36+formule!$D$36*SQRT(A339))","v":4833.0372897226025},{"$f":"CEILING((formule!$B$36+formule!$D$36*SQRT(A339))/100,1)*100","v":4900},5831,{"$f":"CEILING(((1+formule!$E$41)*(formule!$B$36+formule!$D$36*SQRT(A339)))/100,1)*100","v":5500},6545,null,5950,7080,null,5500,5775]
[33700,{"$f":"(formule!$B$36+formule!$D$36*SQRT(A340))","v":4840.1647736078767},{"$f":"CEILING((formule!$B$36+formule!$D$36*SQRT(A340))/100,1)*100","v":4900},5831,{"$f":"CEILING(((1+formule!$E$41)*(formule!$B$36+formule!$D$36*SQRT(A340)))/100,1)*100","v":5500},6545,null,5950,7080,null,5500,5775]
[33800,{"$f":"(formule!$B$36+formule!$D$36*SQRT(A341))","v":4847.2816904128777},{"$f":"CEILING((formule!$B$36+formule!$D$36*SQRT(A341))/100,1)*100","v":4900},5831,{"$f":"CEILING(((1+formule!$E$41)*(formule!$B$36+formule!$D$36*SQRT(A341)))/100,1)*100","v":5500},6545,null,5950,7080,null,5500,5775]
[33900,{"$f":"(formule!$B$36+formule!$D$36*SQRT(A342))","v":4854.3880869984005},{"$f":"CEILING((formule!$B$36+formule!$D$36*SQRT(A342))/100,1)*100","v":4900},5831,{"$f":"CEILING(((1+formule!$E$41)*(formule!$B$36+formule!$D$36*SQRT(A342)))/100,1)*100","v":5500},6545,null,5950,7080,null,5500,5775]
[34000,{"$f":"(formule!$B$36+formule!$D$36*SQRT(A343))","v":4861.4840098799132},{"$f":"CEILING((formule!$B$36+formule!$D$36*SQRT(A343))/100,1)*100","v":4900},5831,{"$f":"CEILING(((1+formule!$E$41)*(formule!$B$36+formule!$D$36*SQRT(A343)))/100,1)*100","v":5500},6545,null,5950,7080,null,5500,5775]
[34100,{"$f":"(formule!$B$36+formule!$D$36*SQRT(A344))","v":4868.5695052311057},{"$f":"CEILING((formule!$B$36+formule!$D$36*SQRT(A344))/100,1)*100","v":4900},5831,{"$f":"CEILING(((1+formule!$E$41)*(formule!$B$36+formule!$D$36*SQRT(A344)))/100,1)*100","v":5500},6545,null,5950,7080,null,5500,5775]
[34200,{"$f":"(formule!$B$36+formule!$D$36*SQRT(A345))","v":4875.6446188873997},{"$f":"CEILING((formule!$B$36+formule!$D$36*SQRT(A345))/100,1)*100","v":4900},5831,{"$f":"CEILING(((1+formule!$E$41)*(formule!$B$36+formule!$D$36*SQRT(A345)))/100,1)*100","v":5500},6545,null,5950,7080,null,5500,5775]
[34300,{"$f":"(formule!$B$36+formule!$D$36*SQRT(A346))","v":4882.7093963494071},{"$f":"CEILING((formule!$B$36+formule!$D$36*SQRT(A346))/100,1)*100","v":4900},5831,{"$f":"CEILING(((1+formule!$E$41)*(formule!$B$36+formule!$D$36*SQRT(A346)))/100,1)*100","v":5500},6545,null,5950,7080,null,5500,5775]
[34400,{"$f":"(formule!$B$36+formule!$D$36*SQRT(A347))","v":4889.7638827863393},{"$f":"CEILING((formule!$B$36+formule!$D$36*SQRT(A347))/100,1)*100","v":4900},5831,{"$f":"CEILING(((1+formule!$E$41)*(formule!$B$36+formule!$D$36*SQRT(A347)))/100,1)*100","v":5600},6664,null,6050,7199,null,5600,5880]
[34500,{"$f":"(formule!$B$36+formule!$D$36*SQRT(A348))","v":4896.8081230393855},{"$f":"CEILING((formule!$B$36+formule!$D$36*SQRT(A348))/100,1)*100","v":4900},5831,{"$f":"CEILING(((1+formule!$E$41)*(formule!$B$36+formule!$D$36*SQRT(A348)))/100,1)*100","v":5600},6664,null,6050,7199,null,5600,5880]
[34600,{"$f":"(formule!$B$36+formule!$D$36*SQRT(A349))","v":4903.8421616250271},{"$f":"CEILING((formule!$B$36+formule!$D$36*SQRT(A349))/100,1)*100","v":5000},5950,{"$f":"CEILING(((1+formule!$E$41)*(formule!$B$36+formule!$D$36*SQRT(A349)))/100,1)*100","v":5600},6664,null,6050,7199,null,5600,5880]
[34700,{"$f":"(formule!$B$36+formule!$D$36*SQRT(A350))","v":4910.8660427383311},{"$f":"CEILING((formule!$B$36+formule!$D$36*SQRT(A350))/100,1)*100","v":5000},5950,{"$f":"CEILING(((1+formule!$E$41)*(formule!$B$36+formule!$D$36*SQRT(A350)))/100,1)*100","v":5600},6664,null,6050,7199,null,5600,5880]
[34800,{"$f":"(formule!$B$36+formule!$D$36*SQRT(A351))","v":4917.8798102561805},{"$f":"CEILING((formule!$B$36+formule!$D$36*SQRT(A351))/100,1)*100","v":5000},5950,{"$f":"CEILING(((1+formule!$E$41)*(formule!$B$36+formule!$D$36*SQRT(A351)))/100,1)*100","v":5600},6664,null,6050,7199,null,5600,5880]
[34900,{"$f":"(formule!$B$36+formule!$D$36*SQRT(A352))","v":4924.8835077404783},{"$f":"CEILING((formule!$B$36+formule!$D$36*SQRT(A352))/100,1)*100","v":5000},5950,{"$f":"CEILING(((1+formule!$E$41)*(formule!$B$36+formule!$D$36*SQRT(A352)))/100,1)*100","v":5600},6664,null,6050,7199,null,5600,5880]
[35000,{"$f":"(formule!$B$36+formule!$D$36*SQRT(A353))","v":4931.8771784412984},{"$f":"CEILING((formule!$B$36+formule!$D$36*SQRT(A353))/100,1)*100","v":5000},5950,{"$f":"CEILING(((1+formule!$E$41)*(formule!$B$36+formule!$D$36*SQRT(A353)))/100,1)*100","v":5600},6664,null,6050,7199,null,5600,5880]
[35100,{"$f":"(formule!$B$36+formule!$D$36*SQRT(A354))","v":4938.8608653000101},{"$f":"CEILING((formule!$B$36+formule!$D$36*SQRT(A354))/100,1)*100","v":5000},5950,{"$f":"CEILING(((1+formule!$E$41)*(formule!$B$36+formule!$D$36*SQRT(A354)))/100,1)*100","v":5600},6664,null,6050,7199,null,5600,5880]
[35200,{"$f":"(formule!$B$36+formule!$D$36*SQRT(A355))","v":4945.8346109523454},{"$f":"CEILING((formule!$B$36+formule!$D$36*SQRT(A355))/100,1)*100","v":5000},5950,{"$f":"CEILING(((1+formule!$E$41)*(formule!$B$36+formule!$D$36*SQRT(A355)))/100,1)*100","v":5600},6664,null,6050,7199,null,5600,5880]
[35300,{"$f":"(formule!$B$36+formule!$D$36*SQRT(A356))","v":4952.7984577314382},{"$f":"CEILING((formule!$B$36+formule!$D$36*SQRT(A356))/100,1)*100","v":5000},5950,{"$f":"CEILING(((1+formule!$E$41)*(formule!$B$36+formule!$D$36*SQRT(A356)))/100,1)*100","v":5600},6664,null,6050,7199,null,5600,5880]
[35400,{"$f":"(formule!$B$36+formule!$D$36*SQRT(A357))","v":4959.7524476708295},{"$f":"CEILING((formule!$B$36+formule!$D$36*SQRT(A357))/100,1)*100","v":5000},5950,{"$f":"CEILING(((1+formule!$E$41)*(formule!$B$36+formule!$D$36*SQRT(A357)))/100,1)*100","v":5600},6664,null,6050,7199,null,5600,5880]
[35500,{"$f":"(formule!$B$36+formule!$D$36*SQRT(A358))","v":4966.6966225074157},{"$f":"CEILING((formule!$B$36+formule!$D$36*SQRT(A358))/100,1)*100","v":5000},5950,{"$f":"CEILING(((1+formule!$E$41)*(formule!$B$36+formule!$D$36*SQRT(A358)))/100,1)*100","v":5600},6664,null,6050,7199,null,5600,5880]
[35600,{"$f":"(formule!$B$36+formule!$D$36*SQRT(A359))","v":4973.6310236843819},{"$f":"CEILING((formule!$B$36+formule!$D$36*SQRT(A359))/100,1)*100","v":5000},5950,{"$f":"CEILING(((1+formule!$E$41)*(formule!$B$36+formule!$D$36*SQRT(A359)))/100,1)*100","v":5600},6664,null,6050,7199,null,5600,5880]
[35700,{"$f":"(formule!$B$36+formule!$D$36*SQRT(A360))","v":4980.555692354078},{"$f":"CEILING((formule!$B$36+formule!$D$36*SQRT(A360))/100,1)*100","v":5000},5950,{"$f":"CEILING(((1+formule!$E$41)*(formule!$B$36+formule!$D$36*SQRT(A360)))/100,1)*100","v":5700},6783,null,6150,7318,null,5700,5985]
[35800,{"$f":"(formule!$B$36+formule!$D$36*SQRT(A361))","v":4987.4706693808776},{"$f":"CEILING((formule!$B$36+formule!$D$36*SQRT(A361))/100,1)*100","v":5000},5950,{"$f":"CEILING(((1+formule!$E$41)*(formule!$B$36+formule!$D$36*SQRT(A361)))/100,1)*100","v":5700},6783,null,{"$f":"E361+450","v":6150},{"$f":"F361+535","v":7318},null,5700,5985]
[35900,{"$f":"(formule!$B$36+formule!$D$36*SQRT(A362))","v":4994.375995343984},{"$f":"CEILING((formule!$B$36+formule!$D$36*SQRT(A362))/100,1)*100","v":5000},5950,{"$f":"CEILING(((1+formule!$E$41)*(formule!$B$36+formule!$D$36*SQRT(A362)))/100,1)*100","v":5700},6783,null,6150,7318,null,5700,5985]
[36000,{"$f":"(formule!$B$36+formule!$D$36*SQRT(A363))","v":5001.2717105402116},{"$f":"CEILING((formule!$B$36+formule!$D$36*SQRT(A363))/100,1)*100","v":5100},6069,{"$f":"CEILING(((1+formule!$E$41)*(formule!$B$36+formule!$D$36*SQRT(A363)))/100,1)*100","v":5700},6783,null,6150,7318,null,5700,5985]
[36100,{"$f":"(formule!$B$36+formule!$D$36*SQRT(A364))","v":5008.1578549867299},{"$f":"CEILING((formule!$B$36+formule!$D$36*SQRT(A364))/100,1)*100","v":5100},6069,{"$f":"CEILING(((1+formule!$E$41)*(formule!$B$36+formule!$D$36*SQRT(A364)))/100,1)*100","v":5700},6783,null,6150,7318,null,5700,5985]
[36200,{"$f":"(formule!$B$36+formule!$D$36*SQRT(A365))","v":5015.0344684237707},{"$f":"CEILING((formule!$B$36+formule!$D$36*SQRT(A365))/100,1)*100","v":5100},6069,{"$f":"CEILING(((1+formule!$E$41)*(formule!$B$36+formule!$D$36*SQRT(A365)))/100,1)*100","v":5700},6783,null,6150,7318,null,5700,5985]
[36300,{"$f":"(formule!$B$36+formule!$D$36*SQRT(A366))","v":5021.9015903173067},{"$f":"CEILING((formule!$B$36+formule!$D$36*SQRT(A366))/100,1)*100","v":5100},6069,{"$f":"CEILING(((1+formule!$E$41)*(formule!$B$36+formule!$D$36*SQRT(A366)))/100,1)*100","v":5700},6783,null,6150,7318,null,5700,5985]
[36400,{"$f":"(formule!$B$36+formule!$D$36*SQRT(A367))","v":5028.759259861692},{"$f":"CEILING((formule!$B$36+formule!$D$36*SQRT(A367))/100,1)*100","v":5100},6069,{"$f":"CEILING(((1+formule!$E$41)*(formule!$B$36+formule!$D$36*SQRT(A367)))/100,1)*100","v":5700},6783,null,6150,7318,null,5700,5985]
[36500,{"$f":"(formule!$B$36+formule!$D$36*SQRT(A368))","v":5035.6075159822713},{"$f":"CEILING((formule!$B$36+formule!$D$36*SQRT(A368))/100,1)*100","v":5100},6069,{"$f":"CEILING(((1+formule!$E$41)*(formule!$B$36+formule!$D$36*SQRT(A368)))/100,1)*100","v":5700},6783,null,6150,7318,null,5700,5985]
[36600,{"$f":"(formule!$B$36+formule!$D$36*SQRT(A369))","v":5042.4463973379607},{"$f":"CEILING((formule!$B$36+formule!$D$36*SQRT(A369))/100,1)*100","v":5100},6069,{"$f":"CEILING(((1+formule!$E$41)*(formule!$B$36+formule!$D$36*SQRT(A369)))/100,1)*100","v":5700},6783,null,6150,7318,null,5700,5985]
[36700,{"$f":"(formule!$B$36+formule!$D$36*SQRT(A370))","v":5049.2759423237903},{"$f":"CEILING((formule!$B$36+formule!$D$36*SQRT(A370))/100,1)*100","v":5100},6069,{"$f":"CEILING(((1+formule!$E$41)*(formule!$B$36+formule!$D$36*SQRT(A370)))/100,1)*100","v":5700},6783,null,6150,7318,null,5700,5985]
[36800,{"$f":"(formule!$B$36+formule!$D$36*SQRT(A371))","v":5056.0961890734234},{"$f":"CEILING((formule!$B$36+formule!$D$36*SQRT(A371))/100,1)*100","v":5100},6069,{"$f":"CEILING(((1+formule!$E$41)*(formule!$B$36+formule!$D$36*SQRT(A371)))/100,1)*100","v":5700},6783,null,6150,7318,null,5700,5985]
[36900,{"$f":"(formule!$B$36+formule!$D$36*SQRT(A372))","v":5062.9071754616361},{"$f":"CEILING((formule!$B$36+formule!$D$36*SQRT(A372))/100,1)*100","v":5100},6069,{"$f":"CEILING(((1+formule!$E$41)*(formule!$B$36+formule!$D$36*SQRT(A372)))/100,1)*100","v":5700},6783,null,6150,7318,null,5700,5985]
[37000,{"$f":"(formule!$B$36+formule!$D$36*SQRT(A373))","v":5069.7089391067739},{"$f":"CEILING((formule!$B$36+formule!$D$36*SQRT(A373))/100,1)*100","v":5100},6069,{"$f":"CEILING(((1+formule!$E$41)*(formule!$B$36+formule!$D$36*SQRT(A373)))/100,1)*100","v":5800},6902,null,6250,7437,null,5800,6090]
[37100,{"$f":"(formule!$B$36+formule!$D$36*SQRT(A374))","v":5076.5015173731745},{"$f":"CEILING((formule!$B$36+formule!$D$36*SQRT(A374))/100,1)*100","v":5100},6069,{"$f":"CEILING(((1+formule!$E$41)*(formule!$B$36+formule!$D$36*SQRT(A374)))/100,1)*100","v":5800},6902,null,6250,7437,null,5800,6090]
[37200,{"$f":"(formule!$B$36+formule!$D$36*SQRT(A375))","v":5083.2849473735641},{"$f":"CEILING((formule!$B$36+formule!$D$36*SQRT(A375))/100,1)*100","v":5100},6069,{"$f":"CEILING(((1+formule!$E$41)*(formule!$B$36+formule!$D$36*SQRT(A375)))/100,1)*100","v":5800},6902,null,6250,7437,null,5800,6090]
[37300,{"$f":"(formule!$B$36+formule!$D$36*SQRT(A376))","v":5090.0592659714212},{"$f":"CEILING((formule!$B$36+formule!$D$36*SQRT(A376))/100,1)*100","v":5100},6069,{"$f":"CEILING(((1+formule!$E$41)*(formule!$B$36+formule!$D$36*SQRT(A376)))/100,1)*100","v":5800},6902,null,6250,7437,null,5800,6090]
[37400,{"$f":"(formule!$B$36+formule!$D$36*SQRT(A377))","v":5096.824509783316},{"$f":"CEILING((formule!$B$36+formule!$D$36*SQRT(A377))/100,1)*100","v":5100},6069,{"$f":"CEILING(((1+formule!$E$41)*(formule!$B$36+formule!$D$36*SQRT(A377)))/100,1)*100","v":5800},6902,null,6250,7437,null,5800,6090]
[37500,{"$f":"(formule!$B$36+formule!$D$36*SQRT(A378))","v":5103.580715181216},{"$f":"CEILING((formule!$B$36+formule!$D$36*SQRT(A378))/100,1)*100","v":5200},6188,{"$f":"CEILING(((1+formule!$E$41)*(formule!$B$36+formule!$D$36*SQRT(A378)))/100,1)*100","v":5800},6902,null,6250,7437,null,5800,6090]
[37600,{"$f":"(formule!$B$36+formule!$D$36*SQRT(A379))","v":5110.3279182947726},{"$f":"CEILING((formule!$B$36+formule!$D$36*SQRT(A379))/100,1)*100","v":5200},6188,{"$f":"CEILING(((1+formule!$E$41)*(formule!$B$36+formule!$D$36*SQRT(A379)))/100,1)*100","v":5800},6902,null,6250,7437,null,5800,6090]
[37700,{"$f":"(formule!$B$36+formule!$D$36*SQRT(A380))","v":5117.0661550135701},{"$f":"CEILING((formule!$B$36+formule!$D$36*SQRT(A380))/100,1)*100","v":5200},6188,{"$f":"CEILING(((1+formule!$E$41)*(formule!$B$36+formule!$D$36*SQRT(A380)))/100,1)*100","v":5800},6902,null,6250,7437,null,5800,6090]
[37800,{"$f":"(formule!$B$36+formule!$D$36*SQRT(A381))","v":5123.7954609893559},{"$f":"CEILING((formule!$B$36+formule!$D$36*SQRT(A381))/100,1)*100","v":5200},6188,{"$f":"CEILING(((1+formule!$E$41)*(formule!$B$36+formule!$D$36*SQRT(A381)))/100,1)*100","v":5800},6902,null,6250,7437,null,5800,6090]
[37900,{"$f":"(formule!$B$36+formule!$D$36*SQRT(A382))","v":5130.5158716382402},{"$f":"CEILING((formule!$B$36+formule!$D$36*SQRT(A382))/100,1)*100","v":5200},6188,{"$f":"CEILING(((1+formule!$E$41)*(formule!$B$36+formule!$D$36*SQRT(A382)))/100,1)*100","v":5800},6902,null,6250,7437,null,5800,6090]
[38000,{"$f":"(formule!$B$36+formule!$D$36*SQRT(A383))","v":5137.2274221428734},{"$f":"CEILING((formule!$B$36+formule!$D$36*SQRT(A383))/100,1)*100","v":5200},6188,{"$f":"CEILING(((1+formule!$E$41)*(formule!$B$36+formule!$D$36*SQRT(A383)))/100,1)*100","v":5800},6902,null,6250,7437,null,5800,6090]
[38100,{"$f":"(formule!$B$36+formule!$D$36*SQRT(A384))","v":5143.9301474545882},{"$f":"CEILING((formule!$B$36+formule!$D$36*SQRT(A384))/100,1)*100","v":5200},6188,{"$f":"CEILING(((1+formule!$E$41)*(formule!$B$36+formule!$D$36*SQRT(A384)))/100,1)*100","v":5800},6902,null,6250,7437,null,5800,6090]
[38200,{"$f":"(formule!$B$36+formule!$D$36*SQRT(A385))","v":5150.6240822955306},{"$f":"CEILING((formule!$B$36+formule!$D$36*SQRT(A385))/100,1)*100","v":5200},6188,{"$f":"CEILING(((1+formule!$E$41)*(formule!$B$36+formule!$D$36*SQRT(A385)))/100,1)*100","v":5800},6902,null,6250,7437,null,5800,6090]
[38300,{"$f":"(formule!$B$36+formule!$D$36*SQRT(A386))","v":5157.3092611607553},{"$f":"CEILING((formule!$B$36+formule!$D$36*SQRT(A386))/100,1)*100","v":5200},6188,{"$f":"CEILING(((1+formule!$E$41)*(formule!$B$36+formule!$D$36*SQRT(A386)))/100,1)*100","v":5900},7021,null,6350,7556,null,5900,6195]
[38400,{"$f":"(formule!$B$36+formule!$D$36*SQRT(A387))","v":5163.9857183202994},{"$f":"CEILING((formule!$B$36+formule!$D$36*SQRT(A387))/100,1)*100","v":5200},6188,{"$f":"CEILING(((1+formule!$E$41)*(formule!$B$36+formule!$D$36*SQRT(A387)))/100,1)*100","v":5900},7021,null,6350,7556,null,5900,6195]
[38500,{"$f":"(formule!$B$36+formule!$D$36*SQRT(A388))","v":5170.6534878212296},{"$f":"CEILING((formule!$B$36+formule!$D$36*SQRT(A388))/100,1)*100","v":5200},6188,{"$f":"CEILING(((1+formule!$E$41)*(formule!$B$36+formule!$D$36*SQRT(A388)))/100,1)*100","v":5900},{"$f":"E388*1.19","v":7021},null,6350,7556,null,5900,6195]
[38600,{"$f":"(formule!$B$36+formule!$D$36*SQRT(A389))","v":5177.3126034896759},{"$f":"CEILING((formule!$B$36+formule!$D$36*SQRT(A389))/100,1)*100","v":5200},6188,{"$f":"CEILING(((1+formule!$E$41)*(formule!$B$36+formule!$D$36*SQRT(A389)))/100,1)*100","v":5900},7021,null,6350,7556,null,{"$f":"E389","v":5900},{"$f":"K389*1.05","v":6195}]
[38700,{"$f":"(formule!$B$36+formule!$D$36*SQRT(A390))","v":5183.9630989328225},{"$f":"CEILING((formule!$B$36+formule!$D$36*SQRT(A390))/100,1)*100","v":5200},6188,{"$f":"CEILING(((1+formule!$E$41)*(formule!$B$36+formule!$D$36*SQRT(A390)))/100,1)*100","v":5900},7021,null,6350,7556,null,5900,6195]
[38800,{"$f":"(formule!$B$36+formule!$D$36*SQRT(A391))","v":5190.6050075408975},{"$f":"CEILING((formule!$B$36+formule!$D$36*SQRT(A391))/100,1)*100","v":5200},6188,{"$f":"CEILING(((1+formule!$E$41)*(formule!$B$36+formule!$D$36*SQRT(A391)))/100,1)*100","v":5900},7021,null,6350,7556,null,5900,6195]
[38900,{"$f":"(formule!$B$36+formule!$D$36*SQRT(A392))","v":5197.2383624891199},{"$f":"CEILING((formule!$B$36+formule!$D$36*SQRT(A392))/100,1)*100","v":5200},6188,{"$f":"CEILING(((1+formule!$E$41)*(formule!$B$36+formule!$D$36*SQRT(A392)))/100,1)*100","v":5900},7021,null,6350,7556,null,5900,6195]
[39000,{"$f":"(formule!$B$36+formule!$D$36*SQRT(A393))","v":5203.8631967396386},{"$f":"CEILING((formule!$B$36+formule!$D$36*SQRT(A393))/100,1)*100","v":5300},{"$f":"C393*1.19","v":6307},{"$f":"CEILING(((1+formule!$E$41)*(formule!$B$36+formule!$D$36*SQRT(A393)))/100,1)*100","v":5900},7021,null,6350,7556,null,5900,6195]
[39100,{"$f":"(formule!$B$36+formule!$D$36*SQRT(A394))","v":5210.4795430434406},{"$f":"CEILING((formule!$B$36+formule!$D$36*SQRT(A394))/100,1)*100","v":5300},6307,{"$f":"CEILING(((1+formule!$E$41)*(formule!$B$36+formule!$D$36*SQRT(A394)))/100,1)*100","v":5900},7021,null,6350,7556,null,5900,6195]
[39200,{"$f":"(formule!$B$36+formule!$D$36*SQRT(A395))","v":5217.0874339422435},{"$f":"CEILING((formule!$B$36+formule!$D$36*SQRT(A395))/100,1)*100","v":5300},6307,{"$f":"CEILING(((1+formule!$E$41)*(formule!$B$36+formule!$D$36*SQRT(A395)))/100,1)*100","v":5900},7021,null,6350,7556,null,5900,6195]
[39300,{"$f":"(formule!$B$36+formule!$D$36*SQRT(A396))","v":5223.6869017703539},{"$f":"CEILING((formule!$B$36+formule!$D$36*SQRT(A396))/100,1)*100","v":5300},6307,{"$f":"CEILING(((1+formule!$E$41)*(formule!$B$36+formule!$D$36*SQRT(A396)))/100,1)*100","v":5900},7021,null,6350,7556,null,5900,6195]
[39400,{"$f":"(formule!$B$36+formule!$D$36*SQRT(A397))","v":5230.277978656527},{"$f":"CEILING((formule!$B$36+formule!$D$36*SQRT(A397))/100,1)*100","v":5300},6307,{"$f":"CEILING(((1+formule!$E$41)*(formule!$B$36+formule!$D$36*SQRT(A397)))/100,1)*100","v":5900},7021,null,6350,7556,null,5900,6195]
[39500,{"$f":"(formule!$B$36+formule!$D$36*SQRT(A398))","v":5236.8606965257786},{"$f":"CEILING((formule!$B$36+formule!$D$36*SQRT(A398))/100,1)*100","v":5300},6307,{"$f":"CEILING(((1+formule!$E$41)*(formule!$B$36+formule!$D$36*SQRT(A398)))/100,1)*100","v":5900},7021,null,6350,7556,null,5900,6195]
[39600,{"$f":"(formule!$B$36+formule!$D$36*SQRT(A399))","v":5243.4350871011975},{"$f":"CEILING((formule!$B$36+formule!$D$36*SQRT(A399))/100,1)*100","v":5300},6307,{"$f":"CEILING(((1+formule!$E$41)*(formule!$B$36+formule!$D$36*SQRT(A399)))/100,1)*100","v":5900},7021,null,6350,7556,null,5900,6195]
[{"$f":"A399+100","v":39700},{"$f":"(formule!$B$36+formule!$D$36*SQRT(A400))","v":5250.0011819057254},{"$f":"CEILING((formule!$B$36+formule!$D$36*SQRT(A400))/100,1)*100","v":5300},6307,{"$f":"CEILING(((1+formule!$E$41)*(formule!$B$36+formule!$D$36*SQRT(A400)))/100,1)*100","v":6000},7140,null,6450,7675,null,6000,6300]
[39800,{"$f":"(formule!$B$36+formule!$D$36*SQRT(A401))","v":5256.5590122639205},{"$f":"CEILING((formule!$B$36+formule!$D$36*SQRT(A401))/100,1)*100","v":5300},6307,{"$f":"CEILING(((1+formule!$E$41)*(formule!$B$36+formule!$D$36*SQRT(A401)))/100,1)*100","v":6000},7140,null,6450,7675,null,6000,6300]
[39900,{"$f":"(formule!$B$36+formule!$D$36*SQRT(A402))","v":5263.1086093037029},{"$f":"CEILING((formule!$B$36+formule!$D$36*SQRT(A402))/100,1)*100","v":5300},6307,{"$f":"CEILING(((1+formule!$E$41)*(formule!$B$36+formule!$D$36*SQRT(A402)))/100,1)*100","v":6000},7140,null,6450,7675,null,6000,6300]
[40000,{"$f":"(formule!$B$36+formule!$D$36*SQRT(A403))","v":5269.6500039580769},{"$f":"CEILING((formule!$B$36+formule!$D$36*SQRT(A403))/100,1)*100","v":5300},6307,{"$f":"CEILING(((1+formule!$E$41)*(formule!$B$36+formule!$D$36*SQRT(A403)))/100,1)*100","v":6000},7140,null,6450,7675,null,6000,6300]
[40100,{"$f":"(formule!$B$36+formule!$D$36*SQRT(A404))","v":5276.1832269668357},{"$f":"CEILING((formule!$B$36+formule!$D$36*SQRT(A404))/100,1)*100","v":5300},6307,{"$f":"CEILING(((1+formule!$E$41)*(formule!$B$36+formule!$D$36*SQRT(A404)))/100,1)*100","v":6000},7140,null,6450,7675,null,6000,6300]
[40200,{"$f":"(formule!$B$36+formule!$D$36*SQRT(A405))","v":5282.7083088782456},{"$f":"CEILING((formule!$B$36+formule!$D$36*SQRT(A405))/100,1)*100","v":5300},6307,{"$f":"CEILING(((1+formule!$E$41)*(formule!$B$36+formule!$D$36*SQRT(A405)))/100,1)*100","v":6000},7140,null,6450,7675,null,6000,6300]
[40300,{"$f":"(formule!$B$36+formule!$D$36*SQRT(A406))","v":5289.2252800507158},{"$f":"CEILING((formule!$B$36+formule!$D$36*SQRT(A406))/100,1)*100","v":5300},6307,{"$f":"CEILING(((1+formule!$E$41)*(formule!$B$36+formule!$D$36*SQRT(A406)))/100,1)*100","v":6000},7140,null,6450,7675,null,6000,6300]
[40400,{"$f":"(formule!$B$36+formule!$D$36*SQRT(A407))","v":5295.7341706544412},{"$f":"CEILING((formule!$B$36+formule!$D$36*SQRT(A407))/100,1)*100","v":5300},6307,{"$f":"CEILING(((1+formule!$E$41)*(formule!$B$36+formule!$D$36*SQRT(A407)))/100,1)*100","v":6000},7140,null,6450,7675,null,6000,6300]
[40500,{"$f":"(formule!$B$36+formule!$D$36*SQRT(A408))","v":5302.2350106730401},{"$f":"CEILING((formule!$B$36+formule!$D$36*SQRT(A408))/100,1)*100","v":5400},6426,{"$f":"CEILING(((1+formule!$E$41)*(formule!$B$36+formule!$D$36*SQRT(A408)))/100,1)*100","v":6000},7140,null,6450,7675,null,6000,6300]
[40600,{"$f":"(formule!$B$36+formule!$D$36*SQRT(A409))","v":5308.7278299051532},{"$f":"CEILING((formule!$B$36+formule!$D$36*SQRT(A409))/100,1)*100","v":5400},6426,{"$f":"CEILING(((1+formule!$E$41)*(formule!$B$36+formule!$D$36*SQRT(A409)))/100,1)*100","v":6000},7140,null,6450,7675,null,6000,6300]
[40700,{"$f":"(formule!$B$36+formule!$D$36*SQRT(A410))","v":5315.2126579660517},{"$f":"CEILING((formule!$B$36+formule!$D$36*SQRT(A410))/100,1)*100","v":5400},6426,{"$f":"CEILING(((1+formule!$E$41)*(formule!$B$36+formule!$D$36*SQRT(A410)))/100,1)*100","v":6000},7140,null,6450,7675,null,6000,6300]
[40800,{"$f":"(formule!$B$36+formule!$D$36*SQRT(A411))","v":5321.6895242891997},{"$f":"CEILING((formule!$B$36+formule!$D$36*SQRT(A411))/100,1)*100","v":5400},6426,{"$f":"CEILING(((1+formule!$E$41)*(formule!$B$36+formule!$D$36*SQRT(A411)))/100,1)*100","v":6000},7140,null,6450,7675,null,6000,6300]
[40900,{"$f":"(formule!$B$36+formule!$D$36*SQRT(A412))","v":5328.1584581278239},{"$f":"CEILING((formule!$B$36+formule!$D$36*SQRT(A412))/100,1)*100","v":5400},6426,{"$f":"CEILING(((1+formule!$E$41)*(formule!$B$36+formule!$D$36*SQRT(A412)))/100,1)*100","v":6000},7140,null,6450,7675,null,6000,6300]
[41000,{"$f":"(formule!$B$36+formule!$D$36*SQRT(A413))","v":5334.6194885564482},{"$f":"CEILING((formule!$B$36+formule!$D$36*SQRT(A413))/100,1)*100","v":5400},6426,{"$f":"CEILING(((1+formule!$E$41)*(formule!$B$36+formule!$D$36*SQRT(A413)))/100,1)*100","v":6100},7259,null,6550,7794,null,6100,6405]
[41100,{"$f":"(formule!$B$36+formule!$D$36*SQRT(A414))","v":5341.0726444724205},{"$f":"CEILING((formule!$B$36+formule!$D$36*SQRT(A414))/100,1)*100","v":5400},6426,{"$f":"CEILING(((1+formule!$E$41)*(formule!$B$36+formule!$D$36*SQRT(A414)))/100,1)*100","v":6100},7259,null,6550,7794,null,6100,6405]
[41200,{"$f":"(formule!$B$36+formule!$D$36*SQRT(A415))","v":5347.5179545974206},{"$f":"CEILING((formule!$B$36+formule!$D$36*SQRT(A415))/100,1)*100","v":5400},6426,{"$f":"CEILING(((1+formule!$E$41)*(formule!$B$36+formule!$D$36*SQRT(A415)))/100,1)*100","v":6100},7259,null,6550,7794,null,6100,6405]
[41300,{"$f":"(formule!$B$36+formule!$D$36*SQRT(A416))","v":5353.9554474789511},{"$f":"CEILING((formule!$B$36+formule!$D$36*SQRT(A416))/100,1)*100","v":5400},6426,{"$f":"CEILING(((1+formule!$E$41)*(formule!$B$36+formule!$D$36*SQRT(A416)))/100,1)*100","v":6100},7259,null,6550,7794,null,6100,6405]
[41400,{"$f":"(formule!$B$36+formule!$D$36*SQRT(A417))","v":5360.3851514918151},{"$f":"CEILING((formule!$B$36+formule!$D$36*SQRT(A417))/100,1)*100","v":5400},6426,{"$f":"CEILING(((1+formule!$E$41)*(formule!$B$36+formule!$D$36*SQRT(A417)))/100,1)*100","v":6100},7259,null,6550,7794,null,6100,6405]
[41500,{"$f":"(formule!$B$36+formule!$D$36*SQRT(A418))","v":5366.8070948395698},{"$f":"CEILING((formule!$B$36+formule!$D$36*SQRT(A418))/100,1)*100","v":5400},6426,{"$f":"CEILING(((1+formule!$E$41)*(formule!$B$36+formule!$D$36*SQRT(A418)))/100,1)*100","v":6100},7259,null,6550,7794,null,6100,6405]
[41600,{"$f":"(formule!$B$36+formule!$D$36*SQRT(A419))","v":5373.2213055559769},{"$f":"CEILING((formule!$B$36+formule!$D$36*SQRT(A419))/100,1)*100","v":5400},6426,{"$f":"CEILING(((1+formule!$E$41)*(formule!$B$36+formule!$D$36*SQRT(A419)))/100,1)*100","v":6100},7259,null,6550,7794,null,6100,6405]
[41700,{"$f":"(formule!$B$36+formule!$D$36*SQRT(A420))","v":5379.6278115064224},{"$f":"CEILING((formule!$B$36+formule!$D$36*SQRT(A420))/100,1)*100","v":5400},6426,{"$f":"CEILING(((1+formule!$E$41)*(formule!$B$36+formule!$D$36*SQRT(A420)))/100,1)*100","v":6100},7259,null,6550,7794,null,6100,6405]
[41800,{"$f":"(formule!$B$36+formule!$D$36*SQRT(A421))","v":5386.0266403893384},{"$f":"CEILING((formule!$B$36+formule!$D$36*SQRT(A421))/100,1)*100","v":5400},6426,{"$f":"CEILING(((1+formule!$E$41)*(formule!$B$36+formule!$D$36*SQRT(A421)))/100,1)*100","v":6100},7259,null,6550,7794,null,6100,6405]
[41900,{"$f":"(formule!$B$36+formule!$D$36*SQRT(A422))","v":5392.4178197375913},{"$f":"CEILING((formule!$B$36+formule!$D$36*SQRT(A422))/100,1)*100","v":5400},6426,{"$f":"CEILING(((1+formule!$E$41)*(formule!$B$36+formule!$D$36*SQRT(A422)))/100,1)*100","v":6100},7259,null,6550,7794,null,6100,6405]
[42000,{"$f":"(formule!$B$36+formule!$D$36*SQRT(A423))","v":5398.8013769198687},{"$f":"CEILING((formule!$B$36+formule!$D$36*SQRT(A423))/100,1)*100","v":5400},6426,{"$f":"CEILING(((1+formule!$E$41)*(formule!$B$36+formule!$D$36*SQRT(A423)))/100,1)*100","v":6100},7259,null,6550,7794,null,6100,6405]
[42100,{"$f":"(formule!$B$36+formule!$D$36*SQRT(A424))","v":5405.1773391420465},{"$f":"CEILING((formule!$B$36+formule!$D$36*SQRT(A424))/100,1)*100","v":5500},6545,{"$f":"CEILING(((1+formule!$E$41)*(formule!$B$36+formule!$D$36*SQRT(A424)))/100,1)*100","v":6100},7259,null,6550,7794,null,6100,6405]
[42200,{"$f":"(formule!$B$36+formule!$D$36*SQRT(A425))","v":5411.5457334485418},{"$f":"CEILING((formule!$B$36+formule!$D$36*SQRT(A425))/100,1)*100","v":5500},6545,{"$f":"CEILING(((1+formule!$E$41)*(formule!$B$36+formule!$D$36*SQRT(A425)))/100,1)*100","v":6100},7259,null,{"$f":"E425+450","v":6550},{"$f":"F425+535","v":7794},null,6100,6405]
[42300,{"$f":"(formule!$B$36+formule!$D$36*SQRT(A426))","v":5417.9065867236477},{"$f":"CEILING((formule!$B$36+formule!$D$36*SQRT(A426))/100,1)*100","v":5500},6545,{"$f":"CEILING(((1+formule!$E$41)*(formule!$B$36+formule!$D$36*SQRT(A426)))/100,1)*100","v":6100},7259,null,6550,7794,null,6100,6405]
[42400,{"$f":"(formule!$B$36+formule!$D$36*SQRT(A427))","v":5424.2599256928634},{"$f":"CEILING((formule!$B$36+formule!$D$36*SQRT(A427))/100,1)*100","v":5500},6545,{"$f":"CEILING(((1+formule!$E$41)*(formule!$B$36+formule!$D$36*SQRT(A427)))/100,1)*100","v":6200},7378,null,6650,7913,null,6200,6510]
[42500,{"$f":"(formule!$B$36+formule!$D$36*SQRT(A428))","v":5430.6057769241979},{"$f":"CEILING((formule!$B$36+formule!$D$36*SQRT(A428))/100,1)*100","v":5500},6545,{"$f":"CEILING(((1+formule!$E$41)*(formule!$B$36+formule!$D$36*SQRT(A428)))/100,1)*100","v":6200},7378,null,6650,7913,null,6200,6510]
[42600,{"$f":"(formule!$B$36+formule!$D$36*SQRT(A429))","v":5436.9441668294721},{"$f":"CEILING((formule!$B$36+formule!$D$36*SQRT(A429))/100,1)*100","v":5500},6545,{"$f":"CEILING(((1+formule!$E$41)*(formule!$B$36+formule!$D$36*SQRT(A429)))/100,1)*100","v":6200},7378,null,6650,7913,null,6200,6510]
[42700,{"$f":"(formule!$B$36+formule!$D$36*SQRT(A430))","v":5443.2751216655961},{"$f":"CEILING((formule!$B$36+formule!$D$36*SQRT(A430))/100,1)*100","v":5500},6545,{"$f":"CEILING(((1+formule!$E$41)*(formule!$B$36+formule!$D$36*SQRT(A430)))/100,1)*100","v":6200},7378,null,6650,7913,null,6200,6510]
[42800,{"$f":"(formule!$B$36+formule!$D$36*SQRT(A431))","v":5449.5986675358417},{"$f":"CEILING((formule!$B$36+formule!$D$36*SQRT(A431))/100,1)*100","v":5500},6545,{"$f":"CEILING(((1+formule!$E$41)*(formule!$B$36+formule!$D$36*SQRT(A431)))/100,1)*100","v":6200},7378,null,6650,7913,null,6200,6510]
[42900,{"$f":"(formule!$B$36+formule!$D$36*SQRT(A432))","v":5455.914830391097},{"$f":"CEILING((formule!$B$36+formule!$D$36*SQRT(A432))/100,1)*100","v":5500},6545,{"$f":"CEILING(((1+formule!$E$41)*(formule!$B$36+formule!$D$36*SQRT(A432)))/100,1)*100","v":6200},7378,null,6650,7913,null,6200,6510]
[43000,{"$f":"(formule!$B$36+formule!$D$36*SQRT(A433))","v":5462.2236360311099},{"$f":"CEILING((formule!$B$36+formule!$D$36*SQRT(A433))/100,1)*100","v":5500},6545,{"$f":"CEILING(((1+formule!$E$41)*(formule!$B$36+formule!$D$36*SQRT(A433)))/100,1)*100","v":6200},7378,null,6650,7913,null,6200,6510]
[43100,{"$f":"(formule!$B$36+formule!$D$36*SQRT(A434))","v":5468.5251101057147},{"$f":"CEILING((formule!$B$36+formule!$D$36*SQRT(A434))/100,1)*100","v":5500},6545,{"$f":"CEILING(((1+formule!$E$41)*(formule!$B$36+formule!$D$36*SQRT(A434)))/100,1)*100","v":6200},7378,null,6650,7913,null,6200,6510]
[43200,{"$f":"(formule!$B$36+formule!$D$36*SQRT(A435))","v":5474.8192781160506},{"$f":"CEILING((formule!$B$36+formule!$D$36*SQRT(A435))/100,1)*100","v":5500},6545,{"$f":"CEILING(((1+formule!$E$41)*(formule!$B$36+formule!$D$36*SQRT(A435)))/100,1)*100","v":6200},7378,null,6650,7913,null,6200,6510]
[43300,{"$f":"(formule!$B$36+formule!$D$36*SQRT(A436))","v":5481.1061654157675},{"$f":"CEILING((formule!$B$36+formule!$D$36*SQRT(A436))/100,1)*100","v":5500},6545,{"$f":"CEILING(((1+formule!$E$41)*(formule!$B$36+formule!$D$36*SQRT(A436)))/100,1)*100","v":6200},7378,null,6650,7913,null,6200,6510]
[43400,{"$f":"(formule!$B$36+formule!$D$36*SQRT(A437))","v":5487.3857972122141},{"$f":"CEILING((formule!$B$36+formule!$D$36*SQRT(A437))/100,1)*100","v":5500},6545,{"$f":"CEILING(((1+formule!$E$41)*(formule!$B$36+formule!$D$36*SQRT(A437)))/100,1)*100","v":6200},7378,null,6650,7913,null,6200,6510]
[43500,{"$f":"(formule!$B$36+formule!$D$36*SQRT(A438))","v":5493.6581985676194},{"$f":"CEILING((formule!$B$36+formule!$D$36*SQRT(A438))/100,1)*100","v":5500},6545,{"$f":"CEILING(((1+formule!$E$41)*(formule!$B$36+formule!$D$36*SQRT(A438)))/100,1)*100","v":6200},7378,null,6650,7913,null,6200,6510]
[43600,{"$f":"(formule!$B$36+formule!$D$36*SQRT(A439))","v":5499.9233944002599},{"$f":"CEILING((formule!$B$36+formule!$D$36*SQRT(A439))/100,1)*100","v":5500},6545,{"$f":"CEILING(((1+formule!$E$41)*(formule!$B$36+formule!$D$36*SQRT(A439)))/100,1)*100","v":6200},7378,null,6650,7913,null,6200,6510]
[43700,{"$f":"(formule!$B$36+formule!$D$36*SQRT(A440))","v":5506.1814094856127},{"$f":"CEILING((formule!$B$36+formule!$D$36*SQRT(A440))/100,1)*100","v":5600},6664,{"$f":"CEILING(((1+formule!$E$41)*(formule!$B$36+formule!$D$36*SQRT(A440)))/100,1)*100","v":6200},7378,null,6650,7913,null,6200,6510]
[43800,{"$f":"(formule!$B$36+formule!$D$36*SQRT(A441))","v":5512.432268457499},{"$f":"CEILING((formule!$B$36+formule!$D$36*SQRT(A441))/100,1)*100","v":5600},6664,{"$f":"CEILING(((1+formule!$E$41)*(formule!$B$36+formule!$D$36*SQRT(A441)))/100,1)*100","v":6300},7497,null,6750,8032,null,6300,6615]
[43900,{"$f":"(formule!$B$36+formule!$D$36*SQRT(A442))","v":5518.6759958092171},{"$f":"CEILING((formule!$B$36+formule!$D$36*SQRT(A442))/100,1)*100","v":5600},6664,{"$f":"CEILING(((1+formule!$E$41)*(formule!$B$36+formule!$D$36*SQRT(A442)))/100,1)*100","v":6300},7497,null,6750,8032,null,6300,6615]
[44000,{"$f":"(formule!$B$36+formule!$D$36*SQRT(A443))","v":5524.9126158946601},{"$f":"CEILING((formule!$B$36+formule!$D$36*SQRT(A443))/100,1)*100","v":5600},6664,{"$f":"CEILING(((1+formule!$E$41)*(formule!$B$36+formule!$D$36*SQRT(A443)))/100,1)*100","v":6300},7497,null,6750,8032,null,6300,6615]
[44100,{"$f":"(formule!$B$36+formule!$D$36*SQRT(A444))","v":5531.1421529294248},{"$f":"CEILING((formule!$B$36+formule!$D$36*SQRT(A444))/100,1)*100","v":5600},6664,{"$f":"CEILING(((1+formule!$E$41)*(formule!$B$36+formule!$D$36*SQRT(A444)))/100,1)*100","v":6300},7497,null,6750,8032,null,6300,6615]
[44200,{"$f":"(formule!$B$36+formule!$D$36*SQRT(A445))","v":5537.3646309919086},{"$f":"CEILING((formule!$B$36+formule!$D$36*SQRT(A445))/100,1)*100","v":5600},6664,{"$f":"CEILING(((1+formule!$E$41)*(formule!$B$36+formule!$D$36*SQRT(A445)))/100,1)*100","v":6300},7497,null,6750,8032,null,6300,6615]
[44300,{"$f":"(formule!$B$36+formule!$D$36*SQRT(A446))","v":5543.5800740243976},{"$f":"CEILING((formule!$B$36+formule!$D$36*SQRT(A446))/100,1)*100","v":5600},6664,{"$f":"CEILING(((1+formule!$E$41)*(formule!$B$36+formule!$D$36*SQRT(A446)))/100,1)*100","v":6300},7497,null,6750,8032,null,6300,6615]
[44400,{"$f":"(formule!$B$36+formule!$D$36*SQRT(A447))","v":5549.7885058341362},{"$f":"CEILING((formule!$B$36+formule!$D$36*SQRT(A447))/100,1)*100","v":5600},6664,{"$f":"CEILING(((1+formule!$E$41)*(formule!$B$36+formule!$D$36*SQRT(A447)))/100,1)*100","v":6300},7497,null,6750,8032,null,6300,6615]
[44500,{"$f":"(formule!$B$36+formule!$D$36*SQRT(A448))","v":5555.9899500943975},{"$f":"CEILING((formule!$B$36+formule!$D$36*SQRT(A448))/100,1)*100","v":5600},6664,{"$f":"CEILING(((1+formule!$E$41)*(formule!$B$36+formule!$D$36*SQRT(A448)))/100,1)*100","v":6300},7497,null,6750,8032,null,6300,6615]
[44600,{"$f":"(formule!$B$36+formule!$D$36*SQRT(A449))","v":5562.18443034553},{"$f":"CEILING((formule!$B$36+formule!$D$36*SQRT(A449))/100,1)*100","v":5600},6664,{"$f":"CEILING(((1+formule!$E$41)*(formule!$B$36+formule!$D$36*SQRT(A449)))/100,1)*100","v":6300},7497,null,6750,8032,null,6300,6615]
[44700,{"$f":"(formule!$B$36+formule!$D$36*SQRT(A450))","v":5568.3719699960047},{"$f":"CEILING((formule!$B$36+formule!$D$36*SQRT(A450))/100,1)*100","v":5600},6664,{"$f":"CEILING(((1+formule!$E$41)*(formule!$B$36+formule!$D$36*SQRT(A450)))/100,1)*100","v":6300},7497,null,6750,8032,null,6300,6615]
[44800,{"$f":"(formule!$B$36+formule!$D$36*SQRT(A451))","v":5574.5525923234454},{"$f":"CEILING((formule!$B$36+formule!$D$36*SQRT(A451))/100,1)*100","v":5600},6664,{"$f":"CEILING(((1+formule!$E$41)*(formule!$B$36+formule!$D$36*SQRT(A451)))/100,1)*100","v":6300},7497,null,6750,8032,null,6300,6615]
[44900,{"$f":"(formule!$B$36+formule!$D$36*SQRT(A452))","v":5580.7263204756518},{"$f":"CEILING((formule!$B$36+formule!$D$36*SQRT(A452))/100,1)*100","v":5600},6664,{"$f":"CEILING(((1+formule!$E$41)*(formule!$B$36+formule!$D$36*SQRT(A452)))/100,1)*100","v":6300},7497,null,6750,8032,null,6300,6615]
[45000,{"$f":"(formule!$B$36+formule!$D$36*SQRT(A453))","v":5586.8931774716084},{"$f":"CEILING((formule!$B$36+formule!$D$36*SQRT(A453))/100,1)*100","v":5600},6664,{"$f":"CEILING(((1+formule!$E$41)*(formule!$B$36+formule!$D$36*SQRT(A453)))/100,1)*100","v":6300},7497,null,6750,8032,null,{"$f":"E453","v":6300},{"$f":"K453*1.05","v":6615}]
[45100,null,null,null,{"$f":"CEILING(($E$453+formule!$E$42*(A454-$A$453))/100,1)*100","v":6400},7616,null,6850,8151,null,6400,6720]
[45200,null,null,null,{"$f":"CEILING(($E$453+formule!$E$42*(A455-$A$453))/100,1)*100","v":6400},{"$f":"E455*1.19","v":7616},null,6850,8151,null,6400,6720]
[45300,null,null,null,{"$f":"CEILING(($E$453+formule!$E$42*(A456-$A$453))/100,1)*100","v":6400},7616,null,6850,8151,null,6400,6720]
[45400,null,null,null,{"$f":"CEILING(($E$453+formule!$E$42*(A457-$A$453))/100,1)*100","v":6400},7616,null,6850,8151,null,6400,6720]
[45500,null,null,null,{"$f":"CEILING(($E$453+formule!$E$42*(A458-$A$453))/100,1)*100","v":6400},7616,null,6850,8151,null,6400,6720]
[45600,null,null,null,{"$f":"CEILING(($E$453+formule!$E$42*(A459-$A$453))/100,1)*100","v":6500},7735,null,6950,8270,null,6500,6825]
[45700,null,null,null,{"$f":"CEILING(($E$453+formule!$E$42*(A460-$A$453))/100,1)*100","v":6500},7735,null,6950,8270,null,6500,6825]
[45800,null,null,null,{"$f":"CEILING(($E$453+formule!$E$42*(A461-$A$453))/100,1)*100","v":6500},7735,null,6950,8270,null,6500,6825]
[45900,null,null,null,{"$f":"CEILING(($E$453+formule!$E$42*(A462-$A$453))/100,1)*100","v":6500},7735,null,6950,8270,null,6500,6825]
[46000,null,null,null,{"$f":"CEILING(($E$453+formule!$E$42*(A463-$A$453))/100,1)*100","v":6500},7735,null,6950,8270,null,6500,6825]
[{"$f":"A463+100","v":46100},null,null,null,{"$f":"CEILING(($E$453+formule!$E$42*(A464-$A$453))/100,1)*100","v":6500},7735,null,6950,8270,null,6500,6825]
[46200,null,null,null,{"$f":"CEILING(($E$453+formule!$E$42*(A465-$A$453))/100,1)*100","v":6600},7854,null,7050,8389,null,6600,6930]
[46300,null,null,null,{"$f":"CEILING(($E$453+formule!$E$42*(A466-$A$453))/100,1)*100","v":6600},7854,null,7050,8389,null,6600,6930]
[46400,null,null,null,{"$f":"CEILING(($E$453+formule!$E$42*(A467-$A$453))/100,1)*100","v":6600},7854,null,7050,8389,null,6600,6930]
[46500,null,null,null,{"$f":"CEILING(($E$453+formule!$E$42*(A468-$A$453))/100,1)*100","v":6600},7854,null,7050,8389,null,6600,6930]
[46600,null,null,null,{"$f":"CEILING(($E$453+formule!$E$42*(A469-$A$453))/100,1)*100","v":6600},7854,null,7050,8389,null,6600,6930]
[46700,null,null,null,{"$f":"CEILING(($E$453+formule!$E$42*(A470-$A$453))/100,1)*100","v":6600},7854,null,7050,8389,null,6600,6930]
[46800,null,null,null,{"$f":"CEILING(($E$453+formule!$E$42*(A471-$A$453))/100,1)*100","v":6700},7973,null,7150,8508,null,6700,7035]
[46900,null,null,null,{"$f":"CEILING(($E$453+formule!$E$42*(A472-$A$453))/100,1)*100","v":6700},7973,null,7150,8508,null,6700,7035]
[47000,null,null,null,{"$f":"CEILING(($E$453+formule!$E$42*(A473-$A$453))/100,1)*100","v":6700},7973,null,7150,8508,null,6700,7035]
[47100,null,null,null,{"$f":"CEILING(($E$453+formule!$E$42*(A474-$A$453))/100,1)*100","v":6700},7973,null,7150,8508,null,6700,7035]
[47200,null,null,null,{"$f":"CEILING(($E$453+formule!$E$42*(A475-$A$453))/100,1)*100","v":6700},7973,null,7150,8508,null,6700,7035]
[47300,null,null,null,{"$f":"CEILING(($E$453+formule!$E$42*(A476-$A$453))/100,1)*100","v":6700},7973,null,7150,8508,null,6700,7035]
[47400,null,null,null,{"$f":"CEILING(($E$453+formule!$E$42*(A477-$A$453))/100,1)*100","v":6800},8092,null,7250,8627,null,6800,7140]
[47500,null,null,null,{"$f":"CEILING(($E$453+formule!$E$42*(A478-$A$453))/100,1)*100","v":6800},8092,null,7250,8627,null,6800,7140]
[47600,null,null,null,{"$f":"CEILING(($E$453+formule!$E$42*(A479-$A$453))/100,1)*100","v":6800},8092,null,7250,8627,null,6800,7140]
[47700,null,null,null,{"$f":"CEILING(($E$453+formule!$E$42*(A480-$A$453))/100,1)*100","v":6800},8092,null,7250,8627,null,6800,7140]
[47800,null,null,null,{"$f":"CEILING(($E$453+formule!$E$42*(A481-$A$453))/100,1)*100","v":6800},8092,null,7250,8627,null,6800,7140]
[47900,null,null,null,{"$f":"CEILING(($E$453+formule!$E$42*(A482-$A$453))/100,1)*100","v":6900},8211,null,7350,8746,null,6900,7245]
[48000,null,null,null,{"$f":"CEILING(($E$453+formule!$E$42*(A483-$A$453))/100,1)*100","v":6900},8211,null,7350,8746,null,6900,7245]
[48100,null,null,null,{"$f":"CEILING(($E$453+formule!$E$42*(A484-$A$453))/100,1)*100","v":6900},8211,null,7350,8746,null,6900,7245]
[48200,null,null,null,{"$f":"CEILING(($E$453+formule!$E$42*(A485-$A$453))/100,1)*100","v":6900},8211,null,7350,8746,null,6900,7245]
[48300,null,null,null,{"$f":"CEILING(($E$453+formule!$E$42*(A486-$A$453))/100,1)*100","v":6900},8211,null,7350,8746,null,6900,7245]
[48400,null,null,null,{"$f":"CEILING(($E$453+formule!$E$42*(A487-$A$453))/100,1)*100","v":6900},8211,null,7350,8746,null,6900,7245]
[48500,null,null,null,{"$f":"CEILING(($E$453+formule!$E$42*(A488-$A$453))/100,1)*100","v":7000},8330,null,7450,8865,null,7000,7350]
[48600,null,null,null,{"$f":"CEILING(($E$453+formule!$E$42*(A489-$A$453))/100,1)*100","v":7000},8330,null,{"$f":"E489+450","v":7450},{"$f":"F489+535","v":8865},null,7000,7350]
[48700,null,null,null,{"$f":"CEILING(($E$453+formule!$E$42*(A490-$A$453))/100,1)*100","v":7000},8330,null,7450,8865,null,7000,7350]
[48800,null,null,null,{"$f":"CEILING(($E$453+formule!$E$42*(A491-$A$453))/100,1)*100","v":7000},8330,null,7450,8865,null,7000,7350]
[48900,null,null,null,{"$f":"CEILING(($E$453+formule!$E$42*(A492-$A$453))/100,1)*100","v":7000},8330,null,7450,8865,null,7000,7350]
[49000,null,null,null,{"$f":"CEILING(($E$453+formule!$E$42*(A493-$A$453))/100,1)*100","v":7000},8330,null,7450,8865,null,7000,7350]
[49100,null,null,null,{"$f":"CEILING(($E$453+formule!$E$42*(A494-$A$453))/100,1)*100","v":7100},8449,null,7550,8984,null,7100,7455]
[49200,null,null,null,{"$f":"CEILING(($E$453+formule!$E$42*(A495-$A$453))/100,1)*100","v":7100},8449,null,7550,8984,null,7100,7455]
[49300,null,null,null,{"$f":"CEILING(($E$453+formule!$E$42*(A496-$A$453))/100,1)*100","v":7100},8449,null,7550,8984,null,7100,7455]
[49400,null,null,null,{"$f":"CEILING(($E$453+formule!$E$42*(A497-$A$453))/100,1)*100","v":7100},8449,null,7550,8984,null,7100,7455]
[49500,null,null,null,{"$f":"CEILING(($E$453+formule!$E$42*(A498-$A$453))/100,1)*100","v":7100},8449,null,7550,8984,null,7100,7455]
[49600,null,null,null,{"$f":"CEILING(($E$453+formule!$E$42*(A499-$A$453))/100,1)*100","v":7100},8449,null,7550,8984,null,7100,7455]
[49700,null,null,null,{"$f":"CEILING(($E$453+formule!$E$42*(A500-$A$453))/100,1)*100","v":7200},8568,null,7650,9103,null,7200,7560]
[49800,null,null,null,{"$f":"CEILING(($E$453+formule!$E$42*(A501-$A$453))/100,1)*100","v":7200},8568,null,7650,9103,null,7200,7560]
[49900,null,null,null,{"$f":"CEILING(($E$453+formule!$E$42*(A502-$A$453))/100,1)*100","v":7200},8568,null,7650,9103,null,7200,7560]
[50000,null,null,null,{"$f":"CEILING(($E$453+formule!$E$42*(A503-$A$453))/100,1)*100","v":7200},8568,null,7650,9103,null,7200,7560]
[50100,null,null,null,{"$f":"CEILING(($E$453+formule!$E$42*(A504-$A$453))/100,1)*100","v":7200},8568,null,7650,9103,null,7200,7560]
[50200,null,null,null,{"$f":"CEILING(($E$453+formule!$E$42*(A505-$A$453))/100,1)*100","v":7200},8568,null,7650,9103,null,7200,7560]
[50300,null,null,null,{"$f":"CEILING(($E$453+formule!$E$42*(A506-$A$453))/100,1)*100","v":7300},8687,null,7750,9222,null,7300,7665]
[50400,null,null,null,{"$f":"CEILING(($E$453+formule!$E$42*(A507-$A$453))/100,1)*100","v":7300},8687,null,7750,9222,null,7300,7665]
[50500,null,null,null,{"$f":"CEILING(($E$453+formule!$E$42*(A508-$A$453))/100,1)*100","v":7300},8687,null,7750,9222,null,7300,7665]
[50600,null,null,null,{"$f":"CEILING(($E$453+formule!$E$42*(A509-$A$453))/100,1)*100","v":7300},8687,null,7750,9222,null,7300,7665]
[50700,null,null,null,{"$f":"CEILING(($E$453+formule!$E$42*(A510-$A$453))/100,1)*100","v":7300},8687,null,7750,9222,null,7300,7665]
[50800,null,null,null,{"$f":"CEILING(($E$453+formule!$E$42*(A511-$A$453))/100,1)*100","v":7400},8806,null,7850,9341,null,7400,7770]
[50900,null,null,null,{"$f":"CEILING(($E$453+formule!$E$42*(A512-$A$453))/100,1)*100","v":7400},8806,null,7850,9341,null,7400,7770]
[51000,null,null,null,{"$f":"CEILING(($E$453+formule!$E$42*(A513-$A$453))/100,1)*100","v":7400},8806,null,7850,9341,null,7400,7770]
[51100,null,null,null,{"$f":"CEILING(($E$453+formule!$E$42*(A514-$A$453))/100,1)*100","v":7400},8806,null,7850,9341,null,7400,7770]
[51200,null,null,null,{"$f":"CEILING(($E$453+formule!$E$42*(A515-$A$453))/100,1)*100","v":7400},8806,null,7850,9341,null,7400,7770]
[51300,null,null,null,{"$f":"CEILING(($E$453+formule!$E$42*(A516-$A$453))/100,1)*100","v":7400},8806,null,7850,9341,null,7400,7770]
[51400,null,null,null,{"$f":"CEILING(($E$453+formule!$E$42*(A517-$A$453))/100,1)*100","v":7500},8925,null,7950,9460,null,{"$f":"E517","v":7500},{"$f":"K517*1.05","v":7875}]
[51500,null,null,null,{"$f":"CEILING(($E$453+formule!$E$42*(A518-$A$453))/100,1)*100","v":7500},8925,null,7950,9460,null,7500,7875]
[51600,null,null,null,{"$f":"CEILING(($E$453+formule!$E$42*(A519-$A$453))/100,1)*100","v":7500},{"$f":"E519*1.19","v":8925},null,7950,9460,null,7500,7875]
[51700,null,null,null,{"$f":"CEILING(($E$453+formule!$E$42*(A520-$A$453))/100,1)*100","v":7500},8925,null,7950,9460,null,7500,7875]
[51800,null,null,null,{"$f":"CEILING(($E$453+formule!$E$42*(A521-$A$453))/100,1)*100","v":7500},8925,null,7950,9460,null,7500,7875]
[51900,null,null,null,{"$f":"CEILING(($E$453+formule!$E$42*(A522-$A$453))/100,1)*100","v":7500},8925,null,7950,9460,null,7500,7875]
[52000,null,null,null,{"$f":"CEILING(($E$453+formule!$E$42*(A523-$A$453))/100,1)*100","v":7600},9044,null,8050,9579,null,7600,7980]
[52100,null,null,null,{"$f":"CEILING(($E$453+formule!$E$42*(A524-$A$453))/100,1)*100","v":7600},9044,null,8050,9579,null,7600,7980]
[52200,null,null,null,{"$f":"CEILING(($E$453+formule!$E$42*(A525-$A$453))/100,1)*100","v":7600},9044,null,8050,9579,null,7600,7980]
[52300,null,null,null,{"$f":"CEILING(($E$453+formule!$E$42*(A526-$A$453))/100,1)*100","v":7600},9044,null,8050,9579,null,7600,7980]
[52400,null,null,null,{"$f":"CEILING(($E$453+formule!$E$42*(A527-$A$453))/100,1)*100","v":7600},9044,null,8050,9579,null,7600,7980]
[{"$f":"A527+100","v":52500},null,null,null,{"$f":"CEILING(($E$453+formule!$E$42*(A528-$A$453))/100,1)*100","v":7600},9044,null,8050,9579,null,7600,7980]
[52600,null,null,null,{"$f":"CEILING(($E$453+formule!$E$42*(A529-$A$453))/100,1)*100","v":7700},9163,null,8150,9698,null,7700,8085]
[52700,null,null,null,{"$f":"CEILING(($E$453+formule!$E$42*(A530-$A$453))/100,1)*100","v":7700},9163,null,8150,9698,null,7700,8085]
[52800,null,null,null,{"$f":"CEILING(($E$453+formule!$E$42*(A531-$A$453))/100,1)*100","v":7700},9163,null,8150,9698,null,7700,8085]
[52900,null,null,null,{"$f":"CEILING(($E$453+formule!$E$42*(A532-$A$453))/100,1)*100","v":7700},9163,null,8150,9698,null,7700,8085]
[53000,null,null,null,{"$f":"CEILING(($E$453+formule!$E$42*(A533-$A$453))/100,1)*100","v":7700},9163,null,8150,9698,null,7700,8085]
[53100,null,null,null,{"$f":"CEILING(($E$453+formule!$E$42*(A534-$A$453))/100,1)*100","v":7700},9163,null,8150,9698,null,7700,8085]
[53200,null,null,null,{"$f":"CEILING(($E$453+formule!$E$42*(A535-$A$453))/100,1)*100","v":7800},9282,null,8250,9817,null,7800,8190]
[53300,null,null,null,{"$f":"CEILING(($E$453+formule!$E$42*(A536-$A$453))/100,1)*100","v":7800},9282,null,8250,9817,null,7800,8190]
[53400,null,null,null,{"$f":"CEILING(($E$453+formule!$E$42*(A537-$A$453))/100,1)*100","v":7800},9282,null,8250,9817,null,7800,8190]
[53500,null,null,null,{"$f":"CEILING(($E$453+formule!$E$42*(A538-$A$453))/100,1)*100","v":7800},9282,null,8250,9817,null,7800,8190]
[53600,null,null,null,{"$f":"CEILING(($E$453+formule!$E$42*(A539-$A$453))/100,1)*100","v":7800},9282,null,8250,9817,null,7800,8190]
[53700,null,null,null,{"$f":"CEILING(($E$453+formule!$E$42*(A540-$A$453))/100,1)*100","v":7900},9401,null,8350,9936,null,7900,8295]
[53800,null,null,null,{"$f":"CEILING(($E$453+formule!$E$42*(A541-$A$453))/100,1)*100","v":7900},9401,null,8350,9936,null,7900,8295]
[53900,null,null,null,{"$f":"CEILING(($E$453+formule!$E$42*(A542-$A$453))/100,1)*100","v":7900},9401,null,8350,9936,null,7900,8295]
[54000,null,null,null,{"$f":"CEILING(($E$453+formule!$E$42*(A543-$A$453))/100,1)*100","v":7900},9401,null,8350,9936,null,7900,8295]
[54100,null,null,null,{"$f":"CEILING(($E$453+formule!$E$42*(A544-$A$453))/100,1)*100","v":7900},9401,null,8350,9936,null,7900,8295]
[54200,null,null,null,{"$f":"CEILING(($E$453+formule!$E$42*(A545-$A$453))/100,1)*100","v":7900},9401,null,8350,9936,null,7900,8295]
[54300,null,null,null,{"$f":"CEILING(($E$453+formule!$E$42*(A546-$A$453))/100,1)*100","v":8000},9520,null,8450,10055,null,8000,8400]
[54400,null,null,null,{"$f":"CEILING(($E$453+formule!$E$42*(A547-$A$453))/100,1)*100","v":8000},9520,null,8450,10055,null,8000,8400]
[54500,null,null,null,{"$f":"CEILING(($E$453+formule!$E$42*(A548-$A$453))/100,1)*100","v":8000},9520,null,8450,10055,null,8000,8400]
[54600,null,null,null,{"$f":"CEILING(($E$453+formule!$E$42*(A549-$A$453))/100,1)*100","v":8000},9520,null,8450,10055,null,8000,8400]
[54700,null,null,null,{"$f":"CEILING(($E$453+formule!$E$42*(A550-$A$453))/100,1)*100","v":8000},9520,null,8450,10055,null,8000,8400]
[54800,null,null,null,{"$f":"CEILING(($E$453+formule!$E$42*(A551-$A$453))/100,1)*100","v":8000},9520,null,8450,10055,null,8000,8400]
[54900,null,null,null,{"$f":"CEILING(($E$453+formule!$E$42*(A552-$A$453))/100,1)*100","v":8100},9639,null,8550,10174,null,8100,8505]
[55000,null,null,null,{"$f":"CEILING(($E$453+formule!$E$42*(A553-$A$453))/100,1)*100","v":8100},9639,null,{"$f":"E553+450","v":8550},{"$f":"F553+535","v":10174},null,8100,8505]
[55100,null,null,null,{"$f":"CEILING(($E$453+formule!$E$42*(A554-$A$453))/100,1)*100","v":8100},9639,null,8550,10174,null,8100,8505]
[55200,null,null,null,{"$f":"CEILING(($E$453+formule!$E$42*(A555-$A$453))/100,1)*100","v":8100},9639,null,8550,10174,null,8100,8505]
[55300,null,null,null,{"$f":"CEILING(($E$453+formule!$E$42*(A556-$A$453))/100,1)*100","v":8100},9639,null,8550,10174,null,8100,8505]
[55400,null,null,null,{"$f":"CEILING(($E$453+formule!$E$42*(A557-$A$453))/100,1)*100","v":8100},9639,null,8550,10174,null,8100,8505]
[55500,null,null,null,{"$f":"CEILING(($E$453+formule!$E$42*(A558-$A$453))/100,1)*100","v":8200},9758,null,8650,10293,null,8200,8610]
[55600,null,null,null,{"$f":"CEILING(($E$453+formule!$E$42*(A559-$A$453))/100,1)*100","v":8200},9758,null,8650,10293,null,8200,8610]
[55700,null,null,null,{"$f":"CEILING(($E$453+formule!$E$42*(A560-$A$453))/100,1)*100","v":8200},9758,null,8650,10293,null,8200,8610]
[55800,null,null,null,{"$f":"CEILING(($E$453+formule!$E$42*(A561-$A$453))/100,1)*100","v":8200},9758,null,8650,10293,null,8200,8610]
[55900,null,null,null,{"$f":"CEILING(($E$453+formule!$E$42*(A562-$A$453))/100,1)*100","v":8200},9758,null,8650,10293,null,8200,8610]
[56000,null,null,null,{"$f":"CEILING(($E$453+formule!$E$42*(A563-$A$453))/100,1)*100","v":8200},9758,null,8650,10293,null,8200,8610]
[56100,null,null,null,{"$f":"CEILING(($E$453+formule!$E$42*(A564-$A$453))/100,1)*100","v":8300},9877,null,8750,10412,null,8300,8715]
[56200,null,null,null,{"$f":"CEILING(($E$453+formule!$E$42*(A565-$A$453))/100,1)*100","v":8300},9877,null,8750,10412,null,8300,8715]
[56300,null,null,null,{"$f":"CEILING(($E$453+formule!$E$42*(A566-$A$453))/100,1)*100","v":8300},9877,null,8750,10412,null,8300,8715]
[56400,null,null,null,{"$f":"CEILING(($E$453+formule!$E$42*(A567-$A$453))/100,1)*100","v":8300},9877,null,8750,10412,null,8300,8715]
[56500,null,null,null,{"$f":"CEILING(($E$453+formule!$E$42*(A568-$A$453))/100,1)*100","v":8300},9877,null,8750,10412,null,8300,8715]
[56600,null,null,null,{"$f":"CEILING(($E$453+formule!$E$42*(A569-$A$453))/100,1)*100","v":8400},9996,null,8850,10531,null,8400,8820]
[56700,null,null,null,{"$f":"CEILING(($E$453+formule!$E$42*(A570-$A$453))/100,1)*100","v":8400},9996,null,8850,10531,null,8400,8820]
[56800,null,null,null,{"$f":"CEILING(($E$453+formule!$E$42*(A571-$A$453))/100,1)*100","v":8400},9996,null,8850,10531,null,8400,8820]
[56900,null,null,null,{"$f":"CEILING(($E$453+formule!$E$42*(A572-$A$453))/100,1)*100","v":8400},9996,null,8850,10531,null,8400,8820]
[57000,null,null,null,{"$f":"CEILING(($E$453+formule!$E$42*(A573-$A$453))/100,1)*100","v":8400},9996,null,8850,10531,null,8400,8820]
[57100,null,null,null,{"$f":"CEILING(($E$453+formule!$E$42*(A574-$A$453))/100,1)*100","v":8400},9996,null,8850,10531,null,8400,8820]
[57200,null,null,null,{"$f":"CEILING(($E$453+formule!$E$42*(A575-$A$453))/100,1)*100","v":8500},10115,null,8950,10650,null,8500,8925]
[57300,null,null,null,{"$f":"CEILING(($E$453+formule!$E$42*(A576-$A$453))/100,1)*100","v":8500},10115,null,8950,10650,null,8500,8925]
[57400,null,null,null,{"$f":"CEILING(($E$453+formule!$E$42*(A577-$A$453))/100,1)*100","v":8500},10115,null,8950,10650,null,8500,8925]
[57500,null,null,null,{"$f":"CEILING(($E$453+formule!$E$42*(A578-$A$453))/100,1)*100","v":8500},10115,null,8950,10650,null,8500,8925]
[57600,null,null,null,{"$f":"CEILING(($E$453+formule!$E$42*(A579-$A$453))/100,1)*100","v":8500},10115,null,8950,10650,null,8500,8925]
[57700,null,null,null,{"$f":"CEILING(($E$453+formule!$E$42*(A580-$A$453))/100,1)*100","v":8500},10115,null,8950,10650,null,8500,8925]
[57800,null,null,null,{"$f":"CEILING(($E$453+formule!$E$42*(A581-$A$453))/100,1)*100","v":8600},10234,null,9050,10769,null,{"$f":"E581","v":8600},{"$f":"K581*1.05","v":9030}]
[57900,null,null,null,{"$f":"CEILING(($E$453+formule!$E$42*(A582-$A$453))/100,1)*100","v":8600},10234,null,9050,10769,null,8600,9030]
[58000,null,null,null,{"$f":"CEILING(($E$453+formule!$E$42*(A583-$A$453))/100,1)*100","v":8600},{"$f":"E583*1.19","v":10234},null,9050,10769,null,8600,9030]
[58100,null,null,null,{"$f":"CEILING(($E$453+formule!$E$42*(A584-$A$453))/100,1)*100","v":8600},10234,null,9050,10769,null,8600,9030]
[58200,null,null,null,{"$f":"CEILING(($E$453+formule!$E$42*(A585-$A$453))/100,1)*100","v":8600},10234,null,9050,10769,null,8600,9030]
[58300,null,null,null,{"$f":"CEILING(($E$453+formule!$E$42*(A586-$A$453))/100,1)*100","v":8600},10234,null,9050,10769,null,8600,9030]
[58400,null,null,null,{"$f":"CEILING(($E$453+formule!$E$42*(A587-$A$453))/100,1)*100","v":8700},10353,null,9150,10888,null,8700,9135]
[58500,null,null,null,{"$f":"CEILING(($E$453+formule!$E$42*(A588-$A$453))/100,1)*100","v":8700},10353,null,9150,10888,null,8700,9135]
[58600,null,null,null,{"$f":"CEILING(($E$453+formule!$E$42*(A589-$A$453))/100,1)*100","v":8700},10353,null,9150,10888,null,8700,9135]
[58700,null,null,null,{"$f":"CEILING(($E$453+formule!$E$42*(A590-$A$453))/100,1)*100","v":8700},10353,null,9150,10888,null,8700,9135]
[58800,null,null,null,{"$f":"CEILING(($E$453+formule!$E$42*(A591-$A$453))/100,1)*100","v":8700},10353,null,9150,10888,null,8700,9135]
[{"$f":"A591+100","v":58900},null,null,null,{"$f":"CEILING(($E$453+formule!$E$42*(A592-$A$453))/100,1)*100","v":8700},10353,null,9150,10888,null,8700,9135]
[59000,null,null,null,{"$f":"CEILING(($E$453+formule!$E$42*(A593-$A$453))/100,1)*100","v":8800},10472,null,9250,11007,null,8800,9240]
[59100,null,null,null,{"$f":"CEILING(($E$453+formule!$E$42*(A594-$A$453))/100,1)*100","v":8800},10472,null,9250,11007,null,8800,9240]
[59200,null,null,null,{"$f":"CEILING(($E$453+formule!$E$42*(A595-$A$453))/100,1)*100","v":8800},10472,null,9250,11007,null,8800,9240]
[59300,null,null,null,{"$f":"CEILING(($E$453+formule!$E$42*(A596-$A$453))/100,1)*100","v":8800},10472,null,9250,11007,null,8800,9240]
[59400,null,null,null,{"$f":"CEILING(($E$453+formule!$E$42*(A597-$A$453))/100,1)*100","v":8800},10472,null,9250,11007,null,8800,9240]
[59500,null,null,null,{"$f":"CEILING(($E$453+formule!$E$42*(A598-$A$453))/100,1)*100","v":8900},10591,null,9350,11126,null,8900,9345]
[59600,null,null,null,{"$f":"CEILING(($E$453+formule!$E$42*(A599-$A$453))/100,1)*100","v":8900},10591,null,9350,11126,null,8900,9345]
[59700,null,null,null,{"$f":"CEILING(($E$453+formule!$E$42*(A600-$A$453))/100,1)*100","v":8900},10591,null,9350,11126,null,8900,9345]
[59800,null,null,null,{"$f":"CEILING(($E$453+formule!$E$42*(A601-$A$453))/100,1)*100","v":8900},10591,null,9350,11126,null,8900,9345]
[59900,null,null,null,{"$f":"CEILING(($E$453+formule!$E$42*(A602-$A$453))/100,1)*100","v":8900},10591,null,9350,11126,null,8900,9345]
[60000,null,null,null,{"$f":"CEILING(($E$453+formule!$E$42*(A603-$A$453))/100,1)*100","v":8900},10591,null,9350,11126,null,8900,9345]
[60100,null,null,null,{"$f":"CEILING(($E$453+formule!$E$42*(A604-$A$453))/100,1)*100","v":9000},10710,null,9450,11245,null,9000,9450]
[60200,null,null,null,{"$f":"CEILING(($E$453+formule!$E$42*(A605-$A$453))/100,1)*100","v":9000},10710,null,9450,11245,null,9000,9450]
[60300,null,null,null,{"$f":"CEILING(($E$453+formule!$E$42*(A606-$A$453))/100,1)*100","v":9000},10710,null,9450,11245,null,9000,9450]
[60400,null,null,null,{"$f":"CEILING(($E$453+formule!$E$42*(A607-$A$453))/100,1)*100","v":9000},10710,null,9450,11245,null,9000,9450]
[60500,null,null,null,{"$f":"CEILING(($E$453+formule!$E$42*(A608-$A$453))/100,1)*100","v":9000},10710,null,9450,11245,null,9000,9450]
[60600,null,null,null,{"$f":"CEILING(($E$453+formule!$E$42*(A609-$A$453))/100,1)*100","v":9000},10710,null,9450,11245,null,9000,9450]
[60700,null,null,null,{"$f":"CEILING(($E$453+formule!$E$42*(A610-$A$453))/100,1)*100","v":9100},10829,null,9550,11364,null,9100,9555]
[60800,null,null,null,{"$f":"CEILING(($E$453+formule!$E$42*(A611-$A$453))/100,1)*100","v":9100},10829,null,9550,11364,null,9100,9555]
[60900,null,null,null,{"$f":"CEILING(($E$453+formule!$E$42*(A612-$A$453))/100,1)*100","v":9100},10829,null,9550,11364,null,9100,9555]
[61000,null,null,null,{"$f":"CEILING(($E$453+formule!$E$42*(A613-$A$453))/100,1)*100","v":9100},10829,null,9550,11364,null,9100,9555]
[61100,null,null,null,{"$f":"CEILING(($E$453+formule!$E$42*(A614-$A$453))/100,1)*100","v":9100},10829,null,9550,11364,null,9100,9555]
[61200,null,null,null,{"$f":"CEILING(($E$453+formule!$E$42*(A615-$A$453))/100,1)*100","v":9100},10829,null,9550,11364,null,9100,9555]
[61300,null,null,null,{"$f":"CEILING(($E$453+formule!$E$42*(A616-$A$453))/100,1)*100","v":9200},10948,null,9650,11483,null,9200,9660]
[61400,null,null,null,{"$f":"CEILING(($E$453+formule!$E$42*(A617-$A$453))/100,1)*100","v":9200},10948,null,{"$f":"E617+450","v":9650},{"$f":"F617+535","v":11483},null,9200,9660]
[61500,null,null,null,{"$f":"CEILING(($E$453+formule!$E$42*(A618-$A$453))/100,1)*100","v":9200},10948,null,9650,11483,null,9200,9660]
[61600,null,null,null,{"$f":"CEILING(($E$453+formule!$E$42*(A619-$A$453))/100,1)*100","v":9200},10948,null,9650,11483,null,9200,9660]
[61700,null,null,null,{"$f":"CEILING(($E$453+formule!$E$42*(A620-$A$453))/100,1)*100","v":9200},10948,null,9650,11483,null,9200,9660]
[61800,null,null,null,{"$f":"CEILING(($E$453+formule!$E$42*(A621-$A$453))/100,1)*100","v":9200},10948,null,9650,11483,null,9200,9660]
[61900,null,null,null,{"$f":"CEILING(($E$453+formule!$E$42*(A622-$A$453))/100,1)*100","v":9300},11067,null,9750,11602,null,9300,9765]
[62000,null,null,null,{"$f":"CEILING(($E$453+formule!$E$42*(A623-$A$453))/100,1)*100","v":9300},11067,null,9750,11602,null,9300,9765]
[62100,null,null,null,{"$f":"CEILING(($E$453+formule!$E$42*(A624-$A$453))/100,1)*100","v":9300},11067,null,9750,11602,null,9300,9765]
[62200,null,null,null,{"$f":"CEILING(($E$453+formule!$E$42*(A625-$A$453))/100,1)*100","v":9300},11067,null,9750,11602,null,9300,9765]
[62300,null,null,null,{"$f":"CEILING(($E$453+formule!$E$42*(A626-$A$453))/100,1)*100","v":9300},11067,null,9750,11602,null,9300,9765]
[62400,null,null,null,{"$f":"CEILING(($E$453+formule!$E$42*(A627-$A$453))/100,1)*100","v":9400},11186,null,9850,11721,null,9400,9870]
[62500,null,null,null,{"$f":"CEILING(($E$453+formule!$E$42*(A628-$A$453))/100,1)*100","v":9400},11186,null,9850,11721,null,9400,9870]
[62600,null,null,null,{"$f":"CEILING(($E$453+formule!$E$42*(A629-$A$453))/100,1)*100","v":9400},11186,null,9850,11721,null,9400,9870]
[62700,null,null,null,{"$f":"CEILING(($E$453+formule!$E$42*(A630-$A$453))/100,1)*100","v":9400},11186,null,9850,11721,null,9400,9870]
[62800,null,null,null,{"$f":"CEILING(($E$453+formule!$E$42*(A631-$A$453))/100,1)*100","v":9400},11186,null,9850,11721,null,9400,9870]
[62900,null,null,null,{"$f":"CEILING(($E$453+formule!$E$42*(A632-$A$453))/100,1)*100","v":9400},11186,null,9850,11721,null,9400,9870]
[63000,null,null,null,{"$f":"CEILING(($E$453+formule!$E$42*(A633-$A$453))/100,1)*100","v":9500},11305,null,9950,11840,null,9500,9975]
[63100,null,null,null,{"$f":"CEILING(($E$453+formule!$E$42*(A634-$A$453))/100,1)*100","v":9500},11305,null,9950,11840,null,9500,9975]
[63200,null,null,null,{"$f":"CEILING(($E$453+formule!$E$42*(A635-$A$453))/100,1)*100","v":9500},11305,null,9950,11840,null,9500,9975]
[63300,null,null,null,{"$f":"CEILING(($E$453+formule!$E$42*(A636-$A$453))/100,1)*100","v":9500},11305,null,9950,11840,null,9500,9975]
[63400,null,null,null,{"$f":"CEILING(($E$453+formule!$E$42*(A637-$A$453))/100,1)*100","v":9500},11305,null,9950,11840,null,9500,9975]
[63500,null,null,null,{"$f":"CEILING(($E$453+formule!$E$42*(A638-$A$453))/100,1)*100","v":9500},11305,null,9950,11840,null,9500,9975]
[63600,null,null,null,{"$f":"CEILING(($E$453+formule!$E$42*(A639-$A$453))/100,1)*100","v":9600},11424,null,10050,11959,null,9600,10080]
[63700,null,null,null,{"$f":"CEILING(($E$453+formule!$E$42*(A640-$A$453))/100,1)*100","v":9600},11424,null,10050,11959,null,9600,10080]
[63800,null,null,null,{"$f":"CEILING(($E$453+formule!$E$42*(A641-$A$453))/100,1)*100","v":9600},11424,null,10050,11959,null,9600,10080]
[63900,null,null,null,{"$f":"CEILING(($E$453+formule!$E$42*(A642-$A$453))/100,1)*100","v":9600},11424,null,10050,11959,null,9600,10080]
[64000,null,null,null,{"$f":"CEILING(($E$453+formule!$E$42*(A643-$A$453))/100,1)*100","v":9600},11424,null,10050,11959,null,9600,10080]
[64100,null,null,null,{"$f":"CEILING(($E$453+formule!$E$42*(A644-$A$453))/100,1)*100","v":9600},11424,null,10050,11959,null,9600,10080]
[64200,null,null,null,{"$f":"CEILING(($E$453+formule!$E$42*(A645-$A$453))/100,1)*100","v":9700},11543,null,10150,12078,null,{"$f":"E645","v":9700},{"$f":"K645*1.05","v":10185}]
[64300,null,null,null,{"$f":"CEILING(($E$453+formule!$E$42*(A646-$A$453))/100,1)*100","v":9700},11543,null,10150,12078,null,9700,10185]
[64400,null,null,null,{"$f":"CEILING(($E$453+formule!$E$42*(A647-$A$453))/100,1)*100","v":9700},{"$f":"E647*1.19","v":11543},null,10150,12078,null,9700,10185]
[64500,null,null,null,{"$f":"CEILING(($E$453+formule!$E$42*(A648-$A$453))/100,1)*100","v":9700},11543,null,10150,12078,null,9700,10185]
[64600,null,null,null,{"$f":"CEILING(($E$453+formule!$E$42*(A649-$A$453))/100,1)*100","v":9700},11543,null,10150,12078,null,9700,10185]
[64700,null,null,null,{"$f":"CEILING(($E$453+formule!$E$42*(A650-$A$453))/100,1)*100","v":9700},11543,null,10150,12078,null,9700,10185]
[64800,null,null,null,{"$f":"CEILING(($E$453+formule!$E$42*(A651-$A$453))/100,1)*100","v":9800},11662,null,10250,12197,null,9800,10290]
[64900,null,null,null,{"$f":"CEILING(($E$453+formule!$E$42*(A652-$A$453))/100,1)*100","v":9800},11662,null,10250,12197,null,9800,10290]
[65000,null,null,null,{"$f":"CEILING(($E$453+formule!$E$42*(A653-$A$453))/100,1)*100","v":9800},11662,null,10250,12197,null,9800,10290]
[65100,null,null,null,{"$f":"CEILING(($E$453+formule!$E$42*(A654-$A$453))/100,1)*100","v":9800},11662,null,10250,12197,null,9800,10290]
[65200,null,null,null,{"$f":"CEILING(($E$453+formule!$E$42*(A655-$A$453))/100,1)*100","v":9800},11662,null,10250,12197,null,9800,10290]
[{"$f":"A655+100","v":65300},null,null,null,{"$f":"CEILING(($E$453+formule!$E$42*(A656-$A$453))/100,1)*100","v":9900},11781,null,10350,12316,null,9900,10395]
[65400,null,null,null,{"$f":"CEILING(($E$453+formule!$E$42*(A657-$A$453))/100,1)*100","v":9900},11781,null,10350,12316,null,9900,10395]
[65500,null,null,null,{"$f":"CEILING(($E$453+formule!$E$42*(A658-$A$453))/100,1)*100","v":9900},11781,null,10350,12316,null,9900,10395]
[65600,null,null,null,{"$f":"CEILING(($E$453+formule!$E$42*(A659-$A$453))/100,1)*100","v":9900},11781,null,10350,12316,null,9900,10395]
[65700,null,null,null,{"$f":"CEILING(($E$453+formule!$E$42*(A660-$A$453))/100,1)*100","v":9900},11781,null,10350,12316,null,9900,10395]
[65800,null,null,null,{"$f":"CEILING(($E$453+formule!$E$42*(A661-$A$453))/100,1)*100","v":9900},11781,null,10350,12316,null,9900,10395]
[65900,null,null,null,{"$f":"CEILING(($E$453+formule!$E$42*(A662-$A$453))/100,1)*100","v":10000},11900,null,10450,12435,null,10000,10500]
[66000,null,null,null,{"$f":"CEILING(($E$453+formule!$E$42*(A663-$A$453))/100,1)*100","v":10000},11900,null,10450,12435,null,10000,10500]
[66100,null,null,null,{"$f":"CEILING(($E$453+formule!$E$42*(A664-$A$453))/100,1)*100","v":10000},11900,null,10450,12435,null,10000,10500]
[66200,null,null,null,{"$f":"CEILING(($E$453+formule!$E$42*(A665-$A$453))/100,1)*100","v":10000},11900,null,10450,12435,null,10000,10500]
[66300,null,null,null,{"$f":"CEILING(($E$453+formule!$E$42*(A666-$A$453))/100,1)*100","v":10000},11900,null,10450,12435,null,10000,10500]
[66400,null,null,null,{"$f":"CEILING(($E$453+formule!$E$42*(A667-$A$453))/100,1)*100","v":10000},11900,null,10450,12435,null,10000,10500]
[66500,null,null,null,{"$f":"CEILING(($E$453+formule!$E$42*(A668-$A$453))/100,1)*100","v":10100},12019,null,10550,12554,null,10100,10605]
[66600,null,null,null,{"$f":"CEILING(($E$453+formule!$E$42*(A669-$A$453))/100,1)*100","v":10100},12019,null,10550,12554,null,10100,10605]
[66700,null,null,null,{"$f":"CEILING(($E$453+formule!$E$42*(A670-$A$453))/100,1)*100","v":10100},12019,null,10550,12554,null,10100,10605]
[66800,null,null,null,{"$f":"CEILING(($E$453+formule!$E$42*(A671-$A$453))/100,1)*100","v":10100},12019,null,10550,12554,null,10100,10605]
[66900,null,null,null,{"$f":"CEILING(($E$453+formule!$E$42*(A672-$A$453))/100,1)*100","v":10100},12019,null,10550,12554,null,10100,10605]
[67000,null,null,null,{"$f":"CEILING(($E$453+formule!$E$42*(A673-$A$453))/100,1)*100","v":10100},12019,null,10550,12554,null,10100,10605]
[67100,null,null,null,{"$f":"CEILING(($E$453+formule!$E$42*(A674-$A$453))/100,1)*100","v":10200},12138,null,10650,12673,null,10200,10710]
[67200,null,null,null,{"$f":"CEILING(($E$453+formule!$E$42*(A675-$A$453))/100,1)*100","v":10200},12138,null,10650,12673,null,10200,10710]
[67300,null,null,null,{"$f":"CEILING(($E$453+formule!$E$42*(A676-$A$453))/100,1)*100","v":10200},12138,null,10650,12673,null,10200,10710]
[67400,null,null,null,{"$f":"CEILING(($E$453+formule!$E$42*(A677-$A$453))/100,1)*100","v":10200},12138,null,10650,12673,null,10200,10710]
[67500,null,null,null,{"$f":"CEILING(($E$453+formule!$E$42*(A678-$A$453))/100,1)*100","v":10200},12138,null,10650,12673,null,10200,10710]
[67600,null,null,null,{"$f":"CEILING(($E$453+formule!$E$42*(A679-$A$453))/100,1)*100","v":10200},12138,null,10650,12673,null,10200,10710]
[67700,null,null,null,{"$f":"CEILING(($E$453+formule!$E$42*(A680-$A$453))/100,1)*100","v":10300},12257,null,10750,12792,null,10300,10815]
[67800,null,null,null,{"$f":"CEILING(($E$453+formule!$E$42*(A681-$A$453))/100,1)*100","v":10300},12257,null,{"$f":"E681+450","v":10750},{"$f":"F681+535","v":12792},null,10300,10815]
[67900,null,null,null,{"$f":"CEILING(($E$453+formule!$E$42*(A682-$A$453))/100,1)*100","v":10300},12257,null,10750,12792,null,10300,10815]
[68000,null,null,null,{"$f":"CEILING(($E$453+formule!$E$42*(A683-$A$453))/100,1)*100","v":10300},12257,null,10750,12792,null,10300,10815]
[68100,null,null,null,{"$f":"CEILING(($E$453+formule!$E$42*(A684-$A$453))/100,1)*100","v":10300},12257,null,10750,12792,null,10300,10815]
[68200,null,null,null,{"$f":"CEILING(($E$453+formule!$E$42*(A685-$A$453))/100,1)*100","v":10400},12376,null,10850,12911,null,10400,10920]
[68300,null,null,null,{"$f":"CEILING(($E$453+formule!$E$42*(A686-$A$453))/100,1)*100","v":10400},12376,null,10850,12911,null,10400,10920]
[68400,null,null,null,{"$f":"CEILING(($E$453+formule!$E$42*(A687-$A$453))/100,1)*100","v":10400},12376,null,10850,12911,null,10400,10920]
[68500,null,null,null,{"$f":"CEILING(($E$453+formule!$E$42*(A688-$A$453))/100,1)*100","v":10400},12376,null,10850,12911,null,10400,10920]
[68600,null,null,null,{"$f":"CEILING(($E$453+formule!$E$42*(A689-$A$453))/100,1)*100","v":10400},12376,null,10850,12911,null,10400,10920]
[68700,null,null,null,{"$f":"CEILING(($E$453+formule!$E$42*(A690-$A$453))/100,1)*100","v":10400},12376,null,10850,12911,null,10400,10920]
[68800,null,null,null,{"$f":"CEILING(($E$453+formule!$E$42*(A691-$A$453))/100,1)*100","v":10500},12495,null,10950,13030,null,10500,11025]
[68900,null,null,null,{"$f":"CEILING(($E$453+formule!$E$42*(A692-$A$453))/100,1)*100","v":10500},12495,null,10950,13030,null,10500,11025]
[69000,null,null,null,{"$f":"CEILING(($E$453+formule!$E$42*(A693-$A$453))/100,1)*100","v":10500},12495,null,10950,13030,null,10500,11025]
[69100,null,null,null,{"$f":"CEILING(($E$453+formule!$E$42*(A694-$A$453))/100,1)*100","v":10500},12495,null,10950,13030,null,10500,11025]
[69200,null,null,null,{"$f":"CEILING(($E$453+formule!$E$42*(A695-$A$453))/100,1)*100","v":10500},12495,null,10950,13030,null,10500,11025]
[69300,null,null,null,{"$f":"CEILING(($E$453+formule!$E$42*(A696-$A$453))/100,1)*100","v":10500},12495,null,10950,13030,null,10500,11025]
[69400,null,null,null,{"$f":"CEILING(($E$453+formule!$E$42*(A697-$A$453))/100,1)*100","v":10600},12614,null,11050,13149,null,10600,11130]
[69500,null,null,null,{"$f":"CEILING(($E$453+formule!$E$42*(A698-$A$453))/100,1)*100","v":10600},12614,null,11050,13149,null,10600,11130]
[69600,null,null,null,{"$f":"CEILING(($E$453+formule!$E$42*(A699-$A$453))/100,1)*100","v":10600},12614,null,11050,13149,null,10600,11130]
[69700,null,null,null,{"$f":"CEILING(($E$453+formule!$E$42*(A700-$A$453))/100,1)*100","v":10600},12614,null,11050,13149,null,10600,11130]
[69800,null,null,null,{"$f":"CEILING(($E$453+formule!$E$42*(A701-$A$453))/100,1)*100","v":10600},12614,null,11050,13149,null,10600,11130]
[69900,null,null,null,{"$f":"CEILING(($E$453+formule!$E$42*(A702-$A$453))/100,1)*100","v":10600},12614,null,11050,13149,null,10600,11130]
[70000,null,null,null,{"$f":"CEILING(($E$453+formule!$E$42*(A703-$A$453))/100,1)*100","v":10700},12733,null,11150,13268,null,10700,11235]
[70100,null,null,null,{"$f":"CEILING(($E$453+formule!$E$42*(A704-$A$453))/100,1)*100","v":10700},12733,null,11150,13268,null,10700,11235]
[70200,null,null,null,{"$f":"CEILING(($E$453+formule!$E$42*(A705-$A$453))/100,1)*100","v":10700},12733,null,11150,13268,null,10700,11235]
[70300,null,null,null,{"$f":"CEILING(($E$453+formule!$E$42*(A706-$A$453))/100,1)*100","v":10700},12733,null,11150,13268,null,10700,11235]
[70400,null,null,null,{"$f":"CEILING(($E$453+formule!$E$42*(A707-$A$453))/100,1)*100","v":10700},12733,null,11150,13268,null,10700,11235]
[70500,null,null,null,{"$f":"CEILING(($E$453+formule!$E$42*(A708-$A$453))/100,1)*100","v":10700},12733,null,11150,13268,null,10700,11235]
[70600,null,null,null,{"$f":"CEILING(($E$453+formule!$E$42*(A709-$A$453))/100,1)*100","v":10800},12852,null,11250,13387,null,{"$f":"E709","v":10800},{"$f":"K709*1.05","v":11340}]
[70700,null,null,null,{"$f":"CEILING(($E$453+formule!$E$42*(A710-$A$453))/100,1)*100","v":10800},12852,null,11250,13387,null,10800,11340]
[70800,null,null,null,{"$f":"CEILING(($E$453+formule!$E$42*(A711-$A$453))/100,1)*100","v":10800},{"$f":"E711*1.19","v":12852},null,11250,13387,null,10800,11340]
[70900,null,null,null,{"$f":"CEILING(($E$453+formule!$E$42*(A712-$A$453))/100,1)*100","v":10800},12852,null,11250,13387,null,10800,11340]
[71000,null,null,null,{"$f":"CEILING(($E$453+formule!$E$42*(A713-$A$453))/100,1)*100","v":10800},12852,null,11250,13387,null,10800,11340]
[71100,null,null,null,{"$f":"CEILING(($E$453+formule!$E$42*(A714-$A$453))/100,1)*100","v":10900},12971,null,11350,13506,null,10900,11445]
[71200,null,null,null,{"$f":"CEILING(($E$453+formule!$E$42*(A715-$A$453))/100,1)*100","v":10900},12971,null,11350,13506,null,10900,11445]
[71300,null,null,null,{"$f":"CEILING(($E$453+formule!$E$42*(A716-$A$453))/100,1)*100","v":10900},12971,null,11350,13506,null,10900,11445]
[71400,null,null,null,{"$f":"CEILING(($E$453+formule!$E$42*(A717-$A$453))/100,1)*100","v":10900},12971,null,11350,13506,null,10900,11445]
[71500,null,null,null,{"$f":"CEILING(($E$453+formule!$E$42*(A718-$A$453))/100,1)*100","v":10900},12971,null,11350,13506,null,10900,11445]
[71600,null,null,null,{"$f":"CEILING(($E$453+formule!$E$42*(A719-$A$453))/100,1)*100","v":10900},12971,null,11350,13506,null,10900,11445]
[{"$f":"A719+100","v":71700},null,null,null,{"$f":"CEILING(($E$453+formule!$E$42*(A720-$A$453))/100,1)*100","v":11000},13090,null,11450,13625,null,11000,11550]
[71800,null,null,null,{"$f":"CEILING(($E$453+formule!$E$42*(A721-$A$453))/100,1)*100","v":11000},13090,null,11450,13625,null,11000,11550]
[71900,null,null,null,{"$f":"CEILING(($E$453+formule!$E$42*(A722-$A$453))/100,1)*100","v":11000},13090,null,11450,13625,null,11000,11550]
[72000,null,null,null,{"$f":"CEILING(($E$453+formule!$E$42*(A723-$A$453))/100,1)*100","v":11000},13090,null,11450,13625,null,11000,11550]
[72100,null,null,null,{"$f":"CEILING(($E$453+formule!$E$42*(A724-$A$453))/100,1)*100","v":11000},13090,null,11450,13625,null,11000,11550]
[72200,null,null,null,{"$f":"CEILING(($E$453+formule!$E$42*(A725-$A$453))/100,1)*100","v":11000},13090,null,11450,13625,null,11000,11550]
[72300,null,null,null,{"$f":"CEILING(($E$453+formule!$E$42*(A726-$A$453))/100,1)*100","v":11100},13209,null,11550,13744,null,11100,11655]
[72400,null,null,null,{"$f":"CEILING(($E$453+formule!$E$42*(A727-$A$453))/100,1)*100","v":11100},13209,null,11550,13744,null,11100,11655]
[72500,null,null,null,{"$f":"CEILING(($E$453+formule!$E$42*(A728-$A$453))/100,1)*100","v":11100},13209,null,11550,13744,null,11100,11655]
[72600,null,null,null,{"$f":"CEILING(($E$453+formule!$E$42*(A729-$A$453))/100,1)*100","v":11100},13209,null,11550,13744,null,11100,11655]
[72700,null,null,null,{"$f":"CEILING(($E$453+formule!$E$42*(A730-$A$453))/100,1)*100","v":11100},13209,null,11550,13744,null,11100,11655]
[72800,null,null,null,{"$f":"CEILING(($E$453+formule!$E$42*(A731-$A$453))/100,1)*100","v":11100},13209,null,11550,13744,null,11100,11655]
[72900,null,null,null,{"$f":"CEILING(($E$453+formule!$E$42*(A732-$A$453))/100,1)*100","v":11200},13328,null,11650,13863,null,11200,11760]
[73000,null,null,null,{"$f":"CEILING(($E$453+formule!$E$42*(A733-$A$453))/100,1)*100","v":11200},13328,null,11650,13863,null,11200,11760]
[73100,null,null,null,{"$f":"CEILING(($E$453+formule!$E$42*(A734-$A$453))/100,1)*100","v":11200},13328,null,11650,13863,null,11200,11760]
[73200,null,null,null,{"$f":"CEILING(($E$453+formule!$E$42*(A735-$A$453))/100,1)*100","v":11200},13328,null,11650,13863,null,11200,11760]
[73300,null,null,null,{"$f":"CEILING(($E$453+formule!$E$42*(A736-$A$453))/100,1)*100","v":11200},13328,null,11650,13863,null,11200,11760]
[73400,null,null,null,{"$f":"CEILING(($E$453+formule!$E$42*(A737-$A$453))/100,1)*100","v":11200},13328,null,11650,13863,null,11200,11760]
[73500,null,null,null,{"$f":"CEILING(($E$453+formule!$E$42*(A738-$A$453))/100,1)*100","v":11300},13447,null,11750,13982,null,11300,11865]
[73600,null,null,null,{"$f":"CEILING(($E$453+formule!$E$42*(A739-$A$453))/100,1)*100","v":11300},13447,null,11750,13982,null,11300,11865]
[73700,null,null,null,{"$f":"CEILING(($E$453+formule!$E$42*(A740-$A$453))/100,1)*100","v":11300},13447,null,11750,13982,null,11300,11865]
[73800,null,null,null,{"$f":"CEILING(($E$453+formule!$E$42*(A741-$A$453))/100,1)*100","v":11300},13447,null,11750,13982,null,11300,11865]
[73900,null,null,null,{"$f":"CEILING(($E$453+formule!$E$42*(A742-$A$453))/100,1)*100","v":11300},13447,null,11750,13982,null,11300,11865]
[74000,null,null,null,{"$f":"CEILING(($E$453+formule!$E$42*(A743-$A$453))/100,1)*100","v":11400},13566,null,11850,14101,null,11400,11970]
[74100,null,null,null,{"$f":"CEILING(($E$453+formule!$E$42*(A744-$A$453))/100,1)*100","v":11400},13566,null,11850,14101,null,11400,11970]
[74200,null,null,null,{"$f":"CEILING(($E$453+formule!$E$42*(A745-$A$453))/100,1)*100","v":11400},13566,null,{"$f":"E745+450","v":11850},{"$f":"F745+535","v":14101},null,11400,11970]
[74300,null,null,null,{"$f":"CEILING(($E$453+formule!$E$42*(A746-$A$453))/100,1)*100","v":11400},13566,null,11850,14101,null,11400,11970]
[74400,null,null,null,{"$f":"CEILING(($E$453+formule!$E$42*(A747-$A$453))/100,1)*100","v":11400},13566,null,11850,14101,null,11400,11970]
[74500,null,null,null,{"$f":"CEILING(($E$453+formule!$E$42*(A748-$A$453))/100,1)*100","v":11400},13566,null,11850,14101,null,11400,11970]
[74600,null,null,null,{"$f":"CEILING(($E$453+formule!$E$42*(A749-$A$453))/100,1)*100","v":11500},13685,null,11950,14220,null,11500,12075]
[74700,null,null,null,{"$f":"CEILING(($E$453+formule!$E$42*(A750-$A$453))/100,1)*100","v":11500},13685,null,11950,14220,null,11500,12075]
[74800,null,null,null,{"$f":"CEILING(($E$453+formule!$E$42*(A751-$A$453))/100,1)*100","v":11500},13685,null,11950,14220,null,11500,12075]
[74900,null,null,null,{"$f":"CEILING(($E$453+formule!$E$42*(A752-$A$453))/100,1)*100","v":11500},13685,null,11950,14220,null,11500,12075]
[75000,null,null,null,{"$f":"CEILING(($E$453+formule!$E$42*(A753-$A$453))/100,1)*100","v":11500},13685,null,11950,14220,null,11500,12075]
[75100,null,null,null,{"$f":"CEILING(($E$753+(formule!$E$43*(A754-$A$753)))/100,1)*100","v":11600},{"$f":"E754*1.19","v":13804},null,12050,14339,null,11600,12180]
[75200,null,null,null,{"$f":"CEILING(($E$753+(formule!$E$43*(A755-$A$753)))/100,1)*100","v":11600},13804,null,12050,14339,null,11600,12180]
[75300,null,null,null,{"$f":"CEILING(($E$753+(formule!$E$43*(A756-$A$753)))/100,1)*100","v":11600},13804,null,12050,14339,null,11600,12180]
[75400,null,null,null,{"$f":"CEILING(($E$753+(formule!$E$43*(A757-$A$753)))/100,1)*100","v":11600},13804,null,12050,14339,null,11600,12180]
[75500,null,null,null,{"$f":"CEILING(($E$753+(formule!$E$43*(A758-$A$753)))/100,1)*100","v":11600},13804,null,12050,14339,null,11600,12180]
[75600,null,null,null,{"$f":"CEILING(($E$753+(formule!$E$43*(A759-$A$753)))/100,1)*100","v":11600},13804,null,12050,14339,null,11600,12180]
[75700,null,null,null,{"$f":"CEILING(($E$753+(formule!$E$43*(A760-$A$753)))/100,1)*100","v":11700},13923,null,12150,14458,null,11700,12285]
[75800,null,null,null,{"$f":"CEILING(($E$753+(formule!$E$43*(A761-$A$753)))/100,1)*100","v":11700},13923,null,12150,14458,null,11700,12285]
[75900,null,null,null,{"$f":"CEILING(($E$753+(formule!$E$43*(A762-$A$753)))/100,1)*100","v":11700},13923,null,12150,14458,null,11700,12285]
[76000,null,null,null,{"$f":"CEILING(($E$753+(formule!$E$43*(A763-$A$753)))/100,1)*100","v":11700},13923,null,12150,14458,null,11700,12285]
[76100,null,null,null,{"$f":"CEILING(($E$753+(formule!$E$43*(A764-$A$753)))/100,1)*100","v":11700},13923,null,12150,14458,null,11700,12285]
[76200,null,null,null,{"$f":"CEILING(($E$753+(formule!$E$43*(A765-$A$753)))/100,1)*100","v":11700},13923,null,12150,14458,null,11700,12285]
[76300,null,null,null,{"$f":"CEILING(($E$753+(formule!$E$43*(A766-$A$753)))/100,1)*100","v":11700},13923,null,12150,14458,null,11700,12285]
[76400,null,null,null,{"$f":"CEILING(($E$753+(formule!$E$43*(A767-$A$753)))/100,1)*100","v":11800},14042,null,12250,14577,null,11800,12390]
[76500,null,null,null,{"$f":"CEILING(($E$753+(formule!$E$43*(A768-$A$753)))/100,1)*100","v":11800},14042,null,12250,14577,null,11800,12390]
[76600,null,null,null,{"$f":"CEILING(($E$753+(formule!$E$43*(A769-$A$753)))/100,1)*100","v":11800},14042,null,12250,14577,null,11800,12390]
[76700,null,null,null,{"$f":"CEILING(($E$753+(formule!$E$43*(A770-$A$753)))/100,1)*100","v":11800},14042,null,12250,14577,null,11800,12390]
[76800,null,null,null,{"$f":"CEILING(($E$753+(formule!$E$43*(A771-$A$753)))/100,1)*100","v":11800},14042,null,12250,14577,null,11800,12390]
[76900,null,null,null,{"$f":"CEILING(($E$753+(formule!$E$43*(A772-$A$753)))/100,1)*100","v":11800},14042,null,12250,14577,null,11800,12390]
[77000,null,null,null,{"$f":"CEILING(($E$753+(formule!$E$43*(A773-$A$753)))/100,1)*100","v":11800},14042,null,12250,14577,null,{"$f":"E773","v":11800},{"$f":"K773*1.05","v":12390}]
[77100,null,null,null,{"$f":"CEILING(($E$753+(formule!$E$43*(A774-$A$753)))/100,1)*100","v":11900},14161,null,12350,14696,null,11900,12495]
[77200,null,null,null,{"$f":"CEILING(($E$753+(formule!$E$43*(A775-$A$753)))/100,1)*100","v":11900},14161,null,12350,14696,null,11900,12495]
[77300,null,null,null,{"$f":"CEILING(($E$753+(formule!$E$43*(A776-$A$753)))/100,1)*100","v":11900},14161,null,12350,14696,null,11900,12495]
[77400,null,null,null,{"$f":"CEILING(($E$753+(formule!$E$43*(A777-$A$753)))/100,1)*100","v":11900},14161,null,12350,14696,null,11900,12495]
[77500,null,null,null,{"$f":"CEILING(($E$753+(formule!$E$43*(A778-$A$753)))/100,1)*100","v":11900},14161,null,12350,14696,null,11900,12495]
[77600,null,null,null,{"$f":"CEILING(($E$753+(formule!$E$43*(A779-$A$753)))/100,1)*100","v":11900},14161,null,12350,14696,null,11900,12495]
[77700,null,null,null,{"$f":"CEILING(($E$753+(formule!$E$43*(A780-$A$753)))/100,1)*100","v":11900},14161,null,12350,14696,null,11900,12495]
[77800,null,null,null,{"$f":"CEILING(($E$753+(formule!$E$43*(A781-$A$753)))/100,1)*100","v":12000},14280,null,12450,14815,null,12000,12600]
[77900,null,null,null,{"$f":"CEILING(($E$753+(formule!$E$43*(A782-$A$753)))/100,1)*100","v":12000},14280,null,12450,14815,null,12000,12600]
[78000,null,null,null,{"$f":"CEILING(($E$753+(formule!$E$43*(A783-$A$753)))/100,1)*100","v":12000},14280,null,12450,14815,null,12000,12600]
[{"$f":"A783+100","v":78100},null,null,null,{"$f":"CEILING(($E$753+(formule!$E$43*(A784-$A$753)))/100,1)*100","v":12000},14280,null,12450,14815,null,12000,12600]
[78200,null,null,null,{"$f":"CEILING(($E$753+(formule!$E$43*(A785-$A$753)))/100,1)*100","v":12000},14280,null,12450,14815,null,12000,12600]
[78300,null,null,null,{"$f":"CEILING(($E$753+(formule!$E$43*(A786-$A$753)))/100,1)*100","v":12000},14280,null,12450,14815,null,12000,12600]
[78400,null,null,null,{"$f":"CEILING(($E$753+(formule!$E$43*(A787-$A$753)))/100,1)*100","v":12100},14399,null,12550,14934,null,12100,12705]
[78500,null,null,null,{"$f":"CEILING(($E$753+(formule!$E$43*(A788-$A$753)))/100,1)*100","v":12100},14399,null,12550,14934,null,12100,12705]
[78600,null,null,null,{"$f":"CEILING(($E$753+(formule!$E$43*(A789-$A$753)))/100,1)*100","v":12100},14399,null,12550,14934,null,12100,12705]
[78700,null,null,null,{"$f":"CEILING(($E$753+(formule!$E$43*(A790-$A$753)))/100,1)*100","v":12100},14399,null,12550,14934,null,12100,12705]
[78800,null,null,null,{"$f":"CEILING(($E$753+(formule!$E$43*(A791-$A$753)))/100,1)*100","v":12100},14399,null,12550,14934,null,12100,12705]
[78900,null,null,null,{"$f":"CEILING(($E$753+(formule!$E$43*(A792-$A$753)))/100,1)*100","v":12100},14399,null,12550,14934,null,12100,12705]
[79000,null,null,null,{"$f":"CEILING(($E$753+(formule!$E$43*(A793-$A$753)))/100,1)*100","v":12100},14399,null,12550,14934,null,12100,12705]
[79100,null,null,null,{"$f":"CEILING(($E$753+(formule!$E$43*(A794-$A$753)))/100,1)*100","v":12200},14518,null,12650,15053,null,12200,12810]
[79200,null,null,null,{"$f":"CEILING(($E$753+(formule!$E$43*(A795-$A$753)))/100,1)*100","v":12200},14518,null,12650,15053,null,12200,12810]
[79300,null,null,null,{"$f":"CEILING(($E$753+(formule!$E$43*(A796-$A$753)))/100,1)*100","v":12200},14518,null,12650,15053,null,12200,12810]
[79400,null,null,null,{"$f":"CEILING(($E$753+(formule!$E$43*(A797-$A$753)))/100,1)*100","v":12200},14518,null,12650,15053,null,12200,12810]
[79500,null,null,null,{"$f":"CEILING(($E$753+(formule!$E$43*(A798-$A$753)))/100,1)*100","v":12200},14518,null,12650,15053,null,12200,12810]
[79600,null,null,null,{"$f":"CEILING(($E$753+(formule!$E$43*(A799-$A$753)))/100,1)*100","v":12200},14518,null,12650,15053,null,12200,12810]
[79700,null,null,null,{"$f":"CEILING(($E$753+(formule!$E$43*(A800-$A$753)))/100,1)*100","v":12200},14518,null,12650,15053,null,12200,12810]
[79800,null,null,null,{"$f":"CEILING(($E$753+(formule!$E$43*(A801-$A$753)))/100,1)*100","v":12300},14637,null,12750,15172,null,12300,12915]
[79900,null,null,null,{"$f":"CEILING(($E$753+(formule!$E$43*(A802-$A$753)))/100,1)*100","v":12300},14637,null,12750,15172,null,12300,12915]
[80000,null,null,null,{"$f":"CEILING(($E$753+(formule!$E$43*(A803-$A$753)))/100,1)*100","v":12300},14637,null,12750,15172,null,12300,12915]
[80100,null,null,null,{"$f":"CEILING(($E$753+(formule!$E$43*(A804-$A$753)))/100,1)*100","v":12300},14637,null,12750,15172,null,12300,12915]
[80200,null,null,null,{"$f":"CEILING(($E$753+(formule!$E$43*(A805-$A$753)))/100,1)*100","v":12300},14637,null,12750,15172,null,12300,12915]
[80300,null,null,null,{"$f":"CEILING(($E$753+(formule!$E$43*(A806-$A$753)))/100,1)*100","v":12300},14637,null,12750,15172,null,12300,12915]
[80400,null,null,null,{"$f":"CEILING(($E$753+(formule!$E$43*(A807-$A$753)))/100,1)*100","v":12300},14637,null,12750,15172,null,12300,12915]
[80500,null,null,null,{"$f":"CEILING(($E$753+(formule!$E$43*(A808-$A$753)))/100,1)*100","v":12400},14756,null,12850,15291,null,12400,13020]
[80600,null,null,null,{"$f":"CEILING(($E$753+(formule!$E$43*(A809-$A$753)))/100,1)*100","v":12400},14756,null,{"$f":"E809+450","v":12850},{"$f":"F809+535","v":15291},null,12400,13020]
[80700,null,null,null,{"$f":"CEILING(($E$753+(formule!$E$43*(A810-$A$753)))/100,1)*100","v":12400},14756,null,12850,15291,null,12400,13020]
[80800,null,null,null,{"$f":"CEILING(($E$753+(formule!$E$43*(A811-$A$753)))/100,1)*100","v":12400},14756,null,12850,15291,null,12400,13020]
[80900,null,null,null,{"$f":"CEILING(($E$753+(formule!$E$43*(A812-$A$753)))/100,1)*100","v":12400},14756,null,12850,15291,null,12400,13020]
[81000,null,null,null,{"$f":"CEILING(($E$753+(formule!$E$43*(A813-$A$753)))/100,1)*100","v":12400},14756,null,12850,15291,null,12400,13020]
[81100,null,null,null,{"$f":"CEILING(($E$753+(formule!$E$43*(A814-$A$753)))/100,1)*100","v":12500},14875,null,12950,15410,null,12500,13125]
[81200,null,null,null,{"$f":"CEILING(($E$753+(formule!$E$43*(A815-$A$753)))/100,1)*100","v":12500},14875,null,12950,15410,null,12500,13125]
[81300,null,null,null,{"$f":"CEILING(($E$753+(formule!$E$43*(A816-$A$753)))/100,1)*100","v":12500},14875,null,12950,15410,null,12500,13125]
[81400,null,null,null,{"$f":"CEILING(($E$753+(formule!$E$43*(A817-$A$753)))/100,1)*100","v":12500},{"$f":"E817*1.19","v":14875},null,12950,15410,null,12500,13125]
[81500,null,null,null,{"$f":"CEILING(($E$753+(formule!$E$43*(A818-$A$753)))/100,1)*100","v":12500},14875,null,12950,15410,null,12500,13125]
[81600,null,null,null,{"$f":"CEILING(($E$753+(formule!$E$43*(A819-$A$753)))/100,1)*100","v":12500},14875,null,12950,15410,null,12500,13125]
[81700,null,null,null,{"$f":"CEILING(($E$753+(formule!$E$43*(A820-$A$753)))/100,1)*100","v":12500},14875,null,12950,15410,null,12500,13125]
[81800,null,null,null,{"$f":"CEILING(($E$753+(formule!$E$43*(A821-$A$753)))/100,1)*100","v":12600},14994,null,13050,15529,null,12600,13230]
[81900,null,null,null,{"$f":"CEILING(($E$753+(formule!$E$43*(A822-$A$753)))/100,1)*100","v":12600},14994,null,13050,15529,null,12600,13230]
[82000,null,null,null,{"$f":"CEILING(($E$753+(formule!$E$43*(A823-$A$753)))/100,1)*100","v":12600},14994,null,13050,15529,null,12600,13230]
[82100,null,null,null,{"$f":"CEILING(($E$753+(formule!$E$43*(A824-$A$753)))/100,1)*100","v":12600},14994,null,13050,15529,null,12600,13230]
[82200,null,null,null,{"$f":"CEILING(($E$753+(formule!$E$43*(A825-$A$753)))/100,1)*100","v":12600},14994,null,13050,15529,null,12600,13230]
[82300,null,null,null,{"$f":"CEILING(($E$753+(formule!$E$43*(A826-$A$753)))/100,1)*100","v":12600},14994,null,13050,15529,null,12600,13230]
[82400,null,null,null,{"$f":"CEILING(($E$753+(formule!$E$43*(A827-$A$753)))/100,1)*100","v":12600},14994,null,13050,15529,null,12600,13230]
[82500,null,null,null,{"$f":"CEILING(($E$753+(formule!$E$43*(A828-$A$753)))/100,1)*100","v":12700},15113,null,13150,15648,null,12700,13335]
[82600,null,null,null,{"$f":"CEILING(($E$753+(formule!$E$43*(A829-$A$753)))/100,1)*100","v":12700},15113,null,13150,15648,null,12700,13335]
[82700,null,null,null,{"$f":"CEILING(($E$753+(formule!$E$43*(A830-$A$753)))/100,1)*100","v":12700},15113,null,13150,15648,null,12700,13335]
[82800,null,null,null,{"$f":"CEILING(($E$753+(formule!$E$43*(A831-$A$753)))/100,1)*100","v":12700},15113,null,13150,15648,null,12700,13335]
[82900,null,null,null,{"$f":"CEILING(($E$753+(formule!$E$43*(A832-$A$753)))/100,1)*100","v":12700},15113,null,13150,15648,null,12700,13335]
[83000,null,null,null,{"$f":"CEILING(($E$753+(formule!$E$43*(A833-$A$753)))/100,1)*100","v":12700},15113,null,13150,15648,null,12700,13335]
[83100,null,null,null,{"$f":"CEILING(($E$753+(formule!$E$43*(A834-$A$753)))/100,1)*100","v":12700},15113,null,13150,15648,null,12700,13335]
[83200,null,null,null,{"$f":"CEILING(($E$753+(formule!$E$43*(A835-$A$753)))/100,1)*100","v":12800},15232,null,13250,15767,null,12800,13440]
[83300,null,null,null,{"$f":"CEILING(($E$753+(formule!$E$43*(A836-$A$753)))/100,1)*100","v":12800},15232,null,13250,15767,null,12800,13440]
[83400,null,null,null,{"$f":"CEILING(($E$753+(formule!$E$43*(A837-$A$753)))/100,1)*100","v":12800},15232,null,13250,15767,null,{"$f":"E837","v":12800},{"$f":"K837*1.05","v":13440}]
[83500,null,null,null,{"$f":"CEILING(($E$753+(formule!$E$43*(A838-$A$753)))/100,1)*100","v":12800},15232,null,13250,15767,null,12800,13440]
[83600,null,null,null,{"$f":"CEILING(($E$753+(formule!$E$43*(A839-$A$753)))/100,1)*100","v":12800},15232,null,13250,15767,null,12800,13440]
[83700,null,null,null,{"$f":"CEILING(($E$753+(formule!$E$43*(A840-$A$753)))/100,1)*100","v":12800},15232,null,13250,15767,null,12800,13440]
[83800,null,null,null,{"$f":"CEILING(($E$753+(formule!$E$43*(A841-$A$753)))/100,1)*100","v":12900},15351,null,13350,15886,null,12900,13545]
[83900,null,null,null,{"$f":"CEILING(($E$753+(formule!$E$43*(A842-$A$753)))/100,1)*100","v":12900},15351,null,13350,15886,null,12900,13545]
[84000,null,null,null,{"$f":"CEILING(($E$753+(formule!$E$43*(A843-$A$753)))/100,1)*100","v":12900},15351,null,13350,15886,null,12900,13545]
[84100,null,null,null,{"$f":"CEILING(($E$753+(formule!$E$43*(A844-$A$753)))/100,1)*100","v":12900},15351,null,13350,15886,null,12900,13545]
[84200,null,null,null,{"$f":"CEILING(($E$753+(formule!$E$43*(A845-$A$753)))/100,1)*100","v":12900},15351,null,13350,15886,null,12900,13545]
[84300,null,null,null,{"$f":"CEILING(($E$753+(formule!$E$43*(A846-$A$753)))/100,1)*100","v":12900},15351,null,13350,15886,null,12900,13545]
[84400,null,null,null,{"$f":"CEILING(($E$753+(formule!$E$43*(A847-$A$753)))/100,1)*100","v":12900},15351,null,13350,15886,null,12900,13545]
[{"$f":"A847+100","v":84500},null,null,null,{"$f":"CEILING(($E$753+(formule!$E$43*(A848-$A$753)))/100,1)*100","v":13000},15470,null,13450,16005,null,13000,13650]
[84600,null,null,null,{"$f":"CEILING(($E$753+(formule!$E$43*(A849-$A$753)))/100,1)*100","v":13000},15470,null,13450,16005,null,13000,13650]
[84700,null,null,null,{"$f":"CEILING(($E$753+(formule!$E$43*(A850-$A$753)))/100,1)*100","v":13000},15470,null,13450,16005,null,13000,13650]
[84800,null,null,null,{"$f":"CEILING(($E$753+(formule!$E$43*(A851-$A$753)))/100,1)*100","v":13000},15470,null,13450,16005,null,13000,13650]
[84900,null,null,null,{"$f":"CEILING(($E$753+(formule!$E$43*(A852-$A$753)))/100,1)*100","v":13000},15470,null,13450,16005,null,13000,13650]
[85000,null,null,null,{"$f":"CEILING(($E$753+(formule!$E$43*(A853-$A$753)))/100,1)*100","v":13000},15470,null,13450,16005,null,13000,13650]
[85100,null,null,null,{"$f":"CEILING(($E$753+(formule!$E$43*(A854-$A$753)))/100,1)*100","v":13000},15470,null,13450,16005,null,13000,13650]
[85200,null,null,null,{"$f":"CEILING(($E$753+(formule!$E$43*(A855-$A$753)))/100,1)*100","v":13100},15589,null,13550,16124,null,13100,13755]
[85300,null,null,null,{"$f":"CEILING(($E$753+(formule!$E$43*(A856-$A$753)))/100,1)*100","v":13100},15589,null,13550,16124,null,13100,13755]
[85400,null,null,null,{"$f":"CEILING(($E$753+(formule!$E$43*(A857-$A$753)))/100,1)*100","v":13100},15589,null,13550,16124,null,13100,13755]
[85500,null,null,null,{"$f":"CEILING(($E$753+(formule!$E$43*(A858-$A$753)))/100,1)*100","v":13100},15589,null,13550,16124,null,13100,13755]
[85600,null,null,null,{"$f":"CEILING(($E$753+(formule!$E$43*(A859-$A$753)))/100,1)*100","v":13100},15589,null,13550,16124,null,13100,13755]
[85700,null,null,null,{"$f":"CEILING(($E$753+(formule!$E$43*(A860-$A$753)))/100,1)*100","v":13100},15589,null,13550,16124,null,13100,13755]
[85800,null,null,null,{"$f":"CEILING(($E$753+(formule!$E$43*(A861-$A$753)))/100,1)*100","v":13100},15589,null,13550,16124,null,13100,13755]
[85900,null,null,null,{"$f":"CEILING(($E$753+(formule!$E$43*(A862-$A$753)))/100,1)*100","v":13200},15708,null,13650,16243,null,13200,13860]
[86000,null,null,null,{"$f":"CEILING(($E$753+(formule!$E$43*(A863-$A$753)))/100,1)*100","v":13200},15708,null,13650,16243,null,13200,13860]
[86100,null,null,null,{"$f":"CEILING(($E$753+(formule!$E$43*(A864-$A$753)))/100,1)*100","v":13200},15708,null,13650,16243,null,13200,13860]
[86200,null,null,null,{"$f":"CEILING(($E$753+(formule!$E$43*(A865-$A$753)))/100,1)*100","v":13200},15708,null,13650,16243,null,13200,13860]
[86300,null,null,null,{"$f":"CEILING(($E$753+(formule!$E$43*(A866-$A$753)))/100,1)*100","v":13200},15708,null,13650,16243,null,13200,13860]
[86400,null,null,null,{"$f":"CEILING(($E$753+(formule!$E$43*(A867-$A$753)))/100,1)*100","v":13200},15708,null,13650,16243,null,13200,13860]
[86500,null,null,null,{"$f":"CEILING(($E$753+(formule!$E$43*(A868-$A$753)))/100,1)*100","v":13200},15708,null,13650,16243,null,13200,13860]
[86600,null,null,null,{"$f":"CEILING(($E$753+(formule!$E$43*(A869-$A$753)))/100,1)*100","v":13300},15827,null,13750,16362,null,13300,13965]
[86700,null,null,null,{"$f":"CEILING(($E$753+(formule!$E$43*(A870-$A$753)))/100,1)*100","v":13300},15827,null,13750,16362,null,13300,13965]
[86800,null,null,null,{"$f":"CEILING(($E$753+(formule!$E$43*(A871-$A$753)))/100,1)*100","v":13300},15827,null,13750,16362,null,13300,13965]
[86900,null,null,null,{"$f":"CEILING(($E$753+(formule!$E$43*(A872-$A$753)))/100,1)*100","v":13300},15827,null,13750,16362,null,13300,13965]
[87000,null,null,null,{"$f":"CEILING(($E$753+(formule!$E$43*(A873-$A$753)))/100,1)*100","v":13300},15827,null,{"$f":"E873+450","v":13750},{"$f":"F873+535","v":16362},null,13300,13965]
[87100,null,null,null,{"$f":"CEILING(($E$753+(formule!$E$43*(A874-$A$753)))/100,1)*100","v":13300},15827,null,13750,16362,null,13300,13965]
[87200,null,null,null,{"$f":"CEILING(($E$753+(formule!$E$43*(A875-$A$753)))/100,1)*100","v":13400},15946,null,13850,16481,null,13400,14070]
[87300,null,null,null,{"$f":"CEILING(($E$753+(formule!$E$43*(A876-$A$753)))/100,1)*100","v":13400},15946,null,13850,16481,null,13400,14070]
[87400,null,null,null,{"$f":"CEILING(($E$753+(formule!$E$43*(A877-$A$753)))/100,1)*100","v":13400},15946,null,13850,16481,null,13400,14070]
[87500,null,null,null,{"$f":"CEILING(($E$753+(formule!$E$43*(A878-$A$753)))/100,1)*100","v":13400},15946,null,13850,16481,null,13400,14070]
[87600,null,null,null,{"$f":"CEILING(($E$753+(formule!$E$43*(A879-$A$753)))/100,1)*100","v":13400},15946,null,13850,16481,null,13400,14070]
[87700,null,null,null,{"$f":"CEILING(($E$753+(formule!$E$43*(A880-$A$753)))/100,1)*100","v":13400},15946,null,13850,16481,null,13400,14070]
[87800,null,null,null,{"$f":"CEILING(($E$753+(formule!$E$43*(A881-$A$753)))/100,1)*100","v":13400},{"$f":"E881*1.19","v":15946},null,13850,16481,null,13400,14070]
[87900,null,null,null,{"$f":"CEILING(($E$753+(formule!$E$43*(A882-$A$753)))/100,1)*100","v":13500},16065,null,13950,16600,null,13500,14175]
[88000,null,null,null,{"$f":"CEILING(($E$753+(formule!$E$43*(A883-$A$753)))/100,1)*100","v":13500},16065,null,13950,16600,null,13500,14175]
[88100,null,null,null,{"$f":"CEILING(($E$753+(formule!$E$43*(A884-$A$753)))/100,1)*100","v":13500},16065,null,13950,16600,null,13500,14175]
[88200,null,null,null,{"$f":"CEILING(($E$753+(formule!$E$43*(A885-$A$753)))/100,1)*100","v":13500},16065,null,13950,16600,null,13500,14175]
[88300,null,null,null,{"$f":"CEILING(($E$753+(formule!$E$43*(A886-$A$753)))/100,1)*100","v":13500},16065,null,13950,16600,null,13500,14175]
[88400,null,null,null,{"$f":"CEILING(($E$753+(formule!$E$43*(A887-$A$753)))/100,1)*100","v":13500},16065,null,13950,16600,null,13500,14175]
[88500,null,null,null,{"$f":"CEILING(($E$753+(formule!$E$43*(A888-$A$753)))/100,1)*100","v":13500},16065,null,13950,16600,null,13500,14175]
[88600,null,null,null,{"$f":"CEILING(($E$753+(formule!$E$43*(A889-$A$753)))/100,1)*100","v":13600},16184,null,14050,16719,null,13600,14280]
[88700,null,null,null,{"$f":"CEILING(($E$753+(formule!$E$43*(A890-$A$753)))/100,1)*100","v":13600},16184,null,14050,16719,null,13600,14280]
[88800,null,null,null,{"$f":"CEILING(($E$753+(formule!$E$43*(A891-$A$753)))/100,1)*100","v":13600},16184,null,14050,16719,null,13600,14280]
[88900,null,null,null,{"$f":"CEILING(($E$753+(formule!$E$43*(A892-$A$753)))/100,1)*100","v":13600},16184,null,14050,16719,null,13600,14280]
[89000,null,null,null,{"$f":"CEILING(($E$753+(formule!$E$43*(A893-$A$753)))/100,1)*100","v":13600},16184,null,14050,16719,null,13600,14280]
[89100,null,null,null,{"$f":"CEILING(($E$753+(formule!$E$43*(A894-$A$753)))/100,1)*100","v":13600},16184,null,14050,16719,null,13600,14280]
[89200,null,null,null,{"$f":"CEILING(($E$753+(formule!$E$43*(A895-$A$753)))/100,1)*100","v":13600},16184,null,14050,16719,null,13600,14280]
[89300,null,null,null,{"$f":"CEILING(($E$753+(formule!$E$43*(A896-$A$753)))/100,1)*100","v":13700},16303,null,14150,16838,null,13700,14385]
[89400,null,null,null,{"$f":"CEILING(($E$753+(formule!$E$43*(A897-$A$753)))/100,1)*100","v":13700},16303,null,14150,16838,null,13700,14385]
[89500,null,null,null,{"$f":"CEILING(($E$753+(formule!$E$43*(A898-$A$753)))/100,1)*100","v":13700},16303,null,14150,16838,null,13700,14385]
[89600,null,null,null,{"$f":"CEILING(($E$753+(formule!$E$43*(A899-$A$753)))/100,1)*100","v":13700},16303,null,14150,16838,null,13700,14385]
[89700,null,null,null,{"$f":"CEILING(($E$753+(formule!$E$43*(A900-$A$753)))/100,1)*100","v":13700},16303,null,14150,16838,null,13700,14385]
[89800,null,null,null,{"$f":"CEILING(($E$753+(formule!$E$43*(A901-$A$753)))/100,1)*100","v":13700},16303,null,14150,16838,null,{"$f":"E901","v":13700},{"$f":"K901*1.05","v":14385}]
[89900,null,null,null,{"$f":"CEILING(($E$753+(formule!$E$43*(A902-$A$753)))/100,1)*100","v":13800},16422,null,14250,16957,null,13800,14490]
[90000,null,null,null,{"$f":"CEILING(($E$753+(formule!$E$43*(A903-$A$753)))/100,1)*100","v":13800},16422,null,14250,16957,null,13800,14490]
[90100,null,null,null,{"$f":"CEILING(($E$753+(formule!$E$43*(A904-$A$753)))/100,1)*100","v":13800},16422,null,14250,16957,null,13800,14490]
[90200,null,null,null,{"$f":"CEILING(($E$753+(formule!$E$43*(A905-$A$753)))/100,1)*100","v":13800},16422,null,14250,16957,null,13800,14490]
[90300,null,null,null,{"$f":"CEILING(($E$753+(formule!$E$43*(A906-$A$753)))/100,1)*100","v":13800},16422,null,14250,16957,null,13800,14490]
[90400,null,null,null,{"$f":"CEILING(($E$753+(formule!$E$43*(A907-$A$753)))/100,1)*100","v":13800},16422,null,14250,16957,null,13800,14490]
[90500,null,null,null,{"$f":"CEILING(($E$753+(formule!$E$43*(A908-$A$753)))/100,1)*100","v":13800},16422,null,14250,16957,null,13800,14490]
[90600,null,null,null,{"$f":"CEILING(($E$753+(formule!$E$43*(A909-$A$753)))/100,1)*100","v":13900},16541,null,14350,17076,null,13900,14595]
[90700,null,null,null,{"$f":"CEILING(($E$753+(formule!$E$43*(A910-$A$753)))/100,1)*100","v":13900},16541,null,14350,17076,null,13900,14595]
[90800,null,null,null,{"$f":"CEILING(($E$753+(formule!$E$43*(A911-$A$753)))/100,1)*100","v":13900},16541,null,14350,17076,null,13900,14595]
[{"$f":"A911+100","v":90900},null,null,null,{"$f":"CEILING(($E$753+(formule!$E$43*(A912-$A$753)))/100,1)*100","v":13900},16541,null,14350,17076,null,13900,14595]
[91000,null,null,null,{"$f":"CEILING(($E$753+(formule!$E$43*(A913-$A$753)))/100,1)*100","v":13900},16541,null,14350,17076,null,13900,14595]
[91100,null,null,null,{"$f":"CEILING(($E$753+(formule!$E$43*(A914-$A$753)))/100,1)*100","v":13900},16541,null,14350,17076,null,13900,14595]
[91200,null,null,null,{"$f":"CEILING(($E$753+(formule!$E$43*(A915-$A$753)))/100,1)*100","v":13900},16541,null,14350,17076,null,13900,14595]
[91300,null,null,null,{"$f":"CEILING(($E$753+(formule!$E$43*(A916-$A$753)))/100,1)*100","v":14000},16660,null,14450,17195,null,14000,14700]
[91400,null,null,null,{"$f":"CEILING(($E$753+(formule!$E$43*(A917-$A$753)))/100,1)*100","v":14000},16660,null,14450,17195,null,14000,14700]
[91500,null,null,null,{"$f":"CEILING(($E$753+(formule!$E$43*(A918-$A$753)))/100,1)*100","v":14000},16660,null,14450,17195,null,14000,14700]
[91600,null,null,null,{"$f":"CEILING(($E$753+(formule!$E$43*(A919-$A$753)))/100,1)*100","v":14000},16660,null,14450,17195,null,14000,14700]
[91700,null,null,null,{"$f":"CEILING(($E$753+(formule!$E$43*(A920-$A$753)))/100,1)*100","v":14000},16660,null,14450,17195,null,14000,14700]
[91800,null,null,null,{"$f":"CEILING(($E$753+(formule!$E$43*(A921-$A$753)))/100,1)*100","v":14000},16660,null,14450,17195,null,14000,14700]
[91900,null,null,null,{"$f":"CEILING(($E$753+(formule!$E$43*(A922-$A$753)))/100,1)*100","v":14000},16660,null,14450,17195,null,14000,14700]
[92000,null,null,null,{"$f":"CEILING(($E$753+(formule!$E$43*(A923-$A$753)))/100,1)*100","v":14100},16779,null,14550,17314,null,14100,14805]
[92100,null,null,null,{"$f":"CEILING(($E$753+(formule!$E$43*(A924-$A$753)))/100,1)*100","v":14100},16779,null,14550,17314,null,14100,14805]
[92200,null,null,null,{"$f":"CEILING(($E$753+(formule!$E$43*(A925-$A$753)))/100,1)*100","v":14100},16779,null,14550,17314,null,14100,14805]
[92300,null,null,null,{"$f":"CEILING(($E$753+(formule!$E$43*(A926-$A$753)))/100,1)*100","v":14100},16779,null,14550,17314,null,14100,14805]
[92400,null,null,null,{"$f":"CEILING(($E$753+(formule!$E$43*(A927-$A$753)))/100,1)*100","v":14100},16779,null,14550,17314,null,14100,14805]
[92500,null,null,null,{"$f":"CEILING(($E$753+(formule!$E$43*(A928-$A$753)))/100,1)*100","v":14100},16779,null,14550,17314,null,14100,14805]
[92600,null,null,null,{"$f":"CEILING(($E$753+(formule!$E$43*(A929-$A$753)))/100,1)*100","v":14200},16898,null,14650,17433,null,14200,14910]
[92700,null,null,null,{"$f":"CEILING(($E$753+(formule!$E$43*(A930-$A$753)))/100,1)*100","v":14200},16898,null,14650,17433,null,14200,14910]
[92800,null,null,null,{"$f":"CEILING(($E$753+(formule!$E$43*(A931-$A$753)))/100,1)*100","v":14200},16898,null,14650,17433,null,14200,14910]
[92900,null,null,null,{"$f":"CEILING(($E$753+(formule!$E$43*(A932-$A$753)))/100,1)*100","v":14200},16898,null,14650,17433,null,14200,14910]
[93000,null,null,null,{"$f":"CEILING(($E$753+(formule!$E$43*(A933-$A$753)))/100,1)*100","v":14200},16898,null,14650,17433,null,14200,14910]
[93100,null,null,null,{"$f":"CEILING(($E$753+(formule!$E$43*(A934-$A$753)))/100,1)*100","v":14200},16898,null,14650,17433,null,14200,14910]
[93200,null,null,null,{"$f":"CEILING(($E$753+(formule!$E$43*(A935-$A$753)))/100,1)*100","v":14200},16898,null,14650,17433,null,14200,14910]
[93300,null,null,null,{"$f":"CEILING(($E$753+(formule!$E$43*(A936-$A$753)))/100,1)*100","v":14300},17017,null,14750,17552,null,14300,15015]
[93400,null,null,null,{"$f":"CEILING(($E$753+(formule!$E$43*(A937-$A$753)))/100,1)*100","v":14300},17017,null,{"$f":"E937+450","v":14750},{"$f":"F937+535","v":17552},null,14300,15015]
[93500,null,null,null,{"$f":"CEILING(($E$753+(formule!$E$43*(A938-$A$753)))/100,1)*100","v":14300},17017,null,14750,17552,null,14300,15015]
[93600,null,null,null,{"$f":"CEILING(($E$753+(formule!$E$43*(A939-$A$753)))/100,1)*100","v":14300},17017,null,14750,17552,null,14300,15015]
[93700,null,null,null,{"$f":"CEILING(($E$753+(formule!$E$43*(A940-$A$753)))/100,1)*100","v":14300},17017,null,14750,17552,null,14300,15015]
[93800,null,null,null,{"$f":"CEILING(($E$753+(formule!$E$43*(A941-$A$753)))/100,1)*100","v":14300},17017,null,14750,17552,null,14300,15015]
[93900,null,null,null,{"$f":"CEILING(($E$753+(formule!$E$43*(A942-$A$753)))/100,1)*100","v":14300},17017,null,14750,17552,null,14300,15015]
[94000,null,null,null,{"$f":"CEILING(($E$753+(formule!$E$43*(A943-$A$753)))/100,1)*100","v":14400},17136,null,14850,17671,null,14400,15120]
[94100,null,null,null,{"$f":"CEILING(($E$753+(formule!$E$43*(A944-$A$753)))/100,1)*100","v":14400},17136,null,14850,17671,null,14400,15120]
[94200,null,null,null,{"$f":"CEILING(($E$753+(formule!$E$43*(A945-$A$753)))/100,1)*100","v":14400},{"$f":"E945*1.19","v":17136},null,14850,17671,null,14400,15120]
[94300,null,null,null,{"$f":"CEILING(($E$753+(formule!$E$43*(A946-$A$753)))/100,1)*100","v":14400},17136,null,14850,17671,null,14400,15120]
[94400,null,null,null,{"$f":"CEILING(($E$753+(formule!$E$43*(A947-$A$753)))/100,1)*100","v":14400},17136,null,14850,17671,null,14400,15120]
[94500,null,null,null,{"$f":"CEILING(($E$753+(formule!$E$43*(A948-$A$753)))/100,1)*100","v":14400},17136,null,14850,17671,null,14400,15120]
[94600,null,null,null,{"$f":"CEILING(($E$753+(formule!$E$43*(A949-$A$753)))/100,1)*100","v":14400},17136,null,14850,17671,null,14400,15120]
[94700,null,null,null,{"$f":"CEILING(($E$753+(formule!$E$43*(A950-$A$753)))/100,1)*100","v":14500},17255,null,14950,17790,null,14500,15225]
[94800,null,null,null,{"$f":"CEILING(($E$753+(formule!$E$43*(A951-$A$753)))/100,1)*100","v":14500},17255,null,14950,17790,null,14500,15225]
[94900,null,null,null,{"$f":"CEILING(($E$753+(formule!$E$43*(A952-$A$753)))/100,1)*100","v":14500},17255,null,14950,17790,null,14500,15225]
[95000,null,null,null,{"$f":"CEILING(($E$753+(formule!$E$43*(A953-$A$753)))/100,1)*100","v":14500},17255,null,14950,17790,null,14500,15225]
[95100,null,null,null,{"$f":"CEILING(($E$753+(formule!$E$43*(A954-$A$753)))/100,1)*100","v":14500},17255,null,14950,17790,null,14500,15225]
[95200,null,null,null,{"$f":"CEILING(($E$753+(formule!$E$43*(A955-$A$753)))/100,1)*100","v":14500},17255,null,14950,17790,null,14500,15225]
[95300,null,null,null,{"$f":"CEILING(($E$753+(formule!$E$43*(A956-$A$753)))/100,1)*100","v":14600},17374,null,15050,17909,null,14600,15330]
[95400,null,null,null,{"$f":"CEILING(($E$753+(formule!$E$43*(A957-$A$753)))/100,1)*100","v":14600},17374,null,15050,17909,null,14600,15330]
[95500,null,null,null,{"$f":"CEILING(($E$753+(formule!$E$43*(A958-$A$753)))/100,1)*100","v":14600},17374,null,15050,17909,null,14600,15330]
[95600,null,null,null,{"$f":"CEILING(($E$753+(formule!$E$43*(A959-$A$753)))/100,1)*100","v":14600},17374,null,15050,17909,null,14600,15330]
[95700,null,null,null,{"$f":"CEILING(($E$753+(formule!$E$43*(A960-$A$753)))/100,1)*100","v":14600},17374,null,15050,17909,null,14600,15330]
[95800,null,null,null,{"$f":"CEILING(($E$753+(formule!$E$43*(A961-$A$753)))/100,1)*100","v":14600},17374,null,15050,17909,null,14600,15330]
[95900,null,null,null,{"$f":"CEILING(($E$753+(formule!$E$43*(A962-$A$753)))/100,1)*100","v":14600},17374,null,15050,17909,null,14600,15330]
[96000,null,null,null,{"$f":"CEILING(($E$753+(formule!$E$43*(A963-$A$753)))/100,1)*100","v":14700},17493,null,15150,18028,null,14700,15435]
[96100,null,null,null,{"$f":"CEILING(($E$753+(formule!$E$43*(A964-$A$753)))/100,1)*100","v":14700},17493,null,15150,18028,null,14700,15435]
[96200,null,null,null,{"$f":"CEILING(($E$753+(formule!$E$43*(A965-$A$753)))/100,1)*100","v":14700},17493,null,15150,18028,null,{"$f":"E965","v":14700},{"$f":"K965*1.05","v":15435}]
[96300,null,null,null,{"$f":"CEILING(($E$753+(formule!$E$43*(A966-$A$753)))/100,1)*100","v":14700},17493,null,15150,18028,null,14700,15435]
[96400,null,null,null,{"$f":"CEILING(($E$753+(formule!$E$43*(A967-$A$753)))/100,1)*100","v":14700},17493,null,15150,18028,null,14700,15435]
[96500,null,null,null,{"$f":"CEILING(($E$753+(formule!$E$43*(A968-$A$753)))/100,1)*100","v":14700},17493,null,15150,18028,null,14700,15435]
[96600,null,null,null,{"$f":"CEILING(($E$753+(formule!$E$43*(A969-$A$753)))/100,1)*100","v":14700},17493,null,15150,18028,null,14700,15435]
[96700,null,null,null,{"$f":"CEILING(($E$753+(formule!$E$43*(A970-$A$753)))/100,1)*100","v":14800},17612,null,15250,18147,null,14800,15540]
[96800,null,null,null,{"$f":"CEILING(($E$753+(formule!$E$43*(A971-$A$753)))/100,1)*100","v":14800},17612,null,15250,18147,null,14800,15540]
[96900,null,null,null,{"$f":"CEILING(($E$753+(formule!$E$43*(A972-$A$753)))/100,1)*100","v":14800},17612,null,15250,18147,null,14800,15540]
[97000,null,null,null,{"$f":"CEILING(($E$753+(formule!$E$43*(A973-$A$753)))/100,1)*100","v":14800},17612,null,15250,18147,null,14800,15540]
[97100,null,null,null,{"$f":"CEILING(($E$753+(formule!$E$43*(A974-$A$753)))/100,1)*100","v":14800},17612,null,15250,18147,null,14800,15540]
[97200,null,null,null,{"$f":"CEILING(($E$753+(formule!$E$43*(A975-$A$753)))/100,1)*100","v":14800},17612,null,15250,18147,null,14800,15540]
[{"$f":"A975+100","v":97300},null,null,null,{"$f":"CEILING(($E$753+(formule!$E$43*(A976-$A$753)))/100,1)*100","v":14800},17612,null,15250,18147,null,14800,15540]
[97400,null,null,null,{"$f":"CEILING(($E$753+(formule!$E$43*(A977-$A$753)))/100,1)*100","v":14900},17731,null,15350,18266,null,14900,15645]
[97500,null,null,null,{"$f":"CEILING(($E$753+(formule!$E$43*(A978-$A$753)))/100,1)*100","v":14900},17731,null,15350,18266,null,14900,15645]
[97600,null,null,null,{"$f":"CEILING(($E$753+(formule!$E$43*(A979-$A$753)))/100,1)*100","v":14900},17731,null,15350,18266,null,14900,15645]
[97700,null,null,null,{"$f":"CEILING(($E$753+(formule!$E$43*(A980-$A$753)))/100,1)*100","v":14900},17731,null,15350,18266,null,14900,15645]
[97800,null,null,null,{"$f":"CEILING(($E$753+(formule!$E$43*(A981-$A$753)))/100,1)*100","v":14900},17731,null,15350,18266,null,14900,15645]
[97900,null,null,null,{"$f":"CEILING(($E$753+(formule!$E$43*(A982-$A$753)))/100,1)*100","v":14900},17731,null,15350,18266,null,14900,15645]
[98000,null,null,null,{"$f":"CEILING(($E$753+(formule!$E$43*(A983-$A$753)))/100,1)*100","v":14900},17731,null,15350,18266,null,14900,15645]
[98100,null,null,null,{"$f":"CEILING(($E$753+(formule!$E$43*(A984-$A$753)))/100,1)*100","v":15000},17850,null,15450,18385,null,15000,15750]
[98200,null,null,null,{"$f":"CEILING(($E$753+(formule!$E$43*(A985-$A$753)))/100,1)*100","v":15000},17850,null,15450,18385,null,15000,15750]
[98300,null,null,null,{"$f":"CEILING(($E$753+(formule!$E$43*(A986-$A$753)))/100,1)*100","v":15000},17850,null,15450,18385,null,15000,15750]
[98400,null,null,null,{"$f":"CEILING(($E$753+(formule!$E$43*(A987-$A$753)))/100,1)*100","v":15000},17850,null,15450,18385,null,15000,15750]
[98500,null,null,null,{"$f":"CEILING(($E$753+(formule!$E$43*(A988-$A$753)))/100,1)*100","v":15000},17850,null,15450,18385,null,15000,15750]
[98600,null,null,null,{"$f":"CEILING(($E$753+(formule!$E$43*(A989-$A$753)))/100,1)*100","v":15000},17850,null,15450,18385,null,15000,15750]
[98700,null,null,null,{"$f":"CEILING(($E$753+(formule!$E$43*(A990-$A$753)))/100,1)*100","v":15100},17969,null,15550,18504,null,15100,15855]
[98800,null,null,null,{"$f":"CEILING(($E$753+(formule!$E$43*(A991-$A$753)))/100,1)*100","v":15100},17969,null,15550,18504,null,15100,15855]
[98900,null,null,null,{"$f":"CEILING(($E$753+(formule!$E$43*(A992-$A$753)))/100,1)*100","v":15100},17969,null,15550,18504,null,15100,15855]
[99000,null,null,null,{"$f":"CEILING(($E$753+(formule!$E$43*(A993-$A$753)))/100,1)*100","v":15100},17969,null,15550,18504,null,15100,15855]
[99100,null,null,null,{"$f":"CEILING(($E$753+(formule!$E$43*(A994-$A$753)))/100,1)*100","v":15100},17969,null,15550,18504,null,15100,15855]
[99200,null,null,null,{"$f":"CEILING(($E$753+(formule!$E$43*(A995-$A$753)))/100,1)*100","v":15100},17969,null,15550,18504,null,15100,15855]
[99300,null,null,null,{"$f":"CEILING(($E$753+(formule!$E$43*(A996-$A$753)))/100,1)*100","v":15100},17969,null,15550,18504,null,15100,15855]
[99400,null,null,null,{"$f":"CEILING(($E$753+(formule!$E$43*(A997-$A$753)))/100,1)*100","v":15200},18088,null,15650,18623,null,15200,15960]
[99500,null,null,null,{"$f":"CEILING(($E$753+(formule!$E$43*(A998-$A$753)))/100,1)*100","v":15200},18088,null,15650,18623,null,15200,15960]
[99600,null,null,null,{"$f":"CEILING(($E$753+(formule!$E$43*(A999-$A$753)))/100,1)*100","v":15200},18088,null,15650,18623,null,15200,15960]
[99700,null,null,null,{"$f":"CEILING(($E$753+(formule!$E$43*(A1000-$A$753)))/100,1)*100","v":15200},18088,null,15650,18623,null,15200,15960]
[99800,null,null,null,{"$f":"CEILING(($E$753+(formule!$E$43*(A1001-$A$753)))/100,1)*100","v":15200},18088,null,{"$f":"E1001+450","v":15650},{"$f":"F1001+535","v":18623},null,15200,15960]
[99900,null,null,null,{"$f":"CEILING(($E$753+(formule!$E$43*(A1002-$A$753)))/100,1)*100","v":15200},18088,null,15650,18623,null,15200,15960]
[100000,null,null,null,{"$f":"CEILING(($E$753+(formule!$E$43*(A1003-$A$753)))/100,1)*100","v":15200},18088,null,15650,18623,null,15200,15960]
[{"$f":"A1003+100","v":100100},null,null,null,{"$f":"CEILING(($E$1003+formule!$E$44*(A1004-$A$1003))/100,1)*100","v":15300},18207,null,15750,18742,null,15300,16065]
[{"$f":"A1004+100","v":100200},null,null,null,{"$f":"CEILING(($E$1003+formule!$E$44*(A1005-$A$1003))/100,1)*100","v":15300},18207,null,15750,18742,null,15300,16065]
[100300,null,null,null,{"$f":"CEILING(($E$1003+formule!$E$44*(A1006-$A$1003))/100,1)*100","v":15300},18207,null,15750,18742,null,15300,16065]
[100400,null,null,null,{"$f":"CEILING(($E$1003+formule!$E$44*(A1007-$A$1003))/100,1)*100","v":15300},18207,null,15750,18742,null,15300,16065]
[100500,null,null,null,{"$f":"CEILING(($E$1003+formule!$E$44*(A1008-$A$1003))/100,1)*100","v":15300},18207,null,15750,18742,null,15300,16065]
[100600,null,null,null,{"$f":"CEILING(($E$1003+formule!$E$44*(A1009-$A$1003))/100,1)*100","v":15300},{"$f":"E1009*1.19","v":18207},null,15750,18742,null,15300,16065]
[100700,null,null,null,{"$f":"CEILING(($E$1003+formule!$E$44*(A1010-$A$1003))/100,1)*100","v":15300},18207,null,15750,18742,null,15300,16065]
[100800,null,null,null,{"$f":"CEILING(($E$1003+formule!$E$44*(A1011-$A$1003))/100,1)*100","v":15300},18207,null,15750,18742,null,15300,16065]
[100900,null,null,null,{"$f":"CEILING(($E$1003+formule!$E$44*(A1012-$A$1003))/100,1)*100","v":15300},18207,null,15750,18742,null,15300,16065]
[101000,null,null,null,{"$f":"CEILING(($E$1003+formule!$E$44*(A1013-$A$1003))/100,1)*100","v":15300},18207,null,15750,18742,null,15300,16065]
[101100,null,null,null,{"$f":"CEILING(($E$1003+formule!$E$44*(A1014-$A$1003))/100,1)*100","v":15400},18326,null,15850,18861,null,15400,16170]
[101200,null,null,null,{"$f":"CEILING(($E$1003+formule!$E$44*(A1015-$A$1003))/100,1)*100","v":15400},18326,null,15850,18861,null,15400,16170]
[101300,null,null,null,{"$f":"CEILING(($E$1003+formule!$E$44*(A1016-$A$1003))/100,1)*100","v":15400},18326,null,15850,18861,null,15400,16170]
[101400,null,null,null,{"$f":"CEILING(($E$1003+formule!$E$44*(A1017-$A$1003))/100,1)*100","v":15400},18326,null,15850,18861,null,15400,16170]
[101500,null,null,null,{"$f":"CEILING(($E$1003+formule!$E$44*(A1018-$A$1003))/100,1)*100","v":15400},18326,null,15850,18861,null,15400,16170]
[101600,null,null,null,{"$f":"CEILING(($E$1003+formule!$E$44*(A1019-$A$1003))/100,1)*100","v":15400},18326,null,15850,18861,null,15400,16170]
[101700,null,null,null,{"$f":"CEILING(($E$1003+formule!$E$44*(A1020-$A$1003))/100,1)*100","v":15400},18326,null,15850,18861,null,15400,16170]
[101800,null,null,null,{"$f":"CEILING(($E$1003+formule!$E$44*(A1021-$A$1003))/100,1)*100","v":15400},18326,null,15850,18861,null,15400,16170]
[101900,null,null,null,{"$f":"CEILING(($E$1003+formule!$E$44*(A1022-$A$1003))/100,1)*100","v":15400},18326,null,15850,18861,null,15400,16170]
[102000,null,null,null,{"$f":"CEILING(($E$1003+formule!$E$44*(A1023-$A$1003))/100,1)*100","v":15400},18326,null,15850,18861,null,15400,16170]
[102100,null,null,null,{"$f":"CEILING(($E$1003+formule!$E$44*(A1024-$A$1003))/100,1)*100","v":15500},18445,null,15950,18980,null,15500,16275]
[102200,null,null,null,{"$f":"CEILING(($E$1003+formule!$E$44*(A1025-$A$1003))/100,1)*100","v":15500},18445,null,15950,18980,null,15500,16275]
[102300,null,null,null,{"$f":"CEILING(($E$1003+formule!$E$44*(A1026-$A$1003))/100,1)*100","v":15500},18445,null,15950,18980,null,15500,16275]
[102400,null,null,null,{"$f":"CEILING(($E$1003+formule!$E$44*(A1027-$A$1003))/100,1)*100","v":15500},18445,null,15950,18980,null,15500,16275]
[102500,null,null,null,{"$f":"CEILING(($E$1003+formule!$E$44*(A1028-$A$1003))/100,1)*100","v":15500},18445,null,15950,18980,null,15500,16275]
[102600,null,null,null,{"$f":"CEILING(($E$1003+formule!$E$44*(A1029-$A$1003))/100,1)*100","v":15500},18445,null,15950,18980,null,{"$f":"E1029","v":15500},{"$f":"K1029*1.05","v":16275}]
[102700,null,null,null,{"$f":"CEILING(($E$1003+formule!$E$44*(A1030-$A$1003))/100,1)*100","v":15500},18445,null,15950,18980,null,15500,16275]
[102800,null,null,null,{"$f":"CEILING(($E$1003+formule!$E$44*(A1031-$A$1003))/100,1)*100","v":15500},18445,null,15950,18980,null,15500,16275]
[102900,null,null,null,{"$f":"CEILING(($E$1003+formule!$E$44*(A1032-$A$1003))/100,1)*100","v":15500},18445,null,15950,18980,null,15500,16275]
[103000,null,null,null,{"$f":"CEILING(($E$1003+formule!$E$44*(A1033-$A$1003))/100,1)*100","v":15500},18445,null,15950,18980,null,15500,16275]
[103100,null,null,null,{"$f":"CEILING(($E$1003+formule!$E$44*(A1034-$A$1003))/100,1)*100","v":15600},18564,null,16050,19099,null,15600,16380]
[103200,null,null,null,{"$f":"CEILING(($E$1003+formule!$E$44*(A1035-$A$1003))/100,1)*100","v":15600},18564,null,16050,19099,null,15600,16380]
[103300,null,null,null,{"$f":"CEILING(($E$1003+formule!$E$44*(A1036-$A$1003))/100,1)*100","v":15600},18564,null,16050,19099,null,15600,16380]
[103400,null,null,null,{"$f":"CEILING(($E$1003+formule!$E$44*(A1037-$A$1003))/100,1)*100","v":15600},18564,null,16050,19099,null,15600,16380]
[103500,null,null,null,{"$f":"CEILING(($E$1003+formule!$E$44*(A1038-$A$1003))/100,1)*100","v":15600},18564,null,16050,19099,null,15600,16380]
[103600,null,null,null,{"$f":"CEILING(($E$1003+formule!$E$44*(A1039-$A$1003))/100,1)*100","v":15600},18564,null,16050,19099,null,15600,16380]
[103700,null,null,null,{"$f":"CEILING(($E$1003+formule!$E$44*(A1040-$A$1003))/100,1)*100","v":15600},18564,null,16050,19099,null,15600,16380]
[103800,null,null,null,{"$f":"CEILING(($E$1003+formule!$E$44*(A1041-$A$1003))/100,1)*100","v":15600},18564,null,16050,19099,null,15600,16380]
[103900,null,null,null,{"$f":"CEILING(($E$1003+formule!$E$44*(A1042-$A$1003))/100,1)*100","v":15600},18564,null,16050,19099,null,15600,16380]
[104000,null,null,null,{"$f":"CEILING(($E$1003+formule!$E$44*(A1043-$A$1003))/100,1)*100","v":15600},18564,null,16050,19099,null,15600,16380]
[104100,null,null,null,{"$f":"CEILING(($E$1003+formule!$E$44*(A1044-$A$1003))/100,1)*100","v":15700},18683,null,16150,19218,null,15700,16485]
[104200,null,null,null,{"$f":"CEILING(($E$1003+formule!$E$44*(A1045-$A$1003))/100,1)*100","v":15700},18683,null,16150,19218,null,15700,16485]
[104300,null,null,null,{"$f":"CEILING(($E$1003+formule!$E$44*(A1046-$A$1003))/100,1)*100","v":15700},18683,null,16150,19218,null,15700,16485]
[104400,null,null,null,{"$f":"CEILING(($E$1003+formule!$E$44*(A1047-$A$1003))/100,1)*100","v":15700},18683,null,16150,19218,null,15700,16485]
[104500,null,null,null,{"$f":"CEILING(($E$1003+formule!$E$44*(A1048-$A$1003))/100,1)*100","v":15700},18683,null,16150,19218,null,15700,16485]
[104600,null,null,null,{"$f":"CEILING(($E$1003+formule!$E$44*(A1049-$A$1003))/100,1)*100","v":15700},18683,null,16150,19218,null,15700,16485]
[104700,null,null,null,{"$f":"CEILING(($E$1003+formule!$E$44*(A1050-$A$1003))/100,1)*100","v":15700},18683,null,16150,19218,null,15700,16485]
[104800,null,null,null,{"$f":"CEILING(($E$1003+formule!$E$44*(A1051-$A$1003))/100,1)*100","v":15700},18683,null,16150,19218,null,15700,16485]
[104900,null,null,null,{"$f":"CEILING(($E$1003+formule!$E$44*(A1052-$A$1003))/100,1)*100","v":15700},18683,null,16150,19218,null,15700,16485]
[105000,null,null,null,{"$f":"CEILING(($E$1003+formule!$E$44*(A1053-$A$1003))/100,1)*100","v":15700},18683,null,16150,19218,null,15700,16485]
[105100,null,null,null,{"$f":"CEILING(($E$1003+formule!$E$44*(A1054-$A$1003))/100,1)*100","v":15800},18802,null,16250,19337,null,15800,16590]
[105200,null,null,null,{"$f":"CEILING(($E$1003+formule!$E$44*(A1055-$A$1003))/100,1)*100","v":15800},18802,null,16250,19337,null,15800,16590]
[105300,null,null,null,{"$f":"CEILING(($E$1003+formule!$E$44*(A1056-$A$1003))/100,1)*100","v":15800},18802,null,16250,19337,null,15800,16590]
[105400,null,null,null,{"$f":"CEILING(($E$1003+formule!$E$44*(A1057-$A$1003))/100,1)*100","v":15800},18802,null,16250,19337,null,15800,16590]
[105500,null,null,null,{"$f":"CEILING(($E$1003+formule!$E$44*(A1058-$A$1003))/100,1)*100","v":15800},18802,null,16250,19337,null,15800,16590]
[105600,null,null,null,{"$f":"CEILING(($E$1003+formule!$E$44*(A1059-$A$1003))/100,1)*100","v":15800},18802,null,16250,19337,null,15800,16590]
[105700,null,null,null,{"$f":"CEILING(($E$1003+formule!$E$44*(A1060-$A$1003))/100,1)*100","v":15800},18802,null,16250,19337,null,15800,16590]
[105800,null,null,null,{"$f":"CEILING(($E$1003+formule!$E$44*(A1061-$A$1003))/100,1)*100","v":15800},18802,null,16250,19337,null,15800,16590]
[105900,null,null,null,{"$f":"CEILING(($E$1003+formule!$E$44*(A1062-$A$1003))/100,1)*100","v":15800},18802,null,16250,19337,null,15800,16590]
[106000,null,null,null,{"$f":"CEILING(($E$1003+formule!$E$44*(A1063-$A$1003))/100,1)*100","v":15800},18802,null,16250,19337,null,15800,16590]
[106100,null,null,null,{"$f":"CEILING(($E$1003+formule!$E$44*(A1064-$A$1003))/100,1)*100","v":15900},18921,null,16350,19456,null,15900,16695]
[106200,null,null,null,{"$f":"CEILING(($E$1003+formule!$E$44*(A1065-$A$1003))/100,1)*100","v":15900},18921,null,{"$f":"E1065+450","v":16350},{"$f":"F1065+535","v":19456},null,15900,16695]
[106300,null,null,null,{"$f":"CEILING(($E$1003+formule!$E$44*(A1066-$A$1003))/100,1)*100","v":15900},18921,null,16350,19456,null,15900,16695]
[106400,null,null,null,{"$f":"CEILING(($E$1003+formule!$E$44*(A1067-$A$1003))/100,1)*100","v":15900},18921,null,16350,19456,null,15900,16695]
[106500,null,null,null,{"$f":"CEILING(($E$1003+formule!$E$44*(A1068-$A$1003))/100,1)*100","v":15900},18921,null,16350,19456,null,15900,16695]
[{"$f":"A1068+100","v":106600},null,null,null,{"$f":"CEILING(($E$1003+formule!$E$44*(A1069-$A$1003))/100,1)*100","v":15900},18921,null,16350,19456,null,15900,16695]
[106700,null,null,null,{"$f":"CEILING(($E$1003+formule!$E$44*(A1070-$A$1003))/100,1)*100","v":15900},18921,null,16350,19456,null,15900,16695]
[106800,null,null,null,{"$f":"CEILING(($E$1003+formule!$E$44*(A1071-$A$1003))/100,1)*100","v":15900},18921,null,16350,19456,null,15900,16695]
[106900,null,null,null,{"$f":"CEILING(($E$1003+formule!$E$44*(A1072-$A$1003))/100,1)*100","v":15900},18921,null,16350,19456,null,15900,16695]
[107000,null,null,null,{"$f":"CEILING(($E$1003+formule!$E$44*(A1073-$A$1003))/100,1)*100","v":15900},{"$f":"E1073*1.19","v":18921},null,16350,19456,null,15900,16695]
[107100,null,null,null,{"$f":"CEILING(($E$1003+formule!$E$44*(A1074-$A$1003))/100,1)*100","v":15900},18921,null,16350,19456,null,15900,16695]
[107200,null,null,null,{"$f":"CEILING(($E$1003+formule!$E$44*(A1075-$A$1003))/100,1)*100","v":16000},19040,null,16450,19575,null,16000,16800]
[107300,null,null,null,{"$f":"CEILING(($E$1003+formule!$E$44*(A1076-$A$1003))/100,1)*100","v":16000},19040,null,16450,19575,null,16000,16800]
[107400,null,null,null,{"$f":"CEILING(($E$1003+formule!$E$44*(A1077-$A$1003))/100,1)*100","v":16000},19040,null,16450,19575,null,16000,16800]
[107500,null,null,null,{"$f":"CEILING(($E$1003+formule!$E$44*(A1078-$A$1003))/100,1)*100","v":16000},19040,null,16450,19575,null,16000,16800]
[107600,null,null,null,{"$f":"CEILING(($E$1003+formule!$E$44*(A1079-$A$1003))/100,1)*100","v":16000},19040,null,16450,19575,null,16000,16800]
[107700,null,null,null,{"$f":"CEILING(($E$1003+formule!$E$44*(A1080-$A$1003))/100,1)*100","v":16000},19040,null,16450,19575,null,16000,16800]
[107800,null,null,null,{"$f":"CEILING(($E$1003+formule!$E$44*(A1081-$A$1003))/100,1)*100","v":16000},19040,null,16450,19575,null,16000,16800]
[107900,null,null,null,{"$f":"CEILING(($E$1003+formule!$E$44*(A1082-$A$1003))/100,1)*100","v":16000},19040,null,16450,19575,null,16000,16800]
[108000,null,null,null,{"$f":"CEILING(($E$1003+formule!$E$44*(A1083-$A$1003))/100,1)*100","v":16000},19040,null,16450,19575,null,16000,16800]
[108100,null,null,null,{"$f":"CEILING(($E$1003+formule!$E$44*(A1084-$A$1003))/100,1)*100","v":16000},19040,null,16450,19575,null,16000,16800]
[108200,null,null,null,{"$f":"CEILING(($E$1003+formule!$E$44*(A1085-$A$1003))/100,1)*100","v":16100},19159,null,16550,19694,null,16100,16905]
[108300,null,null,null,{"$f":"CEILING(($E$1003+formule!$E$44*(A1086-$A$1003))/100,1)*100","v":16100},19159,null,16550,19694,null,16100,16905]
[108400,null,null,null,{"$f":"CEILING(($E$1003+formule!$E$44*(A1087-$A$1003))/100,1)*100","v":16100},19159,null,16550,19694,null,16100,16905]
[108500,null,null,null,{"$f":"CEILING(($E$1003+formule!$E$44*(A1088-$A$1003))/100,1)*100","v":16100},19159,null,16550,19694,null,16100,16905]
[108600,null,null,null,{"$f":"CEILING(($E$1003+formule!$E$44*(A1089-$A$1003))/100,1)*100","v":16100},19159,null,16550,19694,null,16100,16905]
[108700,null,null,null,{"$f":"CEILING(($E$1003+formule!$E$44*(A1090-$A$1003))/100,1)*100","v":16100},19159,null,16550,19694,null,16100,16905]
[108800,null,null,null,{"$f":"CEILING(($E$1003+formule!$E$44*(A1091-$A$1003))/100,1)*100","v":16100},19159,null,16550,19694,null,16100,16905]
[108900,null,null,null,{"$f":"CEILING(($E$1003+formule!$E$44*(A1092-$A$1003))/100,1)*100","v":16100},19159,null,16550,19694,null,16100,16905]
[109000,null,null,null,{"$f":"CEILING(($E$1003+formule!$E$44*(A1093-$A$1003))/100,1)*100","v":16100},19159,null,16550,19694,null,{"$f":"E1093","v":16100},{"$f":"K1093*1.05","v":16905}]
[109100,null,null,null,{"$f":"CEILING(($E$1003+formule!$E$44*(A1094-$A$1003))/100,1)*100","v":16100},19159,null,16550,19694,null,16100,16905]
[109200,null,null,null,{"$f":"CEILING(($E$1003+formule!$E$44*(A1095-$A$1003))/100,1)*100","v":16200},19278,null,16650,19813,null,16200,17010]
[109300,null,null,null,{"$f":"CEILING(($E$1003+formule!$E$44*(A1096-$A$1003))/100,1)*100","v":16200},19278,null,16650,19813,null,16200,17010]
[109400,null,null,null,{"$f":"CEILING(($E$1003+formule!$E$44*(A1097-$A$1003))/100,1)*100","v":16200},19278,null,16650,19813,null,16200,17010]
[109500,null,null,null,{"$f":"CEILING(($E$1003+formule!$E$44*(A1098-$A$1003))/100,1)*100","v":16200},19278,null,16650,19813,null,16200,17010]
[109600,null,null,null,{"$f":"CEILING(($E$1003+formule!$E$44*(A1099-$A$1003))/100,1)*100","v":16200},19278,null,16650,19813,null,16200,17010]
[109700,null,null,null,{"$f":"CEILING(($E$1003+formule!$E$44*(A1100-$A$1003))/100,1)*100","v":16200},19278,null,16650,19813,null,16200,17010]
[109800,null,null,null,{"$f":"CEILING(($E$1003+formule!$E$44*(A1101-$A$1003))/100,1)*100","v":16200},19278,null,16650,19813,null,16200,17010]
[109900,null,null,null,{"$f":"CEILING(($E$1003+formule!$E$44*(A1102-$A$1003))/100,1)*100","v":16200},19278,null,16650,19813,null,16200,17010]
[110000,null,null,null,{"$f":"CEILING(($E$1003+formule!$E$44*(A1103-$A$1003))/100,1)*100","v":16200},19278,null,16650,19813,null,16200,17010]
[110100,null,null,null,{"$f":"CEILING(($E$1003+formule!$E$44*(A1104-$A$1003))/100,1)*100","v":16200},19278,null,16650,19813,null,16200,17010]
[110200,null,null,null,{"$f":"CEILING(($E$1003+formule!$E$44*(A1105-$A$1003))/100,1)*100","v":16300},19397,null,16750,19932,null,16300,17115]
[110300,null,null,null,{"$f":"CEILING(($E$1003+formule!$E$44*(A1106-$A$1003))/100,1)*100","v":16300},19397,null,16750,19932,null,16300,17115]
[110400,null,null,null,{"$f":"CEILING(($E$1003+formule!$E$44*(A1107-$A$1003))/100,1)*100","v":16300},19397,null,16750,19932,null,16300,17115]
[110500,null,null,null,{"$f":"CEILING(($E$1003+formule!$E$44*(A1108-$A$1003))/100,1)*100","v":16300},19397,null,16750,19932,null,16300,17115]
[110600,null,null,null,{"$f":"CEILING(($E$1003+formule!$E$44*(A1109-$A$1003))/100,1)*100","v":16300},19397,null,16750,19932,null,16300,17115]
[110700,null,null,null,{"$f":"CEILING(($E$1003+formule!$E$44*(A1110-$A$1003))/100,1)*100","v":16300},19397,null,16750,19932,null,16300,17115]
[110800,null,null,null,{"$f":"CEILING(($E$1003+formule!$E$44*(A1111-$A$1003))/100,1)*100","v":16300},19397,null,16750,19932,null,16300,17115]
[110900,null,null,null,{"$f":"CEILING(($E$1003+formule!$E$44*(A1112-$A$1003))/100,1)*100","v":16300},19397,null,16750,19932,null,16300,17115]
[111000,null,null,null,{"$f":"CEILING(($E$1003+formule!$E$44*(A1113-$A$1003))/100,1)*100","v":16300},19397,null,16750,19932,null,16300,17115]
[111100,null,null,null,{"$f":"CEILING(($E$1003+formule!$E$44*(A1114-$A$1003))/100,1)*100","v":16300},19397,null,16750,19932,null,16300,17115]
[111200,null,null,null,{"$f":"CEILING(($E$1003+formule!$E$44*(A1115-$A$1003))/100,1)*100","v":16400},19516,null,16850,20051,null,16400,17220]
[111300,null,null,null,{"$f":"CEILING(($E$1003+formule!$E$44*(A1116-$A$1003))/100,1)*100","v":16400},19516,null,16850,20051,null,16400,17220]
[111400,null,null,null,{"$f":"CEILING(($E$1003+formule!$E$44*(A1117-$A$1003))/100,1)*100","v":16400},19516,null,16850,20051,null,16400,17220]
[111500,null,null,null,{"$f":"CEILING(($E$1003+formule!$E$44*(A1118-$A$1003))/100,1)*100","v":16400},19516,null,16850,20051,null,16400,17220]
[111600,null,null,null,{"$f":"CEILING(($E$1003+formule!$E$44*(A1119-$A$1003))/100,1)*100","v":16400},19516,null,16850,20051,null,16400,17220]
[111700,null,null,null,{"$f":"CEILING(($E$1003+formule!$E$44*(A1120-$A$1003))/100,1)*100","v":16400},19516,null,16850,20051,null,16400,17220]
[111800,null,null,null,{"$f":"CEILING(($E$1003+formule!$E$44*(A1121-$A$1003))/100,1)*100","v":16400},19516,null,16850,20051,null,16400,17220]
[111900,null,null,null,{"$f":"CEILING(($E$1003+formule!$E$44*(A1122-$A$1003))/100,1)*100","v":16400},19516,null,16850,20051,null,16400,17220]
[112000,null,null,null,{"$f":"CEILING(($E$1003+formule!$E$44*(A1123-$A$1003))/100,1)*100","v":16400},19516,null,16850,20051,null,16400,17220]
[112100,null,null,null,{"$f":"CEILING(($E$1003+formule!$E$44*(A1124-$A$1003))/100,1)*100","v":16400},19516,null,16850,20051,null,16400,17220]
[112200,null,null,null,{"$f":"CEILING(($E$1003+formule!$E$44*(A1125-$A$1003))/100,1)*100","v":16500},19635,null,16950,20170,null,16500,17325]
[112300,null,null,null,{"$f":"CEILING(($E$1003+formule!$E$44*(A1126-$A$1003))/100,1)*100","v":16500},19635,null,16950,20170,null,16500,17325]
[112400,null,null,null,{"$f":"CEILING(($E$1003+formule!$E$44*(A1127-$A$1003))/100,1)*100","v":16500},19635,null,16950,20170,null,16500,17325]
[112500,null,null,null,{"$f":"CEILING(($E$1003+formule!$E$44*(A1128-$A$1003))/100,1)*100","v":16500},19635,null,16950,20170,null,16500,17325]
[112600,null,null,null,{"$f":"CEILING(($E$1003+formule!$E$44*(A1129-$A$1003))/100,1)*100","v":16500},19635,null,{"$f":"E1129+450","v":16950},{"$f":"F1129+535","v":20170},null,16500,17325]
[112700,null,null,null,{"$f":"CEILING(($E$1003+formule!$E$44*(A1130-$A$1003))/100,1)*100","v":16500},19635,null,16950,20170,null,16500,17325]
[112800,null,null,null,{"$f":"CEILING(($E$1003+formule!$E$44*(A1131-$A$1003))/100,1)*100","v":16500},19635,null,16950,20170,null,16500,17325]
[112900,null,null,null,{"$f":"CEILING(($E$1003+formule!$E$44*(A1132-$A$1003))/100,1)*100","v":16500},19635,null,16950,20170,null,16500,17325]
[{"$f":"A1132+100","v":113000},null,null,null,{"$f":"CEILING(($E$1003+formule!$E$44*(A1133-$A$1003))/100,1)*100","v":16500},19635,null,16950,20170,null,16500,17325]
[113100,null,null,null,{"$f":"CEILING(($E$1003+formule!$E$44*(A1134-$A$1003))/100,1)*100","v":16500},19635,null,16950,20170,null,16500,17325]
[113200,null,null,null,{"$f":"CEILING(($E$1003+formule!$E$44*(A1135-$A$1003))/100,1)*100","v":16600},19754,null,17050,20289,null,16600,17430]
[113300,null,null,null,{"$f":"CEILING(($E$1003+formule!$E$44*(A1136-$A$1003))/100,1)*100","v":16600},19754,null,17050,20289,null,16600,17430]
[113400,null,null,null,{"$f":"CEILING(($E$1003+formule!$E$44*(A1137-$A$1003))/100,1)*100","v":16600},{"$f":"E1137*1.19","v":19754},null,17050,20289,null,16600,17430]
[113500,null,null,null,{"$f":"CEILING(($E$1003+formule!$E$44*(A1138-$A$1003))/100,1)*100","v":16600},19754,null,17050,20289,null,16600,17430]
[113600,null,null,null,{"$f":"CEILING(($E$1003+formule!$E$44*(A1139-$A$1003))/100,1)*100","v":16600},19754,null,17050,20289,null,16600,17430]
[113700,null,null,null,{"$f":"CEILING(($E$1003+formule!$E$44*(A1140-$A$1003))/100,1)*100","v":16600},19754,null,17050,20289,null,16600,17430]
[113800,null,null,null,{"$f":"CEILING(($E$1003+formule!$E$44*(A1141-$A$1003))/100,1)*100","v":16600},19754,null,17050,20289,null,16600,17430]
[113900,null,null,null,{"$f":"CEILING(($E$1003+formule!$E$44*(A1142-$A$1003))/100,1)*100","v":16600},19754,null,17050,20289,null,16600,17430]
[114000,null,null,null,{"$f":"CEILING(($E$1003+formule!$E$44*(A1143-$A$1003))/100,1)*100","v":16600},19754,null,17050,20289,null,16600,17430]
[114100,null,null,null,{"$f":"CEILING(($E$1003+formule!$E$44*(A1144-$A$1003))/100,1)*100","v":16600},19754,null,17050,20289,null,16600,17430]
[114200,null,null,null,{"$f":"CEILING(($E$1003+formule!$E$44*(A1145-$A$1003))/100,1)*100","v":16600},19754,null,17050,20289,null,16600,17430]
[114300,null,null,null,{"$f":"CEILING(($E$1003+formule!$E$44*(A1146-$A$1003))/100,1)*100","v":16700},19873,null,17150,20408,null,16700,17535]
[114400,null,null,null,{"$f":"CEILING(($E$1003+formule!$E$44*(A1147-$A$1003))/100,1)*100","v":16700},19873,null,17150,20408,null,16700,17535]
[114500,null,null,null,{"$f":"CEILING(($E$1003+formule!$E$44*(A1148-$A$1003))/100,1)*100","v":16700},19873,null,17150,20408,null,16700,17535]
[114600,null,null,null,{"$f":"CEILING(($E$1003+formule!$E$44*(A1149-$A$1003))/100,1)*100","v":16700},19873,null,17150,20408,null,16700,17535]
[114700,null,null,null,{"$f":"CEILING(($E$1003+formule!$E$44*(A1150-$A$1003))/100,1)*100","v":16700},19873,null,17150,20408,null,16700,17535]
[114800,null,null,null,{"$f":"CEILING(($E$1003+formule!$E$44*(A1151-$A$1003))/100,1)*100","v":16700},19873,null,17150,20408,null,16700,17535]
[114900,null,null,null,{"$f":"CEILING(($E$1003+formule!$E$44*(A1152-$A$1003))/100,1)*100","v":16700},19873,null,17150,20408,null,16700,17535]
[115000,null,null,null,{"$f":"CEILING(($E$1003+formule!$E$44*(A1153-$A$1003))/100,1)*100","v":16700},19873,null,17150,20408,null,16700,17535]
[115100,null,null,null,{"$f":"CEILING(($E$1003+formule!$E$44*(A1154-$A$1003))/100,1)*100","v":16700},19873,null,17150,20408,null,16700,17535]
[115200,null,null,null,{"$f":"CEILING(($E$1003+formule!$E$44*(A1155-$A$1003))/100,1)*100","v":16700},19873,null,17150,20408,null,16700,17535]
[115300,null,null,null,{"$f":"CEILING(($E$1003+formule!$E$44*(A1156-$A$1003))/100,1)*100","v":16800},19992,null,17250,20527,null,16800,17640]
[115400,null,null,null,{"$f":"CEILING(($E$1003+formule!$E$44*(A1157-$A$1003))/100,1)*100","v":16800},19992,null,17250,20527,null,{"$f":"E1157","v":16800},{"$f":"K1157*1.05","v":17640}]
[115500,null,null,null,{"$f":"CEILING(($E$1003+formule!$E$44*(A1158-$A$1003))/100,1)*100","v":16800},19992,null,17250,20527,null,16800,17640]
[115600,null,null,null,{"$f":"CEILING(($E$1003+formule!$E$44*(A1159-$A$1003))/100,1)*100","v":16800},19992,null,17250,20527,null,16800,17640]
[115700,null,null,null,{"$f":"CEILING(($E$1003+formule!$E$44*(A1160-$A$1003))/100,1)*100","v":16800},19992,null,17250,20527,null,16800,17640]
[115800,null,null,null,{"$f":"CEILING(($E$1003+formule!$E$44*(A1161-$A$1003))/100,1)*100","v":16800},19992,null,17250,20527,null,16800,17640]
[115900,null,null,null,{"$f":"CEILING(($E$1003+formule!$E$44*(A1162-$A$1003))/100,1)*100","v":16800},19992,null,17250,20527,null,16800,17640]
[116000,null,null,null,{"$f":"CEILING(($E$1003+formule!$E$44*(A1163-$A$1003))/100,1)*100","v":16800},19992,null,17250,20527,null,16800,17640]
[116100,null,null,null,{"$f":"CEILING(($E$1003+formule!$E$44*(A1164-$A$1003))/100,1)*100","v":16800},19992,null,17250,20527,null,16800,17640]
[116200,null,null,null,{"$f":"CEILING(($E$1003+formule!$E$44*(A1165-$A$1003))/100,1)*100","v":16800},19992,null,17250,20527,null,16800,17640]
[116300,null,null,null,{"$f":"CEILING(($E$1003+formule!$E$44*(A1166-$A$1003))/100,1)*100","v":16900},20111,null,17350,20646,null,16900,17745]
[116400,null,null,null,{"$f":"CEILING(($E$1003+formule!$E$44*(A1167-$A$1003))/100,1)*100","v":16900},20111,null,17350,20646,null,16900,17745]
[116500,null,null,null,{"$f":"CEILING(($E$1003+formule!$E$44*(A1168-$A$1003))/100,1)*100","v":16900},20111,null,17350,20646,null,16900,17745]
[116600,null,null,null,{"$f":"CEILING(($E$1003+formule!$E$44*(A1169-$A$1003))/100,1)*100","v":16900},20111,null,17350,20646,null,16900,17745]
[116700,null,null,null,{"$f":"CEILING(($E$1003+formule!$E$44*(A1170-$A$1003))/100,1)*100","v":16900},20111,null,17350,20646,null,16900,17745]
[116800,null,null,null,{"$f":"CEILING(($E$1003+formule!$E$44*(A1171-$A$1003))/100,1)*100","v":16900},20111,null,17350,20646,null,16900,17745]
[116900,null,null,null,{"$f":"CEILING(($E$1003+formule!$E$44*(A1172-$A$1003))/100,1)*100","v":16900},20111,null,17350,20646,null,16900,17745]
[117000,null,null,null,{"$f":"CEILING(($E$1003+formule!$E$44*(A1173-$A$1003))/100,1)*100","v":16900},20111,null,17350,20646,null,16900,17745]
[117100,null,null,null,{"$f":"CEILING(($E$1003+formule!$E$44*(A1174-$A$1003))/100,1)*100","v":16900},20111,null,17350,20646,null,16900,17745]
[117200,null,null,null,{"$f":"CEILING(($E$1003+formule!$E$44*(A1175-$A$1003))/100,1)*100","v":16900},20111,null,17350,20646,null,16900,17745]
[117300,null,null,null,{"$f":"CEILING(($E$1003+formule!$E$44*(A1176-$A$1003))/100,1)*100","v":17000},20230,null,17450,20765,null,17000,17850]
[117400,null,null,null,{"$f":"CEILING(($E$1003+formule!$E$44*(A1177-$A$1003))/100,1)*100","v":17000},20230,null,17450,20765,null,17000,17850]
[117500,null,null,null,{"$f":"CEILING(($E$1003+formule!$E$44*(A1178-$A$1003))/100,1)*100","v":17000},20230,null,17450,20765,null,17000,17850]
[117600,null,null,null,{"$f":"CEILING(($E$1003+formule!$E$44*(A1179-$A$1003))/100,1)*100","v":17000},20230,null,17450,20765,null,17000,17850]
[117700,null,null,null,{"$f":"CEILING(($E$1003+formule!$E$44*(A1180-$A$1003))/100,1)*100","v":17000},20230,null,17450,20765,null,17000,17850]
[117800,null,null,null,{"$f":"CEILING(($E$1003+formule!$E$44*(A1181-$A$1003))/100,1)*100","v":17000},20230,null,17450,20765,null,17000,17850]
[117900,null,null,null,{"$f":"CEILING(($E$1003+formule!$E$44*(A1182-$A$1003))/100,1)*100","v":17000},20230,null,17450,20765,null,17000,17850]
[118000,null,null,null,{"$f":"CEILING(($E$1003+formule!$E$44*(A1183-$A$1003))/100,1)*100","v":17000},20230,null,17450,20765,null,17000,17850]
[118100,null,null,null,{"$f":"CEILING(($E$1003+formule!$E$44*(A1184-$A$1003))/100,1)*100","v":17000},20230,null,17450,20765,null,17000,17850]
[118200,null,null,null,{"$f":"CEILING(($E$1003+formule!$E$44*(A1185-$A$1003))/100,1)*100","v":17000},20230,null,17450,20765,null,17000,17850]
[118300,null,null,null,{"$f":"CEILING(($E$1003+formule!$E$44*(A1186-$A$1003))/100,1)*100","v":17100},20349,null,17550,20884,null,17100,17955]
[118400,null,null,null,{"$f":"CEILING(($E$1003+formule!$E$44*(A1187-$A$1003))/100,1)*100","v":17100},20349,null,17550,20884,null,17100,17955]
[118500,null,null,null,{"$f":"CEILING(($E$1003+formule!$E$44*(A1188-$A$1003))/100,1)*100","v":17100},20349,null,17550,20884,null,17100,17955]
[118600,null,null,null,{"$f":"CEILING(($E$1003+formule!$E$44*(A1189-$A$1003))/100,1)*100","v":17100},20349,null,17550,20884,null,17100,17955]
[118700,null,null,null,{"$f":"CEILING(($E$1003+formule!$E$44*(A1190-$A$1003))/100,1)*100","v":17100},20349,null,17550,20884,null,17100,17955]
[118800,null,null,null,{"$f":"CEILING(($E$1003+formule!$E$44*(A1191-$A$1003))/100,1)*100","v":17100},20349,null,17550,20884,null,17100,17955]
[118900,null,null,null,{"$f":"CEILING(($E$1003+formule!$E$44*(A1192-$A$1003))/100,1)*100","v":17100},20349,null,17550,20884,null,17100,17955]
[119000,null,null,null,{"$f":"CEILING(($E$1003+formule!$E$44*(A1193-$A$1003))/100,1)*100","v":17100},20349,null,{"$f":"E1193+450","v":17550},{"$f":"F1193+535","v":20884},null,17100,17955]
[119100,null,null,null,{"$f":"CEILING(($E$1003+formule!$E$44*(A1194-$A$1003))/100,1)*100","v":17100},20349,null,17550,20884,null,17100,17955]
[119200,null,null,null,{"$f":"CEILING(($E$1003+formule!$E$44*(A1195-$A$1003))/100,1)*100","v":17100},20349,null,17550,20884,null,17100,17955]
[119300,null,null,null,{"$f":"CEILING(($E$1003+formule!$E$44*(A1196-$A$1003))/100,1)*100","v":17200},20468,null,17650,21003,null,17200,18060]
[{"$f":"A1196+100","v":119400},null,null,null,{"$f":"CEILING(($E$1003+formule!$E$44*(A1197-$A$1003))/100,1)*100","v":17200},20468,null,17650,21003,null,17200,18060]
[119500,null,null,null,{"$f":"CEILING(($E$1003+formule!$E$44*(A1198-$A$1003))/100,1)*100","v":17200},20468,null,17650,21003,null,17200,18060]
[119600,null,null,null,{"$f":"CEILING(($E$1003+formule!$E$44*(A1199-$A$1003))/100,1)*100","v":17200},20468,null,17650,21003,null,17200,18060]
[119700,null,null,null,{"$f":"CEILING(($E$1003+formule!$E$44*(A1200-$A$1003))/100,1)*100","v":17200},20468,null,17650,21003,null,17200,18060]
[119800,null,null,null,{"$f":"CEILING(($E$1003+formule!$E$44*(A1201-$A$1003))/100,1)*100","v":17200},{"$f":"E1201*1.19","v":20468},null,17650,21003,null,17200,18060]
[119900,null,null,null,{"$f":"CEILING(($E$1003+formule!$E$44*(A1202-$A$1003))/100,1)*100","v":17200},20468,null,17650,21003,null,17200,18060]
[120000,null,null,null,{"$f":"CEILING(($E$1003+formule!$E$44*(A1203-$A$1003))/100,1)*100","v":17200},20468,null,17650,21003,null,17200,18060]
[120100,null,null,null,{"$f":"CEILING(($E$1003+formule!$E$44*(A1204-$A$1003))/100,1)*100","v":17200},20468,null,17650,21003,null,17200,18060]
[120200,null,null,null,{"$f":"CEILING(($E$1003+formule!$E$44*(A1205-$A$1003))/100,1)*100","v":17200},20468,null,17650,21003,null,17200,18060]
[120300,null,null,null,{"$f":"CEILING(($E$1003+formule!$E$44*(A1206-$A$1003))/100,1)*100","v":17300},20587,null,17750,21122,null,17300,18165]
[120400,null,null,null,{"$f":"CEILING(($E$1003+formule!$E$44*(A1207-$A$1003))/100,1)*100","v":17300},20587,null,17750,21122,null,17300,18165]
[120500,null,null,null,{"$f":"CEILING(($E$1003+formule!$E$44*(A1208-$A$1003))/100,1)*100","v":17300},20587,null,17750,21122,null,17300,18165]
[120600,null,null,null,{"$f":"CEILING(($E$1003+formule!$E$44*(A1209-$A$1003))/100,1)*100","v":17300},20587,null,17750,21122,null,17300,18165]
[120700,null,null,null,{"$f":"CEILING(($E$1003+formule!$E$44*(A1210-$A$1003))/100,1)*100","v":17300},20587,null,17750,21122,null,17300,18165]
[120800,null,null,null,{"$f":"CEILING(($E$1003+formule!$E$44*(A1211-$A$1003))/100,1)*100","v":17300},20587,null,17750,21122,null,17300,18165]
[120900,null,null,null,{"$f":"CEILING(($E$1003+formule!$E$44*(A1212-$A$1003))/100,1)*100","v":17300},20587,null,17750,21122,null,17300,18165]
[121000,null,null,null,{"$f":"CEILING(($E$1003+formule!$E$44*(A1213-$A$1003))/100,1)*100","v":17300},20587,null,17750,21122,null,17300,18165]
[121100,null,null,null,{"$f":"CEILING(($E$1003+formule!$E$44*(A1214-$A$1003))/100,1)*100","v":17300},20587,null,17750,21122,null,17300,18165]
[121200,null,null,null,{"$f":"CEILING(($E$1003+formule!$E$44*(A1215-$A$1003))/100,1)*100","v":17300},20587,null,17750,21122,null,17300,18165]
[121300,null,null,null,{"$f":"CEILING(($E$1003+formule!$E$44*(A1216-$A$1003))/100,1)*100","v":17300},20587,null,17750,21122,null,17300,18165]
[121400,null,null,null,{"$f":"CEILING(($E$1003+formule!$E$44*(A1217-$A$1003))/100,1)*100","v":17400},20706,null,17850,21241,null,17400,18270]
[121500,null,null,null,{"$f":"CEILING(($E$1003+formule!$E$44*(A1218-$A$1003))/100,1)*100","v":17400},20706,null,17850,21241,null,17400,18270]
[121600,null,null,null,{"$f":"CEILING(($E$1003+formule!$E$44*(A1219-$A$1003))/100,1)*100","v":17400},20706,null,17850,21241,null,17400,18270]
[121700,null,null,null,{"$f":"CEILING(($E$1003+formule!$E$44*(A1220-$A$1003))/100,1)*100","v":17400},20706,null,17850,21241,null,17400,18270]
[121800,null,null,null,{"$f":"CEILING(($E$1003+formule!$E$44*(A1221-$A$1003))/100,1)*100","v":17400},20706,null,17850,21241,null,{"$f":"E1221","v":17400},{"$f":"K1221*1.05","v":18270}]
[121900,null,null,null,{"$f":"CEILING(($E$1003+formule!$E$44*(A1222-$A$1003))/100,1)*100","v":17400},20706,null,17850,21241,null,17400,18270]
[122000,null,null,null,{"$f":"CEILING(($E$1003+formule!$E$44*(A1223-$A$1003))/100,1)*100","v":17400},20706,null,17850,21241,null,17400,18270]
[122100,null,null,null,{"$f":"CEILING(($E$1003+formule!$E$44*(A1224-$A$1003))/100,1)*100","v":17400},20706,null,17850,21241,null,17400,18270]
[122200,null,null,null,{"$f":"CEILING(($E$1003+formule!$E$44*(A1225-$A$1003))/100,1)*100","v":17400},20706,null,17850,21241,null,17400,18270]
[122300,null,null,null,{"$f":"CEILING(($E$1003+formule!$E$44*(A1226-$A$1003))/100,1)*100","v":17400},20706,null,17850,21241,null,17400,18270]
[122400,null,null,null,{"$f":"CEILING(($E$1003+formule!$E$44*(A1227-$A$1003))/100,1)*100","v":17500},20825,null,17950,21360,null,17500,18375]
[122500,null,null,null,{"$f":"CEILING(($E$1003+formule!$E$44*(A1228-$A$1003))/100,1)*100","v":17500},20825,null,17950,21360,null,17500,18375]
[122600,null,null,null,{"$f":"CEILING(($E$1003+formule!$E$44*(A1229-$A$1003))/100,1)*100","v":17500},20825,null,17950,21360,null,17500,18375]
[122700,null,null,null,{"$f":"CEILING(($E$1003+formule!$E$44*(A1230-$A$1003))/100,1)*100","v":17500},20825,null,17950,21360,null,17500,18375]
[122800,null,null,null,{"$f":"CEILING(($E$1003+formule!$E$44*(A1231-$A$1003))/100,1)*100","v":17500},20825,null,17950,21360,null,17500,18375]
[122900,null,null,null,{"$f":"CEILING(($E$1003+formule!$E$44*(A1232-$A$1003))/100,1)*100","v":17500},20825,null,17950,21360,null,17500,18375]
[123000,null,null,null,{"$f":"CEILING(($E$1003+formule!$E$44*(A1233-$A$1003))/100,1)*100","v":17500},20825,null,17950,21360,null,17500,18375]
[123100,null,null,null,{"$f":"CEILING(($E$1003+formule!$E$44*(A1234-$A$1003))/100,1)*100","v":17500},20825,null,17950,21360,null,17500,18375]
[123200,null,null,null,{"$f":"CEILING(($E$1003+formule!$E$44*(A1235-$A$1003))/100,1)*100","v":17500},20825,null,17950,21360,null,17500,18375]
[123300,null,null,null,{"$f":"CEILING(($E$1003+formule!$E$44*(A1236-$A$1003))/100,1)*100","v":17500},20825,null,17950,21360,null,17500,18375]
[123400,null,null,null,{"$f":"CEILING(($E$1003+formule!$E$44*(A1237-$A$1003))/100,1)*100","v":17600},20944,null,18050,21479,null,17600,18480]
[123500,null,null,null,{"$f":"CEILING(($E$1003+formule!$E$44*(A1238-$A$1003))/100,1)*100","v":17600},20944,null,18050,21479,null,17600,18480]
[123600,null,null,null,{"$f":"CEILING(($E$1003+formule!$E$44*(A1239-$A$1003))/100,1)*100","v":17600},20944,null,18050,21479,null,17600,18480]
[123700,null,null,null,{"$f":"CEILING(($E$1003+formule!$E$44*(A1240-$A$1003))/100,1)*100","v":17600},20944,null,18050,21479,null,17600,18480]
[123800,null,null,null,{"$f":"CEILING(($E$1003+formule!$E$44*(A1241-$A$1003))/100,1)*100","v":17600},20944,null,18050,21479,null,17600,18480]
[123900,null,null,null,{"$f":"CEILING(($E$1003+formule!$E$44*(A1242-$A$1003))/100,1)*100","v":17600},20944,null,18050,21479,null,17600,18480]
[124000,null,null,null,{"$f":"CEILING(($E$1003+formule!$E$44*(A1243-$A$1003))/100,1)*100","v":17600},20944,null,18050,21479,null,17600,18480]
[124100,null,null,null,{"$f":"CEILING(($E$1003+formule!$E$44*(A1244-$A$1003))/100,1)*100","v":17600},20944,null,18050,21479,null,17600,18480]
[124200,null,null,null,{"$f":"CEILING(($E$1003+formule!$E$44*(A1245-$A$1003))/100,1)*100","v":17600},20944,null,18050,21479,null,17600,18480]
[124300,null,null,null,{"$f":"CEILING(($E$1003+formule!$E$44*(A1246-$A$1003))/100,1)*100","v":17600},20944,null,18050,21479,null,17600,18480]
[124400,null,null,null,{"$f":"CEILING(($E$1003+formule!$E$44*(A1247-$A$1003))/100,1)*100","v":17700},21063,null,18150,21598,null,17700,18585]
[124500,null,null,null,{"$f":"CEILING(($E$1003+formule!$E$44*(A1248-$A$1003))/100,1)*100","v":17700},21063,null,18150,21598,null,17700,18585]
[124600,null,null,null,{"$f":"CEILING(($E$1003+formule!$E$44*(A1249-$A$1003))/100,1)*100","v":17700},21063,null,18150,21598,null,17700,18585]
[124700,null,null,null,{"$f":"CEILING(($E$1003+formule!$E$44*(A1250-$A$1003))/100,1)*100","v":17700},21063,null,18150,21598,null,17700,18585]
[124800,null,null,null,{"$f":"CEILING(($E$1003+formule!$E$44*(A1251-$A$1003))/100,1)*100","v":17700},21063,null,18150,21598,null,17700,18585]
[124900,null,null,null,{"$f":"CEILING(($E$1003+formule!$E$44*(A1252-$A$1003))/100,1)*100","v":17700},21063,null,18150,21598,null,17700,18585]
[125000,null,null,null,{"$f":"CEILING(($E$1003+formule!$E$44*(A1253-$A$1003))/100,1)*100","v":17700},21063,null,18150,21598,null,17700,18585]
[125100,null,null,null,{"$f":"CEILING(($E$1003+formule!$E$44*(A1254-$A$1003))/100,1)*100","v":17700},21063,null,18150,21598,null,17700,18585]
[125200,null,null,null,{"$f":"CEILING(($E$1003+formule!$E$44*(A1255-$A$1003))/100,1)*100","v":17700},21063,null,18150,21598,null,17700,18585]
[125300,null,null,null,{"$f":"CEILING(($E$1003+formule!$E$44*(A1256-$A$1003))/100,1)*100","v":17700},21063,null,18150,21598,null,17700,18585]
[125400,null,null,null,{"$f":"CEILING(($E$1003+formule!$E$44*(A1257-$A$1003))/100,1)*100","v":17800},21182,null,{"$f":"E1257+450","v":18250},{"$f":"F1257+535","v":21717},null,17800,18690]
[125500,null,null,null,{"$f":"CEILING(($E$1003+formule!$E$44*(A1258-$A$1003))/100,1)*100","v":17800},21182,null,18250,21717,null,17800,18690]
[125600,null,null,null,{"$f":"CEILING(($E$1003+formule!$E$44*(A1259-$A$1003))/100,1)*100","v":17800},21182,null,18250,21717,null,17800,18690]
[125700,null,null,null,{"$f":"CEILING(($E$1003+formule!$E$44*(A1260-$A$1003))/100,1)*100","v":17800},21182,null,18250,21717,null,17800,18690]
[{"$f":"A1260+100","v":125800},null,null,null,{"$f":"CEILING(($E$1003+formule!$E$44*(A1261-$A$1003))/100,1)*100","v":17800},21182,null,18250,21717,null,17800,18690]
[125900,null,null,null,{"$f":"CEILING(($E$1003+formule!$E$44*(A1262-$A$1003))/100,1)*100","v":17800},21182,null,18250,21717,null,17800,18690]
[126000,null,null,null,{"$f":"CEILING(($E$1003+formule!$E$44*(A1263-$A$1003))/100,1)*100","v":17800},21182,null,18250,21717,null,17800,18690]
[126100,null,null,null,{"$f":"CEILING(($E$1003+formule!$E$44*(A1264-$A$1003))/100,1)*100","v":17800},21182,null,18250,21717,null,17800,18690]
[126200,null,null,null,{"$f":"CEILING(($E$1003+formule!$E$44*(A1265-$A$1003))/100,1)*100","v":17800},{"$f":"E1265*1.19","v":21182},null,18250,21717,null,17800,18690]
[126300,null,null,null,{"$f":"CEILING(($E$1003+formule!$E$44*(A1266-$A$1003))/100,1)*100","v":17800},21182,null,18250,21717,null,17800,18690]
[126400,null,null,null,{"$f":"CEILING(($E$1003+formule!$E$44*(A1267-$A$1003))/100,1)*100","v":17900},21301,null,18350,21836,null,17900,18795]
[126500,null,null,null,{"$f":"CEILING(($E$1003+formule!$E$44*(A1268-$A$1003))/100,1)*100","v":17900},21301,null,18350,21836,null,17900,18795]
[126600,null,null,null,{"$f":"CEILING(($E$1003+formule!$E$44*(A1269-$A$1003))/100,1)*100","v":17900},21301,null,18350,21836,null,17900,18795]
[126700,null,null,null,{"$f":"CEILING(($E$1003+formule!$E$44*(A1270-$A$1003))/100,1)*100","v":17900},21301,null,18350,21836,null,17900,18795]
[126800,null,null,null,{"$f":"CEILING(($E$1003+formule!$E$44*(A1271-$A$1003))/100,1)*100","v":17900},21301,null,18350,21836,null,17900,18795]
[126900,null,null,null,{"$f":"CEILING(($E$1003+formule!$E$44*(A1272-$A$1003))/100,1)*100","v":17900},21301,null,18350,21836,null,17900,18795]
[127000,null,null,null,{"$f":"CEILING(($E$1003+formule!$E$44*(A1273-$A$1003))/100,1)*100","v":17900},21301,null,18350,21836,null,17900,18795]
[127100,null,null,null,{"$f":"CEILING(($E$1003+formule!$E$44*(A1274-$A$1003))/100,1)*100","v":17900},21301,null,18350,21836,null,17900,18795]
[127200,null,null,null,{"$f":"CEILING(($E$1003+formule!$E$44*(A1275-$A$1003))/100,1)*100","v":17900},21301,null,18350,21836,null,17900,18795]
[127300,null,null,null,{"$f":"CEILING(($E$1003+formule!$E$44*(A1276-$A$1003))/100,1)*100","v":17900},21301,null,18350,21836,null,17900,18795]
[127400,null,null,null,{"$f":"CEILING(($E$1003+formule!$E$44*(A1277-$A$1003))/100,1)*100","v":17900},21301,null,18350,21836,null,17900,18795]
[127500,null,null,null,{"$f":"CEILING(($E$1003+formule!$E$44*(A1278-$A$1003))/100,1)*100","v":18000},21420,null,18450,21955,null,18000,18900]
[127600,null,null,null,{"$f":"CEILING(($E$1003+formule!$E$44*(A1279-$A$1003))/100,1)*100","v":18000},21420,null,18450,21955,null,18000,18900]
[127700,null,null,null,{"$f":"CEILING(($E$1003+formule!$E$44*(A1280-$A$1003))/100,1)*100","v":18000},21420,null,18450,21955,null,18000,18900]
[127800,null,null,null,{"$f":"CEILING(($E$1003+formule!$E$44*(A1281-$A$1003))/100,1)*100","v":18000},21420,null,18450,21955,null,18000,18900]
[127900,null,null,null,{"$f":"CEILING(($E$1003+formule!$E$44*(A1282-$A$1003))/100,1)*100","v":18000},21420,null,18450,21955,null,18000,18900]
[128000,null,null,null,{"$f":"CEILING(($E$1003+formule!$E$44*(A1283-$A$1003))/100,1)*100","v":18000},21420,null,18450,21955,null,18000,18900]
[128100,null,null,null,{"$f":"CEILING(($E$1003+formule!$E$44*(A1284-$A$1003))/100,1)*100","v":18000},21420,null,18450,21955,null,18000,18900]
[128200,null,null,null,{"$f":"CEILING(($E$1003+formule!$E$44*(A1285-$A$1003))/100,1)*100","v":18000},21420,null,18450,21955,null,{"$f":"E1285","v":18000},{"$f":"K1285*1.05","v":18900}]
[128300,null,null,null,{"$f":"CEILING(($E$1003+formule!$E$44*(A1286-$A$1003))/100,1)*100","v":18000},21420,null,18450,21955,null,18000,18900]
[128400,null,null,null,{"$f":"CEILING(($E$1003+formule!$E$44*(A1287-$A$1003))/100,1)*100","v":18000},21420,null,18450,21955,null,18000,18900]
[128500,null,null,null,{"$f":"CEILING(($E$1003+formule!$E$44*(A1288-$A$1003))/100,1)*100","v":18100},21539,null,18550,22074,null,18100,19005]
[128600,null,null,null,{"$f":"CEILING(($E$1003+formule!$E$44*(A1289-$A$1003))/100,1)*100","v":18100},21539,null,18550,22074,null,18100,19005]
[128700,null,null,null,{"$f":"CEILING(($E$1003+formule!$E$44*(A1290-$A$1003))/100,1)*100","v":18100},21539,null,18550,22074,null,18100,19005]
[128800,null,null,null,{"$f":"CEILING(($E$1003+formule!$E$44*(A1291-$A$1003))/100,1)*100","v":18100},21539,null,18550,22074,null,18100,19005]
[128900,null,null,null,{"$f":"CEILING(($E$1003+formule!$E$44*(A1292-$A$1003))/100,1)*100","v":18100},21539,null,18550,22074,null,18100,19005]
[129000,null,null,null,{"$f":"CEILING(($E$1003+formule!$E$44*(A1293-$A$1003))/100,1)*100","v":18100},21539,null,18550,22074,null,18100,19005]
[129100,null,null,null,{"$f":"CEILING(($E$1003+formule!$E$44*(A1294-$A$1003))/100,1)*100","v":18100},21539,null,18550,22074,null,18100,19005]
[129200,null,null,null,{"$f":"CEILING(($E$1003+formule!$E$44*(A1295-$A$1003))/100,1)*100","v":18100},21539,null,18550,22074,null,18100,19005]
[129300,null,null,null,{"$f":"CEILING(($E$1003+formule!$E$44*(A1296-$A$1003))/100,1)*100","v":18100},21539,null,18550,22074,null,18100,19005]
[129400,null,null,null,{"$f":"CEILING(($E$1003+formule!$E$44*(A1297-$A$1003))/100,1)*100","v":18100},21539,null,18550,22074,null,18100,19005]
[129500,null,null,null,{"$f":"CEILING(($E$1003+formule!$E$44*(A1298-$A$1003))/100,1)*100","v":18200},21658,null,18650,22193,null,18200,19110]
[129600,null,null,null,{"$f":"CEILING(($E$1003+formule!$E$44*(A1299-$A$1003))/100,1)*100","v":18200},21658,null,18650,22193,null,18200,19110]
[129700,null,null,null,{"$f":"CEILING(($E$1003+formule!$E$44*(A1300-$A$1003))/100,1)*100","v":18200},21658,null,18650,22193,null,18200,19110]
[129800,null,null,null,{"$f":"CEILING(($E$1003+formule!$E$44*(A1301-$A$1003))/100,1)*100","v":18200},21658,null,18650,22193,null,18200,19110]
[129900,null,null,null,{"$f":"CEILING(($E$1003+formule!$E$44*(A1302-$A$1003))/100,1)*100","v":18200},21658,null,18650,22193,null,18200,19110]
[130000,null,null,null,{"$f":"CEILING(($E$1003+formule!$E$44*(A1303-$A$1003))/100,1)*100","v":18200},21658,null,18650,22193,null,18200,19110]
[130100,null,null,null,{"$f":"CEILING(($E$1003+formule!$E$44*(A1304-$A$1003))/100,1)*100","v":18200},21658,null,18650,22193,null,18200,19110]
[130200,null,null,null,{"$f":"CEILING(($E$1003+formule!$E$44*(A1305-$A$1003))/100,1)*100","v":18200},21658,null,18650,22193,null,18200,19110]
[130300,null,null,null,{"$f":"CEILING(($E$1003+formule!$E$44*(A1306-$A$1003))/100,1)*100","v":18200},21658,null,18650,22193,null,18200,19110]
[130400,null,null,null,{"$f":"CEILING(($E$1003+formule!$E$44*(A1307-$A$1003))/100,1)*100","v":18200},21658,null,18650,22193,null,18200,19110]
[130500,null,null,null,{"$f":"CEILING(($E$1003+formule!$E$44*(A1308-$A$1003))/100,1)*100","v":18300},21777,null,18750,22312,null,18300,19215]
[130600,null,null,null,{"$f":"CEILING(($E$1003+formule!$E$44*(A1309-$A$1003))/100,1)*100","v":18300},21777,null,18750,22312,null,18300,19215]
[130700,null,null,null,{"$f":"CEILING(($E$1003+formule!$E$44*(A1310-$A$1003))/100,1)*100","v":18300},21777,null,18750,22312,null,18300,19215]
[130800,null,null,null,{"$f":"CEILING(($E$1003+formule!$E$44*(A1311-$A$1003))/100,1)*100","v":18300},21777,null,18750,22312,null,18300,19215]
[130900,null,null,null,{"$f":"CEILING(($E$1003+formule!$E$44*(A1312-$A$1003))/100,1)*100","v":18300},21777,null,18750,22312,null,18300,19215]
[131000,null,null,null,{"$f":"CEILING(($E$1003+formule!$E$44*(A1313-$A$1003))/100,1)*100","v":18300},21777,null,18750,22312,null,18300,19215]
[131100,null,null,null,{"$f":"CEILING(($E$1003+formule!$E$44*(A1314-$A$1003))/100,1)*100","v":18300},21777,null,18750,22312,null,18300,19215]
[131200,null,null,null,{"$f":"CEILING(($E$1003+formule!$E$44*(A1315-$A$1003))/100,1)*100","v":18300},21777,null,18750,22312,null,18300,19215]
[131300,null,null,null,{"$f":"CEILING(($E$1003+formule!$E$44*(A1316-$A$1003))/100,1)*100","v":18300},21777,null,18750,22312,null,18300,19215]
[131400,null,null,null,{"$f":"CEILING(($E$1003+formule!$E$44*(A1317-$A$1003))/100,1)*100","v":18300},21777,null,18750,22312,null,18300,19215]
[131500,null,null,null,{"$f":"CEILING(($E$1003+formule!$E$44*(A1318-$A$1003))/100,1)*100","v":18400},21896,null,18850,22431,null,18400,19320]
[131600,null,null,null,{"$f":"CEILING(($E$1003+formule!$E$44*(A1319-$A$1003))/100,1)*100","v":18400},21896,null,18850,22431,null,18400,19320]
[131700,null,null,null,{"$f":"CEILING(($E$1003+formule!$E$44*(A1320-$A$1003))/100,1)*100","v":18400},21896,null,18850,22431,null,18400,19320]
[131800,null,null,null,{"$f":"CEILING(($E$1003+formule!$E$44*(A1321-$A$1003))/100,1)*100","v":18400},21896,null,{"$f":"E1321+450","v":18850},{"$f":"F1321+535","v":22431},null,18400,19320]
[131900,null,null,null,{"$f":"CEILING(($E$1003+formule!$E$44*(A1322-$A$1003))/100,1)*100","v":18400},21896,null,18850,22431,null,18400,19320]
[132000,null,null,null,{"$f":"CEILING(($E$1003+formule!$E$44*(A1323-$A$1003))/100,1)*100","v":18400},21896,null,18850,22431,null,18400,19320]
[132100,null,null,null,{"$f":"CEILING(($E$1003+formule!$E$44*(A1324-$A$1003))/100,1)*100","v":18400},21896,null,18850,22431,null,18400,19320]
[{"$f":"A1324+100","v":132200},null,null,null,{"$f":"CEILING(($E$1003+formule!$E$44*(A1325-$A$1003))/100,1)*100","v":18400},21896,null,18850,22431,null,18400,19320]
[132300,null,null,null,{"$f":"CEILING(($E$1003+formule!$E$44*(A1326-$A$1003))/100,1)*100","v":18400},21896,null,18850,22431,null,18400,19320]
[132400,null,null,null,{"$f":"CEILING(($E$1003+formule!$E$44*(A1327-$A$1003))/100,1)*100","v":18400},21896,null,18850,22431,null,18400,19320]
[132500,null,null,null,{"$f":"CEILING(($E$1003+formule!$E$44*(A1328-$A$1003))/100,1)*100","v":18500},22015,null,18950,22550,null,18500,19425]
[132600,null,null,null,{"$f":"CEILING(($E$1003+formule!$E$44*(A1329-$A$1003))/100,1)*100","v":18500},{"$f":"E1329*1.19","v":22015},null,18950,22550,null,18500,19425]
[132700,null,null,null,{"$f":"CEILING(($E$1003+formule!$E$44*(A1330-$A$1003))/100,1)*100","v":18500},22015,null,18950,22550,null,18500,19425]
[132800,null,null,null,{"$f":"CEILING(($E$1003+formule!$E$44*(A1331-$A$1003))/100,1)*100","v":18500},22015,null,18950,22550,null,18500,19425]
[132900,null,null,null,{"$f":"CEILING(($E$1003+formule!$E$44*(A1332-$A$1003))/100,1)*100","v":18500},22015,null,18950,22550,null,18500,19425]
[133000,null,null,null,{"$f":"CEILING(($E$1003+formule!$E$44*(A1333-$A$1003))/100,1)*100","v":18500},22015,null,18950,22550,null,18500,19425]
[133100,null,null,null,{"$f":"CEILING(($E$1003+formule!$E$44*(A1334-$A$1003))/100,1)*100","v":18500},22015,null,18950,22550,null,18500,19425]
[133200,null,null,null,{"$f":"CEILING(($E$1003+formule!$E$44*(A1335-$A$1003))/100,1)*100","v":18500},22015,null,18950,22550,null,18500,19425]
[133300,null,null,null,{"$f":"CEILING(($E$1003+formule!$E$44*(A1336-$A$1003))/100,1)*100","v":18500},22015,null,18950,22550,null,18500,19425]
[133400,null,null,null,{"$f":"CEILING(($E$1003+formule!$E$44*(A1337-$A$1003))/100,1)*100","v":18500},22015,null,18950,22550,null,18500,19425]
[133500,null,null,null,{"$f":"CEILING(($E$1003+formule!$E$44*(A1338-$A$1003))/100,1)*100","v":18600},22134,null,19050,22669,null,18600,19530]
[133600,null,null,null,{"$f":"CEILING(($E$1003+formule!$E$44*(A1339-$A$1003))/100,1)*100","v":18600},22134,null,19050,22669,null,18600,19530]
[133700,null,null,null,{"$f":"CEILING(($E$1003+formule!$E$44*(A1340-$A$1003))/100,1)*100","v":18600},22134,null,19050,22669,null,18600,19530]
[133800,null,null,null,{"$f":"CEILING(($E$1003+formule!$E$44*(A1341-$A$1003))/100,1)*100","v":18600},22134,null,19050,22669,null,18600,19530]
[133900,null,null,null,{"$f":"CEILING(($E$1003+formule!$E$44*(A1342-$A$1003))/100,1)*100","v":18600},22134,null,19050,22669,null,18600,19530]
[134000,null,null,null,{"$f":"CEILING(($E$1003+formule!$E$44*(A1343-$A$1003))/100,1)*100","v":18600},22134,null,19050,22669,null,18600,19530]
[134100,null,null,null,{"$f":"CEILING(($E$1003+formule!$E$44*(A1344-$A$1003))/100,1)*100","v":18600},22134,null,19050,22669,null,18600,19530]
[134200,null,null,null,{"$f":"CEILING(($E$1003+formule!$E$44*(A1345-$A$1003))/100,1)*100","v":18600},22134,null,19050,22669,null,18600,19530]
[134300,null,null,null,{"$f":"CEILING(($E$1003+formule!$E$44*(A1346-$A$1003))/100,1)*100","v":18600},22134,null,19050,22669,null,18600,19530]
[134400,null,null,null,{"$f":"CEILING(($E$1003+formule!$E$44*(A1347-$A$1003))/100,1)*100","v":18600},22134,null,19050,22669,null,18600,19530]
[134500,null,null,null,{"$f":"CEILING(($E$1003+formule!$E$44*(A1348-$A$1003))/100,1)*100","v":18600},22134,null,19050,22669,null,18600,19530]
[134600,null,null,null,{"$f":"CEILING(($E$1003+formule!$E$44*(A1349-$A$1003))/100,1)*100","v":18700},22253,null,19150,22788,null,{"$f":"E1349","v":18700},{"$f":"K1349*1.05","v":19635}]
[134700,null,null,null,{"$f":"CEILING(($E$1003+formule!$E$44*(A1350-$A$1003))/100,1)*100","v":18700},22253,null,19150,22788,null,18700,19635]
[134800,null,null,null,{"$f":"CEILING(($E$1003+formule!$E$44*(A1351-$A$1003))/100,1)*100","v":18700},22253,null,19150,22788,null,18700,19635]
[134900,null,null,null,{"$f":"CEILING(($E$1003+formule!$E$44*(A1352-$A$1003))/100,1)*100","v":18700},22253,null,19150,22788,null,18700,19635]
[135000,null,null,null,{"$f":"CEILING(($E$1003+formule!$E$44*(A1353-$A$1003))/100,1)*100","v":18700},22253,null,19150,22788,null,18700,19635]
[135100,null,null,null,{"$f":"CEILING(($E$1003+formule!$E$44*(A1354-$A$1003))/100,1)*100","v":18700},22253,null,19150,22788,null,18700,19635]
[135200,null,null,null,{"$f":"CEILING(($E$1003+formule!$E$44*(A1355-$A$1003))/100,1)*100","v":18700},22253,null,19150,22788,null,18700,19635]
[135300,null,null,null,{"$f":"CEILING(($E$1003+formule!$E$44*(A1356-$A$1003))/100,1)*100","v":18700},22253,null,19150,22788,null,18700,19635]
[135400,null,null,null,{"$f":"CEILING(($E$1003+formule!$E$44*(A1357-$A$1003))/100,1)*100","v":18700},22253,null,19150,22788,null,18700,19635]
[135500,null,null,null,{"$f":"CEILING(($E$1003+formule!$E$44*(A1358-$A$1003))/100,1)*100","v":18700},22253,null,19150,22788,null,18700,19635]
[135600,null,null,null,{"$f":"CEILING(($E$1003+formule!$E$44*(A1359-$A$1003))/100,1)*100","v":18800},22372,null,19250,22907,null,18800,19740]
[135700,null,null,null,{"$f":"CEILING(($E$1003+formule!$E$44*(A1360-$A$1003))/100,1)*100","v":18800},22372,null,19250,22907,null,18800,19740]
[135800,null,null,null,{"$f":"CEILING(($E$1003+formule!$E$44*(A1361-$A$1003))/100,1)*100","v":18800},22372,null,19250,22907,null,18800,19740]
[135900,null,null,null,{"$f":"CEILING(($E$1003+formule!$E$44*(A1362-$A$1003))/100,1)*100","v":18800},22372,null,19250,22907,null,18800,19740]
[136000,null,null,null,{"$f":"CEILING(($E$1003+formule!$E$44*(A1363-$A$1003))/100,1)*100","v":18800},22372,null,19250,22907,null,18800,19740]
[136100,null,null,null,{"$f":"CEILING(($E$1003+formule!$E$44*(A1364-$A$1003))/100,1)*100","v":18800},22372,null,19250,22907,null,18800,19740]
[136200,null,null,null,{"$f":"CEILING(($E$1003+formule!$E$44*(A1365-$A$1003))/100,1)*100","v":18800},22372,null,19250,22907,null,18800,19740]
[136300,null,null,null,{"$f":"CEILING(($E$1003+formule!$E$44*(A1366-$A$1003))/100,1)*100","v":18800},22372,null,19250,22907,null,18800,19740]
[136400,null,null,null,{"$f":"CEILING(($E$1003+formule!$E$44*(A1367-$A$1003))/100,1)*100","v":18800},22372,null,19250,22907,null,18800,19740]
[136500,null,null,null,{"$f":"CEILING(($E$1003+formule!$E$44*(A1368-$A$1003))/100,1)*100","v":18800},22372,null,19250,22907,null,18800,19740]
[136600,null,null,null,{"$f":"CEILING(($E$1003+formule!$E$44*(A1369-$A$1003))/100,1)*100","v":18900},22491,null,19350,23026,null,18900,19845]
[136700,null,null,null,{"$f":"CEILING(($E$1003+formule!$E$44*(A1370-$A$1003))/100,1)*100","v":18900},22491,null,19350,23026,null,18900,19845]
[136800,null,null,null,{"$f":"CEILING(($E$1003+formule!$E$44*(A1371-$A$1003))/100,1)*100","v":18900},22491,null,19350,23026,null,18900,19845]
[136900,null,null,null,{"$f":"CEILING(($E$1003+formule!$E$44*(A1372-$A$1003))/100,1)*100","v":18900},22491,null,19350,23026,null,18900,19845]
[137000,null,null,null,{"$f":"CEILING(($E$1003+formule!$E$44*(A1373-$A$1003))/100,1)*100","v":18900},22491,null,19350,23026,null,18900,19845]
[137100,null,null,null,{"$f":"CEILING(($E$1003+formule!$E$44*(A1374-$A$1003))/100,1)*100","v":18900},22491,null,19350,23026,null,18900,19845]
[137200,null,null,null,{"$f":"CEILING(($E$1003+formule!$E$44*(A1375-$A$1003))/100,1)*100","v":18900},22491,null,19350,23026,null,18900,19845]
[137300,null,null,null,{"$f":"CEILING(($E$1003+formule!$E$44*(A1376-$A$1003))/100,1)*100","v":18900},22491,null,19350,23026,null,18900,19845]
[137400,null,null,null,{"$f":"CEILING(($E$1003+formule!$E$44*(A1377-$A$1003))/100,1)*100","v":18900},22491,null,19350,23026,null,18900,19845]
[137500,null,null,null,{"$f":"CEILING(($E$1003+formule!$E$44*(A1378-$A$1003))/100,1)*100","v":18900},22491,null,19350,23026,null,18900,19845]
[137600,null,null,null,{"$f":"CEILING(($E$1003+formule!$E$44*(A1379-$A$1003))/100,1)*100","v":19000},22610,null,19450,23145,null,19000,19950]
[137700,null,null,null,{"$f":"CEILING(($E$1003+formule!$E$44*(A1380-$A$1003))/100,1)*100","v":19000},22610,null,19450,23145,null,19000,19950]
[137800,null,null,null,{"$f":"CEILING(($E$1003+formule!$E$44*(A1381-$A$1003))/100,1)*100","v":19000},22610,null,19450,23145,null,19000,19950]
[137900,null,null,null,{"$f":"CEILING(($E$1003+formule!$E$44*(A1382-$A$1003))/100,1)*100","v":19000},22610,null,19450,23145,null,19000,19950]
[138000,null,null,null,{"$f":"CEILING(($E$1003+formule!$E$44*(A1383-$A$1003))/100,1)*100","v":19000},22610,null,19450,23145,null,19000,19950]
[138100,null,null,null,{"$f":"CEILING(($E$1003+formule!$E$44*(A1384-$A$1003))/100,1)*100","v":19000},22610,null,19450,23145,null,19000,19950]
[138200,null,null,null,{"$f":"CEILING(($E$1003+formule!$E$44*(A1385-$A$1003))/100,1)*100","v":19000},22610,null,{"$f":"E1385+450","v":19450},{"$f":"F1385+535","v":23145},null,19000,19950]
[138300,null,null,null,{"$f":"CEILING(($E$1003+formule!$E$44*(A1386-$A$1003))/100,1)*100","v":19000},22610,null,19450,23145,null,19000,19950]
[138400,null,null,null,{"$f":"CEILING(($E$1003+formule!$E$44*(A1387-$A$1003))/100,1)*100","v":19000},22610,null,19450,23145,null,19000,19950]
[138500,null,null,null,{"$f":"CEILING(($E$1003+formule!$E$44*(A1388-$A$1003))/100,1)*100","v":19000},22610,null,19450,23145,null,19000,19950]
[{"$f":"A1388+100","v":138600},null,null,null,{"$f":"CEILING(($E$1003+formule!$E$44*(A1389-$A$1003))/100,1)*100","v":19100},22729,null,19550,23264,null,19100,20055]
[138700,null,null,null,{"$f":"CEILING(($E$1003+formule!$E$44*(A1390-$A$1003))/100,1)*100","v":19100},22729,null,19550,23264,null,19100,20055]
[138800,null,null,null,{"$f":"CEILING(($E$1003+formule!$E$44*(A1391-$A$1003))/100,1)*100","v":19100},22729,null,19550,23264,null,19100,20055]
[138900,null,null,null,{"$f":"CEILING(($E$1003+formule!$E$44*(A1392-$A$1003))/100,1)*100","v":19100},22729,null,19550,23264,null,19100,20055]
[139000,null,null,null,{"$f":"CEILING(($E$1003+formule!$E$44*(A1393-$A$1003))/100,1)*100","v":19100},{"$f":"E1393*1.19","v":22729},null,19550,23264,null,19100,20055]
[139100,null,null,null,{"$f":"CEILING(($E$1003+formule!$E$44*(A1394-$A$1003))/100,1)*100","v":19100},22729,null,19550,23264,null,19100,20055]
[139200,null,null,null,{"$f":"CEILING(($E$1003+formule!$E$44*(A1395-$A$1003))/100,1)*100","v":19100},22729,null,19550,23264,null,19100,20055]
[139300,null,null,null,{"$f":"CEILING(($E$1003+formule!$E$44*(A1396-$A$1003))/100,1)*100","v":19100},22729,null,19550,23264,null,19100,20055]
[139400,null,null,null,{"$f":"CEILING(($E$1003+formule!$E$44*(A1397-$A$1003))/100,1)*100","v":19100},22729,null,19550,23264,null,19100,20055]
[139500,null,null,null,{"$f":"CEILING(($E$1003+formule!$E$44*(A1398-$A$1003))/100,1)*100","v":19100},22729,null,19550,23264,null,19100,20055]
[139600,null,null,null,{"$f":"CEILING(($E$1003+formule!$E$44*(A1399-$A$1003))/100,1)*100","v":19200},22848,null,19650,23383,null,19200,20160]
[139700,null,null,null,{"$f":"CEILING(($E$1003+formule!$E$44*(A1400-$A$1003))/100,1)*100","v":19200},22848,null,19650,23383,null,19200,20160]
[139800,null,null,null,{"$f":"CEILING(($E$1003+formule!$E$44*(A1401-$A$1003))/100,1)*100","v":19200},22848,null,19650,23383,null,19200,20160]
[139900,null,null,null,{"$f":"CEILING(($E$1003+formule!$E$44*(A1402-$A$1003))/100,1)*100","v":19200},22848,null,19650,23383,null,19200,20160]
[140000,null,null,null,{"$f":"CEILING(($E$1003+formule!$E$44*(A1403-$A$1003))/100,1)*100","v":19200},22848,null,19650,23383,null,19200,20160]
[140100,null,null,null,{"$f":"CEILING(($E$1003+formule!$E$44*(A1404-$A$1003))/100,1)*100","v":19200},22848,null,19650,23383,null,19200,20160]
[140200,null,null,null,{"$f":"CEILING(($E$1003+formule!$E$44*(A1405-$A$1003))/100,1)*100","v":19200},22848,null,19650,23383,null,19200,20160]
[140300,null,null,null,{"$f":"CEILING(($E$1003+formule!$E$44*(A1406-$A$1003))/100,1)*100","v":19200},22848,null,19650,23383,null,19200,20160]
[140400,null,null,null,{"$f":"CEILING(($E$1003+formule!$E$44*(A1407-$A$1003))/100,1)*100","v":19200},22848,null,19650,23383,null,19200,20160]
[140500,null,null,null,{"$f":"CEILING(($E$1003+formule!$E$44*(A1408-$A$1003))/100,1)*100","v":19200},22848,null,19650,23383,null,19200,20160]
[140600,null,null,null,{"$f":"CEILING(($E$1003+formule!$E$44*(A1409-$A$1003))/100,1)*100","v":19300},22967,null,19750,23502,null,19300,20265]
[140700,null,null,null,{"$f":"CEILING(($E$1003+formule!$E$44*(A1410-$A$1003))/100,1)*100","v":19300},22967,null,19750,23502,null,19300,20265]
[140800,null,null,null,{"$f":"CEILING(($E$1003+formule!$E$44*(A1411-$A$1003))/100,1)*100","v":19300},22967,null,19750,23502,null,19300,20265]
[140900,null,null,null,{"$f":"CEILING(($E$1003+formule!$E$44*(A1412-$A$1003))/100,1)*100","v":19300},22967,null,19750,23502,null,19300,20265]
[141000,null,null,null,{"$f":"CEILING(($E$1003+formule!$E$44*(A1413-$A$1003))/100,1)*100","v":19300},22967,null,19750,23502,null,{"$f":"E1413","v":19300},{"$f":"K1413*1.05","v":20265}]
[141100,null,null,null,{"$f":"CEILING(($E$1003+formule!$E$44*(A1414-$A$1003))/100,1)*100","v":19300},22967,null,19750,23502,null,19300,20265]
[141200,null,null,null,{"$f":"CEILING(($E$1003+formule!$E$44*(A1415-$A$1003))/100,1)*100","v":19300},22967,null,19750,23502,null,19300,20265]
[141300,null,null,null,{"$f":"CEILING(($E$1003+formule!$E$44*(A1416-$A$1003))/100,1)*100","v":19300},22967,null,19750,23502,null,19300,20265]
[141400,null,null,null,{"$f":"CEILING(($E$1003+formule!$E$44*(A1417-$A$1003))/100,1)*100","v":19300},22967,null,19750,23502,null,19300,20265]
[141500,null,null,null,{"$f":"CEILING(($E$1003+formule!$E$44*(A1418-$A$1003))/100,1)*100","v":19300},22967,null,19750,23502,null,19300,20265]
[141600,null,null,null,{"$f":"CEILING(($E$1003+formule!$E$44*(A1419-$A$1003))/100,1)*100","v":19300},22967,null,19750,23502,null,19300,20265]
[141700,null,null,null,{"$f":"CEILING(($E$1003+formule!$E$44*(A1420-$A$1003))/100,1)*100","v":19400},23086,null,19850,23621,null,19400,20370]
[141800,null,null,null,{"$f":"CEILING(($E$1003+formule!$E$44*(A1421-$A$1003))/100,1)*100","v":19400},23086,null,19850,23621,null,19400,20370]
[141900,null,null,null,{"$f":"CEILING(($E$1003+formule!$E$44*(A1422-$A$1003))/100,1)*100","v":19400},23086,null,19850,23621,null,19400,20370]
[142000,null,null,null,{"$f":"CEILING(($E$1003+formule!$E$44*(A1423-$A$1003))/100,1)*100","v":19400},23086,null,19850,23621,null,19400,20370]
[142100,null,null,null,{"$f":"CEILING(($E$1003+formule!$E$44*(A1424-$A$1003))/100,1)*100","v":19400},23086,null,19850,23621,null,19400,20370]
[142200,null,null,null,{"$f":"CEILING(($E$1003+formule!$E$44*(A1425-$A$1003))/100,1)*100","v":19400},23086,null,19850,23621,null,19400,20370]
[142300,null,null,null,{"$f":"CEILING(($E$1003+formule!$E$44*(A1426-$A$1003))/100,1)*100","v":19400},23086,null,19850,23621,null,19400,20370]
[142400,null,null,null,{"$f":"CEILING(($E$1003+formule!$E$44*(A1427-$A$1003))/100,1)*100","v":19400},23086,null,19850,23621,null,19400,20370]
[142500,null,null,null,{"$f":"CEILING(($E$1003+formule!$E$44*(A1428-$A$1003))/100,1)*100","v":19400},23086,null,19850,23621,null,19400,20370]
[142600,null,null,null,{"$f":"CEILING(($E$1003+formule!$E$44*(A1429-$A$1003))/100,1)*100","v":19400},23086,null,19850,23621,null,19400,20370]
[142700,null,null,null,{"$f":"CEILING(($E$1003+formule!$E$44*(A1430-$A$1003))/100,1)*100","v":19500},23205,null,19950,23740,null,19500,20475]
[142800,null,null,null,{"$f":"CEILING(($E$1003+formule!$E$44*(A1431-$A$1003))/100,1)*100","v":19500},23205,null,19950,23740,null,19500,20475]
[142900,null,null,null,{"$f":"CEILING(($E$1003+formule!$E$44*(A1432-$A$1003))/100,1)*100","v":19500},23205,null,19950,23740,null,19500,20475]
[143000,null,null,null,{"$f":"CEILING(($E$1003+formule!$E$44*(A1433-$A$1003))/100,1)*100","v":19500},23205,null,19950,23740,null,19500,20475]
[143100,null,null,null,{"$f":"CEILING(($E$1003+formule!$E$44*(A1434-$A$1003))/100,1)*100","v":19500},23205,null,19950,23740,null,19500,20475]
[143200,null,null,null,{"$f":"CEILING(($E$1003+formule!$E$44*(A1435-$A$1003))/100,1)*100","v":19500},23205,null,19950,23740,null,19500,20475]
[143300,null,null,null,{"$f":"CEILING(($E$1003+formule!$E$44*(A1436-$A$1003))/100,1)*100","v":19500},23205,null,19950,23740,null,19500,20475]
[143400,null,null,null,{"$f":"CEILING(($E$1003+formule!$E$44*(A1437-$A$1003))/100,1)*100","v":19500},23205,null,19950,23740,null,19500,20475]
[143500,null,null,null,{"$f":"CEILING(($E$1003+formule!$E$44*(A1438-$A$1003))/100,1)*100","v":19500},23205,null,19950,23740,null,19500,20475]
[143600,null,null,null,{"$f":"CEILING(($E$1003+formule!$E$44*(A1439-$A$1003))/100,1)*100","v":19500},23205,null,19950,23740,null,19500,20475]
[143700,null,null,null,{"$f":"CEILING(($E$1003+formule!$E$44*(A1440-$A$1003))/100,1)*100","v":19600},23324,null,20050,23859,null,19600,20580]
[143800,null,null,null,{"$f":"CEILING(($E$1003+formule!$E$44*(A1441-$A$1003))/100,1)*100","v":19600},23324,null,20050,23859,null,19600,20580]
[143900,null,null,null,{"$f":"CEILING(($E$1003+formule!$E$44*(A1442-$A$1003))/100,1)*100","v":19600},23324,null,20050,23859,null,19600,20580]
[144000,null,null,null,{"$f":"CEILING(($E$1003+formule!$E$44*(A1443-$A$1003))/100,1)*100","v":19600},23324,null,20050,23859,null,19600,20580]
[144100,null,null,null,{"$f":"CEILING(($E$1003+formule!$E$44*(A1444-$A$1003))/100,1)*100","v":19600},23324,null,20050,23859,null,19600,20580]
[144200,null,null,null,{"$f":"CEILING(($E$1003+formule!$E$44*(A1445-$A$1003))/100,1)*100","v":19600},23324,null,20050,23859,null,19600,20580]
[144300,null,null,null,{"$f":"CEILING(($E$1003+formule!$E$44*(A1446-$A$1003))/100,1)*100","v":19600},23324,null,20050,23859,null,19600,20580]
[144400,null,null,null,{"$f":"CEILING(($E$1003+formule!$E$44*(A1447-$A$1003))/100,1)*100","v":19600},23324,null,20050,23859,null,19600,20580]
[144500,null,null,null,{"$f":"CEILING(($E$1003+formule!$E$44*(A1448-$A$1003))/100,1)*100","v":19600},23324,null,20050,23859,null,19600,20580]
[144600,null,null,null,{"$f":"CEILING(($E$1003+formule!$E$44*(A1449-$A$1003))/100,1)*100","v":19600},23324,null,{"$f":"E1449+450","v":20050},{"$f":"F1449+535","v":23859},null,19600,20580]
[144700,null,null,null,{"$f":"CEILING(($E$1003+formule!$E$44*(A1450-$A$1003))/100,1)*100","v":19700},23443,null,20150,23978,null,19700,20685]
[144800,null,null,null,{"$f":"CEILING(($E$1003+formule!$E$44*(A1451-$A$1003))/100,1)*100","v":19700},23443,null,20150,23978,null,19700,20685]
[144900,null,null,null,{"$f":"CEILING(($E$1003+formule!$E$44*(A1452-$A$1003))/100,1)*100","v":19700},23443,null,20150,23978,null,19700,20685]
[{"$f":"A1452+100","v":145000},null,null,null,{"$f":"CEILING(($E$1003+formule!$E$44*(A1453-$A$1003))/100,1)*100","v":19700},23443,null,20150,23978,null,19700,20685]
[145100,null,null,null,{"$f":"CEILING(($E$1003+formule!$E$44*(A1454-$A$1003))/100,1)*100","v":19700},23443,null,20150,23978,null,19700,20685]
[145200,null,null,null,{"$f":"CEILING(($E$1003+formule!$E$44*(A1455-$A$1003))/100,1)*100","v":19700},23443,null,20150,23978,null,19700,20685]
[145300,null,null,null,{"$f":"CEILING(($E$1003+formule!$E$44*(A1456-$A$1003))/100,1)*100","v":19700},23443,null,20150,23978,null,19700,20685]
[145400,null,null,null,{"$f":"CEILING(($E$1003+formule!$E$44*(A1457-$A$1003))/100,1)*100","v":19700},{"$f":"E1457*1.19","v":23443},null,20150,23978,null,19700,20685]
[145500,null,null,null,{"$f":"CEILING(($E$1003+formule!$E$44*(A1458-$A$1003))/100,1)*100","v":19700},23443,null,20150,23978,null,19700,20685]
[145600,null,null,null,{"$f":"CEILING(($E$1003+formule!$E$44*(A1459-$A$1003))/100,1)*100","v":19700},23443,null,20150,23978,null,19700,20685]
[145700,null,null,null,{"$f":"CEILING(($E$1003+formule!$E$44*(A1460-$A$1003))/100,1)*100","v":19800},23562,null,20250,24097,null,19800,20790]
[145800,null,null,null,{"$f":"CEILING(($E$1003+formule!$E$44*(A1461-$A$1003))/100,1)*100","v":19800},23562,null,20250,24097,null,19800,20790]
[145900,null,null,null,{"$f":"CEILING(($E$1003+formule!$E$44*(A1462-$A$1003))/100,1)*100","v":19800},23562,null,20250,24097,null,19800,20790]
[146000,null,null,null,{"$f":"CEILING(($E$1003+formule!$E$44*(A1463-$A$1003))/100,1)*100","v":19800},23562,null,20250,24097,null,19800,20790]
[146100,null,null,null,{"$f":"CEILING(($E$1003+formule!$E$44*(A1464-$A$1003))/100,1)*100","v":19800},23562,null,20250,24097,null,19800,20790]
[146200,null,null,null,{"$f":"CEILING(($E$1003+formule!$E$44*(A1465-$A$1003))/100,1)*100","v":19800},23562,null,20250,24097,null,19800,20790]
[146300,null,null,null,{"$f":"CEILING(($E$1003+formule!$E$44*(A1466-$A$1003))/100,1)*100","v":19800},23562,null,20250,24097,null,19800,20790]
[146400,null,null,null,{"$f":"CEILING(($E$1003+formule!$E$44*(A1467-$A$1003))/100,1)*100","v":19800},23562,null,20250,24097,null,19800,20790]
[146500,null,null,null,{"$f":"CEILING(($E$1003+formule!$E$44*(A1468-$A$1003))/100,1)*100","v":19800},23562,null,20250,24097,null,19800,20790]
[146600,null,null,null,{"$f":"CEILING(($E$1003+formule!$E$44*(A1469-$A$1003))/100,1)*100","v":19800},23562,null,20250,24097,null,19800,20790]
[146700,null,null,null,{"$f":"CEILING(($E$1003+formule!$E$44*(A1470-$A$1003))/100,1)*100","v":19900},23681,null,20350,24216,null,19900,20895]
[146800,null,null,null,{"$f":"CEILING(($E$1003+formule!$E$44*(A1471-$A$1003))/100,1)*100","v":19900},23681,null,20350,24216,null,19900,20895]
[146900,null,null,null,{"$f":"CEILING(($E$1003+formule!$E$44*(A1472-$A$1003))/100,1)*100","v":19900},23681,null,20350,24216,null,19900,20895]
[147000,null,null,null,{"$f":"CEILING(($E$1003+formule!$E$44*(A1473-$A$1003))/100,1)*100","v":19900},23681,null,20350,24216,null,19900,20895]
[147100,null,null,null,{"$f":"CEILING(($E$1003+formule!$E$44*(A1474-$A$1003))/100,1)*100","v":19900},23681,null,20350,24216,null,19900,20895]
[147200,null,null,null,{"$f":"CEILING(($E$1003+formule!$E$44*(A1475-$A$1003))/100,1)*100","v":19900},23681,null,20350,24216,null,19900,20895]
[147300,null,null,null,{"$f":"CEILING(($E$1003+formule!$E$44*(A1476-$A$1003))/100,1)*100","v":19900},23681,null,20350,24216,null,19900,20895]
[147400,null,null,null,{"$f":"CEILING(($E$1003+formule!$E$44*(A1477-$A$1003))/100,1)*100","v":19900},23681,null,20350,24216,null,{"$f":"E1477","v":19900},{"$f":"K1477*1.05","v":20895}]
[147500,null,null,null,{"$f":"CEILING(($E$1003+formule!$E$44*(A1478-$A$1003))/100,1)*100","v":19900},23681,null,20350,24216,null,19900,20895]
[147600,null,null,null,{"$f":"CEILING(($E$1003+formule!$E$44*(A1479-$A$1003))/100,1)*100","v":19900},23681,null,20350,24216,null,19900,20895]
[147700,null,null,null,{"$f":"CEILING(($E$1003+formule!$E$44*(A1480-$A$1003))/100,1)*100","v":19900},23681,null,20350,24216,null,19900,20895]
[147800,null,null,null,{"$f":"CEILING(($E$1003+formule!$E$44*(A1481-$A$1003))/100,1)*100","v":20000},23800,null,20450,24335,null,20000,21000]
[147900,null,null,null,{"$f":"CEILING(($E$1003+formule!$E$44*(A1482-$A$1003))/100,1)*100","v":20000},23800,null,20450,24335,null,20000,21000]
[148000,null,null,null,{"$f":"CEILING(($E$1003+formule!$E$44*(A1483-$A$1003))/100,1)*100","v":20000},23800,null,20450,24335,null,20000,21000]
[148100,null,null,null,{"$f":"CEILING(($E$1003+formule!$E$44*(A1484-$A$1003))/100,1)*100","v":20000},23800,null,20450,24335,null,20000,21000]
[148200,null,null,null,{"$f":"CEILING(($E$1003+formule!$E$44*(A1485-$A$1003))/100,1)*100","v":20000},23800,null,20450,24335,null,20000,21000]
[148300,null,null,null,{"$f":"CEILING(($E$1003+formule!$E$44*(A1486-$A$1003))/100,1)*100","v":20000},23800,null,20450,24335,null,20000,21000]
[148400,null,null,null,{"$f":"CEILING(($E$1003+formule!$E$44*(A1487-$A$1003))/100,1)*100","v":20000},23800,null,20450,24335,null,20000,21000]
[148500,null,null,null,{"$f":"CEILING(($E$1003+formule!$E$44*(A1488-$A$1003))/100,1)*100","v":20000},23800,null,20450,24335,null,20000,21000]
[148600,null,null,null,{"$f":"CEILING(($E$1003+formule!$E$44*(A1489-$A$1003))/100,1)*100","v":20000},23800,null,20450,24335,null,20000,21000]
[148700,null,null,null,{"$f":"CEILING(($E$1003+formule!$E$44*(A1490-$A$1003))/100,1)*100","v":20000},23800,null,20450,24335,null,20000,21000]
[148800,null,null,null,{"$f":"CEILING(($E$1003+formule!$E$44*(A1491-$A$1003))/100,1)*100","v":20100},23919,null,20550,24454,null,20100,21105]
[148900,null,null,null,{"$f":"CEILING(($E$1003+formule!$E$44*(A1492-$A$1003))/100,1)*100","v":20100},23919,null,20550,24454,null,20100,21105]
[149000,null,null,null,{"$f":"CEILING(($E$1003+formule!$E$44*(A1493-$A$1003))/100,1)*100","v":20100},23919,null,20550,24454,null,20100,21105]
[149100,null,null,null,{"$f":"CEILING(($E$1003+formule!$E$44*(A1494-$A$1003))/100,1)*100","v":20100},23919,null,20550,24454,null,20100,21105]
[149200,null,null,null,{"$f":"CEILING(($E$1003+formule!$E$44*(A1495-$A$1003))/100,1)*100","v":20100},23919,null,20550,24454,null,20100,21105]
[149300,null,null,null,{"$f":"CEILING(($E$1003+formule!$E$44*(A1496-$A$1003))/100,1)*100","v":20100},23919,null,20550,24454,null,20100,21105]
[149400,null,null,null,{"$f":"CEILING(($E$1003+formule!$E$44*(A1497-$A$1003))/100,1)*100","v":20100},23919,null,20550,24454,null,20100,21105]
[149500,null,null,null,{"$f":"CEILING(($E$1003+formule!$E$44*(A1498-$A$1003))/100,1)*100","v":20100},23919,null,20550,24454,null,20100,21105]
[149600,null,null,null,{"$f":"CEILING(($E$1003+formule!$E$44*(A1499-$A$1003))/100,1)*100","v":20100},23919,null,20550,24454,null,20100,21105]
[149700,null,null,null,{"$f":"CEILING(($E$1003+formule!$E$44*(A1500-$A$1003))/100,1)*100","v":20100},23919,null,20550,24454,null,20100,21105]
[149800,null,null,null,{"$f":"CEILING(($E$1003+formule!$E$44*(A1501-$A$1003))/100,1)*100","v":20200},24038,null,20650,24573,null,20200,21210]
[149900,null,null,null,{"$f":"CEILING(($E$1003+formule!$E$44*(A1502-$A$1003))/100,1)*100","v":20200},24038,null,20650,24573,null,20200,21210]
[150000,null,null,null,{"$f":"CEILING(($E$1003+formule!$E$44*(A1503-$A$1003))/100,1)*100","v":20200},24038,null,20650,24573,null,20200,21210]
[150100,null,null,null,{"$f":"CEILING(($E$1003+formule!$E$44*(A1504-$A$1003))/100,1)*100","v":20200},24038,null,20650,24573,null,20200,21210]
[150200,null,null,null,{"$f":"CEILING(($E$1003+formule!$E$44*(A1505-$A$1003))/100,1)*100","v":20200},24038,null,20650,24573,null,20200,21210]
[150300,null,null,null,{"$f":"CEILING(($E$1003+formule!$E$44*(A1506-$A$1003))/100,1)*100","v":20200},24038,null,20650,24573,null,20200,21210]
[150400,null,null,null,{"$f":"CEILING(($E$1003+formule!$E$44*(A1507-$A$1003))/100,1)*100","v":20200},24038,null,20650,24573,null,20200,21210]
[150500,null,null,null,{"$f":"CEILING(($E$1003+formule!$E$44*(A1508-$A$1003))/100,1)*100","v":20200},24038,null,20650,24573,null,20200,21210]
[150600,null,null,null,{"$f":"CEILING(($E$1003+formule!$E$44*(A1509-$A$1003))/100,1)*100","v":20200},24038,null,20650,24573,null,20200,21210]
[150700,null,null,null,{"$f":"CEILING(($E$1003+formule!$E$44*(A1510-$A$1003))/100,1)*100","v":20200},24038,null,20650,24573,null,20200,21210]
[150800,null,null,null,{"$f":"CEILING(($E$1003+formule!$E$44*(A1511-$A$1003))/100,1)*100","v":20300},24157,null,20750,24692,null,20300,21315]
[150900,null,null,null,{"$f":"CEILING(($E$1003+formule!$E$44*(A1512-$A$1003))/100,1)*100","v":20300},24157,null,20750,24692,null,20300,21315]
[151000,null,null,null,{"$f":"CEILING(($E$1003+formule!$E$44*(A1513-$A$1003))/100,1)*100","v":20300},24157,null,{"$f":"E1513+450","v":20750},{"$f":"F1513+535","v":24692},null,20300,21315]
[151100,null,null,null,{"$f":"CEILING(($E$1003+formule!$E$44*(A1514-$A$1003))/100,1)*100","v":20300},24157,null,20750,24692,null,20300,21315]
[151200,null,null,null,{"$f":"CEILING(($E$1003+formule!$E$44*(A1515-$A$1003))/100,1)*100","v":20300},24157,null,20750,24692,null,20300,21315]
[151300,null,null,null,{"$f":"CEILING(($E$1003+formule!$E$44*(A1516-$A$1003))/100,1)*100","v":20300},24157,null,20750,24692,null,20300,21315]
[{"$f":"A1516+100","v":151400},null,null,null,{"$f":"CEILING(($E$1003+formule!$E$44*(A1517-$A$1003))/100,1)*100","v":20300},24157,null,20750,24692,null,20300,21315]
[151500,null,null,null,{"$f":"CEILING(($E$1003+formule!$E$44*(A1518-$A$1003))/100,1)*100","v":20300},24157,null,20750,24692,null,20300,21315]
[151600,null,null,null,{"$f":"CEILING(($E$1003+formule!$E$44*(A1519-$A$1003))/100,1)*100","v":20300},24157,null,20750,24692,null,20300,21315]
[151700,null,null,null,{"$f":"CEILING(($E$1003+formule!$E$44*(A1520-$A$1003))/100,1)*100","v":20300},24157,null,20750,24692,null,20300,21315]
[151800,null,null,null,{"$f":"CEILING(($E$1003+formule!$E$44*(A1521-$A$1003))/100,1)*100","v":20400},{"$f":"E1521*1.19","v":24276},null,20850,24811,null,20400,21420]
[151900,null,null,null,{"$f":"CEILING(($E$1003+formule!$E$44*(A1522-$A$1003))/100,1)*100","v":20400},24276,null,20850,24811,null,20400,21420]
[152000,null,null,null,{"$f":"CEILING(($E$1003+formule!$E$44*(A1523-$A$1003))/100,1)*100","v":20400},24276,null,20850,24811,null,20400,21420]
[152100,null,null,null,{"$f":"CEILING(($E$1003+formule!$E$44*(A1524-$A$1003))/100,1)*100","v":20400},24276,null,20850,24811,null,20400,21420]
[152200,null,null,null,{"$f":"CEILING(($E$1003+formule!$E$44*(A1525-$A$1003))/100,1)*100","v":20400},24276,null,20850,24811,null,20400,21420]
[152300,null,null,null,{"$f":"CEILING(($E$1003+formule!$E$44*(A1526-$A$1003))/100,1)*100","v":20400},24276,null,20850,24811,null,20400,21420]
[152400,null,null,null,{"$f":"CEILING(($E$1003+formule!$E$44*(A1527-$A$1003))/100,1)*100","v":20400},24276,null,20850,24811,null,20400,21420]
[152500,null,null,null,{"$f":"CEILING(($E$1003+formule!$E$44*(A1528-$A$1003))/100,1)*100","v":20400},24276,null,20850,24811,null,20400,21420]
[152600,null,null,null,{"$f":"CEILING(($E$1003+formule!$E$44*(A1529-$A$1003))/100,1)*100","v":20400},24276,null,20850,24811,null,20400,21420]
[152700,null,null,null,{"$f":"CEILING(($E$1003+formule!$E$44*(A1530-$A$1003))/100,1)*100","v":20400},24276,null,20850,24811,null,20400,21420]
[152800,null,null,null,{"$f":"CEILING(($E$1003+formule!$E$44*(A1531-$A$1003))/100,1)*100","v":20500},24395,null,20950,24930,null,20500,21525]
[152900,null,null,null,{"$f":"CEILING(($E$1003+formule!$E$44*(A1532-$A$1003))/100,1)*100","v":20500},24395,null,20950,24930,null,20500,21525]
[153000,null,null,null,{"$f":"CEILING(($E$1003+formule!$E$44*(A1533-$A$1003))/100,1)*100","v":20500},24395,null,20950,24930,null,20500,21525]
[153100,null,null,null,{"$f":"CEILING(($E$1003+formule!$E$44*(A1534-$A$1003))/100,1)*100","v":20500},24395,null,20950,24930,null,20500,21525]
[153200,null,null,null,{"$f":"CEILING(($E$1003+formule!$E$44*(A1535-$A$1003))/100,1)*100","v":20500},24395,null,20950,24930,null,20500,21525]
[153300,null,null,null,{"$f":"CEILING(($E$1003+formule!$E$44*(A1536-$A$1003))/100,1)*100","v":20500},24395,null,20950,24930,null,20500,21525]
[153400,null,null,null,{"$f":"CEILING(($E$1003+formule!$E$44*(A1537-$A$1003))/100,1)*100","v":20500},24395,null,20950,24930,null,20500,21525]
[153500,null,null,null,{"$f":"CEILING(($E$1003+formule!$E$44*(A1538-$A$1003))/100,1)*100","v":20500},24395,null,20950,24930,null,20500,21525]
[153600,null,null,null,{"$f":"CEILING(($E$1003+formule!$E$44*(A1539-$A$1003))/100,1)*100","v":20500},24395,null,20950,24930,null,20500,21525]
[153700,null,null,null,{"$f":"CEILING(($E$1003+formule!$E$44*(A1540-$A$1003))/100,1)*100","v":20500},24395,null,20950,24930,null,20500,21525]
[153800,null,null,null,{"$f":"CEILING(($E$1003+formule!$E$44*(A1541-$A$1003))/100,1)*100","v":20600},24514,null,21050,25049,null,{"$f":"E1541","v":20600},{"$f":"K1541*1.05","v":21630}]
[153900,null,null,null,{"$f":"CEILING(($E$1003+formule!$E$44*(A1542-$A$1003))/100,1)*100","v":20600},24514,null,21050,25049,null,20600,21630]
[154000,null,null,null,{"$f":"CEILING(($E$1003+formule!$E$44*(A1543-$A$1003))/100,1)*100","v":20600},24514,null,21050,25049,null,20600,21630]
[154100,null,null,null,{"$f":"CEILING(($E$1003+formule!$E$44*(A1544-$A$1003))/100,1)*100","v":20600},24514,null,21050,25049,null,20600,21630]
[154200,null,null,null,{"$f":"CEILING(($E$1003+formule!$E$44*(A1545-$A$1003))/100,1)*100","v":20600},24514,null,21050,25049,null,20600,21630]
[154300,null,null,null,{"$f":"CEILING(($E$1003+formule!$E$44*(A1546-$A$1003))/100,1)*100","v":20600},24514,null,21050,25049,null,20600,21630]
[154400,null,null,null,{"$f":"CEILING(($E$1003+formule!$E$44*(A1547-$A$1003))/100,1)*100","v":20600},24514,null,21050,25049,null,20600,21630]
[154500,null,null,null,{"$f":"CEILING(($E$1003+formule!$E$44*(A1548-$A$1003))/100,1)*100","v":20600},24514,null,21050,25049,null,20600,21630]
[154600,null,null,null,{"$f":"CEILING(($E$1003+formule!$E$44*(A1549-$A$1003))/100,1)*100","v":20600},24514,null,21050,25049,null,20600,21630]
[154700,null,null,null,{"$f":"CEILING(($E$1003+formule!$E$44*(A1550-$A$1003))/100,1)*100","v":20600},24514,null,21050,25049,null,20600,21630]
[154800,null,null,null,{"$f":"CEILING(($E$1003+formule!$E$44*(A1551-$A$1003))/100,1)*100","v":20600},24514,null,21050,25049,null,20600,21630]
[154900,null,null,null,{"$f":"CEILING(($E$1003+formule!$E$44*(A1552-$A$1003))/100,1)*100","v":20700},24633,null,21150,25168,null,20700,21735]
[155000,null,null,null,{"$f":"CEILING(($E$1003+formule!$E$44*(A1553-$A$1003))/100,1)*100","v":20700},24633,null,21150,25168,null,20700,21735]
[155100,null,null,null,{"$f":"CEILING(($E$1003+formule!$E$44*(A1554-$A$1003))/100,1)*100","v":20700},24633,null,21150,25168,null,20700,21735]
[155200,null,null,null,{"$f":"CEILING(($E$1003+formule!$E$44*(A1555-$A$1003))/100,1)*100","v":20700},24633,null,21150,25168,null,20700,21735]
[155300,null,null,null,{"$f":"CEILING(($E$1003+formule!$E$44*(A1556-$A$1003))/100,1)*100","v":20700},24633,null,21150,25168,null,20700,21735]
[155400,null,null,null,{"$f":"CEILING(($E$1003+formule!$E$44*(A1557-$A$1003))/100,1)*100","v":20700},24633,null,21150,25168,null,20700,21735]
[155500,null,null,null,{"$f":"CEILING(($E$1003+formule!$E$44*(A1558-$A$1003))/100,1)*100","v":20700},24633,null,21150,25168,null,20700,21735]
[155600,null,null,null,{"$f":"CEILING(($E$1003+formule!$E$44*(A1559-$A$1003))/100,1)*100","v":20700},24633,null,21150,25168,null,20700,21735]
[155700,null,null,null,{"$f":"CEILING(($E$1003+formule!$E$44*(A1560-$A$1003))/100,1)*100","v":20700},24633,null,21150,25168,null,20700,21735]
[155800,null,null,null,{"$f":"CEILING(($E$1003+formule!$E$44*(A1561-$A$1003))/100,1)*100","v":20700},24633,null,21150,25168,null,20700,21735]
[155900,null,null,null,{"$f":"CEILING(($E$1003+formule!$E$44*(A1562-$A$1003))/100,1)*100","v":20800},24752,null,21250,25287,null,20800,21840]
[156000,null,null,null,{"$f":"CEILING(($E$1003+formule!$E$44*(A1563-$A$1003))/100,1)*100","v":20800},24752,null,21250,25287,null,20800,21840]
[156100,null,null,null,{"$f":"CEILING(($E$1003+formule!$E$44*(A1564-$A$1003))/100,1)*100","v":20800},24752,null,21250,25287,null,20800,21840]
[156200,null,null,null,{"$f":"CEILING(($E$1003+formule!$E$44*(A1565-$A$1003))/100,1)*100","v":20800},24752,null,21250,25287,null,20800,21840]
[156300,null,null,null,{"$f":"CEILING(($E$1003+formule!$E$44*(A1566-$A$1003))/100,1)*100","v":20800},24752,null,21250,25287,null,20800,21840]
[156400,null,null,null,{"$f":"CEILING(($E$1003+formule!$E$44*(A1567-$A$1003))/100,1)*100","v":20800},24752,null,21250,25287,null,20800,21840]
[156500,null,null,null,{"$f":"CEILING(($E$1003+formule!$E$44*(A1568-$A$1003))/100,1)*100","v":20800},24752,null,21250,25287,null,20800,21840]
[156600,null,null,null,{"$f":"CEILING(($E$1003+formule!$E$44*(A1569-$A$1003))/100,1)*100","v":20800},24752,null,21250,25287,null,20800,21840]
[156700,null,null,null,{"$f":"CEILING(($E$1003+formule!$E$44*(A1570-$A$1003))/100,1)*100","v":20800},24752,null,21250,25287,null,20800,21840]
[156800,null,null,null,{"$f":"CEILING(($E$1003+formule!$E$44*(A1571-$A$1003))/100,1)*100","v":20800},24752,null,21250,25287,null,20800,21840]
[156900,null,null,null,{"$f":"CEILING(($E$1003+formule!$E$44*(A1572-$A$1003))/100,1)*100","v":20900},24871,null,21350,25406,null,20900,21945]
[157000,null,null,null,{"$f":"CEILING(($E$1003+formule!$E$44*(A1573-$A$1003))/100,1)*100","v":20900},24871,null,21350,25406,null,20900,21945]
[157100,null,null,null,{"$f":"CEILING(($E$1003+formule!$E$44*(A1574-$A$1003))/100,1)*100","v":20900},24871,null,21350,25406,null,20900,21945]
[157200,null,null,null,{"$f":"CEILING(($E$1003+formule!$E$44*(A1575-$A$1003))/100,1)*100","v":20900},24871,null,21350,25406,null,20900,21945]
[157300,null,null,null,{"$f":"CEILING(($E$1003+formule!$E$44*(A1576-$A$1003))/100,1)*100","v":20900},24871,null,21350,25406,null,20900,21945]
[157400,null,null,null,{"$f":"CEILING(($E$1003+formule!$E$44*(A1577-$A$1003))/100,1)*100","v":20900},24871,null,{"$f":"E1577+450","v":21350},{"$f":"F1577+535","v":25406},null,20900,21945]
[157500,null,null,null,{"$f":"CEILING(($E$1003+formule!$E$44*(A1578-$A$1003))/100,1)*100","v":20900},24871,null,21350,25406,null,20900,21945]
[157600,null,null,null,{"$f":"CEILING(($E$1003+formule!$E$44*(A1579-$A$1003))/100,1)*100","v":20900},24871,null,21350,25406,null,20900,21945]
[157700,null,null,null,{"$f":"CEILING(($E$1003+formule!$E$44*(A1580-$A$1003))/100,1)*100","v":20900},24871,null,21350,25406,null,20900,21945]
[{"$f":"A1580+100","v":157800},null,null,null,{"$f":"CEILING(($E$1003+formule!$E$44*(A1581-$A$1003))/100,1)*100","v":20900},24871,null,21350,25406,null,20900,21945]
[157900,null,null,null,{"$f":"CEILING(($E$1003+formule!$E$44*(A1582-$A$1003))/100,1)*100","v":21000},24990,null,21450,25525,null,21000,22050]
[158000,null,null,null,{"$f":"CEILING(($E$1003+formule!$E$44*(A1583-$A$1003))/100,1)*100","v":21000},24990,null,21450,25525,null,21000,22050]
[158100,null,null,null,{"$f":"CEILING(($E$1003+formule!$E$44*(A1584-$A$1003))/100,1)*100","v":21000},24990,null,21450,25525,null,21000,22050]
[158200,null,null,null,{"$f":"CEILING(($E$1003+formule!$E$44*(A1585-$A$1003))/100,1)*100","v":21000},{"$f":"E1585*1.19","v":24990},null,21450,25525,null,21000,22050]
[158300,null,null,null,{"$f":"CEILING(($E$1003+formule!$E$44*(A1586-$A$1003))/100,1)*100","v":21000},24990,null,21450,25525,null,21000,22050]
[158400,null,null,null,{"$f":"CEILING(($E$1003+formule!$E$44*(A1587-$A$1003))/100,1)*100","v":21000},24990,null,21450,25525,null,21000,22050]
[158500,null,null,null,{"$f":"CEILING(($E$1003+formule!$E$44*(A1588-$A$1003))/100,1)*100","v":21000},24990,null,21450,25525,null,21000,22050]
[158600,null,null,null,{"$f":"CEILING(($E$1003+formule!$E$44*(A1589-$A$1003))/100,1)*100","v":21000},24990,null,21450,25525,null,21000,22050]
[158700,null,null,null,{"$f":"CEILING(($E$1003+formule!$E$44*(A1590-$A$1003))/100,1)*100","v":21000},24990,null,21450,25525,null,21000,22050]
[158800,null,null,null,{"$f":"CEILING(($E$1003+formule!$E$44*(A1591-$A$1003))/100,1)*100","v":21000},24990,null,21450,25525,null,21000,22050]
[158900,null,null,null,{"$f":"CEILING(($E$1003+formule!$E$44*(A1592-$A$1003))/100,1)*100","v":21100},25109,null,21550,25644,null,21100,22155]
[159000,null,null,null,{"$f":"CEILING(($E$1003+formule!$E$44*(A1593-$A$1003))/100,1)*100","v":21100},25109,null,21550,25644,null,21100,22155]
[159100,null,null,null,{"$f":"CEILING(($E$1003+formule!$E$44*(A1594-$A$1003))/100,1)*100","v":21100},25109,null,21550,25644,null,21100,22155]
[159200,null,null,null,{"$f":"CEILING(($E$1003+formule!$E$44*(A1595-$A$1003))/100,1)*100","v":21100},25109,null,21550,25644,null,21100,22155]
[159300,null,null,null,{"$f":"CEILING(($E$1003+formule!$E$44*(A1596-$A$1003))/100,1)*100","v":21100},25109,null,21550,25644,null,21100,22155]
[159400,null,null,null,{"$f":"CEILING(($E$1003+formule!$E$44*(A1597-$A$1003))/100,1)*100","v":21100},25109,null,21550,25644,null,21100,22155]
[159500,null,null,null,{"$f":"CEILING(($E$1003+formule!$E$44*(A1598-$A$1003))/100,1)*100","v":21100},25109,null,21550,25644,null,21100,22155]
[159600,null,null,null,{"$f":"CEILING(($E$1003+formule!$E$44*(A1599-$A$1003))/100,1)*100","v":21100},25109,null,21550,25644,null,21100,22155]
[159700,null,null,null,{"$f":"CEILING(($E$1003+formule!$E$44*(A1600-$A$1003))/100,1)*100","v":21100},25109,null,21550,25644,null,21100,22155]
[159800,null,null,null,{"$f":"CEILING(($E$1003+formule!$E$44*(A1601-$A$1003))/100,1)*100","v":21100},25109,null,21550,25644,null,21100,22155]
[159900,null,null,null,{"$f":"CEILING(($E$1003+formule!$E$44*(A1602-$A$1003))/100,1)*100","v":21200},25228,null,21650,25763,null,21200,22260]
[160000,null,null,null,{"$f":"CEILING(($E$1003+formule!$E$44*(A1603-$A$1003))/100,1)*100","v":21200},25228,null,21650,25763,null,21200,22260]
[160100,null,null,null,{"$f":"CEILING(($E$1003+formule!$E$44*(A1604-$A$1003))/100,1)*100","v":21200},25228,null,21650,25763,null,21200,22260]
[160200,null,null,null,{"$f":"CEILING(($E$1003+formule!$E$44*(A1605-$A$1003))/100,1)*100","v":21200},25228,null,21650,25763,null,{"$f":"E1605","v":21200},{"$f":"K1605*1.05","v":22260}]
[160300,null,null,null,{"$f":"CEILING(($E$1003+formule!$E$44*(A1606-$A$1003))/100,1)*100","v":21200},25228,null,21650,25763,null,21200,22260]
[160400,null,null,null,{"$f":"CEILING(($E$1003+formule!$E$44*(A1607-$A$1003))/100,1)*100","v":21200},25228,null,21650,25763,null,21200,22260]
[160500,null,null,null,{"$f":"CEILING(($E$1003+formule!$E$44*(A1608-$A$1003))/100,1)*100","v":21200},25228,null,21650,25763,null,21200,22260]
[160600,null,null,null,{"$f":"CEILING(($E$1003+formule!$E$44*(A1609-$A$1003))/100,1)*100","v":21200},25228,null,21650,25763,null,21200,22260]
[160700,null,null,null,{"$f":"CEILING(($E$1003+formule!$E$44*(A1610-$A$1003))/100,1)*100","v":21200},25228,null,21650,25763,null,21200,22260]
[160800,null,null,null,{"$f":"CEILING(($E$1003+formule!$E$44*(A1611-$A$1003))/100,1)*100","v":21200},25228,null,21650,25763,null,21200,22260]
[160900,null,null,null,{"$f":"CEILING(($E$1003+formule!$E$44*(A1612-$A$1003))/100,1)*100","v":21300},25347,null,21750,25882,null,21300,22365]
[161000,null,null,null,{"$f":"CEILING(($E$1003+formule!$E$44*(A1613-$A$1003))/100,1)*100","v":21300},25347,null,21750,25882,null,21300,22365]
[161100,null,null,null,{"$f":"CEILING(($E$1003+formule!$E$44*(A1614-$A$1003))/100,1)*100","v":21300},25347,null,21750,25882,null,21300,22365]
[161200,null,null,null,{"$f":"CEILING(($E$1003+formule!$E$44*(A1615-$A$1003))/100,1)*100","v":21300},25347,null,21750,25882,null,21300,22365]
[161300,null,null,null,{"$f":"CEILING(($E$1003+formule!$E$44*(A1616-$A$1003))/100,1)*100","v":21300},25347,null,21750,25882,null,21300,22365]
[161400,null,null,null,{"$f":"CEILING(($E$1003+formule!$E$44*(A1617-$A$1003))/100,1)*100","v":21300},25347,null,21750,25882,null,21300,22365]
[161500,null,null,null,{"$f":"CEILING(($E$1003+formule!$E$44*(A1618-$A$1003))/100,1)*100","v":21300},25347,null,21750,25882,null,21300,22365]
[161600,null,null,null,{"$f":"CEILING(($E$1003+formule!$E$44*(A1619-$A$1003))/100,1)*100","v":21300},25347,null,21750,25882,null,21300,22365]
[161700,null,null,null,{"$f":"CEILING(($E$1003+formule!$E$44*(A1620-$A$1003))/100,1)*100","v":21300},25347,null,21750,25882,null,21300,22365]
[161800,null,null,null,{"$f":"CEILING(($E$1003+formule!$E$44*(A1621-$A$1003))/100,1)*100","v":21300},25347,null,21750,25882,null,21300,22365]
[161900,null,null,null,{"$f":"CEILING(($E$1003+formule!$E$44*(A1622-$A$1003))/100,1)*100","v":21300},25347,null,21750,25882,null,21300,22365]
[162000,null,null,null,{"$f":"CEILING(($E$1003+formule!$E$44*(A1623-$A$1003))/100,1)*100","v":21400},25466,null,21850,26001,null,21400,22470]
[162100,null,null,null,{"$f":"CEILING(($E$1003+formule!$E$44*(A1624-$A$1003))/100,1)*100","v":21400},25466,null,21850,26001,null,21400,22470]
[162200,null,null,null,{"$f":"CEILING(($E$1003+formule!$E$44*(A1625-$A$1003))/100,1)*100","v":21400},25466,null,21850,26001,null,21400,22470]
[162300,null,null,null,{"$f":"CEILING(($E$1003+formule!$E$44*(A1626-$A$1003))/100,1)*100","v":21400},25466,null,21850,26001,null,21400,22470]
[162400,null,null,null,{"$f":"CEILING(($E$1003+formule!$E$44*(A1627-$A$1003))/100,1)*100","v":21400},25466,null,21850,26001,null,21400,22470]
[162500,null,null,null,{"$f":"CEILING(($E$1003+formule!$E$44*(A1628-$A$1003))/100,1)*100","v":21400},25466,null,21850,26001,null,21400,22470]
[162600,null,null,null,{"$f":"CEILING(($E$1003+formule!$E$44*(A1629-$A$1003))/100,1)*100","v":21400},25466,null,21850,26001,null,21400,22470]
[162700,null,null,null,{"$f":"CEILING(($E$1003+formule!$E$44*(A1630-$A$1003))/100,1)*100","v":21400},25466,null,21850,26001,null,21400,22470]
[162800,null,null,null,{"$f":"CEILING(($E$1003+formule!$E$44*(A1631-$A$1003))/100,1)*100","v":21400},25466,null,21850,26001,null,21400,22470]
[162900,null,null,null,{"$f":"CEILING(($E$1003+formule!$E$44*(A1632-$A$1003))/100,1)*100","v":21400},25466,null,21850,26001,null,21400,22470]
[163000,null,null,null,{"$f":"CEILING(($E$1003+formule!$E$44*(A1633-$A$1003))/100,1)*100","v":21500},25585,null,21950,26120,null,21500,22575]
[163100,null,null,null,{"$f":"CEILING(($E$1003+formule!$E$44*(A1634-$A$1003))/100,1)*100","v":21500},25585,null,21950,26120,null,21500,22575]
[163200,null,null,null,{"$f":"CEILING(($E$1003+formule!$E$44*(A1635-$A$1003))/100,1)*100","v":21500},25585,null,21950,26120,null,21500,22575]
[163300,null,null,null,{"$f":"CEILING(($E$1003+formule!$E$44*(A1636-$A$1003))/100,1)*100","v":21500},25585,null,21950,26120,null,21500,22575]
[163400,null,null,null,{"$f":"CEILING(($E$1003+formule!$E$44*(A1637-$A$1003))/100,1)*100","v":21500},25585,null,21950,26120,null,21500,22575]
[163500,null,null,null,{"$f":"CEILING(($E$1003+formule!$E$44*(A1638-$A$1003))/100,1)*100","v":21500},25585,null,21950,26120,null,21500,22575]
[163600,null,null,null,{"$f":"CEILING(($E$1003+formule!$E$44*(A1639-$A$1003))/100,1)*100","v":21500},25585,null,21950,26120,null,21500,22575]
[163700,null,null,null,{"$f":"CEILING(($E$1003+formule!$E$44*(A1640-$A$1003))/100,1)*100","v":21500},25585,null,21950,26120,null,21500,22575]
[163800,null,null,null,{"$f":"CEILING(($E$1003+formule!$E$44*(A1641-$A$1003))/100,1)*100","v":21500},25585,null,{"$f":"E1641+450","v":21950},{"$f":"F1641+535","v":26120},null,21500,22575]
[163900,null,null,null,{"$f":"CEILING(($E$1003+formule!$E$44*(A1642-$A$1003))/100,1)*100","v":21500},25585,null,21950,26120,null,21500,22575]
[164000,null,null,null,{"$f":"CEILING(($E$1003+formule!$E$44*(A1643-$A$1003))/100,1)*100","v":21600},25704,null,22050,26239,null,21600,22680]
[164100,null,null,null,{"$f":"CEILING(($E$1003+formule!$E$44*(A1644-$A$1003))/100,1)*100","v":21600},25704,null,22050,26239,null,21600,22680]
[{"$f":"A1644+100","v":164200},null,null,null,{"$f":"CEILING(($E$1003+formule!$E$44*(A1645-$A$1003))/100,1)*100","v":21600},25704,null,22050,26239,null,21600,22680]
[164300,null,null,null,{"$f":"CEILING(($E$1003+formule!$E$44*(A1646-$A$1003))/100,1)*100","v":21600},25704,null,22050,26239,null,21600,22680]
[164400,null,null,null,{"$f":"CEILING(($E$1003+formule!$E$44*(A1647-$A$1003))/100,1)*100","v":21600},25704,null,22050,26239,null,21600,22680]
[164500,null,null,null,{"$f":"CEILING(($E$1003+formule!$E$44*(A1648-$A$1003))/100,1)*100","v":21600},25704,null,22050,26239,null,21600,22680]
[164600,null,null,null,{"$f":"CEILING(($E$1003+formule!$E$44*(A1649-$A$1003))/100,1)*100","v":21600},{"$f":"E1649*1.19","v":25704},null,22050,26239,null,21600,22680]
[164700,null,null,null,{"$f":"CEILING(($E$1003+formule!$E$44*(A1650-$A$1003))/100,1)*100","v":21600},25704,null,22050,26239,null,21600,22680]
[164800,null,null,null,{"$f":"CEILING(($E$1003+formule!$E$44*(A1651-$A$1003))/100,1)*100","v":21600},25704,null,22050,26239,null,21600,22680]
[164900,null,null,null,{"$f":"CEILING(($E$1003+formule!$E$44*(A1652-$A$1003))/100,1)*100","v":21600},25704,null,22050,26239,null,21600,22680]
[165000,null,null,null,{"$f":"CEILING(($E$1003+formule!$E$44*(A1653-$A$1003))/100,1)*100","v":21700},25823,null,22150,26358,null,21700,22785]
[165100,null,null,null,{"$f":"CEILING(($E$1003+formule!$E$44*(A1654-$A$1003))/100,1)*100","v":21700},25823,null,22150,26358,null,21700,22785]
[165200,null,null,null,{"$f":"CEILING(($E$1003+formule!$E$44*(A1655-$A$1003))/100,1)*100","v":21700},25823,null,22150,26358,null,21700,22785]
[165300,null,null,null,{"$f":"CEILING(($E$1003+formule!$E$44*(A1656-$A$1003))/100,1)*100","v":21700},25823,null,22150,26358,null,21700,22785]
[165400,null,null,null,{"$f":"CEILING(($E$1003+formule!$E$44*(A1657-$A$1003))/100,1)*100","v":21700},25823,null,22150,26358,null,21700,22785]
[165500,null,null,null,{"$f":"CEILING(($E$1003+formule!$E$44*(A1658-$A$1003))/100,1)*100","v":21700},25823,null,22150,26358,null,21700,22785]
[165600,null,null,null,{"$f":"CEILING(($E$1003+formule!$E$44*(A1659-$A$1003))/100,1)*100","v":21700},25823,null,22150,26358,null,21700,22785]
[165700,null,null,null,{"$f":"CEILING(($E$1003+formule!$E$44*(A1660-$A$1003))/100,1)*100","v":21700},25823,null,22150,26358,null,21700,22785]
[165800,null,null,null,{"$f":"CEILING(($E$1003+formule!$E$44*(A1661-$A$1003))/100,1)*100","v":21700},25823,null,22150,26358,null,21700,22785]
[165900,null,null,null,{"$f":"CEILING(($E$1003+formule!$E$44*(A1662-$A$1003))/100,1)*100","v":21700},25823,null,22150,26358,null,21700,22785]
[166000,null,null,null,{"$f":"CEILING(($E$1003+formule!$E$44*(A1663-$A$1003))/100,1)*100","v":21800},25942,null,22250,26477,null,21800,22890]
[166100,null,null,null,{"$f":"CEILING(($E$1003+formule!$E$44*(A1664-$A$1003))/100,1)*100","v":21800},25942,null,22250,26477,null,21800,22890]
[166200,null,null,null,{"$f":"CEILING(($E$1003+formule!$E$44*(A1665-$A$1003))/100,1)*100","v":21800},25942,null,22250,26477,null,21800,22890]
[166300,null,null,null,{"$f":"CEILING(($E$1003+formule!$E$44*(A1666-$A$1003))/100,1)*100","v":21800},25942,null,22250,26477,null,21800,22890]
[166400,null,null,null,{"$f":"CEILING(($E$1003+formule!$E$44*(A1667-$A$1003))/100,1)*100","v":21800},25942,null,22250,26477,null,21800,22890]
[166500,null,null,null,{"$f":"CEILING(($E$1003+formule!$E$44*(A1668-$A$1003))/100,1)*100","v":21800},25942,null,22250,26477,null,21800,22890]
[166600,null,null,null,{"$f":"CEILING(($E$1003+formule!$E$44*(A1669-$A$1003))/100,1)*100","v":21800},25942,null,22250,26477,null,{"$f":"E1669","v":21800},{"$f":"K1669*1.05","v":22890}]
[166700,null,null,null,{"$f":"CEILING(($E$1003+formule!$E$44*(A1670-$A$1003))/100,1)*100","v":21800},25942,null,22250,26477,null,21800,22890]
[166800,null,null,null,{"$f":"CEILING(($E$1003+formule!$E$44*(A1671-$A$1003))/100,1)*100","v":21800},25942,null,22250,26477,null,21800,22890]
[166900,null,null,null,{"$f":"CEILING(($E$1003+formule!$E$44*(A1672-$A$1003))/100,1)*100","v":21800},25942,null,22250,26477,null,21800,22890]
[167000,null,null,null,{"$f":"CEILING(($E$1003+formule!$E$44*(A1673-$A$1003))/100,1)*100","v":21900},26061,null,22350,26596,null,21900,22995]
[167100,null,null,null,{"$f":"CEILING(($E$1003+formule!$E$44*(A1674-$A$1003))/100,1)*100","v":21900},26061,null,22350,26596,null,21900,22995]
[167200,null,null,null,{"$f":"CEILING(($E$1003+formule!$E$44*(A1675-$A$1003))/100,1)*100","v":21900},26061,null,22350,26596,null,21900,22995]
[167300,null,null,null,{"$f":"CEILING(($E$1003+formule!$E$44*(A1676-$A$1003))/100,1)*100","v":21900},26061,null,22350,26596,null,21900,22995]
[167400,null,null,null,{"$f":"CEILING(($E$1003+formule!$E$44*(A1677-$A$1003))/100,1)*100","v":21900},26061,null,22350,26596,null,21900,22995]
[167500,null,null,null,{"$f":"CEILING(($E$1003+formule!$E$44*(A1678-$A$1003))/100,1)*100","v":21900},26061,null,22350,26596,null,21900,22995]
[167600,null,null,null,{"$f":"CEILING(($E$1003+formule!$E$44*(A1679-$A$1003))/100,1)*100","v":21900},26061,null,22350,26596,null,21900,22995]
[167700,null,null,null,{"$f":"CEILING(($E$1003+formule!$E$44*(A1680-$A$1003))/100,1)*100","v":21900},26061,null,22350,26596,null,21900,22995]
[167800,null,null,null,{"$f":"CEILING(($E$1003+formule!$E$44*(A1681-$A$1003))/100,1)*100","v":21900},26061,null,22350,26596,null,21900,22995]
[167900,null,null,null,{"$f":"CEILING(($E$1003+formule!$E$44*(A1682-$A$1003))/100,1)*100","v":21900},26061,null,22350,26596,null,21900,22995]
[168000,null,null,null,{"$f":"CEILING(($E$1003+formule!$E$44*(A1683-$A$1003))/100,1)*100","v":21900},26061,null,22350,26596,null,21900,22995]
[168100,null,null,null,{"$f":"CEILING(($E$1003+formule!$E$44*(A1684-$A$1003))/100,1)*100","v":22000},26180,null,22450,26715,null,22000,23100]
[168200,null,null,null,{"$f":"CEILING(($E$1003+formule!$E$44*(A1685-$A$1003))/100,1)*100","v":22000},26180,null,22450,26715,null,22000,23100]
[168300,null,null,null,{"$f":"CEILING(($E$1003+formule!$E$44*(A1686-$A$1003))/100,1)*100","v":22000},26180,null,22450,26715,null,22000,23100]
[168400,null,null,null,{"$f":"CEILING(($E$1003+formule!$E$44*(A1687-$A$1003))/100,1)*100","v":22000},26180,null,22450,26715,null,22000,23100]
[168500,null,null,null,{"$f":"CEILING(($E$1003+formule!$E$44*(A1688-$A$1003))/100,1)*100","v":22000},26180,null,22450,26715,null,22000,23100]
[168600,null,null,null,{"$f":"CEILING(($E$1003+formule!$E$44*(A1689-$A$1003))/100,1)*100","v":22000},26180,null,22450,26715,null,22000,23100]
[168700,null,null,null,{"$f":"CEILING(($E$1003+formule!$E$44*(A1690-$A$1003))/100,1)*100","v":22000},26180,null,22450,26715,null,22000,23100]
[168800,null,null,null,{"$f":"CEILING(($E$1003+formule!$E$44*(A1691-$A$1003))/100,1)*100","v":22000},26180,null,22450,26715,null,22000,23100]
[168900,null,null,null,{"$f":"CEILING(($E$1003+formule!$E$44*(A1692-$A$1003))/100,1)*100","v":22000},26180,null,22450,26715,null,22000,23100]
[169000,null,null,null,{"$f":"CEILING(($E$1003+formule!$E$44*(A1693-$A$1003))/100,1)*100","v":22000},26180,null,22450,26715,null,22000,23100]
[169100,null,null,null,{"$f":"CEILING(($E$1003+formule!$E$44*(A1694-$A$1003))/100,1)*100","v":22100},26299,null,22550,26834,null,22100,23205]
[169200,null,null,null,{"$f":"CEILING(($E$1003+formule!$E$44*(A1695-$A$1003))/100,1)*100","v":22100},26299,null,22550,26834,null,22100,23205]
[169300,null,null,null,{"$f":"CEILING(($E$1003+formule!$E$44*(A1696-$A$1003))/100,1)*100","v":22100},26299,null,22550,26834,null,22100,23205]
[169400,null,null,null,{"$f":"CEILING(($E$1003+formule!$E$44*(A1697-$A$1003))/100,1)*100","v":22100},26299,null,22550,26834,null,22100,23205]
[169500,null,null,null,{"$f":"CEILING(($E$1003+formule!$E$44*(A1698-$A$1003))/100,1)*100","v":22100},26299,null,22550,26834,null,22100,23205]
[169600,null,null,null,{"$f":"CEILING(($E$1003+formule!$E$44*(A1699-$A$1003))/100,1)*100","v":22100},26299,null,22550,26834,null,22100,23205]
[169700,null,null,null,{"$f":"CEILING(($E$1003+formule!$E$44*(A1700-$A$1003))/100,1)*100","v":22100},26299,null,22550,26834,null,22100,23205]
[169800,null,null,null,{"$f":"CEILING(($E$1003+formule!$E$44*(A1701-$A$1003))/100,1)*100","v":22100},26299,null,22550,26834,null,22100,23205]
[169900,null,null,null,{"$f":"CEILING(($E$1003+formule!$E$44*(A1702-$A$1003))/100,1)*100","v":22100},26299,null,22550,26834,null,22100,23205]
[170000,null,null,null,{"$f":"CEILING(($E$1003+formule!$E$44*(A1703-$A$1003))/100,1)*100","v":22100},26299,null,22550,26834,null,22100,23205]
[170100,null,null,null,{"$f":"CEILING(($E$1003+formule!$E$44*(A1704-$A$1003))/100,1)*100","v":22200},26418,null,22650,26953,null,22200,23310]
[170200,null,null,null,{"$f":"CEILING(($E$1003+formule!$E$44*(A1705-$A$1003))/100,1)*100","v":22200},26418,null,{"$f":"E1705+450","v":22650},{"$f":"F1705+535","v":26953},null,22200,23310]
[170300,null,null,null,{"$f":"CEILING(($E$1003+formule!$E$44*(A1706-$A$1003))/100,1)*100","v":22200},26418,null,22650,26953,null,22200,23310]
[170400,null,null,null,{"$f":"CEILING(($E$1003+formule!$E$44*(A1707-$A$1003))/100,1)*100","v":22200},26418,null,22650,26953,null,22200,23310]
[170500,null,null,null,{"$f":"CEILING(($E$1003+formule!$E$44*(A1708-$A$1003))/100,1)*100","v":22200},26418,null,22650,26953,null,22200,23310]
[{"$f":"A1708+100","v":170600},null,null,null,{"$f":"CEILING(($E$1003+formule!$E$44*(A1709-$A$1003))/100,1)*100","v":22200},26418,null,22650,26953,null,22200,23310]
[170700,null,null,null,{"$f":"CEILING(($E$1003+formule!$E$44*(A1710-$A$1003))/100,1)*100","v":22200},26418,null,22650,26953,null,22200,23310]
[170800,null,null,null,{"$f":"CEILING(($E$1003+formule!$E$44*(A1711-$A$1003))/100,1)*100","v":22200},26418,null,22650,26953,null,22200,23310]
[170900,null,null,null,{"$f":"CEILING(($E$1003+formule!$E$44*(A1712-$A$1003))/100,1)*100","v":22200},26418,null,22650,26953,null,22200,23310]
[171000,null,null,null,{"$f":"CEILING(($E$1003+formule!$E$44*(A1713-$A$1003))/100,1)*100","v":22200},{"$f":"E1713*1.19","v":26418},null,22650,26953,null,22200,23310]
[171100,null,null,null,{"$f":"CEILING(($E$1003+formule!$E$44*(A1714-$A$1003))/100,1)*100","v":22300},26537,null,22750,27072,null,22300,23415]
[171200,null,null,null,{"$f":"CEILING(($E$1003+formule!$E$44*(A1715-$A$1003))/100,1)*100","v":22300},26537,null,22750,27072,null,22300,23415]
[171300,null,null,null,{"$f":"CEILING(($E$1003+formule!$E$44*(A1716-$A$1003))/100,1)*100","v":22300},26537,null,22750,27072,null,22300,23415]
[171400,null,null,null,{"$f":"CEILING(($E$1003+formule!$E$44*(A1717-$A$1003))/100,1)*100","v":22300},26537,null,22750,27072,null,22300,23415]
[171500,null,null,null,{"$f":"CEILING(($E$1003+formule!$E$44*(A1718-$A$1003))/100,1)*100","v":22300},26537,null,22750,27072,null,22300,23415]
[171600,null,null,null,{"$f":"CEILING(($E$1003+formule!$E$44*(A1719-$A$1003))/100,1)*100","v":22300},26537,null,22750,27072,null,22300,23415]
[171700,null,null,null,{"$f":"CEILING(($E$1003+formule!$E$44*(A1720-$A$1003))/100,1)*100","v":22300},26537,null,22750,27072,null,22300,23415]
[171800,null,null,null,{"$f":"CEILING(($E$1003+formule!$E$44*(A1721-$A$1003))/100,1)*100","v":22300},26537,null,22750,27072,null,22300,23415]
[171900,null,null,null,{"$f":"CEILING(($E$1003+formule!$E$44*(A1722-$A$1003))/100,1)*100","v":22300},26537,null,22750,27072,null,22300,23415]
[172000,null,null,null,{"$f":"CEILING(($E$1003+formule!$E$44*(A1723-$A$1003))/100,1)*100","v":22300},26537,null,22750,27072,null,22300,23415]
[172100,null,null,null,{"$f":"CEILING(($E$1003+formule!$E$44*(A1724-$A$1003))/100,1)*100","v":22400},26656,null,22850,27191,null,22400,23520]
[172200,null,null,null,{"$f":"CEILING(($E$1003+formule!$E$44*(A1725-$A$1003))/100,1)*100","v":22400},26656,null,22850,27191,null,22400,23520]
[172300,null,null,null,{"$f":"CEILING(($E$1003+formule!$E$44*(A1726-$A$1003))/100,1)*100","v":22400},26656,null,22850,27191,null,22400,23520]
[172400,null,null,null,{"$f":"CEILING(($E$1003+formule!$E$44*(A1727-$A$1003))/100,1)*100","v":22400},26656,null,22850,27191,null,22400,23520]
[172500,null,null,null,{"$f":"CEILING(($E$1003+formule!$E$44*(A1728-$A$1003))/100,1)*100","v":22400},26656,null,22850,27191,null,22400,23520]
[172600,null,null,null,{"$f":"CEILING(($E$1003+formule!$E$44*(A1729-$A$1003))/100,1)*100","v":22400},26656,null,22850,27191,null,22400,23520]
[172700,null,null,null,{"$f":"CEILING(($E$1003+formule!$E$44*(A1730-$A$1003))/100,1)*100","v":22400},26656,null,22850,27191,null,22400,23520]
[172800,null,null,null,{"$f":"CEILING(($E$1003+formule!$E$44*(A1731-$A$1003))/100,1)*100","v":22400},26656,null,22850,27191,null,22400,23520]
[172900,null,null,null,{"$f":"CEILING(($E$1003+formule!$E$44*(A1732-$A$1003))/100,1)*100","v":22400},26656,null,22850,27191,null,22400,23520]
[173000,null,null,null,{"$f":"CEILING(($E$1003+formule!$E$44*(A1733-$A$1003))/100,1)*100","v":22400},26656,null,22850,27191,null,{"$f":"E1733","v":22400},{"$f":"K1733*1.05","v":23520}]
[173100,null,null,null,{"$f":"CEILING(($E$1003+formule!$E$44*(A1734-$A$1003))/100,1)*100","v":22500},26775,null,22950,27310,null,22500,23625]
[173200,null,null,null,{"$f":"CEILING(($E$1003+formule!$E$44*(A1735-$A$1003))/100,1)*100","v":22500},26775,null,22950,27310,null,22500,23625]
[173300,null,null,null,{"$f":"CEILING(($E$1003+formule!$E$44*(A1736-$A$1003))/100,1)*100","v":22500},26775,null,22950,27310,null,22500,23625]
[173400,null,null,null,{"$f":"CEILING(($E$1003+formule!$E$44*(A1737-$A$1003))/100,1)*100","v":22500},26775,null,22950,27310,null,22500,23625]
[173500,null,null,null,{"$f":"CEILING(($E$1003+formule!$E$44*(A1738-$A$1003))/100,1)*100","v":22500},26775,null,22950,27310,null,22500,23625]
[173600,null,null,null,{"$f":"CEILING(($E$1003+formule!$E$44*(A1739-$A$1003))/100,1)*100","v":22500},26775,null,22950,27310,null,22500,23625]
[173700,null,null,null,{"$f":"CEILING(($E$1003+formule!$E$44*(A1740-$A$1003))/100,1)*100","v":22500},26775,null,22950,27310,null,22500,23625]
[173800,null,null,null,{"$f":"CEILING(($E$1003+formule!$E$44*(A1741-$A$1003))/100,1)*100","v":22500},26775,null,22950,27310,null,22500,23625]
[173900,null,null,null,{"$f":"CEILING(($E$1003+formule!$E$44*(A1742-$A$1003))/100,1)*100","v":22500},26775,null,22950,27310,null,22500,23625]
[174000,null,null,null,{"$f":"CEILING(($E$1003+formule!$E$44*(A1743-$A$1003))/100,1)*100","v":22500},26775,null,22950,27310,null,22500,23625]
[174100,null,null,null,{"$f":"CEILING(($E$1003+formule!$E$44*(A1744-$A$1003))/100,1)*100","v":22600},26894,null,23050,27429,null,22600,23730]
[174200,null,null,null,{"$f":"CEILING(($E$1003+formule!$E$44*(A1745-$A$1003))/100,1)*100","v":22600},26894,null,23050,27429,null,22600,23730]
[174300,null,null,null,{"$f":"CEILING(($E$1003+formule!$E$44*(A1746-$A$1003))/100,1)*100","v":22600},26894,null,23050,27429,null,22600,23730]
[174400,null,null,null,{"$f":"CEILING(($E$1003+formule!$E$44*(A1747-$A$1003))/100,1)*100","v":22600},26894,null,23050,27429,null,22600,23730]
[174500,null,null,null,{"$f":"CEILING(($E$1003+formule!$E$44*(A1748-$A$1003))/100,1)*100","v":22600},26894,null,23050,27429,null,22600,23730]
[174600,null,null,null,{"$f":"CEILING(($E$1003+formule!$E$44*(A1749-$A$1003))/100,1)*100","v":22600},26894,null,23050,27429,null,22600,23730]
[174700,null,null,null,{"$f":"CEILING(($E$1003+formule!$E$44*(A1750-$A$1003))/100,1)*100","v":22600},26894,null,23050,27429,null,22600,23730]
[174800,null,null,null,{"$f":"CEILING(($E$1003+formule!$E$44*(A1751-$A$1003))/100,1)*100","v":22600},26894,null,23050,27429,null,22600,23730]
[174900,null,null,null,{"$f":"CEILING(($E$1003+formule!$E$44*(A1752-$A$1003))/100,1)*100","v":22600},26894,null,23050,27429,null,22600,23730]
[175000,null,null,null,{"$f":"CEILING(($E$1003+formule!$E$44*(A1753-$A$1003))/100,1)*100","v":22600},26894,null,23050,27429,null,22600,23730]
[175100,null,null,null,{"$f":"CEILING(($E$1003+formule!$E$44*(A1754-$A$1003))/100,1)*100","v":22600},26894,null,23050,27429,null,22600,23730]
[175200,null,null,null,{"$f":"CEILING(($E$1003+formule!$E$44*(A1755-$A$1003))/100,1)*100","v":22700},27013,null,23150,27548,null,22700,23835]
[175300,null,null,null,{"$f":"CEILING(($E$1003+formule!$E$44*(A1756-$A$1003))/100,1)*100","v":22700},27013,null,23150,27548,null,22700,23835]
[175400,null,null,null,{"$f":"CEILING(($E$1003+formule!$E$44*(A1757-$A$1003))/100,1)*100","v":22700},27013,null,23150,27548,null,22700,23835]
[175500,null,null,null,{"$f":"CEILING(($E$1003+formule!$E$44*(A1758-$A$1003))/100,1)*100","v":22700},27013,null,23150,27548,null,22700,23835]
[175600,null,null,null,{"$f":"CEILING(($E$1003+formule!$E$44*(A1759-$A$1003))/100,1)*100","v":22700},27013,null,23150,27548,null,22700,23835]
[175700,null,null,null,{"$f":"CEILING(($E$1003+formule!$E$44*(A1760-$A$1003))/100,1)*100","v":22700},27013,null,23150,27548,null,22700,23835]
[175800,null,null,null,{"$f":"CEILING(($E$1003+formule!$E$44*(A1761-$A$1003))/100,1)*100","v":22700},27013,null,23150,27548,null,22700,23835]
[175900,null,null,null,{"$f":"CEILING(($E$1003+formule!$E$44*(A1762-$A$1003))/100,1)*100","v":22700},27013,null,23150,27548,null,22700,23835]
[176000,null,null,null,{"$f":"CEILING(($E$1003+formule!$E$44*(A1763-$A$1003))/100,1)*100","v":22700},27013,null,23150,27548,null,22700,23835]
[176100,null,null,null,{"$f":"CEILING(($E$1003+formule!$E$44*(A1764-$A$1003))/100,1)*100","v":22700},27013,null,23150,27548,null,22700,23835]
[176200,null,null,null,{"$f":"CEILING(($E$1003+formule!$E$44*(A1765-$A$1003))/100,1)*100","v":22800},27132,null,23250,27667,null,22800,23940]
[176300,null,null,null,{"$f":"CEILING(($E$1003+formule!$E$44*(A1766-$A$1003))/100,1)*100","v":22800},27132,null,23250,27667,null,22800,23940]
[176400,null,null,null,{"$f":"CEILING(($E$1003+formule!$E$44*(A1767-$A$1003))/100,1)*100","v":22800},27132,null,23250,27667,null,22800,23940]
[176500,null,null,null,{"$f":"CEILING(($E$1003+formule!$E$44*(A1768-$A$1003))/100,1)*100","v":22800},27132,null,23250,27667,null,22800,23940]
[176600,null,null,null,{"$f":"CEILING(($E$1003+formule!$E$44*(A1769-$A$1003))/100,1)*100","v":22800},27132,null,{"$f":"E1769+450","v":23250},{"$f":"F1769+535","v":27667},null,22800,23940]
[176700,null,null,null,{"$f":"CEILING(($E$1003+formule!$E$44*(A1770-$A$1003))/100,1)*100","v":22800},27132,null,23250,27667,null,22800,23940]
[176800,null,null,null,{"$f":"CEILING(($E$1003+formule!$E$44*(A1771-$A$1003))/100,1)*100","v":22800},27132,null,23250,27667,null,22800,23940]
[176900,null,null,null,{"$f":"CEILING(($E$1003+formule!$E$44*(A1772-$A$1003))/100,1)*100","v":22800},27132,null,23250,27667,null,22800,23940]
[{"$f":"A1772+100","v":177000},null,null,null,{"$f":"CEILING(($E$1003+formule!$E$44*(A1773-$A$1003))/100,1)*100","v":22800},27132,null,23250,27667,null,22800,23940]
[177100,null,null,null,{"$f":"CEILING(($E$1003+formule!$E$44*(A1774-$A$1003))/100,1)*100","v":22800},27132,null,23250,27667,null,22800,23940]
[177200,null,null,null,{"$f":"CEILING(($E$1003+formule!$E$44*(A1775-$A$1003))/100,1)*100","v":22900},27251,null,23350,27786,null,22900,24045]
[177300,null,null,null,{"$f":"CEILING(($E$1003+formule!$E$44*(A1776-$A$1003))/100,1)*100","v":22900},27251,null,23350,27786,null,22900,24045]
[177400,null,null,null,{"$f":"CEILING(($E$1003+formule!$E$44*(A1777-$A$1003))/100,1)*100","v":22900},{"$f":"E1777*1.19","v":27251},null,23350,27786,null,22900,24045]
[177500,null,null,null,{"$f":"CEILING(($E$1003+formule!$E$44*(A1778-$A$1003))/100,1)*100","v":22900},27251,null,23350,27786,null,22900,24045]
[177600,null,null,null,{"$f":"CEILING(($E$1003+formule!$E$44*(A1779-$A$1003))/100,1)*100","v":22900},27251,null,23350,27786,null,22900,24045]
[177700,null,null,null,{"$f":"CEILING(($E$1003+formule!$E$44*(A1780-$A$1003))/100,1)*100","v":22900},27251,null,23350,27786,null,22900,24045]
[177800,null,null,null,{"$f":"CEILING(($E$1003+formule!$E$44*(A1781-$A$1003))/100,1)*100","v":22900},27251,null,23350,27786,null,22900,24045]
[177900,null,null,null,{"$f":"CEILING(($E$1003+formule!$E$44*(A1782-$A$1003))/100,1)*100","v":22900},27251,null,23350,27786,null,22900,24045]
[178000,null,null,null,{"$f":"CEILING(($E$1003+formule!$E$44*(A1783-$A$1003))/100,1)*100","v":22900},27251,null,23350,27786,null,22900,24045]
[178100,null,null,null,{"$f":"CEILING(($E$1003+formule!$E$44*(A1784-$A$1003))/100,1)*100","v":22900},27251,null,23350,27786,null,22900,24045]
[178200,null,null,null,{"$f":"CEILING(($E$1003+formule!$E$44*(A1785-$A$1003))/100,1)*100","v":23000},27370,null,23450,27905,null,23000,24150]
[178300,null,null,null,{"$f":"CEILING(($E$1003+formule!$E$44*(A1786-$A$1003))/100,1)*100","v":23000},27370,null,23450,27905,null,23000,24150]
[178400,null,null,null,{"$f":"CEILING(($E$1003+formule!$E$44*(A1787-$A$1003))/100,1)*100","v":23000},27370,null,23450,27905,null,23000,24150]
[178500,null,null,null,{"$f":"CEILING(($E$1003+formule!$E$44*(A1788-$A$1003))/100,1)*100","v":23000},27370,null,23450,27905,null,23000,24150]
[178600,null,null,null,{"$f":"CEILING(($E$1003+formule!$E$44*(A1789-$A$1003))/100,1)*100","v":23000},27370,null,23450,27905,null,23000,24150]
[178700,null,null,null,{"$f":"CEILING(($E$1003+formule!$E$44*(A1790-$A$1003))/100,1)*100","v":23000},27370,null,23450,27905,null,23000,24150]
[178800,null,null,null,{"$f":"CEILING(($E$1003+formule!$E$44*(A1791-$A$1003))/100,1)*100","v":23000},27370,null,23450,27905,null,23000,24150]
[178900,null,null,null,{"$f":"CEILING(($E$1003+formule!$E$44*(A1792-$A$1003))/100,1)*100","v":23000},27370,null,23450,27905,null,23000,24150]
[179000,null,null,null,{"$f":"CEILING(($E$1003+formule!$E$44*(A1793-$A$1003))/100,1)*100","v":23000},27370,null,23450,27905,null,23000,24150]
[179100,null,null,null,{"$f":"CEILING(($E$1003+formule!$E$44*(A1794-$A$1003))/100,1)*100","v":23000},27370,null,23450,27905,null,23000,24150]
[179200,null,null,null,{"$f":"CEILING(($E$1003+formule!$E$44*(A1795-$A$1003))/100,1)*100","v":23100},27489,null,23550,28024,null,23100,24255]
[179300,null,null,null,{"$f":"CEILING(($E$1003+formule!$E$44*(A1796-$A$1003))/100,1)*100","v":23100},27489,null,23550,28024,null,23100,24255]
[179400,null,null,null,{"$f":"CEILING(($E$1003+formule!$E$44*(A1797-$A$1003))/100,1)*100","v":23100},27489,null,23550,28024,null,{"$f":"E1797","v":23100},{"$f":"K1797*1.05","v":24255}]
[179500,null,null,null,{"$f":"CEILING(($E$1003+formule!$E$44*(A1798-$A$1003))/100,1)*100","v":23100},27489,null,23550,28024,null,23100,24255]
[179600,null,null,null,{"$f":"CEILING(($E$1003+formule!$E$44*(A1799-$A$1003))/100,1)*100","v":23100},27489,null,23550,28024,null,23100,24255]
[179700,null,null,null,{"$f":"CEILING(($E$1003+formule!$E$44*(A1800-$A$1003))/100,1)*100","v":23100},27489,null,23550,28024,null,23100,24255]
[179800,null,null,null,{"$f":"CEILING(($E$1003+formule!$E$44*(A1801-$A$1003))/100,1)*100","v":23100},27489,null,23550,28024,null,23100,24255]
[179900,null,null,null,{"$f":"CEILING(($E$1003+formule!$E$44*(A1802-$A$1003))/100,1)*100","v":23100},27489,null,23550,28024,null,23100,24255]
[180000,null,null,null,{"$f":"CEILING(($E$1003+formule!$E$44*(A1803-$A$1003))/100,1)*100","v":23100},27489,null,23550,28024,null,23100,24255]
[180100,null,null,null,{"$f":"CEILING(($E$1003+formule!$E$44*(A1804-$A$1003))/100,1)*100","v":23100},27489,null,23550,28024,null,23100,24255]
[180200,null,null,null,{"$f":"CEILING(($E$1003+formule!$E$44*(A1805-$A$1003))/100,1)*100","v":23200},27608,null,23650,28143,null,23200,24360]
[180300,null,null,null,{"$f":"CEILING(($E$1003+formule!$E$44*(A1806-$A$1003))/100,1)*100","v":23200},27608,null,23650,28143,null,23200,24360]
[180400,null,null,null,{"$f":"CEILING(($E$1003+formule!$E$44*(A1807-$A$1003))/100,1)*100","v":23200},27608,null,23650,28143,null,23200,24360]
[180500,null,null,null,{"$f":"CEILING(($E$1003+formule!$E$44*(A1808-$A$1003))/100,1)*100","v":23200},27608,null,23650,28143,null,23200,24360]
[180600,null,null,null,{"$f":"CEILING(($E$1003+formule!$E$44*(A1809-$A$1003))/100,1)*100","v":23200},27608,null,23650,28143,null,23200,24360]
[180700,null,null,null,{"$f":"CEILING(($E$1003+formule!$E$44*(A1810-$A$1003))/100,1)*100","v":23200},27608,null,23650,28143,null,23200,24360]
[180800,null,null,null,{"$f":"CEILING(($E$1003+formule!$E$44*(A1811-$A$1003))/100,1)*100","v":23200},27608,null,23650,28143,null,23200,24360]
[180900,null,null,null,{"$f":"CEILING(($E$1003+formule!$E$44*(A1812-$A$1003))/100,1)*100","v":23200},27608,null,23650,28143,null,23200,24360]
[181000,null,null,null,{"$f":"CEILING(($E$1003+formule!$E$44*(A1813-$A$1003))/100,1)*100","v":23200},27608,null,23650,28143,null,23200,24360]
[181100,null,null,null,{"$f":"CEILING(($E$1003+formule!$E$44*(A1814-$A$1003))/100,1)*100","v":23200},27608,null,23650,28143,null,23200,24360]
[181200,null,null,null,{"$f":"CEILING(($E$1003+formule!$E$44*(A1815-$A$1003))/100,1)*100","v":23300},27727,null,23750,28262,null,23300,24465]
[181300,null,null,null,{"$f":"CEILING(($E$1003+formule!$E$44*(A1816-$A$1003))/100,1)*100","v":23300},27727,null,23750,28262,null,23300,24465]
[181400,null,null,null,{"$f":"CEILING(($E$1003+formule!$E$44*(A1817-$A$1003))/100,1)*100","v":23300},27727,null,23750,28262,null,23300,24465]
[181500,null,null,null,{"$f":"CEILING(($E$1003+formule!$E$44*(A1818-$A$1003))/100,1)*100","v":23300},27727,null,23750,28262,null,23300,24465]
[181600,null,null,null,{"$f":"CEILING(($E$1003+formule!$E$44*(A1819-$A$1003))/100,1)*100","v":23300},27727,null,23750,28262,null,23300,24465]
[181700,null,null,null,{"$f":"CEILING(($E$1003+formule!$E$44*(A1820-$A$1003))/100,1)*100","v":23300},27727,null,23750,28262,null,23300,24465]
[181800,null,null,null,{"$f":"CEILING(($E$1003+formule!$E$44*(A1821-$A$1003))/100,1)*100","v":23300},27727,null,23750,28262,null,23300,24465]
[181900,null,null,null,{"$f":"CEILING(($E$1003+formule!$E$44*(A1822-$A$1003))/100,1)*100","v":23300},27727,null,23750,28262,null,23300,24465]
[182000,null,null,null,{"$f":"CEILING(($E$1003+formule!$E$44*(A1823-$A$1003))/100,1)*100","v":23300},27727,null,23750,28262,null,23300,24465]
[182100,null,null,null,{"$f":"CEILING(($E$1003+formule!$E$44*(A1824-$A$1003))/100,1)*100","v":23300},27727,null,23750,28262,null,23300,24465]
[182200,null,null,null,{"$f":"CEILING(($E$1003+formule!$E$44*(A1825-$A$1003))/100,1)*100","v":23300},27727,null,23750,28262,null,23300,24465]
[182300,null,null,null,{"$f":"CEILING(($E$1003+formule!$E$44*(A1826-$A$1003))/100,1)*100","v":23400},27846,null,23850,28381,null,23400,24570]
[182400,null,null,null,{"$f":"CEILING(($E$1003+formule!$E$44*(A1827-$A$1003))/100,1)*100","v":23400},27846,null,23850,28381,null,23400,24570]
[182500,null,null,null,{"$f":"CEILING(($E$1003+formule!$E$44*(A1828-$A$1003))/100,1)*100","v":23400},27846,null,23850,28381,null,23400,24570]
[182600,null,null,null,{"$f":"CEILING(($E$1003+formule!$E$44*(A1829-$A$1003))/100,1)*100","v":23400},27846,null,23850,28381,null,23400,24570]
[182700,null,null,null,{"$f":"CEILING(($E$1003+formule!$E$44*(A1830-$A$1003))/100,1)*100","v":23400},27846,null,23850,28381,null,23400,24570]
[182800,null,null,null,{"$f":"CEILING(($E$1003+formule!$E$44*(A1831-$A$1003))/100,1)*100","v":23400},27846,null,23850,28381,null,23400,24570]
[182900,null,null,null,{"$f":"CEILING(($E$1003+formule!$E$44*(A1832-$A$1003))/100,1)*100","v":23400},27846,null,23850,28381,null,23400,24570]
[183000,null,null,null,{"$f":"CEILING(($E$1003+formule!$E$44*(A1833-$A$1003))/100,1)*100","v":23400},27846,null,{"$f":"E1833+450","v":23850},{"$f":"F1833+535","v":28381},null,23400,24570]
[183100,null,null,null,{"$f":"CEILING(($E$1003+formule!$E$44*(A1834-$A$1003))/100,1)*100","v":23400},27846,null,23850,28381,null,23400,24570]
[183200,null,null,null,{"$f":"CEILING(($E$1003+formule!$E$44*(A1835-$A$1003))/100,1)*100","v":23400},27846,null,23850,28381,null,23400,24570]
[183300,null,null,null,{"$f":"CEILING(($E$1003+formule!$E$44*(A1836-$A$1003))/100,1)*100","v":23500},27965,null,23950,28500,null,23500,24675]
[{"$f":"A1836+100","v":183400},null,null,null,{"$f":"CEILING(($E$1003+formule!$E$44*(A1837-$A$1003))/100,1)*100","v":23500},27965,null,23950,28500,null,23500,24675]
[183500,null,null,null,{"$f":"CEILING(($E$1003+formule!$E$44*(A1838-$A$1003))/100,1)*100","v":23500},27965,null,23950,28500,null,23500,24675]
[183600,null,null,null,{"$f":"CEILING(($E$1003+formule!$E$44*(A1839-$A$1003))/100,1)*100","v":23500},27965,null,23950,28500,null,23500,24675]
[183700,null,null,null,{"$f":"CEILING(($E$1003+formule!$E$44*(A1840-$A$1003))/100,1)*100","v":23500},27965,null,23950,28500,null,23500,24675]
[183800,null,null,null,{"$f":"CEILING(($E$1003+formule!$E$44*(A1841-$A$1003))/100,1)*100","v":23500},{"$f":"E1841*1.19","v":27965},null,23950,28500,null,23500,24675]
[183900,null,null,null,{"$f":"CEILING(($E$1003+formule!$E$44*(A1842-$A$1003))/100,1)*100","v":23500},27965,null,23950,28500,null,23500,24675]
[184000,null,null,null,{"$f":"CEILING(($E$1003+formule!$E$44*(A1843-$A$1003))/100,1)*100","v":23500},27965,null,23950,28500,null,23500,24675]
[184100,null,null,null,{"$f":"CEILING(($E$1003+formule!$E$44*(A1844-$A$1003))/100,1)*100","v":23500},27965,null,23950,28500,null,23500,24675]
[184200,null,null,null,{"$f":"CEILING(($E$1003+formule!$E$44*(A1845-$A$1003))/100,1)*100","v":23500},27965,null,23950,28500,null,23500,24675]
[184300,null,null,null,{"$f":"CEILING(($E$1003+formule!$E$44*(A1846-$A$1003))/100,1)*100","v":23600},28084,null,24050,28619,null,23600,24780]
[184400,null,null,null,{"$f":"CEILING(($E$1003+formule!$E$44*(A1847-$A$1003))/100,1)*100","v":23600},28084,null,24050,28619,null,23600,24780]
[184500,null,null,null,{"$f":"CEILING(($E$1003+formule!$E$44*(A1848-$A$1003))/100,1)*100","v":23600},28084,null,24050,28619,null,23600,24780]
[184600,null,null,null,{"$f":"CEILING(($E$1003+formule!$E$44*(A1849-$A$1003))/100,1)*100","v":23600},28084,null,24050,28619,null,23600,24780]
[184700,null,null,null,{"$f":"CEILING(($E$1003+formule!$E$44*(A1850-$A$1003))/100,1)*100","v":23600},28084,null,24050,28619,null,23600,24780]
[184800,null,null,null,{"$f":"CEILING(($E$1003+formule!$E$44*(A1851-$A$1003))/100,1)*100","v":23600},28084,null,24050,28619,null,23600,24780]
[184900,null,null,null,{"$f":"CEILING(($E$1003+formule!$E$44*(A1852-$A$1003))/100,1)*100","v":23600},28084,null,24050,28619,null,23600,24780]
[185000,null,null,null,{"$f":"CEILING(($E$1003+formule!$E$44*(A1853-$A$1003))/100,1)*100","v":23600},28084,null,24050,28619,null,23600,24780]
[185100,null,null,null,{"$f":"CEILING(($E$1003+formule!$E$44*(A1854-$A$1003))/100,1)*100","v":23600},28084,null,24050,28619,null,23600,24780]
[185200,null,null,null,{"$f":"CEILING(($E$1003+formule!$E$44*(A1855-$A$1003))/100,1)*100","v":23600},28084,null,24050,28619,null,23600,24780]
[185300,null,null,null,{"$f":"CEILING(($E$1003+formule!$E$44*(A1856-$A$1003))/100,1)*100","v":23700},28203,null,24150,28738,null,23700,24885]
[185400,null,null,null,{"$f":"CEILING(($E$1003+formule!$E$44*(A1857-$A$1003))/100,1)*100","v":23700},28203,null,24150,28738,null,23700,24885]
[185500,null,null,null,{"$f":"CEILING(($E$1003+formule!$E$44*(A1858-$A$1003))/100,1)*100","v":23700},28203,null,24150,28738,null,23700,24885]
[185600,null,null,null,{"$f":"CEILING(($E$1003+formule!$E$44*(A1859-$A$1003))/100,1)*100","v":23700},28203,null,24150,28738,null,23700,24885]
[185700,null,null,null,{"$f":"CEILING(($E$1003+formule!$E$44*(A1860-$A$1003))/100,1)*100","v":23700},28203,null,24150,28738,null,23700,24885]
[185800,null,null,null,{"$f":"CEILING(($E$1003+formule!$E$44*(A1861-$A$1003))/100,1)*100","v":23700},28203,null,24150,28738,null,{"$f":"E1861","v":23700},{"$f":"K1861*1.05","v":24885}]
[185900,null,null,null,{"$f":"CEILING(($E$1003+formule!$E$44*(A1862-$A$1003))/100,1)*100","v":23700},28203,null,24150,28738,null,23700,24885]
[186000,null,null,null,{"$f":"CEILING(($E$1003+formule!$E$44*(A1863-$A$1003))/100,1)*100","v":23700},28203,null,24150,28738,null,23700,24885]
[186100,null,null,null,{"$f":"CEILING(($E$1003+formule!$E$44*(A1864-$A$1003))/100,1)*100","v":23700},28203,null,24150,28738,null,23700,24885]
[186200,null,null,null,{"$f":"CEILING(($E$1003+formule!$E$44*(A1865-$A$1003))/100,1)*100","v":23700},28203,null,24150,28738,null,23700,24885]
[186300,null,null,null,{"$f":"CEILING(($E$1003+formule!$E$44*(A1866-$A$1003))/100,1)*100","v":23800},28322,null,24250,28857,null,23800,24990]
[186400,null,null,null,{"$f":"CEILING(($E$1003+formule!$E$44*(A1867-$A$1003))/100,1)*100","v":23800},28322,null,24250,28857,null,23800,24990]
[186500,null,null,null,{"$f":"CEILING(($E$1003+formule!$E$44*(A1868-$A$1003))/100,1)*100","v":23800},28322,null,24250,28857,null,23800,24990]
[186600,null,null,null,{"$f":"CEILING(($E$1003+formule!$E$44*(A1869-$A$1003))/100,1)*100","v":23800},28322,null,24250,28857,null,23800,24990]
[186700,null,null,null,{"$f":"CEILING(($E$1003+formule!$E$44*(A1870-$A$1003))/100,1)*100","v":23800},28322,null,24250,28857,null,23800,24990]
[186800,null,null,null,{"$f":"CEILING(($E$1003+formule!$E$44*(A1871-$A$1003))/100,1)*100","v":23800},28322,null,24250,28857,null,23800,24990]
[186900,null,null,null,{"$f":"CEILING(($E$1003+formule!$E$44*(A1872-$A$1003))/100,1)*100","v":23800},28322,null,24250,28857,null,23800,24990]
[187000,null,null,null,{"$f":"CEILING(($E$1003+formule!$E$44*(A1873-$A$1003))/100,1)*100","v":23800},28322,null,24250,28857,null,23800,24990]
[187100,null,null,null,{"$f":"CEILING(($E$1003+formule!$E$44*(A1874-$A$1003))/100,1)*100","v":23800},28322,null,24250,28857,null,23800,24990]
[187200,null,null,null,{"$f":"CEILING(($E$1003+formule!$E$44*(A1875-$A$1003))/100,1)*100","v":23800},28322,null,24250,28857,null,23800,24990]
[187300,null,null,null,{"$f":"CEILING(($E$1003+formule!$E$44*(A1876-$A$1003))/100,1)*100","v":23900},28441,null,24350,28976,null,23900,25095]
[187400,null,null,null,{"$f":"CEILING(($E$1003+formule!$E$44*(A1877-$A$1003))/100,1)*100","v":23900},28441,null,24350,28976,null,23900,25095]
[187500,null,null,null,{"$f":"CEILING(($E$1003+formule!$E$44*(A1878-$A$1003))/100,1)*100","v":23900},28441,null,24350,28976,null,23900,25095]
[187600,null,null,null,{"$f":"CEILING(($E$1003+formule!$E$44*(A1879-$A$1003))/100,1)*100","v":23900},28441,null,24350,28976,null,23900,25095]
[187700,null,null,null,{"$f":"CEILING(($E$1003+formule!$E$44*(A1880-$A$1003))/100,1)*100","v":23900},28441,null,24350,28976,null,23900,25095]
[187800,null,null,null,{"$f":"CEILING(($E$1003+formule!$E$44*(A1881-$A$1003))/100,1)*100","v":23900},28441,null,24350,28976,null,23900,25095]
[187900,null,null,null,{"$f":"CEILING(($E$1003+formule!$E$44*(A1882-$A$1003))/100,1)*100","v":23900},28441,null,24350,28976,null,23900,25095]
[188000,null,null,null,{"$f":"CEILING(($E$1003+formule!$E$44*(A1883-$A$1003))/100,1)*100","v":23900},28441,null,24350,28976,null,23900,25095]
[188100,null,null,null,{"$f":"CEILING(($E$1003+formule!$E$44*(A1884-$A$1003))/100,1)*100","v":23900},28441,null,24350,28976,null,23900,25095]
[188200,null,null,null,{"$f":"CEILING(($E$1003+formule!$E$44*(A1885-$A$1003))/100,1)*100","v":23900},28441,null,24350,28976,null,23900,25095]
[188300,null,null,null,{"$f":"CEILING(($E$1003+formule!$E$44*(A1886-$A$1003))/100,1)*100","v":23900},28441,null,24350,28976,null,23900,25095]
[188400,null,null,null,{"$f":"CEILING(($E$1003+formule!$E$44*(A1887-$A$1003))/100,1)*100","v":24000},28560,null,24450,29095,null,24000,25200]
[188500,null,null,null,{"$f":"CEILING(($E$1003+formule!$E$44*(A1888-$A$1003))/100,1)*100","v":24000},28560,null,24450,29095,null,24000,25200]
[188600,null,null,null,{"$f":"CEILING(($E$1003+formule!$E$44*(A1889-$A$1003))/100,1)*100","v":24000},28560,null,24450,29095,null,24000,25200]
[188700,null,null,null,{"$f":"CEILING(($E$1003+formule!$E$44*(A1890-$A$1003))/100,1)*100","v":24000},28560,null,24450,29095,null,24000,25200]
[188800,null,null,null,{"$f":"CEILING(($E$1003+formule!$E$44*(A1891-$A$1003))/100,1)*100","v":24000},28560,null,24450,29095,null,24000,25200]
[188900,null,null,null,{"$f":"CEILING(($E$1003+formule!$E$44*(A1892-$A$1003))/100,1)*100","v":24000},28560,null,24450,29095,null,24000,25200]
[189000,null,null,null,{"$f":"CEILING(($E$1003+formule!$E$44*(A1893-$A$1003))/100,1)*100","v":24000},28560,null,24450,29095,null,24000,25200]
[189100,null,null,null,{"$f":"CEILING(($E$1003+formule!$E$44*(A1894-$A$1003))/100,1)*100","v":24000},28560,null,24450,29095,null,24000,25200]
[189200,null,null,null,{"$f":"CEILING(($E$1003+formule!$E$44*(A1895-$A$1003))/100,1)*100","v":24000},28560,null,24450,29095,null,24000,25200]
[189300,null,null,null,{"$f":"CEILING(($E$1003+formule!$E$44*(A1896-$A$1003))/100,1)*100","v":24000},28560,null,24450,29095,null,24000,25200]
[189400,null,null,null,{"$f":"CEILING(($E$1003+formule!$E$44*(A1897-$A$1003))/100,1)*100","v":24100},28679,null,{"$f":"E1897+450","v":24550},{"$f":"F1897+535","v":29214},null,24100,25305]
[189500,null,null,null,{"$f":"CEILING(($E$1003+formule!$E$44*(A1898-$A$1003))/100,1)*100","v":24100},28679,null,24550,29214,null,24100,25305]
[189600,null,null,null,{"$f":"CEILING(($E$1003+formule!$E$44*(A1899-$A$1003))/100,1)*100","v":24100},28679,null,24550,29214,null,24100,25305]
[189700,null,null,null,{"$f":"CEILING(($E$1003+formule!$E$44*(A1900-$A$1003))/100,1)*100","v":24100},28679,null,24550,29214,null,24100,25305]
[{"$f":"A1900+100","v":189800},null,null,null,{"$f":"CEILING(($E$1003+formule!$E$44*(A1901-$A$1003))/100,1)*100","v":24100},28679,null,24550,29214,null,24100,25305]
[189900,null,null,null,{"$f":"CEILING(($E$1003+formule!$E$44*(A1902-$A$1003))/100,1)*100","v":24100},28679,null,24550,29214,null,24100,25305]
[190000,null,null,null,{"$f":"CEILING(($E$1003+formule!$E$44*(A1903-$A$1003))/100,1)*100","v":24100},28679,null,24550,29214,null,24100,25305]
[190100,null,null,null,{"$f":"CEILING(($E$1003+formule!$E$44*(A1904-$A$1003))/100,1)*100","v":24100},28679,null,24550,29214,null,24100,25305]
[190200,null,null,null,{"$f":"CEILING(($E$1003+formule!$E$44*(A1905-$A$1003))/100,1)*100","v":24100},{"$f":"E1905*1.19","v":28679},null,24550,29214,null,24100,25305]
[190300,null,null,null,{"$f":"CEILING(($E$1003+formule!$E$44*(A1906-$A$1003))/100,1)*100","v":24100},28679,null,24550,29214,null,24100,25305]
[190400,null,null,null,{"$f":"CEILING(($E$1003+formule!$E$44*(A1907-$A$1003))/100,1)*100","v":24200},28798,null,24650,29333,null,24200,25410]
[190500,null,null,null,{"$f":"CEILING(($E$1003+formule!$E$44*(A1908-$A$1003))/100,1)*100","v":24200},28798,null,24650,29333,null,24200,25410]
[190600,null,null,null,{"$f":"CEILING(($E$1003+formule!$E$44*(A1909-$A$1003))/100,1)*100","v":24200},28798,null,24650,29333,null,24200,25410]
[190700,null,null,null,{"$f":"CEILING(($E$1003+formule!$E$44*(A1910-$A$1003))/100,1)*100","v":24200},28798,null,24650,29333,null,24200,25410]
[190800,null,null,null,{"$f":"CEILING(($E$1003+formule!$E$44*(A1911-$A$1003))/100,1)*100","v":24200},28798,null,24650,29333,null,24200,25410]
[190900,null,null,null,{"$f":"CEILING(($E$1003+formule!$E$44*(A1912-$A$1003))/100,1)*100","v":24200},28798,null,24650,29333,null,24200,25410]
[191000,null,null,null,{"$f":"CEILING(($E$1003+formule!$E$44*(A1913-$A$1003))/100,1)*100","v":24200},28798,null,24650,29333,null,24200,25410]
[191100,null,null,null,{"$f":"CEILING(($E$1003+formule!$E$44*(A1914-$A$1003))/100,1)*100","v":24200},28798,null,24650,29333,null,24200,25410]
[191200,null,null,null,{"$f":"CEILING(($E$1003+formule!$E$44*(A1915-$A$1003))/100,1)*100","v":24200},28798,null,24650,29333,null,24200,25410]
[191300,null,null,null,{"$f":"CEILING(($E$1003+formule!$E$44*(A1916-$A$1003))/100,1)*100","v":24200},28798,null,24650,29333,null,24200,25410]
[191400,null,null,null,{"$f":"CEILING(($E$1003+formule!$E$44*(A1917-$A$1003))/100,1)*100","v":24300},28917,null,24750,29452,null,24300,25515]
[191500,null,null,null,{"$f":"CEILING(($E$1003+formule!$E$44*(A1918-$A$1003))/100,1)*100","v":24300},28917,null,24750,29452,null,24300,25515]
[191600,null,null,null,{"$f":"CEILING(($E$1003+formule!$E$44*(A1919-$A$1003))/100,1)*100","v":24300},28917,null,24750,29452,null,24300,25515]
[191700,null,null,null,{"$f":"CEILING(($E$1003+formule!$E$44*(A1920-$A$1003))/100,1)*100","v":24300},28917,null,24750,29452,null,24300,25515]
[191800,null,null,null,{"$f":"CEILING(($E$1003+formule!$E$44*(A1921-$A$1003))/100,1)*100","v":24300},28917,null,24750,29452,null,24300,25515]
[191900,null,null,null,{"$f":"CEILING(($E$1003+formule!$E$44*(A1922-$A$1003))/100,1)*100","v":24300},28917,null,24750,29452,null,24300,25515]
[192000,null,null,null,{"$f":"CEILING(($E$1003+formule!$E$44*(A1923-$A$1003))/100,1)*100","v":24300},28917,null,24750,29452,null,24300,25515]
[192100,null,null,null,{"$f":"CEILING(($E$1003+formule!$E$44*(A1924-$A$1003))/100,1)*100","v":24300},28917,null,24750,29452,null,24300,25515]
[192200,null,null,null,{"$f":"CEILING(($E$1003+formule!$E$44*(A1925-$A$1003))/100,1)*100","v":24300},28917,null,24750,29452,null,{"$f":"E1925","v":24300},{"$f":"K1925*1.05","v":25515}]
[192300,null,null,null,{"$f":"CEILING(($E$1003+formule!$E$44*(A1926-$A$1003))/100,1)*100","v":24300},28917,null,24750,29452,null,24300,25515]
[192400,null,null,null,{"$f":"CEILING(($E$1003+formule!$E$44*(A1927-$A$1003))/100,1)*100","v":24400},29036,null,24850,29571,null,24400,25620]
[192500,null,null,null,{"$f":"CEILING(($E$1003+formule!$E$44*(A1928-$A$1003))/100,1)*100","v":24400},29036,null,24850,29571,null,24400,25620]
[192600,null,null,null,{"$f":"CEILING(($E$1003+formule!$E$44*(A1929-$A$1003))/100,1)*100","v":24400},29036,null,24850,29571,null,24400,25620]
[192700,null,null,null,{"$f":"CEILING(($E$1003+formule!$E$44*(A1930-$A$1003))/100,1)*100","v":24400},29036,null,24850,29571,null,24400,25620]
[192800,null,null,null,{"$f":"CEILING(($E$1003+formule!$E$44*(A1931-$A$1003))/100,1)*100","v":24400},29036,null,24850,29571,null,24400,25620]
[192900,null,null,null,{"$f":"CEILING(($E$1003+formule!$E$44*(A1932-$A$1003))/100,1)*100","v":24400},29036,null,24850,29571,null,24400,25620]
[193000,null,null,null,{"$f":"CEILING(($E$1003+formule!$E$44*(A1933-$A$1003))/100,1)*100","v":24400},29036,null,24850,29571,null,24400,25620]
[193100,null,null,null,{"$f":"CEILING(($E$1003+formule!$E$44*(A1934-$A$1003))/100,1)*100","v":24400},29036,null,24850,29571,null,24400,25620]
[193200,null,null,null,{"$f":"CEILING(($E$1003+formule!$E$44*(A1935-$A$1003))/100,1)*100","v":24400},29036,null,24850,29571,null,24400,25620]
[193300,null,null,null,{"$f":"CEILING(($E$1003+formule!$E$44*(A1936-$A$1003))/100,1)*100","v":24400},29036,null,24850,29571,null,24400,25620]
[193400,null,null,null,{"$f":"CEILING(($E$1003+formule!$E$44*(A1937-$A$1003))/100,1)*100","v":24500},29155,null,24950,29690,null,24500,25725]
[193500,null,null,null,{"$f":"CEILING(($E$1003+formule!$E$44*(A1938-$A$1003))/100,1)*100","v":24500},29155,null,24950,29690,null,24500,25725]
[193600,null,null,null,{"$f":"CEILING(($E$1003+formule!$E$44*(A1939-$A$1003))/100,1)*100","v":24500},29155,null,24950,29690,null,24500,25725]
[193700,null,null,null,{"$f":"CEILING(($E$1003+formule!$E$44*(A1940-$A$1003))/100,1)*100","v":24500},29155,null,24950,29690,null,24500,25725]
[193800,null,null,null,{"$f":"CEILING(($E$1003+formule!$E$44*(A1941-$A$1003))/100,1)*100","v":24500},29155,null,24950,29690,null,24500,25725]
[193900,null,null,null,{"$f":"CEILING(($E$1003+formule!$E$44*(A1942-$A$1003))/100,1)*100","v":24500},29155,null,24950,29690,null,24500,25725]
[194000,null,null,null,{"$f":"CEILING(($E$1003+formule!$E$44*(A1943-$A$1003))/100,1)*100","v":24500},29155,null,24950,29690,null,24500,25725]
[194100,null,null,null,{"$f":"CEILING(($E$1003+formule!$E$44*(A1944-$A$1003))/100,1)*100","v":24500},29155,null,24950,29690,null,24500,25725]
[194200,null,null,null,{"$f":"CEILING(($E$1003+formule!$E$44*(A1945-$A$1003))/100,1)*100","v":24500},29155,null,24950,29690,null,24500,25725]
[194300,null,null,null,{"$f":"CEILING(($E$1003+formule!$E$44*(A1946-$A$1003))/100,1)*100","v":24500},29155,null,24950,29690,null,24500,25725]
[194400,null,null,null,{"$f":"CEILING(($E$1003+formule!$E$44*(A1947-$A$1003))/100,1)*100","v":24600},29274,null,25050,29809,null,24600,25830]
[194500,null,null,null,{"$f":"CEILING(($E$1003+formule!$E$44*(A1948-$A$1003))/100,1)*100","v":24600},29274,null,25050,29809,null,24600,25830]
[194600,null,null,null,{"$f":"CEILING(($E$1003+formule!$E$44*(A1949-$A$1003))/100,1)*100","v":24600},29274,null,25050,29809,null,24600,25830]
[194700,null,null,null,{"$f":"CEILING(($E$1003+formule!$E$44*(A1950-$A$1003))/100,1)*100","v":24600},29274,null,25050,29809,null,24600,25830]
[194800,null,null,null,{"$f":"CEILING(($E$1003+formule!$E$44*(A1951-$A$1003))/100,1)*100","v":24600},29274,null,25050,29809,null,24600,25830]
[194900,null,null,null,{"$f":"CEILING(($E$1003+formule!$E$44*(A1952-$A$1003))/100,1)*100","v":24600},29274,null,25050,29809,null,24600,25830]
[195000,null,null,null,{"$f":"CEILING(($E$1003+formule!$E$44*(A1953-$A$1003))/100,1)*100","v":24600},29274,null,25050,29809,null,24600,25830]
[195100,null,null,null,{"$f":"CEILING(($E$1003+formule!$E$44*(A1954-$A$1003))/100,1)*100","v":24600},29274,null,25050,29809,null,24600,25830]
[195200,null,null,null,{"$f":"CEILING(($E$1003+formule!$E$44*(A1955-$A$1003))/100,1)*100","v":24600},29274,null,25050,29809,null,24600,25830]
[195300,null,null,null,{"$f":"CEILING(($E$1003+formule!$E$44*(A1956-$A$1003))/100,1)*100","v":24600},29274,null,25050,29809,null,24600,25830]
[195400,null,null,null,{"$f":"CEILING(($E$1003+formule!$E$44*(A1957-$A$1003))/100,1)*100","v":24600},29274,null,25050,29809,null,24600,25830]
[195500,null,null,null,{"$f":"CEILING(($E$1003+formule!$E$44*(A1958-$A$1003))/100,1)*100","v":24700},29393,null,25150,29928,null,24700,25935]
[195600,null,null,null,{"$f":"CEILING(($E$1003+formule!$E$44*(A1959-$A$1003))/100,1)*100","v":24700},29393,null,25150,29928,null,24700,25935]
[195700,null,null,null,{"$f":"CEILING(($E$1003+formule!$E$44*(A1960-$A$1003))/100,1)*100","v":24700},29393,null,25150,29928,null,24700,25935]
[195800,null,null,null,{"$f":"CEILING(($E$1003+formule!$E$44*(A1961-$A$1003))/100,1)*100","v":24700},29393,null,{"$f":"E1961+450","v":25150},{"$f":"F1961+535","v":29928},null,24700,25935]
[195900,null,null,null,{"$f":"CEILING(($E$1003+formule!$E$44*(A1962-$A$1003))/100,1)*100","v":24700},29393,null,25150,29928,null,24700,25935]
[196000,null,null,null,{"$f":"CEILING(($E$1003+formule!$E$44*(A1963-$A$1003))/100,1)*100","v":24700},29393,null,25150,29928,null,24700,25935]
[196100,null,null,null,{"$f":"CEILING(($E$1003+formule!$E$44*(A1964-$A$1003))/100,1)*100","v":24700},29393,null,25150,29928,null,24700,25935]
[{"$f":"A1964+100","v":196200},null,null,null,{"$f":"CEILING(($E$1003+formule!$E$44*(A1965-$A$1003))/100,1)*100","v":24700},29393,null,25150,29928,null,24700,25935]
[196300,null,null,null,{"$f":"CEILING(($E$1003+formule!$E$44*(A1966-$A$1003))/100,1)*100","v":24700},29393,null,25150,29928,null,24700,25935]
[196400,null,null,null,{"$f":"CEILING(($E$1003+formule!$E$44*(A1967-$A$1003))/100,1)*100","v":24700},29393,null,25150,29928,null,24700,25935]
[196500,null,null,null,{"$f":"CEILING(($E$1003+formule!$E$44*(A1968-$A$1003))/100,1)*100","v":24800},29512,null,25250,30047,null,24800,26040]
[196600,null,null,null,{"$f":"CEILING(($E$1003+formule!$E$44*(A1969-$A$1003))/100,1)*100","v":24800},{"$f":"E1969*1.19","v":29512},null,25250,30047,null,24800,26040]
[196700,null,null,null,{"$f":"CEILING(($E$1003+formule!$E$44*(A1970-$A$1003))/100,1)*100","v":24800},29512,null,25250,30047,null,24800,26040]
[196800,null,null,null,{"$f":"CEILING(($E$1003+formule!$E$44*(A1971-$A$1003))/100,1)*100","v":24800},29512,null,25250,30047,null,24800,26040]
[196900,null,null,null,{"$f":"CEILING(($E$1003+formule!$E$44*(A1972-$A$1003))/100,1)*100","v":24800},29512,null,25250,30047,null,24800,26040]
[197000,null,null,null,{"$f":"CEILING(($E$1003+formule!$E$44*(A1973-$A$1003))/100,1)*100","v":24800},29512,null,25250,30047,null,24800,26040]
[197100,null,null,null,{"$f":"CEILING(($E$1003+formule!$E$44*(A1974-$A$1003))/100,1)*100","v":24800},29512,null,25250,30047,null,24800,26040]
[197200,null,null,null,{"$f":"CEILING(($E$1003+formule!$E$44*(A1975-$A$1003))/100,1)*100","v":24800},29512,null,25250,30047,null,24800,26040]
[197300,null,null,null,{"$f":"CEILING(($E$1003+formule!$E$44*(A1976-$A$1003))/100,1)*100","v":24800},29512,null,25250,30047,null,24800,26040]
[197400,null,null,null,{"$f":"CEILING(($E$1003+formule!$E$44*(A1977-$A$1003))/100,1)*100","v":24800},29512,null,25250,30047,null,24800,26040]
[197500,null,null,null,{"$f":"CEILING(($E$1003+formule!$E$44*(A1978-$A$1003))/100,1)*100","v":24900},29631,null,25350,30166,null,24900,26145]
[197600,null,null,null,{"$f":"CEILING(($E$1003+formule!$E$44*(A1979-$A$1003))/100,1)*100","v":24900},29631,null,25350,30166,null,24900,26145]
[197700,null,null,null,{"$f":"CEILING(($E$1003+formule!$E$44*(A1980-$A$1003))/100,1)*100","v":24900},29631,null,25350,30166,null,24900,26145]
[197800,null,null,null,{"$f":"CEILING(($E$1003+formule!$E$44*(A1981-$A$1003))/100,1)*100","v":24900},29631,null,25350,30166,null,24900,26145]
[197900,null,null,null,{"$f":"CEILING(($E$1003+formule!$E$44*(A1982-$A$1003))/100,1)*100","v":24900},29631,null,25350,30166,null,24900,26145]
[198000,null,null,null,{"$f":"CEILING(($E$1003+formule!$E$44*(A1983-$A$1003))/100,1)*100","v":24900},29631,null,25350,30166,null,24900,26145]
[198100,null,null,null,{"$f":"CEILING(($E$1003+formule!$E$44*(A1984-$A$1003))/100,1)*100","v":24900},29631,null,25350,30166,null,24900,26145]
[198200,null,null,null,{"$f":"CEILING(($E$1003+formule!$E$44*(A1985-$A$1003))/100,1)*100","v":24900},29631,null,25350,30166,null,24900,26145]
[198300,null,null,null,{"$f":"CEILING(($E$1003+formule!$E$44*(A1986-$A$1003))/100,1)*100","v":24900},29631,null,25350,30166,null,24900,26145]
[198400,null,null,null,{"$f":"CEILING(($E$1003+formule!$E$44*(A1987-$A$1003))/100,1)*100","v":24900},29631,null,25350,30166,null,24900,26145]
[198500,null,null,null,{"$f":"CEILING(($E$1003+formule!$E$44*(A1988-$A$1003))/100,1)*100","v":25000},29750,null,25450,30285,null,25000,26250]
[198600,null,null,null,{"$f":"CEILING(($E$1003+formule!$E$44*(A1989-$A$1003))/100,1)*100","v":25000},29750,null,25450,30285,null,{"$f":"E1989","v":25000},{"$f":"K1989*1.05","v":26250}]
[198700,null,null,null,{"$f":"CEILING(($E$1003+formule!$E$44*(A1990-$A$1003))/100,1)*100","v":25000},29750,null,25450,30285,null,25000,26250]
[198800,null,null,null,{"$f":"CEILING(($E$1003+formule!$E$44*(A1991-$A$1003))/100,1)*100","v":25000},29750,null,25450,30285,null,25000,26250]
[198900,null,null,null,{"$f":"CEILING(($E$1003+formule!$E$44*(A1992-$A$1003))/100,1)*100","v":25000},29750,null,25450,30285,null,25000,26250]
[199000,null,null,null,{"$f":"CEILING(($E$1003+formule!$E$44*(A1993-$A$1003))/100,1)*100","v":25000},29750,null,25450,30285,null,25000,26250]
[199100,null,null,null,{"$f":"CEILING(($E$1003+formule!$E$44*(A1994-$A$1003))/100,1)*100","v":25000},29750,null,25450,30285,null,25000,26250]
[199200,null,null,null,{"$f":"CEILING(($E$1003+formule!$E$44*(A1995-$A$1003))/100,1)*100","v":25000},29750,null,25450,30285,null,25000,26250]
[199300,null,null,null,{"$f":"CEILING(($E$1003+formule!$E$44*(A1996-$A$1003))/100,1)*100","v":25000},29750,null,25450,30285,null,25000,26250]
[199400,null,null,null,{"$f":"CEILING(($E$1003+formule!$E$44*(A1997-$A$1003))/100,1)*100","v":25000},29750,null,25450,30285,null,25000,26250]
[199500,null,null,null,{"$f":"CEILING(($E$1003+formule!$E$44*(A1998-$A$1003))/100,1)*100","v":25100},29869,null,25550,30404,null,25100,26355]
[199600,null,null,null,{"$f":"CEILING(($E$1003+formule!$E$44*(A1999-$A$1003))/100,1)*100","v":25100},29869,null,25550,30404,null,25100,26355]
[199700,null,null,null,{"$f":"CEILING(($E$1003+formule!$E$44*(A2000-$A$1003))/100,1)*100","v":25100},29869,null,25550,30404,null,25100,26355]
[199800,null,null,null,{"$f":"CEILING(($E$1003+formule!$E$44*(A2001-$A$1003))/100,1)*100","v":25100},29869,null,25550,30404,null,25100,26355]
[199900,null,null,null,{"$f":"CEILING(($E$1003+formule!$E$44*(A2002-$A$1003))/100,1)*100","v":25100},29869,null,25550,30404,null,25100,26355]
[200000,null,null,null,{"$f":"CEILING(($E$1003+formule!$E$44*(A2003-$A$1003))/100,1)*100","v":25100},29869,null,25550,30404,null,25100,26355]
[200100,null,null,null,{"$f":"CEILING(($E$1003+formule!$E$44*(A2004-$A$1003))/100,1)*100","v":25100},29869,null,25550,30404,null,25100,26355]
[200200,null,null,null,{"$f":"CEILING(($E$1003+formule!$E$44*(A2005-$A$1003))/100,1)*100","v":25100},29869,null,25550,30404,null,25100,26355]
[200300,null,null,null,{"$f":"CEILING(($E$1003+formule!$E$44*(A2006-$A$1003))/100,1)*100","v":25100},29869,null,25550,30404,null,25100,26355]
[200400,null,null,null,{"$f":"CEILING(($E$1003+formule!$E$44*(A2007-$A$1003))/100,1)*100","v":25100},29869,null,25550,30404,null,25100,26355]
[200500,null,null,null,{"$f":"CEILING(($E$1003+formule!$E$44*(A2008-$A$1003))/100,1)*100","v":25200},29988,null,25650,30523,null,25200,26460]
[200600,null,null,null,{"$f":"CEILING(($E$1003+formule!$E$44*(A2009-$A$1003))/100,1)*100","v":25200},29988,null,25650,30523,null,25200,26460]
[200700,null,null,null,{"$f":"CEILING(($E$1003+formule!$E$44*(A2010-$A$1003))/100,1)*100","v":25200},29988,null,25650,30523,null,25200,26460]
[200800,null,null,null,{"$f":"CEILING(($E$1003+formule!$E$44*(A2011-$A$1003))/100,1)*100","v":25200},29988,null,25650,30523,null,25200,26460]
[200900,null,null,null,{"$f":"CEILING(($E$1003+formule!$E$44*(A2012-$A$1003))/100,1)*100","v":25200},29988,null,25650,30523,null,25200,26460]
[201000,null,null,null,{"$f":"CEILING(($E$1003+formule!$E$44*(A2013-$A$1003))/100,1)*100","v":25200},29988,null,25650,30523,null,25200,26460]
[201100,null,null,null,{"$f":"CEILING(($E$1003+formule!$E$44*(A2014-$A$1003))/100,1)*100","v":25200},29988,null,25650,30523,null,25200,26460]
[201200,null,null,null,{"$f":"CEILING(($E$1003+formule!$E$44*(A2015-$A$1003))/100,1)*100","v":25200},29988,null,25650,30523,null,25200,26460]
[201300,null,null,null,{"$f":"CEILING(($E$1003+formule!$E$44*(A2016-$A$1003))/100,1)*100","v":25200},29988,null,25650,30523,null,25200,26460]
[201400,null,null,null,{"$f":"CEILING(($E$1003+formule!$E$44*(A2017-$A$1003))/100,1)*100","v":25200},29988,null,25650,30523,null,25200,26460]
[201500,null,null,null,{"$f":"CEILING(($E$1003+formule!$E$44*(A2018-$A$1003))/100,1)*100","v":25300},30107,null,25750,30642,null,25300,26565]
[201600,null,null,null,{"$f":"CEILING(($E$1003+formule!$E$44*(A2019-$A$1003))/100,1)*100","v":25300},30107,null,25750,30642,null,25300,26565]
[201700,null,null,null,{"$f":"CEILING(($E$1003+formule!$E$44*(A2020-$A$1003))/100,1)*100","v":25300},30107,null,25750,30642,null,25300,26565]
[201800,null,null,null,{"$f":"CEILING(($E$1003+formule!$E$44*(A2021-$A$1003))/100,1)*100","v":25300},30107,null,25750,30642,null,25300,26565]
[201900,null,null,null,{"$f":"CEILING(($E$1003+formule!$E$44*(A2022-$A$1003))/100,1)*100","v":25300},30107,null,25750,30642,null,25300,26565]
[202000,null,null,null,{"$f":"CEILING(($E$1003+formule!$E$44*(A2023-$A$1003))/100,1)*100","v":25300},30107,null,25750,30642,null,25300,26565]
[202100,null,null,null,{"$f":"CEILING(($E$1003+formule!$E$44*(A2024-$A$1003))/100,1)*100","v":25300},30107,null,25750,30642,null,25300,26565]
[202200,null,null,null,{"$f":"CEILING(($E$1003+formule!$E$44*(A2025-$A$1003))/100,1)*100","v":25300},30107,null,{"$f":"E2025+450","v":25750},{"$f":"F2025+535","v":30642},null,25300,26565]
[202300,null,null,null,{"$f":"CEILING(($E$1003+formule!$E$44*(A2026-$A$1003))/100,1)*100","v":25300},30107,null,25750,30642,null,25300,26565]
[202400,null,null,null,{"$f":"CEILING(($E$1003+formule!$E$44*(A2027-$A$1003))/100,1)*100","v":25300},30107,null,25750,30642,null,25300,26565]
[202500,null,null,null,{"$f":"CEILING(($E$1003+formule!$E$44*(A2028-$A$1003))/100,1)*100","v":25300},30107,null,25750,30642,null,25300,26565]
[{"$f":"A2028+100","v":202600},null,null,null,{"$f":"CEILING(($E$1003+formule!$E$44*(A2029-$A$1003))/100,1)*100","v":25400},30226,null,25850,30761,null,25400,26670]
[202700,null,null,null,{"$f":"CEILING(($E$1003+formule!$E$44*(A2030-$A$1003))/100,1)*100","v":25400},30226,null,25850,30761,null,25400,26670]
[202800,null,null,null,{"$f":"CEILING(($E$1003+formule!$E$44*(A2031-$A$1003))/100,1)*100","v":25400},30226,null,25850,30761,null,25400,26670]
[202900,null,null,null,{"$f":"CEILING(($E$1003+formule!$E$44*(A2032-$A$1003))/100,1)*100","v":25400},30226,null,25850,30761,null,25400,26670]
[203000,null,null,null,{"$f":"CEILING(($E$1003+formule!$E$44*(A2033-$A$1003))/100,1)*100","v":25400},{"$f":"E2033*1.19","v":30226},null,25850,30761,null,25400,26670]
[203100,null,null,null,{"$f":"CEILING(($E$1003+formule!$E$44*(A2034-$A$1003))/100,1)*100","v":25400},30226,null,25850,30761,null,25400,26670]
[203200,null,null,null,{"$f":"CEILING(($E$1003+formule!$E$44*(A2035-$A$1003))/100,1)*100","v":25400},30226,null,25850,30761,null,25400,26670]
[203300,null,null,null,{"$f":"CEILING(($E$1003+formule!$E$44*(A2036-$A$1003))/100,1)*100","v":25400},30226,null,25850,30761,null,25400,26670]
[203400,null,null,null,{"$f":"CEILING(($E$1003+formule!$E$44*(A2037-$A$1003))/100,1)*100","v":25400},30226,null,25850,30761,null,25400,26670]
[203500,null,null,null,{"$f":"CEILING(($E$1003+formule!$E$44*(A2038-$A$1003))/100,1)*100","v":25400},30226,null,25850,30761,null,25400,26670]
[203600,null,null,null,{"$f":"CEILING(($E$1003+formule!$E$44*(A2039-$A$1003))/100,1)*100","v":25500},30345,null,25950,30880,null,25500,26775]
[203700,null,null,null,{"$f":"CEILING(($E$1003+formule!$E$44*(A2040-$A$1003))/100,1)*100","v":25500},30345,null,25950,30880,null,25500,26775]
[203800,null,null,null,{"$f":"CEILING(($E$1003+formule!$E$44*(A2041-$A$1003))/100,1)*100","v":25500},30345,null,25950,30880,null,25500,26775]
[203900,null,null,null,{"$f":"CEILING(($E$1003+formule!$E$44*(A2042-$A$1003))/100,1)*100","v":25500},30345,null,25950,30880,null,25500,26775]
[204000,null,null,null,{"$f":"CEILING(($E$1003+formule!$E$44*(A2043-$A$1003))/100,1)*100","v":25500},30345,null,25950,30880,null,25500,26775]
[204100,null,null,null,{"$f":"CEILING(($E$1003+formule!$E$44*(A2044-$A$1003))/100,1)*100","v":25500},30345,null,25950,30880,null,25500,26775]
[204200,null,null,null,{"$f":"CEILING(($E$1003+formule!$E$44*(A2045-$A$1003))/100,1)*100","v":25500},30345,null,25950,30880,null,25500,26775]
[204300,null,null,null,{"$f":"CEILING(($E$1003+formule!$E$44*(A2046-$A$1003))/100,1)*100","v":25500},30345,null,25950,30880,null,25500,26775]
[204400,null,null,null,{"$f":"CEILING(($E$1003+formule!$E$44*(A2047-$A$1003))/100,1)*100","v":25500},30345,null,25950,30880,null,25500,26775]
[204500,null,null,null,{"$f":"CEILING(($E$1003+formule!$E$44*(A2048-$A$1003))/100,1)*100","v":25500},30345,null,25950,30880,null,25500,26775]
[204600,null,null,null,{"$f":"CEILING(($E$1003+formule!$E$44*(A2049-$A$1003))/100,1)*100","v":25600},30464,null,26050,30999,null,25600,26880]
[204700,null,null,null,{"$f":"CEILING(($E$1003+formule!$E$44*(A2050-$A$1003))/100,1)*100","v":25600},30464,null,26050,30999,null,25600,26880]
[204800,null,null,null,{"$f":"CEILING(($E$1003+formule!$E$44*(A2051-$A$1003))/100,1)*100","v":25600},30464,null,26050,30999,null,25600,26880]
[204900,null,null,null,{"$f":"CEILING(($E$1003+formule!$E$44*(A2052-$A$1003))/100,1)*100","v":25600},30464,null,26050,30999,null,25600,26880]
[205000,null,null,null,{"$f":"CEILING(($E$1003+formule!$E$44*(A2053-$A$1003))/100,1)*100","v":25600},30464,null,26050,30999,null,{"$f":"E2053","v":25600},{"$f":"K2053*1.05","v":26880}]
[205100,null,null,null,{"$f":"CEILING(($E$1003+formule!$E$44*(A2054-$A$1003))/100,1)*100","v":25600},30464,null,26050,30999,null,25600,26880]
[205200,null,null,null,{"$f":"CEILING(($E$1003+formule!$E$44*(A2055-$A$1003))/100,1)*100","v":25600},30464,null,26050,30999,null,25600,26880]
[205300,null,null,null,{"$f":"CEILING(($E$1003+formule!$E$44*(A2056-$A$1003))/100,1)*100","v":25600},30464,null,26050,30999,null,25600,26880]
[205400,null,null,null,{"$f":"CEILING(($E$1003+formule!$E$44*(A2057-$A$1003))/100,1)*100","v":25600},30464,null,26050,30999,null,25600,26880]
[205500,null,null,null,{"$f":"CEILING(($E$1003+formule!$E$44*(A2058-$A$1003))/100,1)*100","v":25600},30464,null,26050,30999,null,25600,26880]
[205600,null,null,null,{"$f":"CEILING(($E$1003+formule!$E$44*(A2059-$A$1003))/100,1)*100","v":25700},30583,null,26150,31118,null,25700,26985]
[205700,null,null,null,{"$f":"CEILING(($E$1003+formule!$E$44*(A2060-$A$1003))/100,1)*100","v":25700},30583,null,26150,31118,null,25700,26985]
[205800,null,null,null,{"$f":"CEILING(($E$1003+formule!$E$44*(A2061-$A$1003))/100,1)*100","v":25700},30583,null,26150,31118,null,25700,26985]
[205900,null,null,null,{"$f":"CEILING(($E$1003+formule!$E$44*(A2062-$A$1003))/100,1)*100","v":25700},30583,null,26150,31118,null,25700,26985]
[206000,null,null,null,{"$f":"CEILING(($E$1003+formule!$E$44*(A2063-$A$1003))/100,1)*100","v":25700},30583,null,26150,31118,null,25700,26985]
[206100,null,null,null,{"$f":"CEILING(($E$1003+formule!$E$44*(A2064-$A$1003))/100,1)*100","v":25700},30583,null,26150,31118,null,25700,26985]
[206200,null,null,null,{"$f":"CEILING(($E$1003+formule!$E$44*(A2065-$A$1003))/100,1)*100","v":25700},30583,null,26150,31118,null,25700,26985]
[206300,null,null,null,{"$f":"CEILING(($E$1003+formule!$E$44*(A2066-$A$1003))/100,1)*100","v":25700},30583,null,26150,31118,null,25700,26985]
[206400,null,null,null,{"$f":"CEILING(($E$1003+formule!$E$44*(A2067-$A$1003))/100,1)*100","v":25700},30583,null,26150,31118,null,25700,26985]
[206500,null,null,null,{"$f":"CEILING(($E$1003+formule!$E$44*(A2068-$A$1003))/100,1)*100","v":25700},30583,null,26150,31118,null,25700,26985]
[206600,null,null,null,{"$f":"CEILING(($E$1003+formule!$E$44*(A2069-$A$1003))/100,1)*100","v":25800},30702,null,26250,31237,null,25800,27090]
[206700,null,null,null,{"$f":"CEILING(($E$1003+formule!$E$44*(A2070-$A$1003))/100,1)*100","v":25800},30702,null,26250,31237,null,25800,27090]
[206800,null,null,null,{"$f":"CEILING(($E$1003+formule!$E$44*(A2071-$A$1003))/100,1)*100","v":25800},30702,null,26250,31237,null,25800,27090]
[206900,null,null,null,{"$f":"CEILING(($E$1003+formule!$E$44*(A2072-$A$1003))/100,1)*100","v":25800},30702,null,26250,31237,null,25800,27090]
[207000,null,null,null,{"$f":"CEILING(($E$1003+formule!$E$44*(A2073-$A$1003))/100,1)*100","v":25800},30702,null,26250,31237,null,25800,27090]
[207100,null,null,null,{"$f":"CEILING(($E$1003+formule!$E$44*(A2074-$A$1003))/100,1)*100","v":25800},30702,null,26250,31237,null,25800,27090]
[207200,null,null,null,{"$f":"CEILING(($E$1003+formule!$E$44*(A2075-$A$1003))/100,1)*100","v":25800},30702,null,26250,31237,null,25800,27090]
[207300,null,null,null,{"$f":"CEILING(($E$1003+formule!$E$44*(A2076-$A$1003))/100,1)*100","v":25800},30702,null,26250,31237,null,25800,27090]
[207400,null,null,null,{"$f":"CEILING(($E$1003+formule!$E$44*(A2077-$A$1003))/100,1)*100","v":25800},30702,null,26250,31237,null,25800,27090]
[207500,null,null,null,{"$f":"CEILING(($E$1003+formule!$E$44*(A2078-$A$1003))/100,1)*100","v":25800},30702,null,26250,31237,null,25800,27090]
[207600,null,null,null,{"$f":"CEILING(($E$1003+formule!$E$44*(A2079-$A$1003))/100,1)*100","v":25900},30821,null,26350,31356,null,25900,27195]
[207700,null,null,null,{"$f":"CEILING(($E$1003+formule!$E$44*(A2080-$A$1003))/100,1)*100","v":25900},30821,null,26350,31356,null,25900,27195]
[207800,null,null,null,{"$f":"CEILING(($E$1003+formule!$E$44*(A2081-$A$1003))/100,1)*100","v":25900},30821,null,26350,31356,null,25900,27195]
[207900,null,null,null,{"$f":"CEILING(($E$1003+formule!$E$44*(A2082-$A$1003))/100,1)*100","v":25900},30821,null,26350,31356,null,25900,27195]
[208000,null,null,null,{"$f":"CEILING(($E$1003+formule!$E$44*(A2083-$A$1003))/100,1)*100","v":25900},30821,null,26350,31356,null,25900,27195]
[208100,null,null,null,{"$f":"CEILING(($E$1003+formule!$E$44*(A2084-$A$1003))/100,1)*100","v":25900},30821,null,26350,31356,null,25900,27195]
[208200,null,null,null,{"$f":"CEILING(($E$1003+formule!$E$44*(A2085-$A$1003))/100,1)*100","v":25900},30821,null,26350,31356,null,25900,27195]
[208300,null,null,null,{"$f":"CEILING(($E$1003+formule!$E$44*(A2086-$A$1003))/100,1)*100","v":25900},30821,null,26350,31356,null,25900,27195]
[208400,null,null,null,{"$f":"CEILING(($E$1003+formule!$E$44*(A2087-$A$1003))/100,1)*100","v":25900},30821,null,26350,31356,null,25900,27195]
[208500,null,null,null,{"$f":"CEILING(($E$1003+formule!$E$44*(A2088-$A$1003))/100,1)*100","v":25900},30821,null,26350,31356,null,25900,27195]
[208600,null,null,null,{"$f":"CEILING(($E$1003+formule!$E$44*(A2089-$A$1003))/100,1)*100","v":26000},30940,null,{"$f":"E2089+450","v":26450},{"$f":"F2089+535","v":31475},null,26000,27300]
[208700,null,null,null,{"$f":"CEILING(($E$1003+formule!$E$44*(A2090-$A$1003))/100,1)*100","v":26000},30940,null,26450,31475,null,26000,27300]
[208800,null,null,null,{"$f":"CEILING(($E$1003+formule!$E$44*(A2091-$A$1003))/100,1)*100","v":26000},30940,null,26450,31475,null,26000,27300]
[208900,null,null,null,{"$f":"CEILING(($E$1003+formule!$E$44*(A2092-$A$1003))/100,1)*100","v":26000},30940,null,26450,31475,null,26000,27300]
[{"$f":"A2092+100","v":209000},null,null,null,{"$f":"CEILING(($E$1003+formule!$E$44*(A2093-$A$1003))/100,1)*100","v":26000},30940,null,26450,31475,null,26000,27300]
[209100,null,null,null,{"$f":"CEILING(($E$1003+formule!$E$44*(A2094-$A$1003))/100,1)*100","v":26000},30940,null,26450,31475,null,26000,27300]
[209200,null,null,null,{"$f":"CEILING(($E$1003+formule!$E$44*(A2095-$A$1003))/100,1)*100","v":26000},30940,null,26450,31475,null,26000,27300]
[209300,null,null,null,{"$f":"CEILING(($E$1003+formule!$E$44*(A2096-$A$1003))/100,1)*100","v":26000},30940,null,26450,31475,null,26000,27300]
[209400,null,null,null,{"$f":"CEILING(($E$1003+formule!$E$44*(A2097-$A$1003))/100,1)*100","v":26000},{"$f":"E2097*1.19","v":30940},null,26450,31475,null,26000,27300]
[209500,null,null,null,{"$f":"CEILING(($E$1003+formule!$E$44*(A2098-$A$1003))/100,1)*100","v":26000},30940,null,26450,31475,null,26000,27300]
[209600,null,null,null,{"$f":"CEILING(($E$1003+formule!$E$44*(A2099-$A$1003))/100,1)*100","v":26000},30940,null,26450,31475,null,26000,27300]
[209700,null,null,null,{"$f":"CEILING(($E$1003+formule!$E$44*(A2100-$A$1003))/100,1)*100","v":26100},31059,null,26550,31594,null,26100,27405]
[209800,null,null,null,{"$f":"CEILING(($E$1003+formule!$E$44*(A2101-$A$1003))/100,1)*100","v":26100},31059,null,26550,31594,null,26100,27405]
[209900,null,null,null,{"$f":"CEILING(($E$1003+formule!$E$44*(A2102-$A$1003))/100,1)*100","v":26100},31059,null,26550,31594,null,26100,27405]
[210000,null,null,null,{"$f":"CEILING(($E$1003+formule!$E$44*(A2103-$A$1003))/100,1)*100","v":26100},31059,null,26550,31594,null,26100,27405]
[210100,null,null,null,{"$f":"CEILING(($E$1003+formule!$E$44*(A2104-$A$1003))/100,1)*100","v":26100},31059,null,26550,31594,null,26100,27405]
[210200,null,null,null,{"$f":"CEILING(($E$1003+formule!$E$44*(A2105-$A$1003))/100,1)*100","v":26100},31059,null,26550,31594,null,26100,27405]
[210300,null,null,null,{"$f":"CEILING(($E$1003+formule!$E$44*(A2106-$A$1003))/100,1)*100","v":26100},31059,null,26550,31594,null,26100,27405]
[210400,null,null,null,{"$f":"CEILING(($E$1003+formule!$E$44*(A2107-$A$1003))/100,1)*100","v":26100},31059,null,26550,31594,null,26100,27405]
[210500,null,null,null,{"$f":"CEILING(($E$1003+formule!$E$44*(A2108-$A$1003))/100,1)*100","v":26100},31059,null,26550,31594,null,26100,27405]
[210600,null,null,null,{"$f":"CEILING(($E$1003+formule!$E$44*(A2109-$A$1003))/100,1)*100","v":26100},31059,null,26550,31594,null,26100,27405]
[210700,null,null,null,{"$f":"CEILING(($E$1003+formule!$E$44*(A2110-$A$1003))/100,1)*100","v":26200},31178,null,26650,31713,null,26200,27510]
[210800,null,null,null,{"$f":"CEILING(($E$1003+formule!$E$44*(A2111-$A$1003))/100,1)*100","v":26200},31178,null,26650,31713,null,26200,27510]
[210900,null,null,null,{"$f":"CEILING(($E$1003+formule!$E$44*(A2112-$A$1003))/100,1)*100","v":26200},31178,null,26650,31713,null,26200,27510]
[211000,null,null,null,{"$f":"CEILING(($E$1003+formule!$E$44*(A2113-$A$1003))/100,1)*100","v":26200},31178,null,26650,31713,null,26200,27510]
[211100,null,null,null,{"$f":"CEILING(($E$1003+formule!$E$44*(A2114-$A$1003))/100,1)*100","v":26200},31178,null,26650,31713,null,26200,27510]
[211200,null,null,null,{"$f":"CEILING(($E$1003+formule!$E$44*(A2115-$A$1003))/100,1)*100","v":26200},31178,null,26650,31713,null,26200,27510]
[211300,null,null,null,{"$f":"CEILING(($E$1003+formule!$E$44*(A2116-$A$1003))/100,1)*100","v":26200},31178,null,26650,31713,null,26200,27510]
[211400,null,null,null,{"$f":"CEILING(($E$1003+formule!$E$44*(A2117-$A$1003))/100,1)*100","v":26200},31178,null,26650,31713,null,{"$f":"E2117","v":26200},{"$f":"K2117*1.05","v":27510}]
[211500,null,null,null,{"$f":"CEILING(($E$1003+formule!$E$44*(A2118-$A$1003))/100,1)*100","v":26200},31178,null,26650,31713,null,26200,27510]
[211600,null,null,null,{"$f":"CEILING(($E$1003+formule!$E$44*(A2119-$A$1003))/100,1)*100","v":26200},31178,null,26650,31713,null,26200,27510]
[211700,null,null,null,{"$f":"CEILING(($E$1003+formule!$E$44*(A2120-$A$1003))/100,1)*100","v":26300},31297,null,26750,31832,null,26300,27615]
[211800,null,null,null,{"$f":"CEILING(($E$1003+formule!$E$44*(A2121-$A$1003))/100,1)*100","v":26300},31297,null,26750,31832,null,26300,27615]
[211900,null,null,null,{"$f":"CEILING(($E$1003+formule!$E$44*(A2122-$A$1003))/100,1)*100","v":26300},31297,null,26750,31832,null,26300,27615]
[212000,null,null,null,{"$f":"CEILING(($E$1003+formule!$E$44*(A2123-$A$1003))/100,1)*100","v":26300},31297,null,26750,31832,null,26300,27615]
[212100,null,null,null,{"$f":"CEILING(($E$1003+formule!$E$44*(A2124-$A$1003))/100,1)*100","v":26300},31297,null,26750,31832,null,26300,27615]
[212200,null,null,null,{"$f":"CEILING(($E$1003+formule!$E$44*(A2125-$A$1003))/100,1)*100","v":26300},31297,null,26750,31832,null,26300,27615]
[212300,null,null,null,{"$f":"CEILING(($E$1003+formule!$E$44*(A2126-$A$1003))/100,1)*100","v":26300},31297,null,26750,31832,null,26300,27615]
[212400,null,null,null,{"$f":"CEILING(($E$1003+formule!$E$44*(A2127-$A$1003))/100,1)*100","v":26300},31297,null,26750,31832,null,26300,27615]
[212500,null,null,null,{"$f":"CEILING(($E$1003+formule!$E$44*(A2128-$A$1003))/100,1)*100","v":26300},31297,null,26750,31832,null,26300,27615]
[212600,null,null,null,{"$f":"CEILING(($E$1003+formule!$E$44*(A2129-$A$1003))/100,1)*100","v":26300},31297,null,26750,31832,null,26300,27615]
[212700,null,null,null,{"$f":"CEILING(($E$1003+formule!$E$44*(A2130-$A$1003))/100,1)*100","v":26400},31416,null,26850,31951,null,26400,27720]
[212800,null,null,null,{"$f":"CEILING(($E$1003+formule!$E$44*(A2131-$A$1003))/100,1)*100","v":26400},31416,null,26850,31951,null,26400,27720]
[212900,null,null,null,{"$f":"CEILING(($E$1003+formule!$E$44*(A2132-$A$1003))/100,1)*100","v":26400},31416,null,26850,31951,null,26400,27720]
[213000,null,null,null,{"$f":"CEILING(($E$1003+formule!$E$44*(A2133-$A$1003))/100,1)*100","v":26400},31416,null,26850,31951,null,26400,27720]
[213100,null,null,null,{"$f":"CEILING(($E$1003+formule!$E$44*(A2134-$A$1003))/100,1)*100","v":26400},31416,null,26850,31951,null,26400,27720]
[213200,null,null,null,{"$f":"CEILING(($E$1003+formule!$E$44*(A2135-$A$1003))/100,1)*100","v":26400},31416,null,26850,31951,null,26400,27720]
[213300,null,null,null,{"$f":"CEILING(($E$1003+formule!$E$44*(A2136-$A$1003))/100,1)*100","v":26400},31416,null,26850,31951,null,26400,27720]
[213400,null,null,null,{"$f":"CEILING(($E$1003+formule!$E$44*(A2137-$A$1003))/100,1)*100","v":26400},31416,null,26850,31951,null,26400,27720]
[213500,null,null,null,{"$f":"CEILING(($E$1003+formule!$E$44*(A2138-$A$1003))/100,1)*100","v":26400},31416,null,26850,31951,null,26400,27720]
[213600,null,null,null,{"$f":"CEILING(($E$1003+formule!$E$44*(A2139-$A$1003))/100,1)*100","v":26400},31416,null,26850,31951,null,26400,27720]
[213700,null,null,null,{"$f":"CEILING(($E$1003+formule!$E$44*(A2140-$A$1003))/100,1)*100","v":26500},31535,null,26950,32070,null,26500,27825]
[213800,null,null,null,{"$f":"CEILING(($E$1003+formule!$E$44*(A2141-$A$1003))/100,1)*100","v":26500},31535,null,26950,32070,null,26500,27825]
[213900,null,null,null,{"$f":"CEILING(($E$1003+formule!$E$44*(A2142-$A$1003))/100,1)*100","v":26500},31535,null,26950,32070,null,26500,27825]
[214000,null,null,null,{"$f":"CEILING(($E$1003+formule!$E$44*(A2143-$A$1003))/100,1)*100","v":26500},31535,null,26950,32070,null,26500,27825]
[214100,null,null,null,{"$f":"CEILING(($E$1003+formule!$E$44*(A2144-$A$1003))/100,1)*100","v":26500},31535,null,26950,32070,null,26500,27825]
[214200,null,null,null,{"$f":"CEILING(($E$1003+formule!$E$44*(A2145-$A$1003))/100,1)*100","v":26500},31535,null,26950,32070,null,26500,27825]
[214300,null,null,null,{"$f":"CEILING(($E$1003+formule!$E$44*(A2146-$A$1003))/100,1)*100","v":26500},31535,null,26950,32070,null,26500,27825]
[214400,null,null,null,{"$f":"CEILING(($E$1003+formule!$E$44*(A2147-$A$1003))/100,1)*100","v":26500},31535,null,26950,32070,null,26500,27825]
[214500,null,null,null,{"$f":"CEILING(($E$1003+formule!$E$44*(A2148-$A$1003))/100,1)*100","v":26500},31535,null,26950,32070,null,26500,27825]
[214600,null,null,null,{"$f":"CEILING(($E$1003+formule!$E$44*(A2149-$A$1003))/100,1)*100","v":26500},31535,null,26950,32070,null,26500,27825]
[214700,null,null,null,{"$f":"CEILING(($E$1003+formule!$E$44*(A2150-$A$1003))/100,1)*100","v":26600},31654,null,27050,32189,null,26600,27930]
[214800,null,null,null,{"$f":"CEILING(($E$1003+formule!$E$44*(A2151-$A$1003))/100,1)*100","v":26600},31654,null,27050,32189,null,26600,27930]
[214900,null,null,null,{"$f":"CEILING(($E$1003+formule!$E$44*(A2152-$A$1003))/100,1)*100","v":26600},31654,null,27050,32189,null,26600,27930]
[215000,null,null,null,{"$f":"CEILING(($E$1003+formule!$E$44*(A2153-$A$1003))/100,1)*100","v":26600},31654,null,{"$f":"E2153+450","v":27050},{"$f":"F2153+535","v":32189},null,26600,27930]
[215100,null,null,null,{"$f":"CEILING(($E$1003+formule!$E$44*(A2154-$A$1003))/100,1)*100","v":26600},31654,null,27050,32189,null,26600,27930]
[215200,null,null,null,{"$f":"CEILING(($E$1003+formule!$E$44*(A2155-$A$1003))/100,1)*100","v":26600},31654,null,27050,32189,null,26600,27930]
[215300,null,null,null,{"$f":"CEILING(($E$1003+formule!$E$44*(A2156-$A$1003))/100,1)*100","v":26600},31654,null,27050,32189,null,26600,27930]
[{"$f":"A2156+100","v":215400},null,null,null,{"$f":"CEILING(($E$1003+formule!$E$44*(A2157-$A$1003))/100,1)*100","v":26600},31654,null,27050,32189,null,26600,27930]
[215500,null,null,null,{"$f":"CEILING(($E$1003+formule!$E$44*(A2158-$A$1003))/100,1)*100","v":26600},31654,null,27050,32189,null,26600,27930]
[215600,null,null,null,{"$f":"CEILING(($E$1003+formule!$E$44*(A2159-$A$1003))/100,1)*100","v":26600},31654,null,27050,32189,null,26600,27930]
[215700,null,null,null,{"$f":"CEILING(($E$1003+formule!$E$44*(A2160-$A$1003))/100,1)*100","v":26600},31654,null,27050,32189,null,26600,27930]
[215800,null,null,null,{"$f":"CEILING(($E$1003+formule!$E$44*(A2161-$A$1003))/100,1)*100","v":26700},{"$f":"E2161*1.19","v":31773},null,27150,32308,null,26700,28035]
[215900,null,null,null,{"$f":"CEILING(($E$1003+formule!$E$44*(A2162-$A$1003))/100,1)*100","v":26700},31773,null,27150,32308,null,26700,28035]
[216000,null,null,null,{"$f":"CEILING(($E$1003+formule!$E$44*(A2163-$A$1003))/100,1)*100","v":26700},31773,null,27150,32308,null,26700,28035]
[216100,null,null,null,{"$f":"CEILING(($E$1003+formule!$E$44*(A2164-$A$1003))/100,1)*100","v":26700},31773,null,27150,32308,null,26700,28035]
[216200,null,null,null,{"$f":"CEILING(($E$1003+formule!$E$44*(A2165-$A$1003))/100,1)*100","v":26700},31773,null,27150,32308,null,26700,28035]
[216300,null,null,null,{"$f":"CEILING(($E$1003+formule!$E$44*(A2166-$A$1003))/100,1)*100","v":26700},31773,null,27150,32308,null,26700,28035]
[216400,null,null,null,{"$f":"CEILING(($E$1003+formule!$E$44*(A2167-$A$1003))/100,1)*100","v":26700},31773,null,27150,32308,null,26700,28035]
[216500,null,null,null,{"$f":"CEILING(($E$1003+formule!$E$44*(A2168-$A$1003))/100,1)*100","v":26700},31773,null,27150,32308,null,26700,28035]
[216600,null,null,null,{"$f":"CEILING(($E$1003+formule!$E$44*(A2169-$A$1003))/100,1)*100","v":26700},31773,null,27150,32308,null,26700,28035]
[216700,null,null,null,{"$f":"CEILING(($E$1003+formule!$E$44*(A2170-$A$1003))/100,1)*100","v":26700},31773,null,27150,32308,null,26700,28035]
[216800,null,null,null,{"$f":"CEILING(($E$1003+formule!$E$44*(A2171-$A$1003))/100,1)*100","v":26800},31892,null,27250,32427,null,26800,28140]
[216900,null,null,null,{"$f":"CEILING(($E$1003+formule!$E$44*(A2172-$A$1003))/100,1)*100","v":26800},31892,null,27250,32427,null,26800,28140]
[217000,null,null,null,{"$f":"CEILING(($E$1003+formule!$E$44*(A2173-$A$1003))/100,1)*100","v":26800},31892,null,27250,32427,null,26800,28140]
[217100,null,null,null,{"$f":"CEILING(($E$1003+formule!$E$44*(A2174-$A$1003))/100,1)*100","v":26800},31892,null,27250,32427,null,26800,28140]
[217200,null,null,null,{"$f":"CEILING(($E$1003+formule!$E$44*(A2175-$A$1003))/100,1)*100","v":26800},31892,null,27250,32427,null,26800,28140]
[217300,null,null,null,{"$f":"CEILING(($E$1003+formule!$E$44*(A2176-$A$1003))/100,1)*100","v":26800},31892,null,27250,32427,null,26800,28140]
[217400,null,null,null,{"$f":"CEILING(($E$1003+formule!$E$44*(A2177-$A$1003))/100,1)*100","v":26800},31892,null,27250,32427,null,26800,28140]
[217500,null,null,null,{"$f":"CEILING(($E$1003+formule!$E$44*(A2178-$A$1003))/100,1)*100","v":26800},31892,null,27250,32427,null,26800,28140]
[217600,null,null,null,{"$f":"CEILING(($E$1003+formule!$E$44*(A2179-$A$1003))/100,1)*100","v":26800},31892,null,27250,32427,null,26800,28140]
[217700,null,null,null,{"$f":"CEILING(($E$1003+formule!$E$44*(A2180-$A$1003))/100,1)*100","v":26800},31892,null,27250,32427,null,26800,28140]
[217800,null,null,null,{"$f":"CEILING(($E$1003+formule!$E$44*(A2181-$A$1003))/100,1)*100","v":26900},32011,null,27350,32546,null,{"$f":"E2181","v":26900},{"$f":"K2181*1.05","v":28245}]
[217900,null,null,null,{"$f":"CEILING(($E$1003+formule!$E$44*(A2182-$A$1003))/100,1)*100","v":26900},32011,null,27350,32546,null,26900,28245]
[218000,null,null,null,{"$f":"CEILING(($E$1003+formule!$E$44*(A2183-$A$1003))/100,1)*100","v":26900},32011,null,27350,32546,null,26900,28245]
[218100,null,null,null,{"$f":"CEILING(($E$1003+formule!$E$44*(A2184-$A$1003))/100,1)*100","v":26900},32011,null,27350,32546,null,26900,28245]
[218200,null,null,null,{"$f":"CEILING(($E$1003+formule!$E$44*(A2185-$A$1003))/100,1)*100","v":26900},32011,null,27350,32546,null,26900,28245]
[218300,null,null,null,{"$f":"CEILING(($E$1003+formule!$E$44*(A2186-$A$1003))/100,1)*100","v":26900},32011,null,27350,32546,null,26900,28245]
[218400,null,null,null,{"$f":"CEILING(($E$1003+formule!$E$44*(A2187-$A$1003))/100,1)*100","v":26900},32011,null,27350,32546,null,26900,28245]
[218500,null,null,null,{"$f":"CEILING(($E$1003+formule!$E$44*(A2188-$A$1003))/100,1)*100","v":26900},32011,null,27350,32546,null,26900,28245]
[218600,null,null,null,{"$f":"CEILING(($E$1003+formule!$E$44*(A2189-$A$1003))/100,1)*100","v":26900},32011,null,27350,32546,null,26900,28245]
[218700,null,null,null,{"$f":"CEILING(($E$1003+formule!$E$44*(A2190-$A$1003))/100,1)*100","v":26900},32011,null,27350,32546,null,26900,28245]
[218800,null,null,null,{"$f":"CEILING(($E$1003+formule!$E$44*(A2191-$A$1003))/100,1)*100","v":27000},32130,null,27450,32665,null,27000,28350]
[218900,null,null,null,{"$f":"CEILING(($E$1003+formule!$E$44*(A2192-$A$1003))/100,1)*100","v":27000},32130,null,27450,32665,null,27000,28350]
[219000,null,null,null,{"$f":"CEILING(($E$1003+formule!$E$44*(A2193-$A$1003))/100,1)*100","v":27000},32130,null,27450,32665,null,27000,28350]
[219100,null,null,null,{"$f":"CEILING(($E$1003+formule!$E$44*(A2194-$A$1003))/100,1)*100","v":27000},32130,null,27450,32665,null,27000,28350]
[219200,null,null,null,{"$f":"CEILING(($E$1003+formule!$E$44*(A2195-$A$1003))/100,1)*100","v":27000},32130,null,27450,32665,null,27000,28350]
[219300,null,null,null,{"$f":"CEILING(($E$1003+formule!$E$44*(A2196-$A$1003))/100,1)*100","v":27000},32130,null,27450,32665,null,27000,28350]
[219400,null,null,null,{"$f":"CEILING(($E$1003+formule!$E$44*(A2197-$A$1003))/100,1)*100","v":27000},32130,null,27450,32665,null,27000,28350]
[219500,null,null,null,{"$f":"CEILING(($E$1003+formule!$E$44*(A2198-$A$1003))/100,1)*100","v":27000},32130,null,27450,32665,null,27000,28350]
[219600,null,null,null,{"$f":"CEILING(($E$1003+formule!$E$44*(A2199-$A$1003))/100,1)*100","v":27000},32130,null,27450,32665,null,27000,28350]
[219700,null,null,null,{"$f":"CEILING(($E$1003+formule!$E$44*(A2200-$A$1003))/100,1)*100","v":27000},32130,null,27450,32665,null,27000,28350]
[219800,null,null,null,{"$f":"CEILING(($E$1003+formule!$E$44*(A2201-$A$1003))/100,1)*100","v":27100},32249,null,27550,32784,null,27100,28455]
[219900,null,null,null,{"$f":"CEILING(($E$1003+formule!$E$44*(A2202-$A$1003))/100,1)*100","v":27100},32249,null,27550,32784,null,27100,28455]
[220000,null,null,null,{"$f":"CEILING(($E$1003+formule!$E$44*(A2203-$A$1003))/100,1)*100","v":27100},32249,null,27550,32784,null,27100,28455]
[220100,null,null,null,{"$f":"CEILING(($E$1003+formule!$E$44*(A2204-$A$1003))/100,1)*100","v":27100},32249,null,27550,32784,null,27100,28455]
[220200,null,null,null,{"$f":"CEILING(($E$1003+formule!$E$44*(A2205-$A$1003))/100,1)*100","v":27100},32249,null,27550,32784,null,27100,28455]
[220300,null,null,null,{"$f":"CEILING(($E$1003+formule!$E$44*(A2206-$A$1003))/100,1)*100","v":27100},32249,null,27550,32784,null,27100,28455]
[220400,null,null,null,{"$f":"CEILING(($E$1003+formule!$E$44*(A2207-$A$1003))/100,1)*100","v":27100},32249,null,27550,32784,null,27100,28455]
[220500,null,null,null,{"$f":"CEILING(($E$1003+formule!$E$44*(A2208-$A$1003))/100,1)*100","v":27100},32249,null,27550,32784,null,27100,28455]
[220600,null,null,null,{"$f":"CEILING(($E$1003+formule!$E$44*(A2209-$A$1003))/100,1)*100","v":27100},32249,null,27550,32784,null,27100,28455]
[220700,null,null,null,{"$f":"CEILING(($E$1003+formule!$E$44*(A2210-$A$1003))/100,1)*100","v":27100},32249,null,27550,32784,null,27100,28455]
[220800,null,null,null,{"$f":"CEILING(($E$1003+formule!$E$44*(A2211-$A$1003))/100,1)*100","v":27200},32368,null,27650,32903,null,27200,28560]
[220900,null,null,null,{"$f":"CEILING(($E$1003+formule!$E$44*(A2212-$A$1003))/100,1)*100","v":27200},32368,null,27650,32903,null,27200,28560]
[221000,null,null,null,{"$f":"CEILING(($E$1003+formule!$E$44*(A2213-$A$1003))/100,1)*100","v":27200},32368,null,27650,32903,null,27200,28560]
[221100,null,null,null,{"$f":"CEILING(($E$1003+formule!$E$44*(A2214-$A$1003))/100,1)*100","v":27200},32368,null,27650,32903,null,27200,28560]
[221200,null,null,null,{"$f":"CEILING(($E$1003+formule!$E$44*(A2215-$A$1003))/100,1)*100","v":27200},32368,null,27650,32903,null,27200,28560]
[221300,null,null,null,{"$f":"CEILING(($E$1003+formule!$E$44*(A2216-$A$1003))/100,1)*100","v":27200},32368,null,27650,32903,null,27200,28560]
[221400,null,null,null,{"$f":"CEILING(($E$1003+formule!$E$44*(A2217-$A$1003))/100,1)*100","v":27200},32368,null,{"$f":"E2217+450","v":27650},{"$f":"F2217+535","v":32903},null,27200,28560]
[221500,null,null,null,{"$f":"CEILING(($E$1003+formule!$E$44*(A2218-$A$1003))/100,1)*100","v":27200},32368,null,27650,32903,null,27200,28560]
[221600,null,null,null,{"$f":"CEILING(($E$1003+formule!$E$44*(A2219-$A$1003))/100,1)*100","v":27200},32368,null,27650,32903,null,27200,28560]
[221700,null,null,null,{"$f":"CEILING(($E$1003+formule!$E$44*(A2220-$A$1003))/100,1)*100","v":27200},32368,null,27650,32903,null,27200,28560]
[{"$f":"A2220+100","v":221800},null,null,null,{"$f":"CEILING(($E$1003+formule!$E$44*(A2221-$A$1003))/100,1)*100","v":27300},32487,null,27750,33022,null,27300,28665]
[221900,null,null,null,{"$f":"CEILING(($E$1003+formule!$E$44*(A2222-$A$1003))/100,1)*100","v":27300},32487,null,27750,33022,null,27300,28665]
[222000,null,null,null,{"$f":"CEILING(($E$1003+formule!$E$44*(A2223-$A$1003))/100,1)*100","v":27300},32487,null,27750,33022,null,27300,28665]
[222100,null,null,null,{"$f":"CEILING(($E$1003+formule!$E$44*(A2224-$A$1003))/100,1)*100","v":27300},32487,null,27750,33022,null,27300,28665]
[222200,null,null,null,{"$f":"CEILING(($E$1003+formule!$E$44*(A2225-$A$1003))/100,1)*100","v":27300},{"$f":"E2225*1.19","v":32487},null,27750,33022,null,27300,28665]
[222300,null,null,null,{"$f":"CEILING(($E$1003+formule!$E$44*(A2226-$A$1003))/100,1)*100","v":27300},32487,null,27750,33022,null,27300,28665]
[222400,null,null,null,{"$f":"CEILING(($E$1003+formule!$E$44*(A2227-$A$1003))/100,1)*100","v":27300},32487,null,27750,33022,null,27300,28665]
[222500,null,null,null,{"$f":"CEILING(($E$1003+formule!$E$44*(A2228-$A$1003))/100,1)*100","v":27300},32487,null,27750,33022,null,27300,28665]
[222600,null,null,null,{"$f":"CEILING(($E$1003+formule!$E$44*(A2229-$A$1003))/100,1)*100","v":27300},32487,null,27750,33022,null,27300,28665]
[222700,null,null,null,{"$f":"CEILING(($E$1003+formule!$E$44*(A2230-$A$1003))/100,1)*100","v":27300},32487,null,27750,33022,null,27300,28665]
[222800,null,null,null,{"$f":"CEILING(($E$1003+formule!$E$44*(A2231-$A$1003))/100,1)*100","v":27300},32487,null,27750,33022,null,27300,28665]
[222900,null,null,null,{"$f":"CEILING(($E$1003+formule!$E$44*(A2232-$A$1003))/100,1)*100","v":27400},32606,null,27850,33141,null,27400,28770]
[223000,null,null,null,{"$f":"CEILING(($E$1003+formule!$E$44*(A2233-$A$1003))/100,1)*100","v":27400},32606,null,27850,33141,null,27400,28770]
[223100,null,null,null,{"$f":"CEILING(($E$1003+formule!$E$44*(A2234-$A$1003))/100,1)*100","v":27400},32606,null,27850,33141,null,27400,28770]
[223200,null,null,null,{"$f":"CEILING(($E$1003+formule!$E$44*(A2235-$A$1003))/100,1)*100","v":27400},32606,null,27850,33141,null,27400,28770]
[223300,null,null,null,{"$f":"CEILING(($E$1003+formule!$E$44*(A2236-$A$1003))/100,1)*100","v":27400},32606,null,27850,33141,null,27400,28770]
[223400,null,null,null,{"$f":"CEILING(($E$1003+formule!$E$44*(A2237-$A$1003))/100,1)*100","v":27400},32606,null,27850,33141,null,27400,28770]
[223500,null,null,null,{"$f":"CEILING(($E$1003+formule!$E$44*(A2238-$A$1003))/100,1)*100","v":27400},32606,null,27850,33141,null,27400,28770]
[223600,null,null,null,{"$f":"CEILING(($E$1003+formule!$E$44*(A2239-$A$1003))/100,1)*100","v":27400},32606,null,27850,33141,null,27400,28770]
[223700,null,null,null,{"$f":"CEILING(($E$1003+formule!$E$44*(A2240-$A$1003))/100,1)*100","v":27400},32606,null,27850,33141,null,27400,28770]
[223800,null,null,null,{"$f":"CEILING(($E$1003+formule!$E$44*(A2241-$A$1003))/100,1)*100","v":27400},32606,null,27850,33141,null,27400,28770]
[223900,null,null,null,{"$f":"CEILING(($E$1003+formule!$E$44*(A2242-$A$1003))/100,1)*100","v":27500},32725,null,27950,33260,null,27500,28875]
[224000,null,null,null,{"$f":"CEILING(($E$1003+formule!$E$44*(A2243-$A$1003))/100,1)*100","v":27500},32725,null,27950,33260,null,27500,28875]
[224100,null,null,null,{"$f":"CEILING(($E$1003+formule!$E$44*(A2244-$A$1003))/100,1)*100","v":27500},32725,null,27950,33260,null,27500,28875]
[224200,null,null,null,{"$f":"CEILING(($E$1003+formule!$E$44*(A2245-$A$1003))/100,1)*100","v":27500},32725,null,27950,33260,null,{"$f":"E2245","v":27500},{"$f":"K2245*1.05","v":28875}]
[224300,null,null,null,{"$f":"CEILING(($E$1003+formule!$E$44*(A2246-$A$1003))/100,1)*100","v":27500},32725,null,27950,33260,null,27500,28875]
[224400,null,null,null,{"$f":"CEILING(($E$1003+formule!$E$44*(A2247-$A$1003))/100,1)*100","v":27500},32725,null,27950,33260,null,27500,28875]
[224500,null,null,null,{"$f":"CEILING(($E$1003+formule!$E$44*(A2248-$A$1003))/100,1)*100","v":27500},32725,null,27950,33260,null,27500,28875]
[224600,null,null,null,{"$f":"CEILING(($E$1003+formule!$E$44*(A2249-$A$1003))/100,1)*100","v":27500},32725,null,27950,33260,null,27500,28875]
[224700,null,null,null,{"$f":"CEILING(($E$1003+formule!$E$44*(A2250-$A$1003))/100,1)*100","v":27500},32725,null,27950,33260,null,27500,28875]
[224800,null,null,null,{"$f":"CEILING(($E$1003+formule!$E$44*(A2251-$A$1003))/100,1)*100","v":27500},32725,null,27950,33260,null,27500,28875]
[224900,null,null,null,{"$f":"CEILING(($E$1003+formule!$E$44*(A2252-$A$1003))/100,1)*100","v":27600},32844,null,28050,33379,null,27600,28980]
[225000,null,null,null,{"$f":"CEILING(($E$1003+formule!$E$44*(A2253-$A$1003))/100,1)*100","v":27600},32844,null,28050,33379,null,27600,28980]
[225100,null,null,null,{"$f":"CEILING(($E$1003+formule!$E$44*(A2254-$A$1003))/100,1)*100","v":27600},32844,null,28050,33379,null,27600,28980]
[225200,null,null,null,{"$f":"CEILING(($E$1003+formule!$E$44*(A2255-$A$1003))/100,1)*100","v":27600},32844,null,28050,33379,null,27600,28980]
[225300,null,null,null,{"$f":"CEILING(($E$1003+formule!$E$44*(A2256-$A$1003))/100,1)*100","v":27600},32844,null,28050,33379,null,27600,28980]
[225400,null,null,null,{"$f":"CEILING(($E$1003+formule!$E$44*(A2257-$A$1003))/100,1)*100","v":27600},32844,null,28050,33379,null,27600,28980]
[225500,null,null,null,{"$f":"CEILING(($E$1003+formule!$E$44*(A2258-$A$1003))/100,1)*100","v":27600},32844,null,28050,33379,null,27600,28980]
[225600,null,null,null,{"$f":"CEILING(($E$1003+formule!$E$44*(A2259-$A$1003))/100,1)*100","v":27600},32844,null,28050,33379,null,27600,28980]
[225700,null,null,null,{"$f":"CEILING(($E$1003+formule!$E$44*(A2260-$A$1003))/100,1)*100","v":27600},32844,null,28050,33379,null,27600,28980]
[225800,null,null,null,{"$f":"CEILING(($E$1003+formule!$E$44*(A2261-$A$1003))/100,1)*100","v":27600},32844,null,28050,33379,null,27600,28980]
[225900,null,null,null,{"$f":"CEILING(($E$1003+formule!$E$44*(A2262-$A$1003))/100,1)*100","v":27700},32963,null,28150,33498,null,27700,29085]
[226000,null,null,null,{"$f":"CEILING(($E$1003+formule!$E$44*(A2263-$A$1003))/100,1)*100","v":27700},32963,null,28150,33498,null,27700,29085]
[226100,null,null,null,{"$f":"CEILING(($E$1003+formule!$E$44*(A2264-$A$1003))/100,1)*100","v":27700},32963,null,28150,33498,null,27700,29085]
[226200,null,null,null,{"$f":"CEILING(($E$1003+formule!$E$44*(A2265-$A$1003))/100,1)*100","v":27700},32963,null,28150,33498,null,27700,29085]
[226300,null,null,null,{"$f":"CEILING(($E$1003+formule!$E$44*(A2266-$A$1003))/100,1)*100","v":27700},32963,null,28150,33498,null,27700,29085]
[226400,null,null,null,{"$f":"CEILING(($E$1003+formule!$E$44*(A2267-$A$1003))/100,1)*100","v":27700},32963,null,28150,33498,null,27700,29085]
[226500,null,null,null,{"$f":"CEILING(($E$1003+formule!$E$44*(A2268-$A$1003))/100,1)*100","v":27700},32963,null,28150,33498,null,27700,29085]
[226600,null,null,null,{"$f":"CEILING(($E$1003+formule!$E$44*(A2269-$A$1003))/100,1)*100","v":27700},32963,null,28150,33498,null,27700,29085]
[226700,null,null,null,{"$f":"CEILING(($E$1003+formule!$E$44*(A2270-$A$1003))/100,1)*100","v":27700},32963,null,28150,33498,null,27700,29085]
[226800,null,null,null,{"$f":"CEILING(($E$1003+formule!$E$44*(A2271-$A$1003))/100,1)*100","v":27700},32963,null,28150,33498,null,27700,29085]
[226900,null,null,null,{"$f":"CEILING(($E$1003+formule!$E$44*(A2272-$A$1003))/100,1)*100","v":27800},33082,null,28250,33617,null,27800,29190]
[227000,null,null,null,{"$f":"CEILING(($E$1003+formule!$E$44*(A2273-$A$1003))/100,1)*100","v":27800},33082,null,28250,33617,null,27800,29190]
[227100,null,null,null,{"$f":"CEILING(($E$1003+formule!$E$44*(A2274-$A$1003))/100,1)*100","v":27800},33082,null,28250,33617,null,27800,29190]
[227200,null,null,null,{"$f":"CEILING(($E$1003+formule!$E$44*(A2275-$A$1003))/100,1)*100","v":27800},33082,null,28250,33617,null,27800,29190]
[227300,null,null,null,{"$f":"CEILING(($E$1003+formule!$E$44*(A2276-$A$1003))/100,1)*100","v":27800},33082,null,28250,33617,null,27800,29190]
[227400,null,null,null,{"$f":"CEILING(($E$1003+formule!$E$44*(A2277-$A$1003))/100,1)*100","v":27800},33082,null,28250,33617,null,27800,29190]
[227500,null,null,null,{"$f":"CEILING(($E$1003+formule!$E$44*(A2278-$A$1003))/100,1)*100","v":27800},33082,null,28250,33617,null,27800,29190]
[227600,null,null,null,{"$f":"CEILING(($E$1003+formule!$E$44*(A2279-$A$1003))/100,1)*100","v":27800},33082,null,28250,33617,null,27800,29190]
[227700,null,null,null,{"$f":"CEILING(($E$1003+formule!$E$44*(A2280-$A$1003))/100,1)*100","v":27800},33082,null,28250,33617,null,27800,29190]
[227800,null,null,null,{"$f":"CEILING(($E$1003+formule!$E$44*(A2281-$A$1003))/100,1)*100","v":27800},33082,null,{"$f":"E2281+450","v":28250},{"$f":"F2281+535","v":33617},null,27800,29190]
[227900,null,null,null,{"$f":"CEILING(($E$1003+formule!$E$44*(A2282-$A$1003))/100,1)*100","v":27900},33201,null,28350,33736,null,27900,29295]
[228000,null,null,null,{"$f":"CEILING(($E$1003+formule!$E$44*(A2283-$A$1003))/100,1)*100","v":27900},33201,null,28350,33736,null,27900,29295]
[228100,null,null,null,{"$f":"CEILING(($E$1003+formule!$E$44*(A2284-$A$1003))/100,1)*100","v":27900},33201,null,28350,33736,null,27900,29295]
[{"$f":"A2284+100","v":228200},null,null,null,{"$f":"CEILING(($E$1003+formule!$E$44*(A2285-$A$1003))/100,1)*100","v":27900},33201,null,28350,33736,null,27900,29295]
[228300,null,null,null,{"$f":"CEILING(($E$1003+formule!$E$44*(A2286-$A$1003))/100,1)*100","v":27900},33201,null,28350,33736,null,27900,29295]
[228400,null,null,null,{"$f":"CEILING(($E$1003+formule!$E$44*(A2287-$A$1003))/100,1)*100","v":27900},33201,null,28350,33736,null,27900,29295]
[228500,null,null,null,{"$f":"CEILING(($E$1003+formule!$E$44*(A2288-$A$1003))/100,1)*100","v":27900},33201,null,28350,33736,null,27900,29295]
[228600,null,null,null,{"$f":"CEILING(($E$1003+formule!$E$44*(A2289-$A$1003))/100,1)*100","v":27900},{"$f":"E2289*1.19","v":33201},null,28350,33736,null,27900,29295]
[228700,null,null,null,{"$f":"CEILING(($E$1003+formule!$E$44*(A2290-$A$1003))/100,1)*100","v":27900},33201,null,28350,33736,null,27900,29295]
[228800,null,null,null,{"$f":"CEILING(($E$1003+formule!$E$44*(A2291-$A$1003))/100,1)*100","v":27900},33201,null,28350,33736,null,27900,29295]
[228900,null,null,null,{"$f":"CEILING(($E$1003+formule!$E$44*(A2292-$A$1003))/100,1)*100","v":28000},33320,null,28450,33855,null,28000,29400]
[229000,null,null,null,{"$f":"CEILING(($E$1003+formule!$E$44*(A2293-$A$1003))/100,1)*100","v":28000},33320,null,28450,33855,null,28000,29400]
[229100,null,null,null,{"$f":"CEILING(($E$1003+formule!$E$44*(A2294-$A$1003))/100,1)*100","v":28000},33320,null,28450,33855,null,28000,29400]
[229200,null,null,null,{"$f":"CEILING(($E$1003+formule!$E$44*(A2295-$A$1003))/100,1)*100","v":28000},33320,null,28450,33855,null,28000,29400]
[229300,null,null,null,{"$f":"CEILING(($E$1003+formule!$E$44*(A2296-$A$1003))/100,1)*100","v":28000},33320,null,28450,33855,null,28000,29400]
[229400,null,null,null,{"$f":"CEILING(($E$1003+formule!$E$44*(A2297-$A$1003))/100,1)*100","v":28000},33320,null,28450,33855,null,28000,29400]
[229500,null,null,null,{"$f":"CEILING(($E$1003+formule!$E$44*(A2298-$A$1003))/100,1)*100","v":28000},33320,null,28450,33855,null,28000,29400]
[229600,null,null,null,{"$f":"CEILING(($E$1003+formule!$E$44*(A2299-$A$1003))/100,1)*100","v":28000},33320,null,28450,33855,null,28000,29400]
[229700,null,null,null,{"$f":"CEILING(($E$1003+formule!$E$44*(A2300-$A$1003))/100,1)*100","v":28000},33320,null,28450,33855,null,28000,29400]
[229800,null,null,null,{"$f":"CEILING(($E$1003+formule!$E$44*(A2301-$A$1003))/100,1)*100","v":28000},33320,null,28450,33855,null,28000,29400]
[229900,null,null,null,{"$f":"CEILING(($E$1003+formule!$E$44*(A2302-$A$1003))/100,1)*100","v":28000},33320,null,28450,33855,null,28000,29400]
[230000,null,null,null,{"$f":"CEILING(($E$1003+formule!$E$44*(A2303-$A$1003))/100,1)*100","v":28100},33439,null,28550,33974,null,28100,29505]
[230100,null,null,null,{"$f":"CEILING(($E$1003+formule!$E$44*(A2304-$A$1003))/100,1)*100","v":28100},33439,null,28550,33974,null,28100,29505]
[230200,null,null,null,{"$f":"CEILING(($E$1003+formule!$E$44*(A2305-$A$1003))/100,1)*100","v":28100},33439,null,28550,33974,null,28100,29505]
[230300,null,null,null,{"$f":"CEILING(($E$1003+formule!$E$44*(A2306-$A$1003))/100,1)*100","v":28100},33439,null,28550,33974,null,28100,29505]
[230400,null,null,null,{"$f":"CEILING(($E$1003+formule!$E$44*(A2307-$A$1003))/100,1)*100","v":28100},33439,null,28550,33974,null,28100,29505]
[230500,null,null,null,{"$f":"CEILING(($E$1003+formule!$E$44*(A2308-$A$1003))/100,1)*100","v":28100},33439,null,28550,33974,null,28100,29505]
[230600,null,null,null,{"$f":"CEILING(($E$1003+formule!$E$44*(A2309-$A$1003))/100,1)*100","v":28100},33439,null,28550,33974,null,{"$f":"E2309","v":28100},{"$f":"K2309*1.05","v":29505}]
[230700,null,null,null,{"$f":"CEILING(($E$1003+formule!$E$44*(A2310-$A$1003))/100,1)*100","v":28100},33439,null,28550,33974,null,28100,29505]
[230800,null,null,null,{"$f":"CEILING(($E$1003+formule!$E$44*(A2311-$A$1003))/100,1)*100","v":28100},33439,null,28550,33974,null,28100,29505]
[230900,null,null,null,{"$f":"CEILING(($E$1003+formule!$E$44*(A2312-$A$1003))/100,1)*100","v":28100},33439,null,28550,33974,null,28100,29505]
[231000,null,null,null,{"$f":"CEILING(($E$1003+formule!$E$44*(A2313-$A$1003))/100,1)*100","v":28200},33558,null,28650,34093,null,28200,29610]
[231100,null,null,null,{"$f":"CEILING(($E$1003+formule!$E$44*(A2314-$A$1003))/100,1)*100","v":28200},33558,null,28650,34093,null,28200,29610]
[231200,null,null,null,{"$f":"CEILING(($E$1003+formule!$E$44*(A2315-$A$1003))/100,1)*100","v":28200},33558,null,28650,34093,null,28200,29610]
[231300,null,null,null,{"$f":"CEILING(($E$1003+formule!$E$44*(A2316-$A$1003))/100,1)*100","v":28200},33558,null,28650,34093,null,28200,29610]
[231400,null,null,null,{"$f":"CEILING(($E$1003+formule!$E$44*(A2317-$A$1003))/100,1)*100","v":28200},33558,null,28650,34093,null,28200,29610]
[231500,null,null,null,{"$f":"CEILING(($E$1003+formule!$E$44*(A2318-$A$1003))/100,1)*100","v":28200},33558,null,28650,34093,null,28200,29610]
[231600,null,null,null,{"$f":"CEILING(($E$1003+formule!$E$44*(A2319-$A$1003))/100,1)*100","v":28200},33558,null,28650,34093,null,28200,29610]
[231700,null,null,null,{"$f":"CEILING(($E$1003+formule!$E$44*(A2320-$A$1003))/100,1)*100","v":28200},33558,null,28650,34093,null,28200,29610]
[231800,null,null,null,{"$f":"CEILING(($E$1003+formule!$E$44*(A2321-$A$1003))/100,1)*100","v":28200},33558,null,28650,34093,null,28200,29610]
[231900,null,null,null,{"$f":"CEILING(($E$1003+formule!$E$44*(A2322-$A$1003))/100,1)*100","v":28200},33558,null,28650,34093,null,28200,29610]
[232000,null,null,null,{"$f":"CEILING(($E$1003+formule!$E$44*(A2323-$A$1003))/100,1)*100","v":28300},33677,null,28750,34212,null,28300,29715]
[232100,null,null,null,{"$f":"CEILING(($E$1003+formule!$E$44*(A2324-$A$1003))/100,1)*100","v":28300},33677,null,28750,34212,null,28300,29715]
[232200,null,null,null,{"$f":"CEILING(($E$1003+formule!$E$44*(A2325-$A$1003))/100,1)*100","v":28300},33677,null,28750,34212,null,28300,29715]
[232300,null,null,null,{"$f":"CEILING(($E$1003+formule!$E$44*(A2326-$A$1003))/100,1)*100","v":28300},33677,null,28750,34212,null,28300,29715]
[232400,null,null,null,{"$f":"CEILING(($E$1003+formule!$E$44*(A2327-$A$1003))/100,1)*100","v":28300},33677,null,28750,34212,null,28300,29715]
[232500,null,null,null,{"$f":"CEILING(($E$1003+formule!$E$44*(A2328-$A$1003))/100,1)*100","v":28300},33677,null,28750,34212,null,28300,29715]
[232600,null,null,null,{"$f":"CEILING(($E$1003+formule!$E$44*(A2329-$A$1003))/100,1)*100","v":28300},33677,null,28750,34212,null,28300,29715]
[232700,null,null,null,{"$f":"CEILING(($E$1003+formule!$E$44*(A2330-$A$1003))/100,1)*100","v":28300},33677,null,28750,34212,null,28300,29715]
[232800,null,null,null,{"$f":"CEILING(($E$1003+formule!$E$44*(A2331-$A$1003))/100,1)*100","v":28300},33677,null,28750,34212,null,28300,29715]
[232900,null,null,null,{"$f":"CEILING(($E$1003+formule!$E$44*(A2332-$A$1003))/100,1)*100","v":28300},33677,null,28750,34212,null,28300,29715]
[233000,null,null,null,{"$f":"CEILING(($E$1003+formule!$E$44*(A2333-$A$1003))/100,1)*100","v":28400},33796,null,28850,34331,null,28400,29820]
[233100,null,null,null,{"$f":"CEILING(($E$1003+formule!$E$44*(A2334-$A$1003))/100,1)*100","v":28400},33796,null,28850,34331,null,28400,29820]
[233200,null,null,null,{"$f":"CEILING(($E$1003+formule!$E$44*(A2335-$A$1003))/100,1)*100","v":28400},33796,null,28850,34331,null,28400,29820]
[233300,null,null,null,{"$f":"CEILING(($E$1003+formule!$E$44*(A2336-$A$1003))/100,1)*100","v":28400},33796,null,28850,34331,null,28400,29820]
[233400,null,null,null,{"$f":"CEILING(($E$1003+formule!$E$44*(A2337-$A$1003))/100,1)*100","v":28400},33796,null,28850,34331,null,28400,29820]
[233500,null,null,null,{"$f":"CEILING(($E$1003+formule!$E$44*(A2338-$A$1003))/100,1)*100","v":28400},33796,null,28850,34331,null,28400,29820]
[233600,null,null,null,{"$f":"CEILING(($E$1003+formule!$E$44*(A2339-$A$1003))/100,1)*100","v":28400},33796,null,28850,34331,null,28400,29820]
[233700,null,null,null,{"$f":"CEILING(($E$1003+formule!$E$44*(A2340-$A$1003))/100,1)*100","v":28400},33796,null,28850,34331,null,28400,29820]
[233800,null,null,null,{"$f":"CEILING(($E$1003+formule!$E$44*(A2341-$A$1003))/100,1)*100","v":28400},33796,null,28850,34331,null,28400,29820]
[233900,null,null,null,{"$f":"CEILING(($E$1003+formule!$E$44*(A2342-$A$1003))/100,1)*100","v":28400},33796,null,28850,34331,null,28400,29820]
[234000,null,null,null,{"$f":"CEILING(($E$1003+formule!$E$44*(A2343-$A$1003))/100,1)*100","v":28500},33915,null,28950,34450,null,28500,29925]
[234100,null,null,null,{"$f":"CEILING(($E$1003+formule!$E$44*(A2344-$A$1003))/100,1)*100","v":28500},33915,null,28950,34450,null,28500,29925]
[234200,null,null,null,{"$f":"CEILING(($E$1003+formule!$E$44*(A2345-$A$1003))/100,1)*100","v":28500},33915,null,{"$f":"E2345+450","v":28950},{"$f":"F2345+535","v":34450},null,28500,29925]
[234300,null,null,null,{"$f":"CEILING(($E$1003+formule!$E$44*(A2346-$A$1003))/100,1)*100","v":28500},33915,null,28950,34450,null,28500,29925]
[234400,null,null,null,{"$f":"CEILING(($E$1003+formule!$E$44*(A2347-$A$1003))/100,1)*100","v":28500},33915,null,28950,34450,null,28500,29925]
[234500,null,null,null,{"$f":"CEILING(($E$1003+formule!$E$44*(A2348-$A$1003))/100,1)*100","v":28500},33915,null,28950,34450,null,28500,29925]
[{"$f":"A2348+100","v":234600},null,null,null,{"$f":"CEILING(($E$1003+formule!$E$44*(A2349-$A$1003))/100,1)*100","v":28500},33915,null,28950,34450,null,28500,29925]
[234700,null,null,null,{"$f":"CEILING(($E$1003+formule!$E$44*(A2350-$A$1003))/100,1)*100","v":28500},33915,null,28950,34450,null,28500,29925]
[234800,null,null,null,{"$f":"CEILING(($E$1003+formule!$E$44*(A2351-$A$1003))/100,1)*100","v":28500},33915,null,28950,34450,null,28500,29925]
[234900,null,null,null,{"$f":"CEILING(($E$1003+formule!$E$44*(A2352-$A$1003))/100,1)*100","v":28500},33915,null,28950,34450,null,28500,29925]
[235000,null,null,null,{"$f":"CEILING(($E$1003+formule!$E$44*(A2353-$A$1003))/100,1)*100","v":28600},{"$f":"E2353*1.19","v":34034},null,29050,34569,null,28600,30030]
[235100,null,null,null,{"$f":"CEILING(($E$1003+formule!$E$44*(A2354-$A$1003))/100,1)*100","v":28600},34034,null,29050,34569,null,28600,30030]
[235200,null,null,null,{"$f":"CEILING(($E$1003+formule!$E$44*(A2355-$A$1003))/100,1)*100","v":28600},34034,null,29050,34569,null,28600,30030]
[235300,null,null,null,{"$f":"CEILING(($E$1003+formule!$E$44*(A2356-$A$1003))/100,1)*100","v":28600},34034,null,29050,34569,null,28600,30030]
[235400,null,null,null,{"$f":"CEILING(($E$1003+formule!$E$44*(A2357-$A$1003))/100,1)*100","v":28600},34034,null,29050,34569,null,28600,30030]
[235500,null,null,null,{"$f":"CEILING(($E$1003+formule!$E$44*(A2358-$A$1003))/100,1)*100","v":28600},34034,null,29050,34569,null,28600,30030]
[235600,null,null,null,{"$f":"CEILING(($E$1003+formule!$E$44*(A2359-$A$1003))/100,1)*100","v":28600},34034,null,29050,34569,null,28600,30030]
[235700,null,null,null,{"$f":"CEILING(($E$1003+formule!$E$44*(A2360-$A$1003))/100,1)*100","v":28600},34034,null,29050,34569,null,28600,30030]
[235800,null,null,null,{"$f":"CEILING(($E$1003+formule!$E$44*(A2361-$A$1003))/100,1)*100","v":28600},34034,null,29050,34569,null,28600,30030]
[235900,null,null,null,{"$f":"CEILING(($E$1003+formule!$E$44*(A2362-$A$1003))/100,1)*100","v":28600},34034,null,29050,34569,null,28600,30030]
[236000,null,null,null,{"$f":"CEILING(($E$1003+formule!$E$44*(A2363-$A$1003))/100,1)*100","v":28600},34034,null,29050,34569,null,28600,30030]
[236100,null,null,null,{"$f":"CEILING(($E$1003+formule!$E$44*(A2364-$A$1003))/100,1)*100","v":28700},34153,null,29150,34688,null,28700,30135]
[236200,null,null,null,{"$f":"CEILING(($E$1003+formule!$E$44*(A2365-$A$1003))/100,1)*100","v":28700},34153,null,29150,34688,null,28700,30135]
[236300,null,null,null,{"$f":"CEILING(($E$1003+formule!$E$44*(A2366-$A$1003))/100,1)*100","v":28700},34153,null,29150,34688,null,28700,30135]
[236400,null,null,null,{"$f":"CEILING(($E$1003+formule!$E$44*(A2367-$A$1003))/100,1)*100","v":28700},34153,null,29150,34688,null,28700,30135]
[236500,null,null,null,{"$f":"CEILING(($E$1003+formule!$E$44*(A2368-$A$1003))/100,1)*100","v":28700},34153,null,29150,34688,null,28700,30135]
[236600,null,null,null,{"$f":"CEILING(($E$1003+formule!$E$44*(A2369-$A$1003))/100,1)*100","v":28700},34153,null,29150,34688,null,28700,30135]
[236700,null,null,null,{"$f":"CEILING(($E$1003+formule!$E$44*(A2370-$A$1003))/100,1)*100","v":28700},34153,null,29150,34688,null,28700,30135]
[236800,null,null,null,{"$f":"CEILING(($E$1003+formule!$E$44*(A2371-$A$1003))/100,1)*100","v":28700},34153,null,29150,34688,null,28700,30135]
[236900,null,null,null,{"$f":"CEILING(($E$1003+formule!$E$44*(A2372-$A$1003))/100,1)*100","v":28700},34153,null,29150,34688,null,28700,30135]
[237000,null,null,null,{"$f":"CEILING(($E$1003+formule!$E$44*(A2373-$A$1003))/100,1)*100","v":28700},34153,null,29150,34688,null,{"$f":"E2373","v":28700},{"$f":"K2373*1.05","v":30135}]
[237100,null,null,null,{"$f":"CEILING(($E$1003+formule!$E$44*(A2374-$A$1003))/100,1)*100","v":28800},34272,null,29250,34807,null,28800,30240]
[237200,null,null,null,{"$f":"CEILING(($E$1003+formule!$E$44*(A2375-$A$1003))/100,1)*100","v":28800},34272,null,29250,34807,null,28800,30240]
[237300,null,null,null,{"$f":"CEILING(($E$1003+formule!$E$44*(A2376-$A$1003))/100,1)*100","v":28800},34272,null,29250,34807,null,28800,30240]
[237400,null,null,null,{"$f":"CEILING(($E$1003+formule!$E$44*(A2377-$A$1003))/100,1)*100","v":28800},34272,null,29250,34807,null,28800,30240]
[237500,null,null,null,{"$f":"CEILING(($E$1003+formule!$E$44*(A2378-$A$1003))/100,1)*100","v":28800},34272,null,29250,34807,null,28800,30240]
[237600,null,null,null,{"$f":"CEILING(($E$1003+formule!$E$44*(A2379-$A$1003))/100,1)*100","v":28800},34272,null,29250,34807,null,28800,30240]
[237700,null,null,null,{"$f":"CEILING(($E$1003+formule!$E$44*(A2380-$A$1003))/100,1)*100","v":28800},34272,null,29250,34807,null,28800,30240]
[237800,null,null,null,{"$f":"CEILING(($E$1003+formule!$E$44*(A2381-$A$1003))/100,1)*100","v":28800},34272,null,29250,34807,null,28800,30240]
[237900,null,null,null,{"$f":"CEILING(($E$1003+formule!$E$44*(A2382-$A$1003))/100,1)*100","v":28800},34272,null,29250,34807,null,28800,30240]
[238000,null,null,null,{"$f":"CEILING(($E$1003+formule!$E$44*(A2383-$A$1003))/100,1)*100","v":28800},34272,null,29250,34807,null,28800,30240]
[238100,null,null,null,{"$f":"CEILING(($E$1003+formule!$E$44*(A2384-$A$1003))/100,1)*100","v":28900},34391,null,29350,34926,null,28900,30345]
[238200,null,null,null,{"$f":"CEILING(($E$1003+formule!$E$44*(A2385-$A$1003))/100,1)*100","v":28900},34391,null,29350,34926,null,28900,30345]
[238300,null,null,null,{"$f":"CEILING(($E$1003+formule!$E$44*(A2386-$A$1003))/100,1)*100","v":28900},34391,null,29350,34926,null,28900,30345]
[238400,null,null,null,{"$f":"CEILING(($E$1003+formule!$E$44*(A2387-$A$1003))/100,1)*100","v":28900},34391,null,29350,34926,null,28900,30345]
[238500,null,null,null,{"$f":"CEILING(($E$1003+formule!$E$44*(A2388-$A$1003))/100,1)*100","v":28900},34391,null,29350,34926,null,28900,30345]
[238600,null,null,null,{"$f":"CEILING(($E$1003+formule!$E$44*(A2389-$A$1003))/100,1)*100","v":28900},34391,null,29350,34926,null,28900,30345]
[238700,null,null,null,{"$f":"CEILING(($E$1003+formule!$E$44*(A2390-$A$1003))/100,1)*100","v":28900},34391,null,29350,34926,null,28900,30345]
[238800,null,null,null,{"$f":"CEILING(($E$1003+formule!$E$44*(A2391-$A$1003))/100,1)*100","v":28900},34391,null,29350,34926,null,28900,30345]
[238900,null,null,null,{"$f":"CEILING(($E$1003+formule!$E$44*(A2392-$A$1003))/100,1)*100","v":28900},34391,null,29350,34926,null,28900,30345]
[239000,null,null,null,{"$f":"CEILING(($E$1003+formule!$E$44*(A2393-$A$1003))/100,1)*100","v":28900},34391,null,29350,34926,null,28900,30345]
[239100,null,null,null,{"$f":"CEILING(($E$1003+formule!$E$44*(A2394-$A$1003))/100,1)*100","v":29000},34510,null,29450,35045,null,29000,30450]
[239200,null,null,null,{"$f":"CEILING(($E$1003+formule!$E$44*(A2395-$A$1003))/100,1)*100","v":29000},34510,null,29450,35045,null,29000,30450]
[239300,null,null,null,{"$f":"CEILING(($E$1003+formule!$E$44*(A2396-$A$1003))/100,1)*100","v":29000},34510,null,29450,35045,null,29000,30450]
[239400,null,null,null,{"$f":"CEILING(($E$1003+formule!$E$44*(A2397-$A$1003))/100,1)*100","v":29000},34510,null,29450,35045,null,29000,30450]
[239500,null,null,null,{"$f":"CEILING(($E$1003+formule!$E$44*(A2398-$A$1003))/100,1)*100","v":29000},34510,null,29450,35045,null,29000,30450]
[239600,null,null,null,{"$f":"CEILING(($E$1003+formule!$E$44*(A2399-$A$1003))/100,1)*100","v":29000},34510,null,29450,35045,null,29000,30450]
[239700,null,null,null,{"$f":"CEILING(($E$1003+formule!$E$44*(A2400-$A$1003))/100,1)*100","v":29000},34510,null,29450,35045,null,29000,30450]
[239800,null,null,null,{"$f":"CEILING(($E$1003+formule!$E$44*(A2401-$A$1003))/100,1)*100","v":29000},34510,null,29450,35045,null,29000,30450]
[239900,null,null,null,{"$f":"CEILING(($E$1003+formule!$E$44*(A2402-$A$1003))/100,1)*100","v":29000},34510,null,29450,35045,null,29000,30450]
[240000,null,null,null,{"$f":"CEILING(($E$1003+formule!$E$44*(A2403-$A$1003))/100,1)*100","v":29000},34510,null,29450,35045,null,29000,30450]
[240100,null,null,null,{"$f":"CEILING(($E$1003+formule!$E$44*(A2404-$A$1003))/100,1)*100","v":29100},34629,null,29550,35164,null,29100,30555]
[240200,null,null,null,{"$f":"CEILING(($E$1003+formule!$E$44*(A2405-$A$1003))/100,1)*100","v":29100},34629,null,29550,35164,null,29100,30555]
[240300,null,null,null,{"$f":"CEILING(($E$1003+formule!$E$44*(A2406-$A$1003))/100,1)*100","v":29100},34629,null,29550,35164,null,29100,30555]
[240400,null,null,null,{"$f":"CEILING(($E$1003+formule!$E$44*(A2407-$A$1003))/100,1)*100","v":29100},34629,null,29550,35164,null,29100,30555]
[240500,null,null,null,{"$f":"CEILING(($E$1003+formule!$E$44*(A2408-$A$1003))/100,1)*100","v":29100},34629,null,29550,35164,null,29100,30555]
[240600,null,null,null,{"$f":"CEILING(($E$1003+formule!$E$44*(A2409-$A$1003))/100,1)*100","v":29100},34629,null,{"$f":"E2409+450","v":29550},{"$f":"F2409+535","v":35164},null,29100,30555]
[240700,null,null,null,{"$f":"CEILING(($E$1003+formule!$E$44*(A2410-$A$1003))/100,1)*100","v":29100},34629,null,29550,35164,null,29100,30555]
[240800,null,null,null,{"$f":"CEILING(($E$1003+formule!$E$44*(A2411-$A$1003))/100,1)*100","v":29100},34629,null,29550,35164,null,29100,30555]
[240900,null,null,null,{"$f":"CEILING(($E$1003+formule!$E$44*(A2412-$A$1003))/100,1)*100","v":29100},34629,null,29550,35164,null,29100,30555]
[{"$f":"A2412+100","v":241000},null,null,null,{"$f":"CEILING(($E$1003+formule!$E$44*(A2413-$A$1003))/100,1)*100","v":29100},34629,null,29550,35164,null,29100,30555]
[241100,null,null,null,{"$f":"CEILING(($E$1003+formule!$E$44*(A2414-$A$1003))/100,1)*100","v":29200},34748,null,29650,35283,null,29200,30660]
[241200,null,null,null,{"$f":"CEILING(($E$1003+formule!$E$44*(A2415-$A$1003))/100,1)*100","v":29200},34748,null,29650,35283,null,29200,30660]
[241300,null,null,null,{"$f":"CEILING(($E$1003+formule!$E$44*(A2416-$A$1003))/100,1)*100","v":29200},34748,null,29650,35283,null,29200,30660]
[241400,null,null,null,{"$f":"CEILING(($E$1003+formule!$E$44*(A2417-$A$1003))/100,1)*100","v":29200},{"$f":"E2417*1.19","v":34748},null,29650,35283,null,29200,30660]
[241500,null,null,null,{"$f":"CEILING(($E$1003+formule!$E$44*(A2418-$A$1003))/100,1)*100","v":29200},34748,null,29650,35283,null,29200,30660]
[241600,null,null,null,{"$f":"CEILING(($E$1003+formule!$E$44*(A2419-$A$1003))/100,1)*100","v":29200},34748,null,29650,35283,null,29200,30660]
[241700,null,null,null,{"$f":"CEILING(($E$1003+formule!$E$44*(A2420-$A$1003))/100,1)*100","v":29200},34748,null,29650,35283,null,29200,30660]
[241800,null,null,null,{"$f":"CEILING(($E$1003+formule!$E$44*(A2421-$A$1003))/100,1)*100","v":29200},34748,null,29650,35283,null,29200,30660]
[241900,null,null,null,{"$f":"CEILING(($E$1003+formule!$E$44*(A2422-$A$1003))/100,1)*100","v":29200},34748,null,29650,35283,null,29200,30660]
[242000,null,null,null,{"$f":"CEILING(($E$1003+formule!$E$44*(A2423-$A$1003))/100,1)*100","v":29200},34748,null,29650,35283,null,29200,30660]
[242100,null,null,null,{"$f":"CEILING(($E$1003+formule!$E$44*(A2424-$A$1003))/100,1)*100","v":29300},34867,null,29750,35402,null,29300,30765]
[242200,null,null,null,{"$f":"CEILING(($E$1003+formule!$E$44*(A2425-$A$1003))/100,1)*100","v":29300},34867,null,29750,35402,null,29300,30765]
[242300,null,null,null,{"$f":"CEILING(($E$1003+formule!$E$44*(A2426-$A$1003))/100,1)*100","v":29300},34867,null,29750,35402,null,29300,30765]
[242400,null,null,null,{"$f":"CEILING(($E$1003+formule!$E$44*(A2427-$A$1003))/100,1)*100","v":29300},34867,null,29750,35402,null,29300,30765]
[242500,null,null,null,{"$f":"CEILING(($E$1003+formule!$E$44*(A2428-$A$1003))/100,1)*100","v":29300},34867,null,29750,35402,null,29300,30765]
[242600,null,null,null,{"$f":"CEILING(($E$1003+formule!$E$44*(A2429-$A$1003))/100,1)*100","v":29300},34867,null,29750,35402,null,29300,30765]
[242700,null,null,null,{"$f":"CEILING(($E$1003+formule!$E$44*(A2430-$A$1003))/100,1)*100","v":29300},34867,null,29750,35402,null,29300,30765]
[242800,null,null,null,{"$f":"CEILING(($E$1003+formule!$E$44*(A2431-$A$1003))/100,1)*100","v":29300},34867,null,29750,35402,null,29300,30765]
[242900,null,null,null,{"$f":"CEILING(($E$1003+formule!$E$44*(A2432-$A$1003))/100,1)*100","v":29300},34867,null,29750,35402,null,29300,30765]
[243000,null,null,null,{"$f":"CEILING(($E$1003+formule!$E$44*(A2433-$A$1003))/100,1)*100","v":29300},34867,null,29750,35402,null,29300,30765]
[243100,null,null,null,{"$f":"CEILING(($E$1003+formule!$E$44*(A2434-$A$1003))/100,1)*100","v":29300},34867,null,29750,35402,null,29300,30765]
[243200,null,null,null,{"$f":"CEILING(($E$1003+formule!$E$44*(A2435-$A$1003))/100,1)*100","v":29400},34986,null,29850,35521,null,29400,30870]
[243300,null,null,null,{"$f":"CEILING(($E$1003+formule!$E$44*(A2436-$A$1003))/100,1)*100","v":29400},34986,null,29850,35521,null,29400,30870]
[243400,null,null,null,{"$f":"CEILING(($E$1003+formule!$E$44*(A2437-$A$1003))/100,1)*100","v":29400},34986,null,29850,35521,null,{"$f":"E2437","v":29400},{"$f":"K2437*1.05","v":30870}]
[243500,null,null,null,{"$f":"CEILING(($E$1003+formule!$E$44*(A2438-$A$1003))/100,1)*100","v":29400},34986,null,29850,35521,null,29400,30870]
[243600,null,null,null,{"$f":"CEILING(($E$1003+formule!$E$44*(A2439-$A$1003))/100,1)*100","v":29400},34986,null,29850,35521,null,29400,30870]
[243700,null,null,null,{"$f":"CEILING(($E$1003+formule!$E$44*(A2440-$A$1003))/100,1)*100","v":29400},34986,null,29850,35521,null,29400,30870]
[243800,null,null,null,{"$f":"CEILING(($E$1003+formule!$E$44*(A2441-$A$1003))/100,1)*100","v":29400},34986,null,29850,35521,null,29400,30870]
[243900,null,null,null,{"$f":"CEILING(($E$1003+formule!$E$44*(A2442-$A$1003))/100,1)*100","v":29400},34986,null,29850,35521,null,29400,30870]
[244000,null,null,null,{"$f":"CEILING(($E$1003+formule!$E$44*(A2443-$A$1003))/100,1)*100","v":29400},34986,null,29850,35521,null,29400,30870]
[244100,null,null,null,{"$f":"CEILING(($E$1003+formule!$E$44*(A2444-$A$1003))/100,1)*100","v":29400},34986,null,29850,35521,null,29400,30870]
[244200,null,null,null,{"$f":"CEILING(($E$1003+formule!$E$44*(A2445-$A$1003))/100,1)*100","v":29500},35105,null,29950,35640,null,29500,30975]
[244300,null,null,null,{"$f":"CEILING(($E$1003+formule!$E$44*(A2446-$A$1003))/100,1)*100","v":29500},35105,null,29950,35640,null,29500,30975]
[244400,null,null,null,{"$f":"CEILING(($E$1003+formule!$E$44*(A2447-$A$1003))/100,1)*100","v":29500},35105,null,29950,35640,null,29500,30975]
[244500,null,null,null,{"$f":"CEILING(($E$1003+formule!$E$44*(A2448-$A$1003))/100,1)*100","v":29500},35105,null,29950,35640,null,29500,30975]
[244600,null,null,null,{"$f":"CEILING(($E$1003+formule!$E$44*(A2449-$A$1003))/100,1)*100","v":29500},35105,null,29950,35640,null,29500,30975]
[244700,null,null,null,{"$f":"CEILING(($E$1003+formule!$E$44*(A2450-$A$1003))/100,1)*100","v":29500},35105,null,29950,35640,null,29500,30975]
[244800,null,null,null,{"$f":"CEILING(($E$1003+formule!$E$44*(A2451-$A$1003))/100,1)*100","v":29500},35105,null,29950,35640,null,29500,30975]
[244900,null,null,null,{"$f":"CEILING(($E$1003+formule!$E$44*(A2452-$A$1003))/100,1)*100","v":29500},35105,null,29950,35640,null,29500,30975]
[245000,null,null,null,{"$f":"CEILING(($E$1003+formule!$E$44*(A2453-$A$1003))/100,1)*100","v":29500},35105,null,29950,35640,null,29500,30975]
[245100,null,null,null,{"$f":"CEILING(($E$1003+formule!$E$44*(A2454-$A$1003))/100,1)*100","v":29500},35105,null,29950,35640,null,29500,30975]
[245200,null,null,null,{"$f":"CEILING(($E$1003+formule!$E$44*(A2455-$A$1003))/100,1)*100","v":29600},35224,null,30050,35759,null,29600,31080]
[245300,null,null,null,{"$f":"CEILING(($E$1003+formule!$E$44*(A2456-$A$1003))/100,1)*100","v":29600},35224,null,30050,35759,null,29600,31080]
[245400,null,null,null,{"$f":"CEILING(($E$1003+formule!$E$44*(A2457-$A$1003))/100,1)*100","v":29600},35224,null,30050,35759,null,29600,31080]
[245500,null,null,null,{"$f":"CEILING(($E$1003+formule!$E$44*(A2458-$A$1003))/100,1)*100","v":29600},35224,null,30050,35759,null,29600,31080]
[245600,null,null,null,{"$f":"CEILING(($E$1003+formule!$E$44*(A2459-$A$1003))/100,1)*100","v":29600},35224,null,30050,35759,null,29600,31080]
[245700,null,null,null,{"$f":"CEILING(($E$1003+formule!$E$44*(A2460-$A$1003))/100,1)*100","v":29600},35224,null,30050,35759,null,29600,31080]
[245800,null,null,null,{"$f":"CEILING(($E$1003+formule!$E$44*(A2461-$A$1003))/100,1)*100","v":29600},35224,null,30050,35759,null,29600,31080]
[245900,null,null,null,{"$f":"CEILING(($E$1003+formule!$E$44*(A2462-$A$1003))/100,1)*100","v":29600},35224,null,30050,35759,null,29600,31080]
[246000,null,null,null,{"$f":"CEILING(($E$1003+formule!$E$44*(A2463-$A$1003))/100,1)*100","v":29600},35224,null,30050,35759,null,29600,31080]
[246100,null,null,null,{"$f":"CEILING(($E$1003+formule!$E$44*(A2464-$A$1003))/100,1)*100","v":29600},35224,null,30050,35759,null,29600,31080]
[246200,null,null,null,{"$f":"CEILING(($E$1003+formule!$E$44*(A2465-$A$1003))/100,1)*100","v":29700},35343,null,30150,35878,null,29700,31185]
[246300,null,null,null,{"$f":"CEILING(($E$1003+formule!$E$44*(A2466-$A$1003))/100,1)*100","v":29700},35343,null,30150,35878,null,29700,31185]
[246400,null,null,null,{"$f":"CEILING(($E$1003+formule!$E$44*(A2467-$A$1003))/100,1)*100","v":29700},35343,null,30150,35878,null,29700,31185]
[246500,null,null,null,{"$f":"CEILING(($E$1003+formule!$E$44*(A2468-$A$1003))/100,1)*100","v":29700},35343,null,30150,35878,null,29700,31185]
[246600,null,null,null,{"$f":"CEILING(($E$1003+formule!$E$44*(A2469-$A$1003))/100,1)*100","v":29700},35343,null,30150,35878,null,29700,31185]
[246700,null,null,null,{"$f":"CEILING(($E$1003+formule!$E$44*(A2470-$A$1003))/100,1)*100","v":29700},35343,null,30150,35878,null,29700,31185]
[246800,null,null,null,{"$f":"CEILING(($E$1003+formule!$E$44*(A2471-$A$1003))/100,1)*100","v":29700},35343,null,30150,35878,null,29700,31185]
[246900,null,null,null,{"$f":"CEILING(($E$1003+formule!$E$44*(A2472-$A$1003))/100,1)*100","v":29700},35343,null,30150,35878,null,29700,31185]
[247000,null,null,null,{"$f":"CEILING(($E$1003+formule!$E$44*(A2473-$A$1003))/100,1)*100","v":29700},35343,null,{"$f":"E2473+450","v":30150},{"$f":"F2473+535","v":35878},null,29700,31185]
[247100,null,null,null,{"$f":"CEILING(($E$1003+formule!$E$44*(A2474-$A$1003))/100,1)*100","v":29700},35343,null,30150,35878,null,29700,31185]
[247200,null,null,null,{"$f":"CEILING(($E$1003+formule!$E$44*(A2475-$A$1003))/100,1)*100","v":29800},35462,null,30250,35997,null,29800,31290]
[247300,null,null,null,{"$f":"CEILING(($E$1003+formule!$E$44*(A2476-$A$1003))/100,1)*100","v":29800},35462,null,30250,35997,null,29800,31290]
[{"$f":"A2476+100","v":247400},null,null,null,{"$f":"CEILING(($E$1003+formule!$E$44*(A2477-$A$1003))/100,1)*100","v":29800},35462,null,30250,35997,null,29800,31290]
[247500,null,null,null,{"$f":"CEILING(($E$1003+formule!$E$44*(A2478-$A$1003))/100,1)*100","v":29800},35462,null,30250,35997,null,29800,31290]
[247600,null,null,null,{"$f":"CEILING(($E$1003+formule!$E$44*(A2479-$A$1003))/100,1)*100","v":29800},35462,null,30250,35997,null,29800,31290]
[247700,null,null,null,{"$f":"CEILING(($E$1003+formule!$E$44*(A2480-$A$1003))/100,1)*100","v":29800},35462,null,30250,35997,null,29800,31290]
[247800,null,null,null,{"$f":"CEILING(($E$1003+formule!$E$44*(A2481-$A$1003))/100,1)*100","v":29800},{"$f":"E2481*1.19","v":35462},null,30250,35997,null,29800,31290]
[247900,null,null,null,{"$f":"CEILING(($E$1003+formule!$E$44*(A2482-$A$1003))/100,1)*100","v":29800},35462,null,30250,35997,null,29800,31290]
[248000,null,null,null,{"$f":"CEILING(($E$1003+formule!$E$44*(A2483-$A$1003))/100,1)*100","v":29800},35462,null,30250,35997,null,29800,31290]
[248100,null,null,null,{"$f":"CEILING(($E$1003+formule!$E$44*(A2484-$A$1003))/100,1)*100","v":29800},35462,null,30250,35997,null,29800,31290]
[248200,null,null,null,{"$f":"CEILING(($E$1003+formule!$E$44*(A2485-$A$1003))/100,1)*100","v":29900},35581,null,30350,36116,null,29900,31395]
[248300,null,null,null,{"$f":"CEILING(($E$1003+formule!$E$44*(A2486-$A$1003))/100,1)*100","v":29900},35581,null,30350,36116,null,29900,31395]
[248400,null,null,null,{"$f":"CEILING(($E$1003+formule!$E$44*(A2487-$A$1003))/100,1)*100","v":29900},35581,null,30350,36116,null,29900,31395]
[248500,null,null,null,{"$f":"CEILING(($E$1003+formule!$E$44*(A2488-$A$1003))/100,1)*100","v":29900},35581,null,30350,36116,null,29900,31395]
[248600,null,null,null,{"$f":"CEILING(($E$1003+formule!$E$44*(A2489-$A$1003))/100,1)*100","v":29900},35581,null,30350,36116,null,29900,31395]
[248700,null,null,null,{"$f":"CEILING(($E$1003+formule!$E$44*(A2490-$A$1003))/100,1)*100","v":29900},35581,null,30350,36116,null,29900,31395]
[248800,null,null,null,{"$f":"CEILING(($E$1003+formule!$E$44*(A2491-$A$1003))/100,1)*100","v":29900},35581,null,30350,36116,null,29900,31395]
[248900,null,null,null,{"$f":"CEILING(($E$1003+formule!$E$44*(A2492-$A$1003))/100,1)*100","v":29900},35581,null,30350,36116,null,29900,31395]
[249000,null,null,null,{"$f":"CEILING(($E$1003+formule!$E$44*(A2493-$A$1003))/100,1)*100","v":29900},35581,null,30350,36116,null,29900,31395]
[249100,null,null,null,{"$f":"CEILING(($E$1003+formule!$E$44*(A2494-$A$1003))/100,1)*100","v":29900},35581,null,30350,36116,null,29900,31395]
[249200,null,null,null,{"$f":"CEILING(($E$1003+formule!$E$44*(A2495-$A$1003))/100,1)*100","v":30000},35700,null,30450,36235,null,30000,31500]
[249300,null,null,null,{"$f":"CEILING(($E$1003+formule!$E$44*(A2496-$A$1003))/100,1)*100","v":30000},35700,null,30450,36235,null,30000,31500]
[249400,null,null,null,{"$f":"CEILING(($E$1003+formule!$E$44*(A2497-$A$1003))/100,1)*100","v":30000},35700,null,30450,36235,null,30000,31500]
[249500,null,null,null,{"$f":"CEILING(($E$1003+formule!$E$44*(A2498-$A$1003))/100,1)*100","v":30000},35700,null,30450,36235,null,30000,31500]
[249600,null,null,null,{"$f":"CEILING(($E$1003+formule!$E$44*(A2499-$A$1003))/100,1)*100","v":30000},35700,null,30450,36235,null,30000,31500]
[249700,null,null,null,{"$f":"CEILING(($E$1003+formule!$E$44*(A2500-$A$1003))/100,1)*100","v":30000},35700,null,30450,36235,null,30000,31500]
[249800,null,null,null,{"$f":"CEILING(($E$1003+formule!$E$44*(A2501-$A$1003))/100,1)*100","v":30000},35700,null,30450,36235,null,{"$f":"E2501","v":30000},{"$f":"K2501*1.05","v":31500}]
[249900,null,null,null,{"$f":"CEILING(($E$1003+formule!$E$44*(A2502-$A$1003))/100,1)*100","v":30000},35700,null,30450,36235,null,{"$f":"E2502","v":30000},{"$f":"K2502*1.05","v":31500}]
[250000,null,null,null,{"$f":"CEILING(($E$1003+formule!$E$44*(A2503-$A$1003))/100,1)*100","v":30000},35700,null,30450,36235,null,{"$f":"E2503","v":30000},{"$f":"K2503*1.05","v":31500}]

{"sheet":"Berekening BGK","index":2,"n_rows":38,"n_cols":10,"rows_kept":38,"cut":false,"hidden":false,"merged":[[3,6,3,7],[4,1,4,2],[7,1,7,2]]}
[null,null,null,null,null,null,"toevoeging voor PIV rekenmodule"]
[null,"Convenant BGK-Letsel (WA- en RB-verzekeraars)",null,null,null,null,null,null,"afronding"]
[null,{"$f":"\"Berekening BGK                     versie  \"&H5&\" van \"&TEXT(H6,\"dd-mm-jjjj\")","v":"Berekening BGK                     versie  2015 van 22-12-2014"},null,null,null,null,null,null,"invoer"]
[null,{"$f":"IF(H38<1,\"\",H36)","v":""},null,null,null,null,"Schadebedrag",null,{"$f":"ROUNDUP(C6/100,0)*100","v":0}]
[null,{"$f":"IF(H21<1,\"Invoer\",H19)","v":"Invoer"},null,null,null,null,"Versie",2015]
[null,"In te voeren schadebedrag",null,null,null,null,"Versie","2014-12-22",null,"bescherming beperkt tot xlnorestrictions om kopieren mogelijk te maken."]
[null,null,null,null,null,null,"Bruikbaar tot","2026-04-01"]
[null,"Resultaat",null,null,null,null,"Geldig tot","2016-01-01"]
[null,"Buitengerechtelijke kosten excl. BTW",{"$f":"IF(H38<1,IF(I4<=0,0,IF(I4>'kosten tabel 2015'!A2503,\"Bedrag te hoog\",VLOOKUP(I4,'kosten tabel 2015'!A4:L2503,11,FALSE))),\"\")","v":0}]
[null,"Buitengerechtelijke kosten incl. 5% opslag",{"$f":"IF(H38<1,IF(I4<=0,0,IF(I4>'kosten tabel 2015'!A2503,\"Bedrag te hoog\",VLOOKUP(I4,'kosten tabel 2015'!A4:L2503,12,FALSE))),\"\")","v":0}]
[null,null,null,null,null,null,"Errorhandling"]
[null,null,null,null,null,null,null,"Waarschuwingen"]
[null,null,null,null,null,null,null,{"$f":"IF(NOW()>H7,1,0)","v":0},"VERVANG DE MODULE"]
[null,null,null,null,null,null,null,{"$f":"IF(NOW()>H8,1,0)","v":0},{"$f":"\"DE MODULE IS GELDIG TOT \"& TEXT(H8,\"dd-mm-jj\")","v":"DE MODULE IS GELDIG TOT 01-01-16"}]
[]
[]
[]
[]
[null,null,null,null,null,null,null,{"$f":"IF(ISERROR(VLOOKUP(1,H13:I17,2,FALSE))=TRUE,\"\",VLOOKUP(1,H13:I17,2,FALSE))","v":""}]
[]
[null,null,null,null,null,null,null,{"$f":"SUM(H13:H17)","v":0},"Controle aanwezigheid fout voor niet zichtbaar resultaat."]
[]
[]
[]
[]
[null,null,null,null,null,null,null,"Fouten"]
[null,null,null,null,null,null,null,{"$f":"IF(NOW()>H7,1,0)","v":0},"DE MODULE IS NIET MEER BRUIKBAAR"]
[null,null,null,null,null,null,null,{"$f":"IF(ISERROR(VALUE(C6))=TRUE,1,\"\")","v":""},"GEEN GETAL INGEVOERD"]
[]
[]
[]
[]
[]
[]
[]
[null,null,null,null,null,null,null,{"$f":"IF(ISERROR(VLOOKUP(1,H27:I35,2,FALSE))=TRUE,\"\",VLOOKUP(1,H27:I35,2,FALSE))","v":""}]
[]
[null,null,null,null,null,null,null,{"$f":"SUM(H27:H35)","v":0},"Controle aanwezigheid fout voor niet zichtbaar resultaat."]

{"sheet":"Tabel","index":3,"n_rows":2503,"n_cols":4,"rows_kept":2503,"cut":false,"hidden":false,"merged":[[0,2,0,3]]}
["schadebedrag",null,"Kosten volgens tabel 2015"]
[null,null,"Kosten Exclusief BTW","Exclusief BTW, inclusief 5% opslag"]
["euro"]
[{"$f":"'kosten tabel 2015'!A4","v":100},null,{"$f":"'kosten tabel 2015'!K4","v":600},{"$f":"'kosten tabel 2015'!L4","v":630}]
[{"$f":"'kosten tabel 2015'!A5","v":200},null,{"$f":"'kosten tabel 2015'!K5","v":600},{"$f":"'kosten tabel 2015'!L5","v":630}]
[{"$f":"'kosten tabel 2015'!A6","v":300},null,{"$f":"'kosten tabel 2015'!K6","v":600},{"$f":"'kosten tabel 2015'!L6","v":630}]
[{"$f":"'kosten tabel 2015'!A7","v":400},null,{"$f":"'kosten tabel 2015'!K7","v":600},{"$f":"'kosten tabel 2015'!L7","v":630}]
[{"$f":"'kosten tabel 2015'!A8","v":500},null,{"$f":"'kosten tabel 2015'!K8","v":700},{"$f":"'kosten tabel 2015'!L8","v":735}]
[{"$f":"'kosten tabel 2015'!A9","v":600},null,{"$f":"'kosten tabel 2015'!K9","v":800},{"$f":"'kosten tabel 2015'!L9","v":840}]
[{"$f":"'kosten tabel 2015'!A10","v":700},null,{"$f":"'kosten tabel 2015'!K10","v":900},{"$f":"'kosten tabel 2015'!L10","v":945}]
[{"$f":"'kosten tabel 2015'!A11","v":800},null,{"$f":"'kosten tabel 2015'!K11","v":900},{"$f":"'kosten tabel 2015'!L11","v":945}]
[{"$f":"'kosten tabel 2015'!A12","v":900},null,{"$f":"'kosten tabel 2015'!K12","v":1000},{"$f":"'kosten tabel 2015'!L12","v":1050}]
[{"$f":"'kosten tabel 2015'!A13","v":1000},null,{"$f":"'kosten tabel 2015'!K13","v":1000},{"$f":"'kosten tabel 2015'!L13","v":1050}]
[{"$f":"'kosten tabel 2015'!A14","v":1100},null,{"$f":"'kosten tabel 2015'!K14","v":1000},{"$f":"'kosten tabel 2015'!L14","v":1050}]
[{"$f":"'kosten tabel 2015'!A15","v":1200},null,{"$f":"'kosten tabel 2015'!K15","v":1100},{"$f":"'kosten tabel 2015'!L15","v":1155}]
[{"$f":"'kosten tabel 2015'!A16","v":1300},null,{"$f":"'kosten tabel 2015'!K16","v":1100},{"$f":"'kosten tabel 2015'!L16","v":1155}]
[{"$f":"'kosten tabel 2015'!A17","v":1400},null,{"$f":"'kosten tabel 2015'!K17","v":1200},{"$f":"'kosten tabel 2015'!L17","v":1260}]
[{"$f":"'kosten tabel 2015'!A18","v":1500},null,{"$f":"'kosten tabel 2015'!K18","v":1200},{"$f":"'kosten tabel 2015'!L18","v":1260}]
[{"$f":"'kosten tabel 2015'!A19","v":1600},null,{"$f":"'kosten tabel 2015'!K19","v":1200},{"$f":"'kosten tabel 2015'!L19","v":1260}]
[{"$f":"'kosten tabel 2015'!A20","v":1700},null,{"$f":"'kosten tabel 2015'!K20","v":1300},{"$f":"'kosten tabel 2015'!L20","v":1365}]
[{"$f":"'kosten tabel 2015'!A21","v":1800},null,{"$f":"'kosten tabel 2015'!K21","v":1300},{"$f":"'kosten tabel 2015'!L21","v":1365}]
[{"$f":"'kosten tabel 2015'!A22","v":1900},null,{"$f":"'kosten tabel 2015'!K22","v":1300},{"$f":"'kosten tabel 2015'!L22","v":1365}]
[{"$f":"'kosten tabel 2015'!A23","v":2000},null,{"$f":"'kosten tabel 2015'!K23","v":1400},{"$f":"'kosten tabel 2015'!L23","v":1470}]
[{"$f":"'kosten tabel 2015'!A24","v":2100},null,{"$f":"'kosten tabel 2015'!K24","v":1400},{"$f":"'kosten tabel 2015'!L24","v":1470}]
[{"$f":"'kosten tabel 2015'!A25","v":2200},null,{"$f":"'kosten tabel 2015'!K25","v":1400},{"$f":"'kosten tabel 2015'!L25","v":1470}]
[{"$f":"'kosten tabel 2015'!A26","v":2300},null,{"$f":"'kosten tabel 2015'!K26","v":1500},{"$f":"'kosten tabel 2015'!L26","v":1575}]
[{"$f":"'kosten tabel 2015'!A27","v":2400},null,{"$f":"'kosten tabel 2015'!K27","v":1500},{"$f":"'kosten tabel 2015'!L27","v":1575}]
[{"$f":"'kosten tabel 2015'!A28","v":2500},null,{"$f":"'kosten tabel 2015'!K28","v":1500},{"$f":"'kosten tabel 2015'!L28","v":1575}]
[{"$f":"'kosten tabel 2015'!A29","v":2600},null,{"$f":"'kosten tabel 2015'!K29","v":1600},{"$f":"'kosten tabel 2015'!L29","v":1680}]
[{"$f":"'kosten tabel 2015'!A30","v":2700},null,{"$f":"'kosten tabel 2015'!K30","v":1600},{"$f":"'kosten tabel 2015'!L30","v":1680}]
[{"$f":"'kosten tabel 2015'!A31","v":2800},null,{"$f":"'kosten tabel 2015'!K31","v":1600},{"$f":"'kosten tabel 2015'!L31","v":1680}]
[{"$f":"'kosten tabel 2015'!A32","v":2900},null,{"$f":"'kosten tabel 2015'!K32","v":1600},{"$f":"'kosten tabel 2015'!L32","v":1680}]
[{"$f":"'kosten tabel 2015'!A33","v":3000},null,{"$f":"'kosten tabel 2015'!K33","v":1700},{"$f":"'kosten tabel 2015'!L33","v":1785}]
[{"$f":"'kosten tabel 2015'!A34","v":3100},null,{"$f":"'kosten tabel 2015'!K34","v":1700},{"$f":"'kosten tabel 2015'!L34","v":1785}]
[{"$f":"'kosten tabel 2015'!A35","v":3200},null,{"$f":"'kosten tabel 2015'!K35","v":1700},{"$f":"'kosten tabel 2015'!L35","v":1785}]
[{"$f":"'kosten tabel 2015'!A36","v":3300},null,{"$f":"'kosten tabel 2015'!K36","v":1700},{"$f":"'kosten tabel 2015'!L36","v":1785}]
[{"$f":"'kosten tabel 2015'!A37","v":3400},null,{"$f":"'kosten tabel 2015'!K37","v":1800},{"$f":"'kosten tabel 2015'!L37","v":1890}]
[{"$f":"'kosten tabel 2015'!A38","v":3500},null,{"$f":"'kosten tabel 2015'!K38","v":1800},{"$f":"'kosten tabel 2015'!L38","v":1890}]
[{"$f":"'kosten tabel 2015'!A39","v":3600},null,{"$f":"'kosten tabel 2015'!K39","v":1800},{"$f":"'kosten tabel 2015'!L39","v":1890}]
[{"$f":"'kosten tabel 2015'!A40","v":3700},null,{"$f":"'kosten tabel 2015'!K40","v":1800},{"$f":"'kosten tabel 2015'!L40","v":1890}]
[{"$f":"'kosten tabel 2015'!A41","v":3800},null,{"$f":"'kosten tabel 2015'!K41","v":1900},{"$f":"'kosten tabel 2015'!L41","v":1995}]
[{"$f":"'kosten tabel 2015'!A42","v":3900},null,{"$f":"'kosten tabel 2015'!K42","v":1900},{"$f":"'kosten tabel 2015'!L42","v":1995}]
[{"$f":"'kosten tabel 2015'!A43","v":4000},null,{"$f":"'kosten tabel 2015'!K43","v":1900},{"$f":"'kosten tabel 2015'!L43","v":1995}]
[{"$f":"'kosten tabel 2015'!A44","v":4100},null,{"$f":"'kosten tabel 2015'!K44","v":1900},{"$f":"'kosten tabel 2015'!L44","v":1995}]
[{"$f":"'kosten tabel 2015'!A45","v":4200},null,{"$f":"'kosten tabel 2015'!K45","v":2000},{"$f":"'kosten tabel 2015'!L45","v":2100}]
[{"$f":"'kosten tabel 2015'!A46","v":4300},null,{"$f":"'kosten tabel 2015'!K46","v":2000},{"$f":"'kosten tabel 2015'!L46","v":2100}]
[{"$f":"'kosten tabel 2015'!A47","v":4400},null,{"$f":"'kosten tabel 2015'!K47","v":2000},{"$f":"'kosten tabel 2015'!L47","v":2100}]
[{"$f":"'kosten tabel 2015'!A48","v":4500},null,{"$f":"'kosten tabel 2015'!K48","v":2000},{"$f":"'kosten tabel 2015'!L48","v":2100}]
[{"$f":"'kosten tabel 2015'!A49","v":4600},null,{"$f":"'kosten tabel 2015'!K49","v":2000},{"$f":"'kosten tabel 2015'!L49","v":2100}]
[{"$f":"'kosten tabel 2015'!A50","v":4700},null,{"$f":"'kosten tabel 2015'!K50","v":2100},{"$f":"'kosten tabel 2015'!L50","v":2205}]
[{"$f":"'kosten tabel 2015'!A51","v":4800},null,{"$f":"'kosten tabel 2015'!K51","v":2100},{"$f":"'kosten tabel 2015'!L51","v":2205}]
[{"$f":"'kosten tabel 2015'!A52","v":4900},null,{"$f":"'kosten tabel 2015'!K52","v":2100},{"$f":"'kosten tabel 2015'!L52","v":2205}]
[{"$f":"'kosten tabel 2015'!A53","v":5000},null,{"$f":"'kosten tabel 2015'!K53","v":2100},{"$f":"'kosten tabel 2015'!L53","v":2205}]
[{"$f":"'kosten tabel 2015'!A54","v":5100},null,{"$f":"'kosten tabel 2015'!K54","v":2100},{"$f":"'kosten tabel 2015'!L54","v":2205}]
[{"$f":"'kosten tabel 2015'!A55","v":5200},null,{"$f":"'kosten tabel 2015'!K55","v":2200},{"$f":"'kosten tabel 2015'!L55","v":2310}]
[{"$f":"'kosten tabel 2015'!A56","v":5300},null,{"$f":"'kosten tabel 2015'!K56","v":2200},{"$f":"'kosten tabel 2015'!L56","v":2310}]
[{"$f":"'kosten tabel 2015'!A57","v":5400},null,{"$f":"'kosten tabel 2015'!K57","v":2200},{"$f":"'kosten tabel 2015'!L57","v":2310}]
[{"$f":"'kosten tabel 2015'!A58","v":5500},null,{"$f":"'kosten tabel 2015'!K58","v":2200},{"$f":"'kosten tabel 2015'!L58","v":2310}]
[{"$f":"'kosten tabel 2015'!A59","v":5600},null,{"$f":"'kosten tabel 2015'!K59","v":2200},{"$f":"'kosten tabel 2015'!L59","v":2310}]
[{"$f":"'kosten tabel 2015'!A60","v":5700},null,{"$f":"'kosten tabel 2015'!K60","v":2300},{"$f":"'kosten tabel 2015'!L60","v":2415}]
[{"$f":"'kosten tabel 2015'!A61","v":5800},null,{"$f":"'kosten tabel 2015'!K61","v":2300},{"$f":"'kosten tabel 2015'!L61","v":2415}]
[{"$f":"'kosten tabel 2015'!A62","v":5900},null,{"$f":"'kosten tabel 2015'!K62","v":2300},{"$f":"'kosten tabel 2015'!L62","v":2415}]
[{"$f":"'kosten tabel 2015'!A63","v":6000},null,{"$f":"'kosten tabel 2015'!K63","v":2300},{"$f":"'kosten tabel 2015'!L63","v":2415}]
[{"$f":"'kosten tabel 2015'!A64","v":6100},null,{"$f":"'kosten tabel 2015'!K64","v":2300},{"$f":"'kosten tabel 2015'!L64","v":2415}]
[{"$f":"'kosten tabel 2015'!A65","v":6200},null,{"$f":"'kosten tabel 2015'!K65","v":2400},{"$f":"'kosten tabel 2015'!L65","v":2520}]
[{"$f":"'kosten tabel 2015'!A66","v":6300},null,{"$f":"'kosten tabel 2015'!K66","v":2400},{"$f":"'kosten tabel 2015'!L66","v":2520}]
[{"$f":"'kosten tabel 2015'!A67","v":6400},null,{"$f":"'kosten tabel 2015'!K67","v":2400},{"$f":"'kosten tabel 2015'!L67","v":2520}]
[{"$f":"'kosten tabel 2015'!A68","v":6500},null,{"$f":"'kosten tabel 2015'!K68","v":2400},{"$f":"'kosten tabel 2015'!L68","v":2520}]
[{"$f":"'kosten tabel 2015'!A69","v":6600},null,{"$f":"'kosten tabel 2015'!K69","v":2400},{"$f":"'kosten tabel 2015'!L69","v":2520}]
[{"$f":"'kosten tabel 2015'!A70","v":6700},null,{"$f":"'kosten tabel 2015'!K70","v":2400},{"$f":"'kosten tabel 2015'!L70","v":2520}]
[{"$f":"'kosten tabel 2015'!A71","v":6800},null,{"$f":"'kosten tabel 2015'!K71","v":2500},{"$f":"'kosten tabel 2015'!L71","v":2625}]
[{"$f":"'kosten tabel 2015'!A72","v":6900},null,{"$f":"'kosten tabel 2015'!K72","v":2500},{"$f":"'kosten tabel 2015'!L72","v":2625}]
[{"$f":"'kosten tabel 2015'!A73","v":7000},null,{"$f":"'kosten tabel 2015'!K73","v":2500},{"$f":"'kosten tabel 2015'!L73","v":2625}]
[{"$f":"'kosten tabel 2015'!A74","v":7100},null,{"$f":"'kosten tabel 2015'!K74","v":2500},{"$f":"'kosten tabel 2015'!L74","v":2625}]
[{"$f":"'kosten tabel 2015'!A75","v":7200},null,{"$f":"'kosten tabel 2015'!K75","v":2500},{"$f":"'kosten tabel 2015'!L75","v":2625}]
[{"$f":"'kosten tabel 2015'!A76","v":7300},null,{"$f":"'kosten tabel 2015'!K76","v":2600},{"$f":"'kosten tabel 2015'!L76","v":2730}]
[{"$f":"'kosten tabel 2015'!A77","v":7400},null,{"$f":"'kosten tabel 2015'!K77","v":2600},{"$f":"'kosten tabel 2015'!L77","v":2730}]
[{"$f":"'kosten tabel 2015'!A78","v":7500},null,{"$f":"'kosten tabel 2015'!K78","v":2600},{"$f":"'kosten tabel 2015'!L78","v":2730}]
[{"$f":"'kosten tabel 2015'!A79","v":7600},null,{"$f":"'kosten tabel 2015'!K79","v":2600},{"$f":"'kosten tabel 2015'!L79","v":2730}]
[{"$f":"'kosten tabel 2015'!A80","v":7700},null,{"$f":"'kosten tabel 2015'!K80","v":2600},{"$f":"'kosten tabel 2015'!L80","v":2730}]
[{"$f":"'kosten tabel 2015'!A81","v":7800},null,{"$f":"'kosten tabel 2015'!K81","v":2600},{"$f":"'kosten tabel 2015'!L81","v":2730}]
[{"$f":"'kosten tabel 2015'!A82","v":7900},null,{"$f":"'kosten tabel 2015'!K82","v":2700},{"$f":"'kosten tabel 2015'!L82","v":2835}]
[{"$f":"'kosten tabel 2015'!A83","v":8000},null,{"$f":"'kosten tabel 2015'!K83","v":2700},{"$f":"'kosten tabel 2015'!L83","v":2835}]
[{"$f":"'kosten tabel 2015'!A84","v":8100},null,{"$f":"'kosten tabel 2015'!K84","v":2700},{"$f":"'kosten tabel 2015'!L84","v":2835}]
[{"$f":"'kosten tabel 2015'!A85","v":8200},null,{"$f":"'kosten tabel 2015'!K85","v":2700},{"$f":"'kosten tabel 2015'!L85","v":2835}]
[{"$f":"'kosten tabel 2015'!A86","v":8300},null,{"$f":"'kosten tabel 2015'!K86","v":2700},{"$f":"'kosten tabel 2015'!L86","v":2835}]
[{"$f":"'kosten tabel 2015'!A87","v":8400},null,{"$f":"'kosten tabel 2015'!K87","v":2700},{"$f":"'kosten tabel 2015'!L87","v":2835}]
[{"$f":"'kosten tabel 2015'!A88","v":8500},null,{"$f":"'kosten tabel 2015'!K88","v":2700},{"$f":"'kosten tabel 2015'!L88","v":2835}]
[{"$f":"'kosten tabel 2015'!A89","v":8600},null,{"$f":"'kosten tabel 2015'!K89","v":2800},{"$f":"'kosten tabel 2015'!L89","v":2940}]
[{"$f":"'kosten tabel 2015'!A90","v":8700},null,{"$f":"'kosten tabel 2015'!K90","v":2800},{"$f":"'kosten tabel 2015'!L90","v":2940}]
[{"$f":"'kosten tabel 2015'!A91","v":8800},null,{"$f":"'kosten tabel 2015'!K91","v":2800},{"$f":"'kosten tabel 2015'!L91","v":2940}]
[{"$f":"'kosten tabel 2015'!A92","v":8900},null,{"$f":"'kosten tabel 2015'!K92","v":2800},{"$f":"'kosten tabel 2015'!L92","v":2940}]
[{"$f":"'kosten tabel 2015'!A93","v":9000},null,{"$f":"'kosten tabel 2015'!K93","v":2800},{"$f":"'kosten tabel 2015'!L93","v":2940}]
[{"$f":"'kosten tabel 2015'!A94","v":9100},null,{"$f":"'kosten tabel 2015'!K94","v":2800},{"$f":"'kosten tabel 2015'!L94","v":2940}]
[{"$f":"'kosten tabel 2015'!A95","v":9200},null,{"$f":"'kosten tabel 2015'!K95","v":2900},{"$f":"'kosten tabel 2015'!L95","v":3045}]
[{"$f":"'kosten tabel 2015'!A96","v":9300},null,{"$f":"'kosten tabel 2015'!K96","v":2900},{"$f":"'kosten tabel 2015'!L96","v":3045}]
[{"$f":"'kosten tabel 2015'!A97","v":9400},null,{"$f":"'kosten tabel 2015'!K97","v":2900},{"$f":"'kosten tabel 2015'!L97","v":3045}]
[{"$f":"'kosten tabel 2015'!A98","v":9500},null,{"$f":"'kosten tabel 2015'!K98","v":2900},{"$f":"'kosten tabel 2015'!L98","v":3045}]
[{"$f":"'kosten tabel 2015'!A99","v":9600},null,{"$f":"'kosten tabel 2015'!K99","v":2900},{"$f":"'kosten tabel 2015'!L99","v":3045}]
[{"$f":"'kosten tabel 2015'!A100","v":9700},null,{"$f":"'kosten tabel 2015'!K100","v":2900},{"$f":"'kosten tabel 2015'!L100","v":3045}]
[{"$f":"'kosten tabel 2015'!A101","v":9800},null,{"$f":"'kosten tabel 2015'!K101","v":2900},{"$f":"'kosten tabel 2015'!L101","v":3045}]
[{"$f":"'kosten tabel 2015'!A102","v":9900},null,{"$f":"'kosten tabel 2015'!K102","v":3000},{"$f":"'kosten tabel 2015'!L102","v":3150}]
[{"$f":"'kosten tabel 2015'!A103","v":10000},null,{"$f":"'kosten tabel 2015'!K103","v":3000},{"$f":"'kosten tabel 2015'!L103","v":3150}]
[{"$f":"'kosten tabel 2015'!A104","v":10100},null,{"$f":"'kosten tabel 2015'!K104","v":3000},{"$f":"'kosten tabel 2015'!L104","v":3150}]
[{"$f":"'kosten tabel 2015'!A105","v":10200},null,{"$f":"'kosten tabel 2015'!K105","v":3000},{"$f":"'kosten tabel 2015'!L105","v":3150}]
[{"$f":"'kosten tabel 2015'!A106","v":10300},null,{"$f":"'kosten tabel 2015'!K106","v":3000},{"$f":"'kosten tabel 2015'!L106","v":3150}]
[{"$f":"'kosten tabel 2015'!A107","v":10400},null,{"$f":"'kosten tabel 2015'!K107","v":3000},{"$f":"'kosten tabel 2015'!L107","v":3150}]
[{"$f":"'kosten tabel 2015'!A108","v":10500},null,{"$f":"'kosten tabel 2015'!K108","v":3000},{"$f":"'kosten tabel 2015'!L108","v":3150}]
[{"$f":"'kosten tabel 2015'!A109","v":10600},null,{"$f":"'kosten tabel 2015'!K109","v":3100},{"$f":"'kosten tabel 2015'!L109","v":3255}]
[{"$f":"'kosten tabel 2015'!A110","v":10700},null,{"$f":"'kosten tabel 2015'!K110","v":3100},{"$f":"'kosten tabel 2015'!L110","v":3255}]
[{"$f":"'kosten tabel 2015'!A111","v":10800},null,{"$f":"'kosten tabel 2015'!K111","v":3100},{"$f":"'kosten tabel 2015'!L111","v":3255}]
[{"$f":"'kosten tabel 2015'!A112","v":10900},null,{"$f":"'kosten tabel 2015'!K112","v":3100},{"$f":"'kosten tabel 2015'!L112","v":3255}]
[{"$f":"'kosten tabel 2015'!A113","v":11000},null,{"$f":"'kosten tabel 2015'!K113","v":3100},{"$f":"'kosten tabel 2015'!L113","v":3255}]
[{"$f":"'kosten tabel 2015'!A114","v":11100},null,{"$f":"'kosten tabel 2015'!K114","v":3100},{"$f":"'kosten tabel 2015'!L114","v":3255}]
[{"$f":"'kosten tabel 2015'!A115","v":11200},null,{"$f":"'kosten tabel 2015'!K115","v":3100},{"$f":"'kosten tabel 2015'!L115","v":3255}]
[{"$f":"'kosten tabel 2015'!A116","v":11300},null,{"$f":"'kosten tabel 2015'!K116","v":3200},{"$f":"'kosten tabel 2015'!L116","v":3360}]
[{"$f":"'kosten tabel 2015'!A117","v":11400},null,{"$f":"'kosten tabel 2015'!K117","v":3200},{"$f":"'kosten tabel 2015'!L117","v":3360}]
[{"$f":"'kosten tabel 2015'!A118","v":11500},null,{"$f":"'kosten tabel 2015'!K118","v":3200},{"$f":"'kosten tabel 2015'!L118","v":3360}]
[{"$f":"'kosten tabel 2015'!A119","v":11600},null,{"$f":"'kosten tabel 2015'!K119","v":3200},{"$f":"'kosten tabel 2015'!L119","v":3360}]
[{"$f":"'kosten tabel 2015'!A120","v":11700},null,{"$f":"'kosten tabel 2015'!K120","v":3200},{"$f":"'kosten tabel 2015'!L120","v":3360}]
[{"$f":"'kosten tabel 2015'!A121","v":11800},null,{"$f":"'kosten tabel 2015'!K121","v":3200},{"$f":"'kosten tabel 2015'!L121","v":3360}]
[{"$f":"'kosten tabel 2015'!A122","v":11900},null,{"$f":"'kosten tabel 2015'!K122","v":3200},{"$f":"'kosten tabel 2015'!L122","v":3360}]
[{"$f":"'kosten tabel 2015'!A123","v":12000},null,{"$f":"'kosten tabel 2015'!K123","v":3200},{"$f":"'kosten tabel 2015'!L123","v":3360}]
[{"$f":"'kosten tabel 2015'!A124","v":12100},null,{"$f":"'kosten tabel 2015'!K124","v":3300},{"$f":"'kosten tabel 2015'!L124","v":3465}]
[{"$f":"'kosten tabel 2015'!A125","v":12200},null,{"$f":"'kosten tabel 2015'!K125","v":3300},{"$f":"'kosten tabel 2015'!L125","v":3465}]
[{"$f":"'kosten tabel 2015'!A126","v":12300},null,{"$f":"'kosten tabel 2015'!K126","v":3300},{"$f":"'kosten tabel 2015'!L126","v":3465}]
[{"$f":"'kosten tabel 2015'!A127","v":12400},null,{"$f":"'kosten tabel 2015'!K127","v":3300},{"$f":"'kosten tabel 2015'!L127","v":3465}]
[{"$f":"'kosten tabel 2015'!A128","v":12500},null,{"$f":"'kosten tabel 2015'!K128","v":3300},{"$f":"'kosten tabel 2015'!L128","v":3465}]
[{"$f":"'kosten tabel 2015'!A129","v":12600},null,{"$f":"'kosten tabel 2015'!K129","v":3300},{"$f":"'kosten tabel 2015'!L129","v":3465}]
[{"$f":"'kosten tabel 2015'!A130","v":12700},null,{"$f":"'kosten tabel 2015'!K130","v":3300},{"$f":"'kosten tabel 2015'!L130","v":3465}]
[{"$f":"'kosten tabel 2015'!A131","v":12800},null,{"$f":"'kosten tabel 2015'!K131","v":3300},{"$f":"'kosten tabel 2015'!L131","v":3465}]
[{"$f":"'kosten tabel 2015'!A132","v":12900},null,{"$f":"'kosten tabel 2015'!K132","v":3400},{"$f":"'kosten tabel 2015'!L132","v":3570}]
[{"$f":"'kosten tabel 2015'!A133","v":13000},null,{"$f":"'kosten tabel 2015'!K133","v":3400},{"$f":"'kosten tabel 2015'!L133","v":3570}]
[{"$f":"'kosten tabel 2015'!A134","v":13100},null,{"$f":"'kosten tabel 2015'!K134","v":3400},{"$f":"'kosten tabel 2015'!L134","v":3570}]
[{"$f":"'kosten tabel 2015'!A135","v":13200},null,{"$f":"'kosten tabel 2015'!K135","v":3400},{"$f":"'kosten tabel 2015'!L135","v":3570}]
[{"$f":"'kosten tabel 2015'!A136","v":13300},null,{"$f":"'kosten tabel 2015'!K136","v":3400},{"$f":"'kosten tabel 2015'!L136","v":3570}]
[{"$f":"'kosten tabel 2015'!A137","v":13400},null,{"$f":"'kosten tabel 2015'!K137","v":3400},{"$f":"'kosten tabel 2015'!L137","v":3570}]
[{"$f":"'kosten tabel 2015'!A138","v":13500},null,{"$f":"'kosten tabel 2015'!K138","v":3400},{"$f":"'kosten tabel 2015'!L138","v":3570}]
[{"$f":"'kosten tabel 2015'!A139","v":13600},null,{"$f":"'kosten tabel 2015'!K139","v":3400},{"$f":"'kosten tabel 2015'!L139","v":3570}]
[{"$f":"'kosten tabel 2015'!A140","v":13700},null,{"$f":"'kosten tabel 2015'!K140","v":3500},{"$f":"'kosten tabel 2015'!L140","v":3675}]
[{"$f":"'kosten tabel 2015'!A141","v":13800},null,{"$f":"'kosten tabel 2015'!K141","v":3500},{"$f":"'kosten tabel 2015'!L141","v":3675}]
[{"$f":"'kosten tabel 2015'!A142","v":13900},null,{"$f":"'kosten tabel 2015'!K142","v":3500},{"$f":"'kosten tabel 2015'!L142","v":3675}]
[{"$f":"'kosten tabel 2015'!A143","v":14000},null,{"$f":"'kosten tabel 2015'!K143","v":3500},{"$f":"'kosten tabel 2015'!L143","v":3675}]
[{"$f":"'kosten tabel 2015'!A144","v":14100},null,{"$f":"'kosten tabel 2015'!K144","v":3500},{"$f":"'kosten tabel 2015'!L144","v":3675}]
[{"$f":"'kosten tabel 2015'!A145","v":14200},null,{"$f":"'kosten tabel 2015'!K145","v":3500},{"$f":"'kosten tabel 2015'!L145","v":3675}]
[{"$f":"'kosten tabel 2015'!A146","v":14300},null,{"$f":"'kosten tabel 2015'!K146","v":3500},{"$f":"'kosten tabel 2015'!L146","v":3675}]
[{"$f":"'kosten tabel 2015'!A147","v":14400},null,{"$f":"'kosten tabel 2015'!K147","v":3500},{"$f":"'kosten tabel 2015'!L147","v":3675}]
[{"$f":"'kosten tabel 2015'!A148","v":14500},null,{"$f":"'kosten tabel 2015'!K148","v":3600},{"$f":"'kosten tabel 2015'!L148","v":3780}]
[{"$f":"'kosten tabel 2015'!A149","v":14600},null,{"$f":"'kosten tabel 2015'!K149","v":3600},{"$f":"'kosten tabel 2015'!L149","v":3780}]
[{"$f":"'kosten tabel 2015'!A150","v":14700},null,{"$f":"'kosten tabel 2015'!K150","v":3600},{"$f":"'kosten tabel 2015'!L150","v":3780}]
[{"$f":"'kosten tabel 2015'!A151","v":14800},null,{"$f":"'kosten tabel 2015'!K151","v":3600},{"$f":"'kosten tabel 2015'!L151","v":3780}]
[{"$f":"'kosten tabel 2015'!A152","v":14900},null,{"$f":"'kosten tabel 2015'!K152","v":3600},{"$f":"'kosten tabel 2015'!L152","v":3780}]
[{"$f":"'kosten tabel 2015'!A153","v":15000},null,{"$f":"'kosten tabel 2015'!K153","v":3600},{"$f":"'kosten tabel 2015'!L153","v":3780}]
[{"$f":"'kosten tabel 2015'!A154","v":15100},null,{"$f":"'kosten tabel 2015'!K154","v":3600},{"$f":"'kosten tabel 2015'!L154","v":3780}]
[{"$f":"'kosten tabel 2015'!A155","v":15200},null,{"$f":"'kosten tabel 2015'!K155","v":3600},{"$f":"'kosten tabel 2015'!L155","v":3780}]
[{"$f":"'kosten tabel 2015'!A156","v":15300},null,{"$f":"'kosten tabel 2015'!K156","v":3700},{"$f":"'kosten tabel 2015'!L156","v":3885}]
[{"$f":"'kosten tabel 2015'!A157","v":15400},null,{"$f":"'kosten tabel 2015'!K157","v":3700},{"$f":"'kosten tabel 2015'!L157","v":3885}]
[{"$f":"'kosten tabel 2015'!A158","v":15500},null,{"$f":"'kosten tabel 2015'!K158","v":3700},{"$f":"'kosten tabel 2015'!L158","v":3885}]
[{"$f":"'kosten tabel 2015'!A159","v":15600},null,{"$f":"'kosten tabel 2015'!K159","v":3700},{"$f":"'kosten tabel 2015'!L159","v":3885}]
[{"$f":"'kosten tabel 2015'!A160","v":15700},null,{"$f":"'kosten tabel 2015'!K160","v":3700},{"$f":"'kosten tabel 2015'!L160","v":3885}]
[{"$f":"'kosten tabel 2015'!A161","v":15800},null,{"$f":"'kosten tabel 2015'!K161","v":3700},{"$f":"'kosten tabel 2015'!L161","v":3885}]
[{"$f":"'kosten tabel 2015'!A162","v":15900},null,{"$f":"'kosten tabel 2015'!K162","v":3700},{"$f":"'kosten tabel 2015'!L162","v":3885}]
[{"$f":"'kosten tabel 2015'!A163","v":16000},null,{"$f":"'kosten tabel 2015'!K163","v":3700},{"$f":"'kosten tabel 2015'!L163","v":3885}]
[{"$f":"'kosten tabel 2015'!A164","v":16100},null,{"$f":"'kosten tabel 2015'!K164","v":3700},{"$f":"'kosten tabel 2015'!L164","v":3885}]
[{"$f":"'kosten tabel 2015'!A165","v":16200},null,{"$f":"'kosten tabel 2015'!K165","v":3800},{"$f":"'kosten tabel 2015'!L165","v":3990}]
[{"$f":"'kosten tabel 2015'!A166","v":16300},null,{"$f":"'kosten tabel 2015'!K166","v":3800},{"$f":"'kosten tabel 2015'!L166","v":3990}]
[{"$f":"'kosten tabel 2015'!A167","v":16400},null,{"$f":"'kosten tabel 2015'!K167","v":3800},{"$f":"'kosten tabel 2015'!L167","v":3990}]
[{"$f":"'kosten tabel 2015'!A168","v":16500},null,{"$f":"'kosten tabel 2015'!K168","v":3800},{"$f":"'kosten tabel 2015'!L168","v":3990}]
[{"$f":"'kosten tabel 2015'!A169","v":16600},null,{"$f":"'kosten tabel 2015'!K169","v":3800},{"$f":"'kosten tabel 2015'!L169","v":3990}]
[{"$f":"'kosten tabel 2015'!A170","v":16700},null,{"$f":"'kosten tabel 2015'!K170","v":3800},{"$f":"'kosten tabel 2015'!L170","v":3990}]
[{"$f":"'kosten tabel 2015'!A171","v":16800},null,{"$f":"'kosten tabel 2015'!K171","v":3800},{"$f":"'kosten tabel 2015'!L171","v":3990}]
[{"$f":"'kosten tabel 2015'!A172","v":16900},null,{"$f":"'kosten tabel 2015'!K172","v":3800},{"$f":"'kosten tabel 2015'!L172","v":3990}]
[{"$f":"'kosten tabel 2015'!A173","v":17000},null,{"$f":"'kosten tabel 2015'!K173","v":3800},{"$f":"'kosten tabel 2015'!L173","v":3990}]
[{"$f":"'kosten tabel 2015'!A174","v":17100},null,{"$f":"'kosten tabel 2015'!K174","v":3900},{"$f":"'kosten tabel 2015'!L174","v":4095}]
[{"$f":"'kosten tabel 2015'!A175","v":17200},null,{"$f":"'kosten tabel 2015'!K175","v":3900},{"$f":"'kosten tabel 2015'!L175","v":4095}]
[{"$f":"'kosten tabel 2015'!A176","v":17300},null,{"$f":"'kosten tabel 2015'!K176","v":3900},{"$f":"'kosten tabel 2015'!L176","v":4095}]
[{"$f":"'kosten tabel 2015'!A177","v":17400},null,{"$f":"'kosten tabel 2015'!K177","v":3900},{"$f":"'kosten tabel 2015'!L177","v":4095}]
[{"$f":"'kosten tabel 2015'!A178","v":17500},null,{"$f":"'kosten tabel 2015'!K178","v":3900},{"$f":"'kosten tabel 2015'!L178","v":4095}]
[{"$f":"'kosten tabel 2015'!A179","v":17600},null,{"$f":"'kosten tabel 2015'!K179","v":3900},{"$f":"'kosten tabel 2015'!L179","v":4095}]
[{"$f":"'kosten tabel 2015'!A180","v":17700},null,{"$f":"'kosten tabel 2015'!K180","v":3900},{"$f":"'kosten tabel 2015'!L180","v":4095}]
[{"$f":"'kosten tabel 2015'!A181","v":17800},null,{"$f":"'kosten tabel 2015'!K181","v":3900},{"$f":"'kosten tabel 2015'!L181","v":4095}]
[{"$f":"'kosten tabel 2015'!A182","v":17900},null,{"$f":"'kosten tabel 2015'!K182","v":3900},{"$f":"'kosten tabel 2015'!L182","v":4095}]
[{"$f":"'kosten tabel 2015'!A183","v":18000},null,{"$f":"'kosten tabel 2015'!K183","v":4000},{"$f":"'kosten tabel 2015'!L183","v":4200}]
[{"$f":"'kosten tabel 2015'!A184","v":18100},null,{"$f":"'kosten tabel 2015'!K184","v":4000},{"$f":"'kosten tabel 2015'!L184","v":4200}]
[{"$f":"'kosten tabel 2015'!A185","v":18200},null,{"$f":"'kosten tabel 2015'!K185","v":4000},{"$f":"'kosten tabel 2015'!L185","v":4200}]
[{"$f":"'kosten tabel 2015'!A186","v":18300},null,{"$f":"'kosten tabel 2015'!K186","v":4000},{"$f":"'kosten tabel 2015'!L186","v":4200}]
[{"$f":"'kosten tabel 2015'!A187","v":18400},null,{"$f":"'kosten tabel 2015'!K187","v":4000},{"$f":"'kosten tabel 2015'!L187","v":4200}]
[{"$f":"'kosten tabel 2015'!A188","v":18500},null,{"$f":"'kosten tabel 2015'!K188","v":4000},{"$f":"'kosten tabel 2015'!L188","v":4200}]
[{"$f":"'kosten tabel 2015'!A189","v":18600},null,{"$f":"'kosten tabel 2015'!K189","v":4000},{"$f":"'kosten tabel 2015'!L189","v":4200}]
[{"$f":"'kosten tabel 2015'!A190","v":18700},null,{"$f":"'kosten tabel 2015'!K190","v":4000},{"$f":"'kosten tabel 2015'!L190","v":4200}]
[{"$f":"'kosten tabel 2015'!A191","v":18800},null,{"$f":"'kosten tabel 2015'!K191","v":4000},{"$f":"'kosten tabel 2015'!L191","v":4200}]
[{"$f":"'kosten tabel 2015'!A192","v":18900},null,{"$f":"'kosten tabel 2015'!K192","v":4000},{"$f":"'kosten tabel 2015'!L192","v":4200}]
[{"$f":"'kosten tabel 2015'!A193","v":19000},null,{"$f":"'kosten tabel 2015'!K193","v":4100},{"$f":"'kosten tabel 2015'!L193","v":4305}]
[{"$f":"'kosten tabel 2015'!A194","v":19100},null,{"$f":"'kosten tabel 2015'!K194","v":4100},{"$f":"'kosten tabel 2015'!L194","v":4305}]
[{"$f":"'kosten tabel 2015'!A195","v":19200},null,{"$f":"'kosten tabel 2015'!K195","v":4100},{"$f":"'kosten tabel 2015'!L195","v":4305}]
[{"$f":"'kosten tabel 2015'!A196","v":19300},null,{"$f":"'kosten tabel 2015'!K196","v":4100},{"$f":"'kosten tabel 2015'!L196","v":4305}]
[{"$f":"'kosten tabel 2015'!A197","v":19400},null,{"$f":"'kosten tabel 2015'!K197","v":4100},{"$f":"'kosten tabel 2015'!L197","v":4305}]
[{"$f":"'kosten tabel 2015'!A198","v":19500},null,{"$f":"'kosten tabel 2015'!K198","v":4100},{"$f":"'kosten tabel 2015'!L198","v":4305}]
[{"$f":"'kosten tabel 2015'!A199","v":19600},null,{"$f":"'kosten tabel 2015'!K199","v":4100},{"$f":"'kosten tabel 2015'!L199","v":4305}]
[{"$f":"'kosten tabel 2015'!A200","v":19700},null,{"$f":"'kosten tabel 2015'!K200","v":4100},{"$f":"'kosten tabel 2015'!L200","v":4305}]
[{"$f":"'kosten tabel 2015'!A201","v":19800},null,{"$f":"'kosten tabel 2015'!K201","v":4100},{"$f":"'kosten tabel 2015'!L201","v":4305}]
[{"$f":"'kosten tabel 2015'!A202","v":19900},null,{"$f":"'kosten tabel 2015'!K202","v":4200},{"$f":"'kosten tabel 2015'!L202","v":4410}]
[{"$f":"'kosten tabel 2015'!A203","v":20000},null,{"$f":"'kosten tabel 2015'!K203","v":4200},{"$f":"'kosten tabel 2015'!L203","v":4410}]
[{"$f":"'kosten tabel 2015'!A204","v":20100},null,{"$f":"'kosten tabel 2015'!K204","v":4200},{"$f":"'kosten tabel 2015'!L204","v":4410}]
[{"$f":"'kosten tabel 2015'!A205","v":20200},null,{"$f":"'kosten tabel 2015'!K205","v":4200},{"$f":"'kosten tabel 2015'!L205","v":4410}]
[{"$f":"'kosten tabel 2015'!A206","v":20300},null,{"$f":"'kosten tabel 2015'!K206","v":4200},{"$f":"'kosten tabel 2015'!L206","v":4410}]
[{"$f":"'kosten tabel 2015'!A207","v":20400},null,{"$f":"'kosten tabel 2015'!K207","v":4200},{"$f":"'kosten tabel 2015'!L207","v":4410}]
[{"$f":"'kosten tabel 2015'!A208","v":20500},null,{"$f":"'kosten tabel 2015'!K208","v":4200},{"$f":"'kosten tabel 2015'!L208","v":4410}]
[{"$f":"'kosten tabel 2015'!A209","v":20600},null,{"$f":"'kosten tabel 2015'!K209","v":4200},{"$f":"'kosten tabel 2015'!L209","v":4410}]
[{"$f":"'kosten tabel 2015'!A210","v":20700},null,{"$f":"'kosten tabel 2015'!K210","v":4200},{"$f":"'kosten tabel 2015'!L210","v":4410}]
[{"$f":"'kosten tabel 2015'!A211","v":20800},null,{"$f":"'kosten tabel 2015'!K211","v":4200},{"$f":"'kosten tabel 2015'!L211","v":4410}]
[{"$f":"'kosten tabel 2015'!A212","v":20900},null,{"$f":"'kosten tabel 2015'!K212","v":4300},{"$f":"'kosten tabel 2015'!L212","v":4515}]
[{"$f":"'kosten tabel 2015'!A213","v":21000},null,{"$f":"'kosten tabel 2015'!K213","v":4300},{"$f":"'kosten tabel 2015'!L213","v":4515}]
[{"$f":"'kosten tabel 2015'!A214","v":21100},null,{"$f":"'kosten tabel 2015'!K214","v":4300},{"$f":"'kosten tabel 2015'!L214","v":4515}]
[{"$f":"'kosten tabel 2015'!A215","v":21200},null,{"$f":"'kosten tabel 2015'!K215","v":4300},{"$f":"'kosten tabel 2015'!L215","v":4515}]
[{"$f":"'kosten tabel 2015'!A216","v":21300},null,{"$f":"'kosten tabel 2015'!K216","v":4300},{"$f":"'kosten tabel 2015'!L216","v":4515}]
[{"$f":"'kosten tabel 2015'!A217","v":21400},null,{"$f":"'kosten tabel 2015'!K217","v":4300},{"$f":"'kosten tabel 2015'!L217","v":4515}]
[{"$f":"'kosten tabel 2015'!A218","v":21500},null,{"$f":"'kosten tabel 2015'!K218","v":4300},{"$f":"'kosten tabel 2015'!L218","v":4515}]
[{"$f":"'kosten tabel 2015'!A219","v":21600},null,{"$f":"'kosten tabel 2015'!K219","v":4300},{"$f":"'kosten tabel 2015'!L219","v":4515}]
[{"$f":"'kosten tabel 2015'!A220","v":21700},null,{"$f":"'kosten tabel 2015'!K220","v":4300},{"$f":"'kosten tabel 2015'!L220","v":4515}]
[{"$f":"'kosten tabel 2015'!A221","v":21800},null,{"$f":"'kosten tabel 2015'!K221","v":4300},{"$f":"'kosten tabel 2015'!L221","v":4515}]
[{"$f":"'kosten tabel 2015'!A222","v":21900},null,{"$f":"'kosten tabel 2015'!K222","v":4400},{"$f":"'kosten tabel 2015'!L222","v":4620}]
[{"$f":"'kosten tabel 2015'!A223","v":22000},null,{"$f":"'kosten tabel 2015'!K223","v":4400},{"$f":"'kosten tabel 2015'!L223","v":4620}]
[{"$f":"'kosten tabel 2015'!A224","v":22100},null,{"$f":"'kosten tabel 2015'!K224","v":4400},{"$f":"'kosten tabel 2015'!L224","v":4620}]
[{"$f":"'kosten tabel 2015'!A225","v":22200},null,{"$f":"'kosten tabel 2015'!K225","v":4400},{"$f":"'kosten tabel 2015'!L225","v":4620}]
[{"$f":"'kosten tabel 2015'!A226","v":22300},null,{"$f":"'kosten tabel 2015'!K226","v":4400},{"$f":"'kosten tabel 2015'!L226","v":4620}]
[{"$f":"'kosten tabel 2015'!A227","v":22400},null,{"$f":"'kosten tabel 2015'!K227","v":4400},{"$f":"'kosten tabel 2015'!L227","v":4620}]
[{"$f":"'kosten tabel 2015'!A228","v":22500},null,{"$f":"'kosten tabel 2015'!K228","v":4400},{"$f":"'kosten tabel 2015'!L228","v":4620}]
[{"$f":"'kosten tabel 2015'!A229","v":22600},null,{"$f":"'kosten tabel 2015'!K229","v":4400},{"$f":"'kosten tabel 2015'!L229","v":4620}]
[{"$f":"'kosten tabel 2015'!A230","v":22700},null,{"$f":"'kosten tabel 2015'!K230","v":4400},{"$f":"'kosten tabel 2015'!L230","v":4620}]
[{"$f":"'kosten tabel 2015'!A231","v":22800},null,{"$f":"'kosten tabel 2015'!K231","v":4400},{"$f":"'kosten tabel 2015'!L231","v":4620}]
[{"$f":"'kosten tabel 2015'!A232","v":22900},null,{"$f":"'kosten tabel 2015'!K232","v":4400},{"$f":"'kosten tabel 2015'!L232","v":4620}]
[{"$f":"'kosten tabel 2015'!A233","v":23000},null,{"$f":"'kosten tabel 2015'!K233","v":4500},{"$f":"'kosten tabel 2015'!L233","v":4725}]
[{"$f":"'kosten tabel 2015'!A234","v":23100},null,{"$f":"'kosten tabel 2015'!K234","v":4500},{"$f":"'kosten tabel 2015'!L234","v":4725}]
[{"$f":"'kosten tabel 2015'!A235","v":23200},null,{"$f":"'kosten tabel 2015'!K235","v":4500},{"$f":"'kosten tabel 2015'!L235","v":4725}]
[{"$f":"'kosten tabel 2015'!A236","v":23300},null,{"$f":"'kosten tabel 2015'!K236","v":4500},{"$f":"'kosten tabel 2015'!L236","v":4725}]
[{"$f":"'kosten tabel 2015'!A237","v":23400},null,{"$f":"'kosten tabel 2015'!K237","v":4500},{"$f":"'kosten tabel 2015'!L237","v":4725}]
[{"$f":"'kosten tabel 2015'!A238","v":23500},null,{"$f":"'kosten tabel 2015'!K238","v":4500},{"$f":"'kosten tabel 2015'!L238","v":4725}]
[{"$f":"'kosten tabel 2015'!A239","v":23600},null,{"$f":"'kosten tabel 2015'!K239","v":4500},{"$f":"'kosten tabel 2015'!L239","v":4725}]
[{"$f":"'kosten tabel 2015'!A240","v":23700},null,{"$f":"'kosten tabel 2015'!K240","v":4500},{"$f":"'kosten tabel 2015'!L240","v":4725}]
[{"$f":"'kosten tabel 2015'!A241","v":23800},null,{"$f":"'kosten tabel 2015'!K241","v":4500},{"$f":"'kosten tabel 2015'!L241","v":4725}]
[{"$f":"'kosten tabel 2015'!A242","v":23900},null,{"$f":"'kosten tabel 2015'!K242","v":4500},{"$f":"'kosten tabel 2015'!L242","v":4725}]
[{"$f":"'kosten tabel 2015'!A243","v":24000},null,{"$f":"'kosten tabel 2015'!K243","v":4500},{"$f":"'kosten tabel 2015'!L243","v":4725}]
[{"$f":"'kosten tabel 2015'!A244","v":24100},null,{"$f":"'kosten tabel 2015'!K244","v":4600},{"$f":"'kosten tabel 2015'!L244","v":4830}]
[{"$f":"'kosten tabel 2015'!A245","v":24200},null,{"$f":"'kosten tabel 2015'!K245","v":4600},{"$f":"'kosten tabel 2015'!L245","v":4830}]
[{"$f":"'kosten tabel 2015'!A246","v":24300},null,{"$f":"'kosten tabel 2015'!K246","v":4600},{"$f":"'kosten tabel 2015'!L246","v":4830}]
[{"$f":"'kosten tabel 2015'!A247","v":24400},null,{"$f":"'kosten tabel 2015'!K247","v":4600},{"$f":"'kosten tabel 2015'!L247","v":4830}]
[{"$f":"'kosten tabel 2015'!A248","v":24500},null,{"$f":"'kosten tabel 2015'!K248","v":4600},{"$f":"'kosten tabel 2015'!L248","v":4830}]
[{"$f":"'kosten tabel 2015'!A249","v":24600},null,{"$f":"'kosten tabel 2015'!K249","v":4600},{"$f":"'kosten tabel 2015'!L249","v":4830}]
[{"$f":"'kosten tabel 2015'!A250","v":24700},null,{"$f":"'kosten tabel 2015'!K250","v":4600},{"$f":"'kosten tabel 2015'!L250","v":4830}]
[{"$f":"'kosten tabel 2015'!A251","v":24800},null,{"$f":"'kosten tabel 2015'!K251","v":4600},{"$f":"'kosten tabel 2015'!L251","v":4830}]
[{"$f":"'kosten tabel 2015'!A252","v":24900},null,{"$f":"'kosten tabel 2015'!K252","v":4600},{"$f":"'kosten tabel 2015'!L252","v":4830}]
[{"$f":"'kosten tabel 2015'!A253","v":25000},null,{"$f":"'kosten tabel 2015'!K253","v":4700},{"$f":"'kosten tabel 2015'!L253","v":4935}]
[{"$f":"'kosten tabel 2015'!A254","v":25100},null,{"$f":"'kosten tabel 2015'!K254","v":4800},{"$f":"'kosten tabel 2015'!L254","v":5040}]
[{"$f":"'kosten tabel 2015'!A255","v":25200},null,{"$f":"'kosten tabel 2015'!K255","v":4800},{"$f":"'kosten tabel 2015'!L255","v":5040}]
[{"$f":"'kosten tabel 2015'!A256","v":25300},null,{"$f":"'kosten tabel 2015'!K256","v":4800},{"$f":"'kosten tabel 2015'!L256","v":5040}]
[{"$f":"'kosten tabel 2015'!A257","v":25400},null,{"$f":"'kosten tabel 2015'!K257","v":4800},{"$f":"'kosten tabel 2015'!L257","v":5040}]
[{"$f":"'kosten tabel 2015'!A258","v":25500},null,{"$f":"'kosten tabel 2015'!K258","v":4800},{"$f":"'kosten tabel 2015'!L258","v":5040}]
[{"$f":"'kosten tabel 2015'!A259","v":25600},null,{"$f":"'kosten tabel 2015'!K259","v":4800},{"$f":"'kosten tabel 2015'!L259","v":5040}]
[{"$f":"'kosten tabel 2015'!A260","v":25700},null,{"$f":"'kosten tabel 2015'!K260","v":4800},{"$f":"'kosten tabel 2015'!L260","v":5040}]
[{"$f":"'kosten tabel 2015'!A261","v":25800},null,{"$f":"'kosten tabel 2015'!K261","v":4800},{"$f":"'kosten tabel 2015'!L261","v":5040}]
[{"$f":"'kosten tabel 2015'!A262","v":25900},null,{"$f":"'kosten tabel 2015'!K262","v":4800},{"$f":"'kosten tabel 2015'!L262","v":5040}]
[{"$f":"'kosten tabel 2015'!A263","v":26000},null,{"$f":"'kosten tabel 2015'!K263","v":4800},{"$f":"'kosten tabel 2015'!L263","v":5040}]
[{"$f":"'kosten tabel 2015'!A264","v":26100},null,{"$f":"'kosten tabel 2015'!K264","v":4800},{"$f":"'kosten tabel 2015'!L264","v":5040}]
[{"$f":"'kosten tabel 2015'!A265","v":26200},null,{"$f":"'kosten tabel 2015'!K265","v":4900},{"$f":"'kosten tabel 2015'!L265","v":5145}]
[{"$f":"'kosten tabel 2015'!A266","v":26300},null,{"$f":"'kosten tabel 2015'!K266","v":4900},{"$f":"'kosten tabel 2015'!L266","v":5145}]
[{"$f":"'kosten tabel 2015'!A267","v":26400},null,{"$f":"'kosten tabel 2015'!K267","v":4900},{"$f":"'kosten tabel 2015'!L267","v":5145}]
[{"$f":"'kosten tabel 2015'!A268","v":26500},null,{"$f":"'kosten tabel 2015'!K268","v":4900},{"$f":"'kosten tabel 2015'!L268","v":5145}]
[{"$f":"'kosten tabel 2015'!A269","v":26600},null,{"$f":"'kosten tabel 2015'!K269","v":4900},{"$f":"'kosten tabel 2015'!L269","v":5145}]
[{"$f":"'kosten tabel 2015'!A270","v":26700},null,{"$f":"'kosten tabel 2015'!K270","v":4900},{"$f":"'kosten tabel 2015'!L270","v":5145}]
[{"$f":"'kosten tabel 2015'!A271","v":26800},null,{"$f":"'kosten tabel 2015'!K271","v":4900},{"$f":"'kosten tabel 2015'!L271","v":5145}]
[{"$f":"'kosten tabel 2015'!A272","v":26900},null,{"$f":"'kosten tabel 2015'!K272","v":4900},{"$f":"'kosten tabel 2015'!L272","v":5145}]
[{"$f":"'kosten tabel 2015'!A273","v":27000},null,{"$f":"'kosten tabel 2015'!K273","v":4900},{"$f":"'kosten tabel 2015'!L273","v":5145}]
[{"$f":"'kosten tabel 2015'!A274","v":27100},null,{"$f":"'kosten tabel 2015'!K274","v":4900},{"$f":"'kosten tabel 2015'!L274","v":5145}]
[{"$f":"'kosten tabel 2015'!A275","v":27200},null,{"$f":"'kosten tabel 2015'!K275","v":4900},{"$f":"'kosten tabel 2015'!L275","v":5145}]
[{"$f":"'kosten tabel 2015'!A276","v":27300},null,{"$f":"'kosten tabel 2015'!K276","v":5000},{"$f":"'kosten tabel 2015'!L276","v":5250}]
[{"$f":"'kosten tabel 2015'!A277","v":27400},null,{"$f":"'kosten tabel 2015'!K277","v":5000},{"$f":"'kosten tabel 2015'!L277","v":5250}]
[{"$f":"'kosten tabel 2015'!A278","v":27500},null,{"$f":"'kosten tabel 2015'!K278","v":5000},{"$f":"'kosten tabel 2015'!L278","v":5250}]
[{"$f":"'kosten tabel 2015'!A279","v":27600},null,{"$f":"'kosten tabel 2015'!K279","v":5000},{"$f":"'kosten tabel 2015'!L279","v":5250}]
[{"$f":"'kosten tabel 2015'!A280","v":27700},null,{"$f":"'kosten tabel 2015'!K280","v":5000},{"$f":"'kosten tabel 2015'!L280","v":5250}]
[{"$f":"'kosten tabel 2015'!A281","v":27800},null,{"$f":"'kosten tabel 2015'!K281","v":5000},{"$f":"'kosten tabel 2015'!L281","v":5250}]
[{"$f":"'kosten tabel 2015'!A282","v":27900},null,{"$f":"'kosten tabel 2015'!K282","v":5000},{"$f":"'kosten tabel 2015'!L282","v":5250}]
[{"$f":"'kosten tabel 2015'!A283","v":28000},null,{"$f":"'kosten tabel 2015'!K283","v":5000},{"$f":"'kosten tabel 2015'!L283","v":5250}]
[{"$f":"'kosten tabel 2015'!A284","v":28100},null,{"$f":"'kosten tabel 2015'!K284","v":5000},{"$f":"'kosten tabel 2015'!L284","v":5250}]
[{"$f":"'kosten tabel 2015'!A285","v":28200},null,{"$f":"'kosten tabel 2015'!K285","v":5000},{"$f":"'kosten tabel 2015'!L285","v":5250}]
[{"$f":"'kosten tabel 2015'!A286","v":28300},null,{"$f":"'kosten tabel 2015'!K286","v":5000},{"$f":"'kosten tabel 2015'!L286","v":5250}]
[{"$f":"'kosten tabel 2015'!A287","v":28400},null,{"$f":"'kosten tabel 2015'!K287","v":5100},{"$f":"'kosten tabel 2015'!L287","v":5355}]
[{"$f":"'kosten tabel 2015'!A288","v":28500},null,{"$f":"'kosten tabel 2015'!K288","v":5100},{"$f":"'kosten tabel 2015'!L288","v":5355}]
[{"$f":"'kosten tabel 2015'!A289","v":28600},null,{"$f":"'kosten tabel 2015'!K289","v":5100},{"$f":"'kosten tabel 2015'!L289","v":5355}]
[{"$f":"'kosten tabel 2015'!A290","v":28700},null,{"$f":"'kosten tabel 2015'!K290","v":5100},{"$f":"'kosten tabel 2015'!L290","v":5355}]
[{"$f":"'kosten tabel 2015'!A291","v":28800},null,{"$f":"'kosten tabel 2015'!K291","v":5100},{"$f":"'kosten tabel 2015'!L291","v":5355}]
[{"$f":"'kosten tabel 2015'!A292","v":28900},null,{"$f":"'kosten tabel 2015'!K292","v":5100},{"$f":"'kosten tabel 2015'!L292","v":5355}]
[{"$f":"'kosten tabel 2015'!A293","v":29000},null,{"$f":"'kosten tabel 2015'!K293","v":5100},{"$f":"'kosten tabel 2015'!L293","v":5355}]
[{"$f":"'kosten tabel 2015'!A294","v":29100},null,{"$f":"'kosten tabel 2015'!K294","v":5100},{"$f":"'kosten tabel 2015'!L294","v":5355}]
[{"$f":"'kosten tabel 2015'!A295","v":29200},null,{"$f":"'kosten tabel 2015'!K295","v":5100},{"$f":"'kosten tabel 2015'!L295","v":5355}]
[{"$f":"'kosten tabel 2015'!A296","v":29300},null,{"$f":"'kosten tabel 2015'!K296","v":5100},{"$f":"'kosten tabel 2015'!L296","v":5355}]
[{"$f":"'kosten tabel 2015'!A297","v":29400},null,{"$f":"'kosten tabel 2015'!K297","v":5100},{"$f":"'kosten tabel 2015'!L297","v":5355}]
[{"$f":"'kosten tabel 2015'!A298","v":29500},null,{"$f":"'kosten tabel 2015'!K298","v":5100},{"$f":"'kosten tabel 2015'!L298","v":5355}]
[{"$f":"'kosten tabel 2015'!A299","v":29600},null,{"$f":"'kosten tabel 2015'!K299","v":5200},{"$f":"'kosten tabel 2015'!L299","v":5460}]
[{"$f":"'kosten tabel 2015'!A300","v":29700},null,{"$f":"'kosten tabel 2015'!K300","v":5200},{"$f":"'kosten tabel 2015'!L300","v":5460}]
[{"$f":"'kosten tabel 2015'!A301","v":29800},null,{"$f":"'kosten tabel 2015'!K301","v":5200},{"$f":"'kosten tabel 2015'!L301","v":5460}]
[{"$f":"'kosten tabel 2015'!A302","v":29900},null,{"$f":"'kosten tabel 2015'!K302","v":5200},{"$f":"'kosten tabel 2015'!L302","v":5460}]
[{"$f":"'kosten tabel 2015'!A303","v":30000},null,{"$f":"'kosten tabel 2015'!K303","v":5200},{"$f":"'kosten tabel 2015'!L303","v":5460}]
[{"$f":"'kosten tabel 2015'!A304","v":30100},null,{"$f":"'kosten tabel 2015'!K304","v":5200},{"$f":"'kosten tabel 2015'!L304","v":5460}]
[{"$f":"'kosten tabel 2015'!A305","v":30200},null,{"$f":"'kosten tabel 2015'!K305","v":5200},{"$f":"'kosten tabel 2015'!L305","v":5460}]
[{"$f":"'kosten tabel 2015'!A306","v":30300},null,{"$f":"'kosten tabel 2015'!K306","v":5200},{"$f":"'kosten tabel 2015'!L306","v":5460}]
[{"$f":"'kosten tabel 2015'!A307","v":30400},null,{"$f":"'kosten tabel 2015'!K307","v":5200},{"$f":"'kosten tabel 2015'!L307","v":5460}]
[{"$f":"'kosten tabel 2015'!A308","v":30500},null,{"$f":"'kosten tabel 2015'!K308","v":5200},{"$f":"'kosten tabel 2015'!L308","v":5460}]
[{"$f":"'kosten tabel 2015'!A309","v":30600},null,{"$f":"'kosten tabel 2015'!K309","v":5200},{"$f":"'kosten tabel 2015'!L309","v":5460}]
[{"$f":"'kosten tabel 2015'!A310","v":30700},null,{"$f":"'kosten tabel 2015'!K310","v":5200},{"$f":"'kosten tabel 2015'!L310","v":5460}]
[{"$f":"'kosten tabel 2015'!A311","v":30800},null,{"$f":"'kosten tabel 2015'!K311","v":5300},{"$f":"'kosten tabel 2015'!L311","v":5565}]
[{"$f":"'kosten tabel 2015'!A312","v":30900},null,{"$f":"'kosten tabel 2015'!K312","v":5300},{"$f":"'kosten tabel 2015'!L312","v":5565}]
[{"$f":"'kosten tabel 2015'!A313","v":31000},null,{"$f":"'kosten tabel 2015'!K313","v":5300},{"$f":"'kosten tabel 2015'!L313","v":5565}]
[{"$f":"'kosten tabel 2015'!A314","v":31100},null,{"$f":"'kosten tabel 2015'!K314","v":5300},{"$f":"'kosten tabel 2015'!L314","v":5565}]
[{"$f":"'kosten tabel 2015'!A315","v":31200},null,{"$f":"'kosten tabel 2015'!K315","v":5300},{"$f":"'kosten tabel 2015'!L315","v":5565}]
[{"$f":"'kosten tabel 2015'!A316","v":31300},null,{"$f":"'kosten tabel 2015'!K316","v":5300},{"$f":"'kosten tabel 2015'!L316","v":5565}]
[{"$f":"'kosten tabel 2015'!A317","v":31400},null,{"$f":"'kosten tabel 2015'!K317","v":5300},{"$f":"'kosten tabel 2015'!L317","v":5565}]
[{"$f":"'kosten tabel 2015'!A318","v":31500},null,{"$f":"'kosten tabel 2015'!K318","v":5300},{"$f":"'kosten tabel 2015'!L318","v":5565}]
[{"$f":"'kosten tabel 2015'!A319","v":31600},null,{"$f":"'kosten tabel 2015'!K319","v":5300},{"$f":"'kosten tabel 2015'!L319","v":5565}]
[{"$f":"'kosten tabel 2015'!A320","v":31700},null,{"$f":"'kosten tabel 2015'!K320","v":5300},{"$f":"'kosten tabel 2015'!L320","v":5565}]
[{"$f":"'kosten tabel 2015'!A321","v":31800},null,{"$f":"'kosten tabel 2015'!K321","v":5300},{"$f":"'kosten tabel 2015'!L321","v":5565}]
[{"$f":"'kosten tabel 2015'!A322","v":31900},null,{"$f":"'kosten tabel 2015'!K322","v":5300},{"$f":"'kosten tabel 2015'!L322","v":5565}]
[{"$f":"'kosten tabel 2015'!A323","v":32000},null,{"$f":"'kosten tabel 2015'!K323","v":5400},{"$f":"'kosten tabel 2015'!L323","v":5670}]
[{"$f":"'kosten tabel 2015'!A324","v":32100},null,{"$f":"'kosten tabel 2015'!K324","v":5400},{"$f":"'kosten tabel 2015'!L324","v":5670}]
[{"$f":"'kosten tabel 2015'!A325","v":32200},null,{"$f":"'kosten tabel 2015'!K325","v":5400},{"$f":"'kosten tabel 2015'!L325","v":5670}]
[{"$f":"'kosten tabel 2015'!A326","v":32300},null,{"$f":"'kosten tabel 2015'!K326","v":5400},{"$f":"'kosten tabel 2015'!L326","v":5670}]
[{"$f":"'kosten tabel 2015'!A327","v":32400},null,{"$f":"'kosten tabel 2015'!K327","v":5400},{"$f":"'kosten tabel 2015'!L327","v":5670}]
[{"$f":"'kosten tabel 2015'!A328","v":32500},null,{"$f":"'kosten tabel 2015'!K328","v":5400},{"$f":"'kosten tabel 2015'!L328","v":5670}]
[{"$f":"'kosten tabel 2015'!A329","v":32600},null,{"$f":"'kosten tabel 2015'!K329","v":5400},{"$f":"'kosten tabel 2015'!L329","v":5670}]
[{"$f":"'kosten tabel 2015'!A330","v":32700},null,{"$f":"'kosten tabel 2015'!K330","v":5400},{"$f":"'kosten tabel 2015'!L330","v":5670}]
[{"$f":"'kosten tabel 2015'!A331","v":32800},null,{"$f":"'kosten tabel 2015'!K331","v":5400},{"$f":"'kosten tabel 2015'!L331","v":5670}]
[{"$f":"'kosten tabel 2015'!A332","v":32900},null,{"$f":"'kosten tabel 2015'!K332","v":5400},{"$f":"'kosten tabel 2015'!L332","v":5670}]
[{"$f":"'kosten tabel 2015'!A333","v":33000},null,{"$f":"'kosten tabel 2015'!K333","v":5400},{"$f":"'kosten tabel 2015'!L333","v":5670}]
[{"$f":"'kosten tabel 2015'!A334","v":33100},null,{"$f":"'kosten tabel 2015'!K334","v":5400},{"$f":"'kosten tabel 2015'!L334","v":5670}]
[{"$f":"'kosten tabel 2015'!A335","v":33200},null,{"$f":"'kosten tabel 2015'!K335","v":5500},{"$f":"'kosten tabel 2015'!L335","v":5775}]
[{"$f":"'kosten tabel 2015'!A336","v":33300},null,{"$f":"'kosten tabel 2015'!K336","v":5500},{"$f":"'kosten tabel 2015'!L336","v":5775}]
[{"$f":"'kosten tabel 2015'!A337","v":33400},null,{"$f":"'kosten tabel 2015'!K337","v":5500},{"$f":"'kosten tabel 2015'!L337","v":5775}]
[{"$f":"'kosten tabel 2015'!A338","v":33500},null,{"$f":"'kosten tabel 2015'!K338","v":5500},{"$f":"'kosten tabel 2015'!L338","v":5775}]
[{"$f":"'kosten tabel 2015'!A339","v":33600},null,{"$f":"'kosten tabel 2015'!K339","v":5500},{"$f":"'kosten tabel 2015'!L339","v":5775}]
[{"$f":"'kosten tabel 2015'!A340","v":33700},null,{"$f":"'kosten tabel 2015'!K340","v":5500},{"$f":"'kosten tabel 2015'!L340","v":5775}]
[{"$f":"'kosten tabel 2015'!A341","v":33800},null,{"$f":"'kosten tabel 2015'!K341","v":5500},{"$f":"'kosten tabel 2015'!L341","v":5775}]
[{"$f":"'kosten tabel 2015'!A342","v":33900},null,{"$f":"'kosten tabel 2015'!K342","v":5500},{"$f":"'kosten tabel 2015'!L342","v":5775}]
[{"$f":"'kosten tabel 2015'!A343","v":34000},null,{"$f":"'kosten tabel 2015'!K343","v":5500},{"$f":"'kosten tabel 2015'!L343","v":5775}]
[{"$f":"'kosten tabel 2015'!A344","v":34100},null,{"$f":"'kosten tabel 2015'!K344","v":5500},{"$f":"'kosten tabel 2015'!L344","v":5775}]
[{"$f":"'kosten tabel 2015'!A345","v":34200},null,{"$f":"'kosten tabel 2015'!K345","v":5500},{"$f":"'kosten tabel 2015'!L345","v":5775}]
[{"$f":"'kosten tabel 2015'!A346","v":34300},null,{"$f":"'kosten tabel 2015'!K346","v":5500},{"$f":"'kosten tabel 2015'!L346","v":5775}]
[{"$f":"'kosten tabel 2015'!A347","v":34400},null,{"$f":"'kosten tabel 2015'!K347","v":5600},{"$f":"'kosten tabel 2015'!L347","v":5880}]
[{"$f":"'kosten tabel 2015'!A348","v":34500},null,{"$f":"'kosten tabel 2015'!K348","v":5600},{"$f":"'kosten tabel 2015'!L348","v":5880}]
[{"$f":"'kosten tabel 2015'!A349","v":34600},null,{"$f":"'kosten tabel 2015'!K349","v":5600},{"$f":"'kosten tabel 2015'!L349","v":5880}]
[{"$f":"'kosten tabel 2015'!A350","v":34700},null,{"$f":"'kosten tabel 2015'!K350","v":5600},{"$f":"'kosten tabel 2015'!L350","v":5880}]
[{"$f":"'kosten tabel 2015'!A351","v":34800},null,{"$f":"'kosten tabel 2015'!K351","v":5600},{"$f":"'kosten tabel 2015'!L351","v":5880}]
[{"$f":"'kosten tabel 2015'!A352","v":34900},null,{"$f":"'kosten tabel 2015'!K352","v":5600},{"$f":"'kosten tabel 2015'!L352","v":5880}]
[{"$f":"'kosten tabel 2015'!A353","v":35000},null,{"$f":"'kosten tabel 2015'!K353","v":5600},{"$f":"'kosten tabel 2015'!L353","v":5880}]
[{"$f":"'kosten tabel 2015'!A354","v":35100},null,{"$f":"'kosten tabel 2015'!K354","v":5600},{"$f":"'kosten tabel 2015'!L354","v":5880}]
[{"$f":"'kosten tabel 2015'!A355","v":35200},null,{"$f":"'kosten tabel 2015'!K355","v":5600},{"$f":"'kosten tabel 2015'!L355","v":5880}]
[{"$f":"'kosten tabel 2015'!A356","v":35300},null,{"$f":"'kosten tabel 2015'!K356","v":5600},{"$f":"'kosten tabel 2015'!L356","v":5880}]
[{"$f":"'kosten tabel 2015'!A357","v":35400},null,{"$f":"'kosten tabel 2015'!K357","v":5600},{"$f":"'kosten tabel 2015'!L357","v":5880}]
[{"$f":"'kosten tabel 2015'!A358","v":35500},null,{"$f":"'kosten tabel 2015'!K358","v":5600},{"$f":"'kosten tabel 2015'!L358","v":5880}]
[{"$f":"'kosten tabel 2015'!A359","v":35600},null,{"$f":"'kosten tabel 2015'!K359","v":5600},{"$f":"'kosten tabel 2015'!L359","v":5880}]
[{"$f":"'kosten tabel 2015'!A360","v":35700},null,{"$f":"'kosten tabel 2015'!K360","v":5700},{"$f":"'kosten tabel 2015'!L360","v":5985}]
[{"$f":"'kosten tabel 2015'!A361","v":35800},null,{"$f":"'kosten tabel 2015'!K361","v":5700},{"$f":"'kosten tabel 2015'!L361","v":5985}]
[{"$f":"'kosten tabel 2015'!A362","v":35900},null,{"$f":"'kosten tabel 2015'!K362","v":5700},{"$f":"'kosten tabel 2015'!L362","v":5985}]
[{"$f":"'kosten tabel 2015'!A363","v":36000},null,{"$f":"'kosten tabel 2015'!K363","v":5700},{"$f":"'kosten tabel 2015'!L363","v":5985}]
[{"$f":"'kosten tabel 2015'!A364","v":36100},null,{"$f":"'kosten tabel 2015'!K364","v":5700},{"$f":"'kosten tabel 2015'!L364","v":5985}]
[{"$f":"'kosten tabel 2015'!A365","v":36200},null,{"$f":"'kosten tabel 2015'!K365","v":5700},{"$f":"'kosten tabel 2015'!L365","v":5985}]
[{"$f":"'kosten tabel 2015'!A366","v":36300},null,{"$f":"'kosten tabel 2015'!K366","v":5700},{"$f":"'kosten tabel 2015'!L366","v":5985}]
[{"$f":"'kosten tabel 2015'!A367","v":36400},null,{"$f":"'kosten tabel 2015'!K367","v":5700},{"$f":"'kosten tabel 2015'!L367","v":5985}]
[{"$f":"'kosten tabel 2015'!A368","v":36500},null,{"$f":"'kosten tabel 2015'!K368","v":5700},{"$f":"'kosten tabel 2015'!L368","v":5985}]
[{"$f":"'kosten tabel 2015'!A369","v":36600},null,{"$f":"'kosten tabel 2015'!K369","v":5700},{"$f":"'kosten tabel 2015'!L369","v":5985}]
[{"$f":"'kosten tabel 2015'!A370","v":36700},null,{"$f":"'kosten tabel 2015'!K370","v":5700},{"$f":"'kosten tabel 2015'!L370","v":5985}]
[{"$f":"'kosten tabel 2015'!A371","v":36800},null,{"$f":"'kosten tabel 2015'!K371","v":5700},{"$f":"'kosten tabel 2015'!L371","v":5985}]
[{"$f":"'kosten tabel 2015'!A372","v":36900},null,{"$f":"'kosten tabel 2015'!K372","v":5700},{"$f":"'kosten tabel 2015'!L372","v":5985}]
[{"$f":"'kosten tabel 2015'!A373","v":37000},null,{"$f":"'kosten tabel 2015'!K373","v":5800},{"$f":"'kosten tabel 2015'!L373","v":6090}]
[{"$f":"'kosten tabel 2015'!A374","v":37100},null,{"$f":"'kosten tabel 2015'!K374","v":5800},{"$f":"'kosten tabel 2015'!L374","v":6090}]
[{"$f":"'kosten tabel 2015'!A375","v":37200},null,{"$f":"'kosten tabel 2015'!K375","v":5800},{"$f":"'kosten tabel 2015'!L375","v":6090}]
[{"$f":"'kosten tabel 2015'!A376","v":37300},null,{"$f":"'kosten tabel 2015'!K376","v":5800},{"$f":"'kosten tabel 2015'!L376","v":6090}]
[{"$f":"'kosten tabel 2015'!A377","v":37400},null,{"$f":"'kosten tabel 2015'!K377","v":5800},{"$f":"'kosten tabel 2015'!L377","v":6090}]
[{"$f":"'kosten tabel 2015'!A378","v":37500},null,{"$f":"'kosten tabel 2015'!K378","v":5800},{"$f":"'kosten tabel 2015'!L378","v":6090}]
[{"$f":"'kosten tabel 2015'!A379","v":37600},null,{"$f":"'kosten tabel 2015'!K379","v":5800},{"$f":"'kosten tabel 2015'!L379","v":6090}]
[{"$f":"'kosten tabel 2015'!A380","v":37700},null,{"$f":"'kosten tabel 2015'!K380","v":5800},{"$f":"'kosten tabel 2015'!L380","v":6090}]
[{"$f":"'kosten tabel 2015'!A381","v":37800},null,{"$f":"'kosten tabel 2015'!K381","v":5800},{"$f":"'kosten tabel 2015'!L381","v":6090}]
[{"$f":"'kosten tabel 2015'!A382","v":37900},null,{"$f":"'kosten tabel 2015'!K382","v":5800},{"$f":"'kosten tabel 2015'!L382","v":6090}]
[{"$f":"'kosten tabel 2015'!A383","v":38000},null,{"$f":"'kosten tabel 2015'!K383","v":5800},{"$f":"'kosten tabel 2015'!L383","v":6090}]
[{"$f":"'kosten tabel 2015'!A384","v":38100},null,{"$f":"'kosten tabel 2015'!K384","v":5800},{"$f":"'kosten tabel 2015'!L384","v":6090}]
[{"$f":"'kosten tabel 2015'!A385","v":38200},null,{"$f":"'kosten tabel 2015'!K385","v":5800},{"$f":"'kosten tabel 2015'!L385","v":6090}]
[{"$f":"'kosten tabel 2015'!A386","v":38300},null,{"$f":"'kosten tabel 2015'!K386","v":5900},{"$f":"'kosten tabel 2015'!L386","v":6195}]
[{"$f":"'kosten tabel 2015'!A387","v":38400},null,{"$f":"'kosten tabel 2015'!K387","v":5900},{"$f":"'kosten tabel 2015'!L387","v":6195}]
[{"$f":"'kosten tabel 2015'!A388","v":38500},null,{"$f":"'kosten tabel 2015'!K388","v":5900},{"$f":"'kosten tabel 2015'!L388","v":6195}]
[{"$f":"'kosten tabel 2015'!A389","v":38600},null,{"$f":"'kosten tabel 2015'!K389","v":5900},{"$f":"'kosten tabel 2015'!L389","v":6195}]
[{"$f":"'kosten tabel 2015'!A390","v":38700},null,{"$f":"'kosten tabel 2015'!K390","v":5900},{"$f":"'kosten tabel 2015'!L390","v":6195}]
[{"$f":"'kosten tabel 2015'!A391","v":38800},null,{"$f":"'kosten tabel 2015'!K391","v":5900},{"$f":"'kosten tabel 2015'!L391","v":6195}]
[{"$f":"'kosten tabel 2015'!A392","v":38900},null,{"$f":"'kosten tabel 2015'!K392","v":5900},{"$f":"'kosten tabel 2015'!L392","v":6195}]
[{"$f":"'kosten tabel 2015'!A393","v":39000},null,{"$f":"'kosten tabel 2015'!K393","v":5900},{"$f":"'kosten tabel 2015'!L393","v":6195}]
[{"$f":"'kosten tabel 2015'!A394","v":39100},null,{"$f":"'kosten tabel 2015'!K394","v":5900},{"$f":"'kosten tabel 2015'!L394","v":6195}]
[{"$f":"'kosten tabel 2015'!A395","v":39200},null,{"$f":"'kosten tabel 2015'!K395","v":5900},{"$f":"'kosten tabel 2015'!L395","v":6195}]
[{"$f":"'kosten tabel 2015'!A396","v":39300},null,{"$f":"'kosten tabel 2015'!K396","v":5900},{"$f":"'kosten tabel 2015'!L396","v":6195}]
[{"$f":"'kosten tabel 2015'!A397","v":39400},null,{"$f":"'kosten tabel 2015'!K397","v":5900},{"$f":"'kosten tabel 2015'!L397","v":6195}]
[{"$f":"'kosten tabel 2015'!A398","v":39500},null,{"$f":"'kosten tabel 2015'!K398","v":5900},{"$f":"'kosten tabel 2015'!L398","v":6195}]
[{"$f":"'kosten tabel 2015'!A399","v":39600},null,{"$f":"'kosten tabel 2015'!K399","v":5900},{"$f":"'kosten tabel 2015'!L399","v":6195}]
[{"$f":"'kosten tabel 2015'!A400","v":39700},null,{"$f":"'kosten tabel 2015'!K400","v":6000},{"$f":"'kosten tabel 2015'!L400","v":6300}]
[{"$f":"'kosten tabel 2015'!A401","v":39800},null,{"$f":"'kosten tabel 2015'!K401","v":6000},{"$f":"'kosten tabel 2015'!L401","v":6300}]
[{"$f":"'kosten tabel 2015'!A402","v":39900},null,{"$f":"'kosten tabel 2015'!K402","v":6000},{"$f":"'kosten tabel 2015'!L402","v":6300}]
[{"$f":"'kosten tabel 2015'!A403","v":40000},null,{"$f":"'kosten tabel 2015'!K403","v":6000},{"$f":"'kosten tabel 2015'!L403","v":6300}]
[{"$f":"'kosten tabel 2015'!A404","v":40100},null,{"$f":"'kosten tabel 2015'!K404","v":6000},{"$f":"'kosten tabel 2015'!L404","v":6300}]
[{"$f":"'kosten tabel 2015'!A405","v":40200},null,{"$f":"'kosten tabel 2015'!K405","v":6000},{"$f":"'kosten tabel 2015'!L405","v":6300}]
[{"$f":"'kosten tabel 2015'!A406","v":40300},null,{"$f":"'kosten tabel 2015'!K406","v":6000},{"$f":"'kosten tabel 2015'!L406","v":6300}]
[{"$f":"'kosten tabel 2015'!A407","v":40400},null,{"$f":"'kosten tabel 2015'!K407","v":6000},{"$f":"'kosten tabel 2015'!L407","v":6300}]
[{"$f":"'kosten tabel 2015'!A408","v":40500},null,{"$f":"'kosten tabel 2015'!K408","v":6000},{"$f":"'kosten tabel 2015'!L408","v":6300}]
[{"$f":"'kosten tabel 2015'!A409","v":40600},null,{"$f":"'kosten tabel 2015'!K409","v":6000},{"$f":"'kosten tabel 2015'!L409","v":6300}]
[{"$f":"'kosten tabel 2015'!A410","v":40700},null,{"$f":"'kosten tabel 2015'!K410","v":6000},{"$f":"'kosten tabel 2015'!L410","v":6300}]
[{"$f":"'kosten tabel 2015'!A411","v":40800},null,{"$f":"'kosten tabel 2015'!K411","v":6000},{"$f":"'kosten tabel 2015'!L411","v":6300}]
[{"$f":"'kosten tabel 2015'!A412","v":40900},null,{"$f":"'kosten tabel 2015'!K412","v":6000},{"$f":"'kosten tabel 2015'!L412","v":6300}]
[{"$f":"'kosten tabel 2015'!A413","v":41000},null,{"$f":"'kosten tabel 2015'!K413","v":6100},{"$f":"'kosten tabel 2015'!L413","v":6405}]
[{"$f":"'kosten tabel 2015'!A414","v":41100},null,{"$f":"'kosten tabel 2015'!K414","v":6100},{"$f":"'kosten tabel 2015'!L414","v":6405}]
[{"$f":"'kosten tabel 2015'!A415","v":41200},null,{"$f":"'kosten tabel 2015'!K415","v":6100},{"$f":"'kosten tabel 2015'!L415","v":6405}]
[{"$f":"'kosten tabel 2015'!A416","v":41300},null,{"$f":"'kosten tabel 2015'!K416","v":6100},{"$f":"'kosten tabel 2015'!L416","v":6405}]
[{"$f":"'kosten tabel 2015'!A417","v":41400},null,{"$f":"'kosten tabel 2015'!K417","v":6100},{"$f":"'kosten tabel 2015'!L417","v":6405}]
[{"$f":"'kosten tabel 2015'!A418","v":41500},null,{"$f":"'kosten tabel 2015'!K418","v":6100},{"$f":"'kosten tabel 2015'!L418","v":6405}]
[{"$f":"'kosten tabel 2015'!A419","v":41600},null,{"$f":"'kosten tabel 2015'!K419","v":6100},{"$f":"'kosten tabel 2015'!L419","v":6405}]
[{"$f":"'kosten tabel 2015'!A420","v":41700},null,{"$f":"'kosten tabel 2015'!K420","v":6100},{"$f":"'kosten tabel 2015'!L420","v":6405}]
[{"$f":"'kosten tabel 2015'!A421","v":41800},null,{"$f":"'kosten tabel 2015'!K421","v":6100},{"$f":"'kosten tabel 2015'!L421","v":6405}]
[{"$f":"'kosten tabel 2015'!A422","v":41900},null,{"$f":"'kosten tabel 2015'!K422","v":6100},{"$f":"'kosten tabel 2015'!L422","v":6405}]
[{"$f":"'kosten tabel 2015'!A423","v":42000},null,{"$f":"'kosten tabel 2015'!K423","v":6100},{"$f":"'kosten tabel 2015'!L423","v":6405}]
[{"$f":"'kosten tabel 2015'!A424","v":42100},null,{"$f":"'kosten tabel 2015'!K424","v":6100},{"$f":"'kosten tabel 2015'!L424","v":6405}]
[{"$f":"'kosten tabel 2015'!A425","v":42200},null,{"$f":"'kosten tabel 2015'!K425","v":6100},{"$f":"'kosten tabel 2015'!L425","v":6405}]
[{"$f":"'kosten tabel 2015'!A426","v":42300},null,{"$f":"'kosten tabel 2015'!K426","v":6100},{"$f":"'kosten tabel 2015'!L426","v":6405}]
[{"$f":"'kosten tabel 2015'!A427","v":42400},null,{"$f":"'kosten tabel 2015'!K427","v":6200},{"$f":"'kosten tabel 2015'!L427","v":6510}]
[{"$f":"'kosten tabel 2015'!A428","v":42500},null,{"$f":"'kosten tabel 2015'!K428","v":6200},{"$f":"'kosten tabel 2015'!L428","v":6510}]
[{"$f":"'kosten tabel 2015'!A429","v":42600},null,{"$f":"'kosten tabel 2015'!K429","v":6200},{"$f":"'kosten tabel 2015'!L429","v":6510}]
[{"$f":"'kosten tabel 2015'!A430","v":42700},null,{"$f":"'kosten tabel 2015'!K430","v":6200},{"$f":"'kosten tabel 2015'!L430","v":6510}]
[{"$f":"'kosten tabel 2015'!A431","v":42800},null,{"$f":"'kosten tabel 2015'!K431","v":6200},{"$f":"'kosten tabel 2015'!L431","v":6510}]
[{"$f":"'kosten tabel 2015'!A432","v":42900},null,{"$f":"'kosten tabel 2015'!K432","v":6200},{"$f":"'kosten tabel 2015'!L432","v":6510}]
[{"$f":"'kosten tabel 2015'!A433","v":43000},null,{"$f":"'kosten tabel 2015'!K433","v":6200},{"$f":"'kosten tabel 2015'!L433","v":6510}]
[{"$f":"'kosten tabel 2015'!A434","v":43100},null,{"$f":"'kosten tabel 2015'!K434","v":6200},{"$f":"'kosten tabel 2015'!L434","v":6510}]
[{"$f":"'kosten tabel 2015'!A435","v":43200},null,{"$f":"'kosten tabel 2015'!K435","v":6200},{"$f":"'kosten tabel 2015'!L435","v":6510}]
[{"$f":"'kosten tabel 2015'!A436","v":43300},null,{"$f":"'kosten tabel 2015'!K436","v":6200},{"$f":"'kosten tabel 2015'!L436","v":6510}]
[{"$f":"'kosten tabel 2015'!A437","v":43400},null,{"$f":"'kosten tabel 2015'!K437","v":6200},{"$f":"'kosten tabel 2015'!L437","v":6510}]
[{"$f":"'kosten tabel 2015'!A438","v":43500},null,{"$f":"'kosten tabel 2015'!K438","v":6200},{"$f":"'kosten tabel 2015'!L438","v":6510}]
[{"$f":"'kosten tabel 2015'!A439","v":43600},null,{"$f":"'kosten tabel 2015'!K439","v":6200},{"$f":"'kosten tabel 2015'!L439","v":6510}]
[{"$f":"'kosten tabel 2015'!A440","v":43700},null,{"$f":"'kosten tabel 2015'!K440","v":6200},{"$f":"'kosten tabel 2015'!L440","v":6510}]
[{"$f":"'kosten tabel 2015'!A441","v":43800},null,{"$f":"'kosten tabel 2015'!K441","v":6300},{"$f":"'kosten tabel 2015'!L441","v":6615}]
[{"$f":"'kosten tabel 2015'!A442","v":43900},null,{"$f":"'kosten tabel 2015'!K442","v":6300},{"$f":"'kosten tabel 2015'!L442","v":6615}]
[{"$f":"'kosten tabel 2015'!A443","v":44000},null,{"$f":"'kosten tabel 2015'!K443","v":6300},{"$f":"'kosten tabel 2015'!L443","v":6615}]
[{"$f":"'kosten tabel 2015'!A444","v":44100},null,{"$f":"'kosten tabel 2015'!K444","v":6300},{"$f":"'kosten tabel 2015'!L444","v":6615}]
[{"$f":"'kosten tabel 2015'!A445","v":44200},null,{"$f":"'kosten tabel 2015'!K445","v":6300},{"$f":"'kosten tabel 2015'!L445","v":6615}]
[{"$f":"'kosten tabel 2015'!A446","v":44300},null,{"$f":"'kosten tabel 2015'!K446","v":6300},{"$f":"'kosten tabel 2015'!L446","v":6615}]
[{"$f":"'kosten tabel 2015'!A447","v":44400},null,{"$f":"'kosten tabel 2015'!K447","v":6300},{"$f":"'kosten tabel 2015'!L447","v":6615}]
[{"$f":"'kosten tabel 2015'!A448","v":44500},null,{"$f":"'kosten tabel 2015'!K448","v":6300},{"$f":"'kosten tabel 2015'!L448","v":6615}]
[{"$f":"'kosten tabel 2015'!A449","v":44600},null,{"$f":"'kosten tabel 2015'!K449","v":6300},{"$f":"'kosten tabel 2015'!L449","v":6615}]
[{"$f":"'kosten tabel 2015'!A450","v":44700},null,{"$f":"'kosten tabel 2015'!K450","v":6300},{"$f":"'kosten tabel 2015'!L450","v":6615}]
[{"$f":"'kosten tabel 2015'!A451","v":44800},null,{"$f":"'kosten tabel 2015'!K451","v":6300},{"$f":"'kosten tabel 2015'!L451","v":6615}]
[{"$f":"'kosten tabel 2015'!A452","v":44900},null,{"$f":"'kosten tabel 2015'!K452","v":6300},{"$f":"'kosten tabel 2015'!L452","v":6615}]
[{"$f":"'kosten tabel 2015'!A453","v":45000},null,{"$f":"'kosten tabel 2015'!K453","v":6300},{"$f":"'kosten tabel 2015'!L453","v":6615}]
[{"$f":"'kosten tabel 2015'!A454","v":45100},null,{"$f":"'kosten tabel 2015'!K454","v":6400},{"$f":"'kosten tabel 2015'!L454","v":6720}]
[{"$f":"'kosten tabel 2015'!A455","v":45200},null,{"$f":"'kosten tabel 2015'!K455","v":6400},{"$f":"'kosten tabel 2015'!L455","v":6720}]
[{"$f":"'kosten tabel 2015'!A456","v":45300},null,{"$f":"'kosten tabel 2015'!K456","v":6400},{"$f":"'kosten tabel 2015'!L456","v":6720}]
[{"$f":"'kosten tabel 2015'!A457","v":45400},null,{"$f":"'kosten tabel 2015'!K457","v":6400},{"$f":"'kosten tabel 2015'!L457","v":6720}]
[{"$f":"'kosten tabel 2015'!A458","v":45500},null,{"$f":"'kosten tabel 2015'!K458","v":6400},{"$f":"'kosten tabel 2015'!L458","v":6720}]
[{"$f":"'kosten tabel 2015'!A459","v":45600},null,{"$f":"'kosten tabel 2015'!K459","v":6500},{"$f":"'kosten tabel 2015'!L459","v":6825}]
[{"$f":"'kosten tabel 2015'!A460","v":45700},null,{"$f":"'kosten tabel 2015'!K460","v":6500},{"$f":"'kosten tabel 2015'!L460","v":6825}]
[{"$f":"'kosten tabel 2015'!A461","v":45800},null,{"$f":"'kosten tabel 2015'!K461","v":6500},{"$f":"'kosten tabel 2015'!L461","v":6825}]
[{"$f":"'kosten tabel 2015'!A462","v":45900},null,{"$f":"'kosten tabel 2015'!K462","v":6500},{"$f":"'kosten tabel 2015'!L462","v":6825}]
[{"$f":"'kosten tabel 2015'!A463","v":46000},null,{"$f":"'kosten tabel 2015'!K463","v":6500},{"$f":"'kosten tabel 2015'!L463","v":6825}]
[{"$f":"'kosten tabel 2015'!A464","v":46100},null,{"$f":"'kosten tabel 2015'!K464","v":6500},{"$f":"'kosten tabel 2015'!L464","v":6825}]
[{"$f":"'kosten tabel 2015'!A465","v":46200},null,{"$f":"'kosten tabel 2015'!K465","v":6600},{"$f":"'kosten tabel 2015'!L465","v":6930}]
[{"$f":"'kosten tabel 2015'!A466","v":46300},null,{"$f":"'kosten tabel 2015'!K466","v":6600},{"$f":"'kosten tabel 2015'!L466","v":6930}]
[{"$f":"'kosten tabel 2015'!A467","v":46400},null,{"$f":"'kosten tabel 2015'!K467","v":6600},{"$f":"'kosten tabel 2015'!L467","v":6930}]
[{"$f":"'kosten tabel 2015'!A468","v":46500},null,{"$f":"'kosten tabel 2015'!K468","v":6600},{"$f":"'kosten tabel 2015'!L468","v":6930}]
[{"$f":"'kosten tabel 2015'!A469","v":46600},null,{"$f":"'kosten tabel 2015'!K469","v":6600},{"$f":"'kosten tabel 2015'!L469","v":6930}]
[{"$f":"'kosten tabel 2015'!A470","v":46700},null,{"$f":"'kosten tabel 2015'!K470","v":6600},{"$f":"'kosten tabel 2015'!L470","v":6930}]
[{"$f":"'kosten tabel 2015'!A471","v":46800},null,{"$f":"'kosten tabel 2015'!K471","v":6700},{"$f":"'kosten tabel 2015'!L471","v":7035}]
[{"$f":"'kosten tabel 2015'!A472","v":46900},null,{"$f":"'kosten tabel 2015'!K472","v":6700},{"$f":"'kosten tabel 2015'!L472","v":7035}]
[{"$f":"'kosten tabel 2015'!A473","v":47000},null,{"$f":"'kosten tabel 2015'!K473","v":6700},{"$f":"'kosten tabel 2015'!L473","v":7035}]
[{"$f":"'kosten tabel 2015'!A474","v":47100},null,{"$f":"'kosten tabel 2015'!K474","v":6700},{"$f":"'kosten tabel 2015'!L474","v":7035}]
[{"$f":"'kosten tabel 2015'!A475","v":47200},null,{"$f":"'kosten tabel 2015'!K475","v":6700},{"$f":"'kosten tabel 2015'!L475","v":7035}]
[{"$f":"'kosten tabel 2015'!A476","v":47300},null,{"$f":"'kosten tabel 2015'!K476","v":6700},{"$f":"'kosten tabel 2015'!L476","v":7035}]
[{"$f":"'kosten tabel 2015'!A477","v":47400},null,{"$f":"'kosten tabel 2015'!K477","v":6800},{"$f":"'kosten tabel 2015'!L477","v":7140}]
[{"$f":"'kosten tabel 2015'!A478","v":47500},null,{"$f":"'kosten tabel 2015'!K478","v":6800},{"$f":"'kosten tabel 2015'!L478","v":7140}]
[{"$f":"'kosten tabel 2015'!A479","v":47600},null,{"$f":"'kosten tabel 2015'!K479","v":6800},{"$f":"'kosten tabel 2015'!L479","v":7140}]
[{"$f":"'kosten tabel 2015'!A480","v":47700},null,{"$f":"'kosten tabel 2015'!K480","v":6800},{"$f":"'kosten tabel 2015'!L480","v":7140}]
[{"$f":"'kosten tabel 2015'!A481","v":47800},null,{"$f":"'kosten tabel 2015'!K481","v":6800},{"$f":"'kosten tabel 2015'!L481","v":7140}]
[{"$f":"'kosten tabel 2015'!A482","v":47900},null,{"$f":"'kosten tabel 2015'!K482","v":6900},{"$f":"'kosten tabel 2015'!L482","v":7245}]
[{"$f":"'kosten tabel 2015'!A483","v":48000},null,{"$f":"'kosten tabel 2015'!K483","v":6900},{"$f":"'kosten tabel 2015'!L483","v":7245}]
[{"$f":"'kosten tabel 2015'!A484","v":48100},null,{"$f":"'kosten tabel 2015'!K484","v":6900},{"$f":"'kosten tabel 2015'!L484","v":7245}]
[{"$f":"'kosten tabel 2015'!A485","v":48200},null,{"$f":"'kosten tabel 2015'!K485","v":6900},{"$f":"'kosten tabel 2015'!L485","v":7245}]
[{"$f":"'kosten tabel 2015'!A486","v":48300},null,{"$f":"'kosten tabel 2015'!K486","v":6900},{"$f":"'kosten tabel 2015'!L486","v":7245}]
[{"$f":"'kosten tabel 2015'!A487","v":48400},null,{"$f":"'kosten tabel 2015'!K487","v":6900},{"$f":"'kosten tabel 2015'!L487","v":7245}]
[{"$f":"'kosten tabel 2015'!A488","v":48500},null,{"$f":"'kosten tabel 2015'!K488","v":7000},{"$f":"'kosten tabel 2015'!L488","v":7350}]
[{"$f":"'kosten tabel 2015'!A489","v":48600},null,{"$f":"'kosten tabel 2015'!K489","v":7000},{"$f":"'kosten tabel 2015'!L489","v":7350}]
[{"$f":"'kosten tabel 2015'!A490","v":48700},null,{"$f":"'kosten tabel 2015'!K490","v":7000},{"$f":"'kosten tabel 2015'!L490","v":7350}]
[{"$f":"'kosten tabel 2015'!A491","v":48800},null,{"$f":"'kosten tabel 2015'!K491","v":7000},{"$f":"'kosten tabel 2015'!L491","v":7350}]
[{"$f":"'kosten tabel 2015'!A492","v":48900},null,{"$f":"'kosten tabel 2015'!K492","v":7000},{"$f":"'kosten tabel 2015'!L492","v":7350}]
[{"$f":"'kosten tabel 2015'!A493","v":49000},null,{"$f":"'kosten tabel 2015'!K493","v":7000},{"$f":"'kosten tabel 2015'!L493","v":7350}]
[{"$f":"'kosten tabel 2015'!A494","v":49100},null,{"$f":"'kosten tabel 2015'!K494","v":7100},{"$f":"'kosten tabel 2015'!L494","v":7455}]
[{"$f":"'kosten tabel 2015'!A495","v":49200},null,{"$f":"'kosten tabel 2015'!K495","v":7100},{"$f":"'kosten tabel 2015'!L495","v":7455}]
[{"$f":"'kosten tabel 2015'!A496","v":49300},null,{"$f":"'kosten tabel 2015'!K496","v":7100},{"$f":"'kosten tabel 2015'!L496","v":7455}]
[{"$f":"'kosten tabel 2015'!A497","v":49400},null,{"$f":"'kosten tabel 2015'!K497","v":7100},{"$f":"'kosten tabel 2015'!L497","v":7455}]
[{"$f":"'kosten tabel 2015'!A498","v":49500},null,{"$f":"'kosten tabel 2015'!K498","v":7100},{"$f":"'kosten tabel 2015'!L498","v":7455}]
[{"$f":"'kosten tabel 2015'!A499","v":49600},null,{"$f":"'kosten tabel 2015'!K499","v":7100},{"$f":"'kosten tabel 2015'!L499","v":7455}]
[{"$f":"'kosten tabel 2015'!A500","v":49700},null,{"$f":"'kosten tabel 2015'!K500","v":7200},{"$f":"'kosten tabel 2015'!L500","v":7560}]
[{"$f":"'kosten tabel 2015'!A501","v":49800},null,{"$f":"'kosten tabel 2015'!K501","v":7200},{"$f":"'kosten tabel 2015'!L501","v":7560}]
[{"$f":"'kosten tabel 2015'!A502","v":49900},null,{"$f":"'kosten tabel 2015'!K502","v":7200},{"$f":"'kosten tabel 2015'!L502","v":7560}]
[{"$f":"'kosten tabel 2015'!A503","v":50000},null,{"$f":"'kosten tabel 2015'!K503","v":7200},{"$f":"'kosten tabel 2015'!L503","v":7560}]
[{"$f":"'kosten tabel 2015'!A504","v":50100},null,{"$f":"'kosten tabel 2015'!K504","v":7200},{"$f":"'kosten tabel 2015'!L504","v":7560}]
[{"$f":"'kosten tabel 2015'!A505","v":50200},null,{"$f":"'kosten tabel 2015'!K505","v":7200},{"$f":"'kosten tabel 2015'!L505","v":7560}]
[{"$f":"'kosten tabel 2015'!A506","v":50300},null,{"$f":"'kosten tabel 2015'!K506","v":7300},{"$f":"'kosten tabel 2015'!L506","v":7665}]
[{"$f":"'kosten tabel 2015'!A507","v":50400},null,{"$f":"'kosten tabel 2015'!K507","v":7300},{"$f":"'kosten tabel 2015'!L507","v":7665}]
[{"$f":"'kosten tabel 2015'!A508","v":50500},null,{"$f":"'kosten tabel 2015'!K508","v":7300},{"$f":"'kosten tabel 2015'!L508","v":7665}]
[{"$f":"'kosten tabel 2015'!A509","v":50600},null,{"$f":"'kosten tabel 2015'!K509","v":7300},{"$f":"'kosten tabel 2015'!L509","v":7665}]
[{"$f":"'kosten tabel 2015'!A510","v":50700},null,{"$f":"'kosten tabel 2015'!K510","v":7300},{"$f":"'kosten tabel 2015'!L510","v":7665}]
[{"$f":"'kosten tabel 2015'!A511","v":50800},null,{"$f":"'kosten tabel 2015'!K511","v":7400},{"$f":"'kosten tabel 2015'!L511","v":7770}]
[{"$f":"'kosten tabel 2015'!A512","v":50900},null,{"$f":"'kosten tabel 2015'!K512","v":7400},{"$f":"'kosten tabel 2015'!L512","v":7770}]
[{"$f":"'kosten tabel 2015'!A513","v":51000},null,{"$f":"'kosten tabel 2015'!K513","v":7400},{"$f":"'kosten tabel 2015'!L513","v":7770}]
[{"$f":"'kosten tabel 2015'!A514","v":51100},null,{"$f":"'kosten tabel 2015'!K514","v":7400},{"$f":"'kosten tabel 2015'!L514","v":7770}]
[{"$f":"'kosten tabel 2015'!A515","v":51200},null,{"$f":"'kosten tabel 2015'!K515","v":7400},{"$f":"'kosten tabel 2015'!L515","v":7770}]
[{"$f":"'kosten tabel 2015'!A516","v":51300},null,{"$f":"'kosten tabel 2015'!K516","v":7400},{"$f":"'kosten tabel 2015'!L516","v":7770}]
[{"$f":"'kosten tabel 2015'!A517","v":51400},null,{"$f":"'kosten tabel 2015'!K517","v":7500},{"$f":"'kosten tabel 2015'!L517","v":7875}]
[{"$f":"'kosten tabel 2015'!A518","v":51500},null,{"$f":"'kosten tabel 2015'!K518","v":7500},{"$f":"'kosten tabel 2015'!L518","v":7875}]
[{"$f":"'kosten tabel 2015'!A519","v":51600},null,{"$f":"'kosten tabel 2015'!K519","v":7500},{"$f":"'kosten tabel 2015'!L519","v":7875}]
[{"$f":"'kosten tabel 2015'!A520","v":51700},null,{"$f":"'kosten tabel 2015'!K520","v":7500},{"$f":"'kosten tabel 2015'!L520","v":7875}]
[{"$f":"'kosten tabel 2015'!A521","v":51800},null,{"$f":"'kosten tabel 2015'!K521","v":7500},{"$f":"'kosten tabel 2015'!L521","v":7875}]
[{"$f":"'kosten tabel 2015'!A522","v":51900},null,{"$f":"'kosten tabel 2015'!K522","v":7500},{"$f":"'kosten tabel 2015'!L522","v":7875}]
[{"$f":"'kosten tabel 2015'!A523","v":52000},null,{"$f":"'kosten tabel 2015'!K523","v":7600},{"$f":"'kosten tabel 2015'!L523","v":7980}]
[{"$f":"'kosten tabel 2015'!A524","v":52100},null,{"$f":"'kosten tabel 2015'!K524","v":7600},{"$f":"'kosten tabel 2015'!L524","v":7980}]
[{"$f":"'kosten tabel 2015'!A525","v":52200},null,{"$f":"'kosten tabel 2015'!K525","v":7600},{"$f":"'kosten tabel 2015'!L525","v":7980}]
[{"$f":"'kosten tabel 2015'!A526","v":52300},null,{"$f":"'kosten tabel 2015'!K526","v":7600},{"$f":"'kosten tabel 2015'!L526","v":7980}]
[{"$f":"'kosten tabel 2015'!A527","v":52400},null,{"$f":"'kosten tabel 2015'!K527","v":7600},{"$f":"'kosten tabel 2015'!L527","v":7980}]
[{"$f":"'kosten tabel 2015'!A528","v":52500},null,{"$f":"'kosten tabel 2015'!K528","v":7600},{"$f":"'kosten tabel 2015'!L528","v":7980}]
[{"$f":"'kosten tabel 2015'!A529","v":52600},null,{"$f":"'kosten tabel 2015'!K529","v":7700},{"$f":"'kosten tabel 2015'!L529","v":8085}]
[{"$f":"'kosten tabel 2015'!A530","v":52700},null,{"$f":"'kosten tabel 2015'!K530","v":7700},{"$f":"'kosten tabel 2015'!L530","v":8085}]
[{"$f":"'kosten tabel 2015'!A531","v":52800},null,{"$f":"'kosten tabel 2015'!K531","v":7700},{"$f":"'kosten tabel 2015'!L531","v":8085}]
[{"$f":"'kosten tabel 2015'!A532","v":52900},null,{"$f":"'kosten tabel 2015'!K532","v":7700},{"$f":"'kosten tabel 2015'!L532","v":8085}]
[{"$f":"'kosten tabel 2015'!A533","v":53000},null,{"$f":"'kosten tabel 2015'!K533","v":7700},{"$f":"'kosten tabel 2015'!L533","v":8085}]
[{"$f":"'kosten tabel 2015'!A534","v":53100},null,{"$f":"'kosten tabel 2015'!K534","v":7700},{"$f":"'kosten tabel 2015'!L534","v":8085}]
[{"$f":"'kosten tabel 2015'!A535","v":53200},null,{"$f":"'kosten tabel 2015'!K535","v":7800},{"$f":"'kosten tabel 2015'!L535","v":8190}]
[{"$f":"'kosten tabel 2015'!A536","v":53300},null,{"$f":"'kosten tabel 2015'!K536","v":7800},{"$f":"'kosten tabel 2015'!L536","v":8190}]
[{"$f":"'kosten tabel 2015'!A537","v":53400},null,{"$f":"'kosten tabel 2015'!K537","v":7800},{"$f":"'kosten tabel 2015'!L537","v":8190}]
[{"$f":"'kosten tabel 2015'!A538","v":53500},null,{"$f":"'kosten tabel 2015'!K538","v":7800},{"$f":"'kosten tabel 2015'!L538","v":8190}]
[{"$f":"'kosten tabel 2015'!A539","v":53600},null,{"$f":"'kosten tabel 2015'!K539","v":7800},{"$f":"'kosten tabel 2015'!L539","v":8190}]
[{"$f":"'kosten tabel 2015'!A540","v":53700},null,{"$f":"'kosten tabel 2015'!K540","v":7900},{"$f":"'kosten tabel 2015'!L540","v":8295}]
[{"$f":"'kosten tabel 2015'!A541","v":53800},null,{"$f":"'kosten tabel 2015'!K541","v":7900},{"$f":"'kosten tabel 2015'!L541","v":8295}]
[{"$f":"'kosten tabel 2015'!A542","v":53900},null,{"$f":"'kosten tabel 2015'!K542","v":7900},{"$f":"'kosten tabel 2015'!L542","v":8295}]
[{"$f":"'kosten tabel 2015'!A543","v":54000},null,{"$f":"'kosten tabel 2015'!K543","v":7900},{"$f":"'kosten tabel 2015'!L543","v":8295}]
[{"$f":"'kosten tabel 2015'!A544","v":54100},null,{"$f":"'kosten tabel 2015'!K544","v":7900},{"$f":"'kosten tabel 2015'!L544","v":8295}]
[{"$f":"'kosten tabel 2015'!A545","v":54200},null,{"$f":"'kosten tabel 2015'!K545","v":7900},{"$f":"'kosten tabel 2015'!L545","v":8295}]
[{"$f":"'kosten tabel 2015'!A546","v":54300},null,{"$f":"'kosten tabel 2015'!K546","v":8000},{"$f":"'kosten tabel 2015'!L546","v":8400}]
[{"$f":"'kosten tabel 2015'!A547","v":54400},null,{"$f":"'kosten tabel 2015'!K547","v":8000},{"$f":"'kosten tabel 2015'!L547","v":8400}]
[{"$f":"'kosten tabel 2015'!A548","v":54500},null,{"$f":"'kosten tabel 2015'!K548","v":8000},{"$f":"'kosten tabel 2015'!L548","v":8400}]
[{"$f":"'kosten tabel 2015'!A549","v":54600},null,{"$f":"'kosten tabel 2015'!K549","v":8000},{"$f":"'kosten tabel 2015'!L549","v":8400}]
[{"$f":"'kosten tabel 2015'!A550","v":54700},null,{"$f":"'kosten tabel 2015'!K550","v":8000},{"$f":"'kosten tabel 2015'!L550","v":8400}]
[{"$f":"'kosten tabel 2015'!A551","v":54800},null,{"$f":"'kosten tabel 2015'!K551","v":8000},{"$f":"'kosten tabel 2015'!L551","v":8400}]
[{"$f":"'kosten tabel 2015'!A552","v":54900},null,{"$f":"'kosten tabel 2015'!K552","v":8100},{"$f":"'kosten tabel 2015'!L552","v":8505}]
[{"$f":"'kosten tabel 2015'!A553","v":55000},null,{"$f":"'kosten tabel 2015'!K553","v":8100},{"$f":"'kosten tabel 2015'!L553","v":8505}]
[{"$f":"'kosten tabel 2015'!A554","v":55100},null,{"$f":"'kosten tabel 2015'!K554","v":8100},{"$f":"'kosten tabel 2015'!L554","v":8505}]
[{"$f":"'kosten tabel 2015'!A555","v":55200},null,{"$f":"'kosten tabel 2015'!K555","v":8100},{"$f":"'kosten tabel 2015'!L555","v":8505}]
[{"$f":"'kosten tabel 2015'!A556","v":55300},null,{"$f":"'kosten tabel 2015'!K556","v":8100},{"$f":"'kosten tabel 2015'!L556","v":8505}]
[{"$f":"'kosten tabel 2015'!A557","v":55400},null,{"$f":"'kosten tabel 2015'!K557","v":8100},{"$f":"'kosten tabel 2015'!L557","v":8505}]
[{"$f":"'kosten tabel 2015'!A558","v":55500},null,{"$f":"'kosten tabel 2015'!K558","v":8200},{"$f":"'kosten tabel 2015'!L558","v":8610}]
[{"$f":"'kosten tabel 2015'!A559","v":55600},null,{"$f":"'kosten tabel 2015'!K559","v":8200},{"$f":"'kosten tabel 2015'!L559","v":8610}]
[{"$f":"'kosten tabel 2015'!A560","v":55700},null,{"$f":"'kosten tabel 2015'!K560","v":8200},{"$f":"'kosten tabel 2015'!L560","v":8610}]
[{"$f":"'kosten tabel 2015'!A561","v":55800},null,{"$f":"'kosten tabel 2015'!K561","v":8200},{"$f":"'kosten tabel 2015'!L561","v":8610}]
[{"$f":"'kosten tabel 2015'!A562","v":55900},null,{"$f":"'kosten tabel 2015'!K562","v":8200},{"$f":"'kosten tabel 2015'!L562","v":8610}]
[{"$f":"'kosten tabel 2015'!A563","v":56000},null,{"$f":"'kosten tabel 2015'!K563","v":8200},{"$f":"'kosten tabel 2015'!L563","v":8610}]
[{"$f":"'kosten tabel 2015'!A564","v":56100},null,{"$f":"'kosten tabel 2015'!K564","v":8300},{"$f":"'kosten tabel 2015'!L564","v":8715}]
[{"$f":"'kosten tabel 2015'!A565","v":56200},null,{"$f":"'kosten tabel 2015'!K565","v":8300},{"$f":"'kosten tabel 2015'!L565","v":8715}]
[{"$f":"'kosten tabel 2015'!A566","v":56300},null,{"$f":"'kosten tabel 2015'!K566","v":8300},{"$f":"'kosten tabel 2015'!L566","v":8715}]
[{"$f":"'kosten tabel 2015'!A567","v":56400},null,{"$f":"'kosten tabel 2015'!K567","v":8300},{"$f":"'kosten tabel 2015'!L567","v":8715}]
[{"$f":"'kosten tabel 2015'!A568","v":56500},null,{"$f":"'kosten tabel 2015'!K568","v":8300},{"$f":"'kosten tabel 2015'!L568","v":8715}]
[{"$f":"'kosten tabel 2015'!A569","v":56600},null,{"$f":"'kosten tabel 2015'!K569","v":8400},{"$f":"'kosten tabel 2015'!L569","v":8820}]
[{"$f":"'kosten tabel 2015'!A570","v":56700},null,{"$f":"'kosten tabel 2015'!K570","v":8400},{"$f":"'kosten tabel 2015'!L570","v":8820}]
[{"$f":"'kosten tabel 2015'!A571","v":56800},null,{"$f":"'kosten tabel 2015'!K571","v":8400},{"$f":"'kosten tabel 2015'!L571","v":8820}]
[{"$f":"'kosten tabel 2015'!A572","v":56900},null,{"$f":"'kosten tabel 2015'!K572","v":8400},{"$f":"'kosten tabel 2015'!L572","v":8820}]
[{"$f":"'kosten tabel 2015'!A573","v":57000},null,{"$f":"'kosten tabel 2015'!K573","v":8400},{"$f":"'kosten tabel 2015'!L573","v":8820}]
[{"$f":"'kosten tabel 2015'!A574","v":57100},null,{"$f":"'kosten tabel 2015'!K574","v":8400},{"$f":"'kosten tabel 2015'!L574","v":8820}]
[{"$f":"'kosten tabel 2015'!A575","v":57200},null,{"$f":"'kosten tabel 2015'!K575","v":8500},{"$f":"'kosten tabel 2015'!L575","v":8925}]
[{"$f":"'kosten tabel 2015'!A576","v":57300},null,{"$f":"'kosten tabel 2015'!K576","v":8500},{"$f":"'kosten tabel 2015'!L576","v":8925}]
[{"$f":"'kosten tabel 2015'!A577","v":57400},null,{"$f":"'kosten tabel 2015'!K577","v":8500},{"$f":"'kosten tabel 2015'!L577","v":8925}]
[{"$f":"'kosten tabel 2015'!A578","v":57500},null,{"$f":"'kosten tabel 2015'!K578","v":8500},{"$f":"'kosten tabel 2015'!L578","v":8925}]
[{"$f":"'kosten tabel 2015'!A579","v":57600},null,{"$f":"'kosten tabel 2015'!K579","v":8500},{"$f":"'kosten tabel 2015'!L579","v":8925}]
[{"$f":"'kosten tabel 2015'!A580","v":57700},null,{"$f":"'kosten tabel 2015'!K580","v":8500},{"$f":"'kosten tabel 2015'!L580","v":8925}]
[{"$f":"'kosten tabel 2015'!A581","v":57800},null,{"$f":"'kosten tabel 2015'!K581","v":8600},{"$f":"'kosten tabel 2015'!L581","v":9030}]
[{"$f":"'kosten tabel 2015'!A582","v":57900},null,{"$f":"'kosten tabel 2015'!K582","v":8600},{"$f":"'kosten tabel 2015'!L582","v":9030}]
[{"$f":"'kosten tabel 2015'!A583","v":58000},null,{"$f":"'kosten tabel 2015'!K583","v":8600},{"$f":"'kosten tabel 2015'!L583","v":9030}]
[{"$f":"'kosten tabel 2015'!A584","v":58100},null,{"$f":"'kosten tabel 2015'!K584","v":8600},{"$f":"'kosten tabel 2015'!L584","v":9030}]
[{"$f":"'kosten tabel 2015'!A585","v":58200},null,{"$f":"'kosten tabel 2015'!K585","v":8600},{"$f":"'kosten tabel 2015'!L585","v":9030}]
[{"$f":"'kosten tabel 2015'!A586","v":58300},null,{"$f":"'kosten tabel 2015'!K586","v":8600},{"$f":"'kosten tabel 2015'!L586","v":9030}]
[{"$f":"'kosten tabel 2015'!A587","v":58400},null,{"$f":"'kosten tabel 2015'!K587","v":8700},{"$f":"'kosten tabel 2015'!L587","v":9135}]
[{"$f":"'kosten tabel 2015'!A588","v":58500},null,{"$f":"'kosten tabel 2015'!K588","v":8700},{"$f":"'kosten tabel 2015'!L588","v":9135}]
[{"$f":"'kosten tabel 2015'!A589","v":58600},null,{"$f":"'kosten tabel 2015'!K589","v":8700},{"$f":"'kosten tabel 2015'!L589","v":9135}]
[{"$f":"'kosten tabel 2015'!A590","v":58700},null,{"$f":"'kosten tabel 2015'!K590","v":8700},{"$f":"'kosten tabel 2015'!L590","v":9135}]
[{"$f":"'kosten tabel 2015'!A591","v":58800},null,{"$f":"'kosten tabel 2015'!K591","v":8700},{"$f":"'kosten tabel 2015'!L591","v":9135}]
[{"$f":"'kosten tabel 2015'!A592","v":58900},null,{"$f":"'kosten tabel 2015'!K592","v":8700},{"$f":"'kosten tabel 2015'!L592","v":9135}]
[{"$f":"'kosten tabel 2015'!A593","v":59000},null,{"$f":"'kosten tabel 2015'!K593","v":8800},{"$f":"'kosten tabel 2015'!L593","v":9240}]
[{"$f":"'kosten tabel 2015'!A594","v":59100},null,{"$f":"'kosten tabel 2015'!K594","v":8800},{"$f":"'kosten tabel 2015'!L594","v":9240}]
[{"$f":"'kosten tabel 2015'!A595","v":59200},null,{"$f":"'kosten tabel 2015'!K595","v":8800},{"$f":"'kosten tabel 2015'!L595","v":9240}]
[{"$f":"'kosten tabel 2015'!A596","v":59300},null,{"$f":"'kosten tabel 2015'!K596","v":8800},{"$f":"'kosten tabel 2015'!L596","v":9240}]
[{"$f":"'kosten tabel 2015'!A597","v":59400},null,{"$f":"'kosten tabel 2015'!K597","v":8800},{"$f":"'kosten tabel 2015'!L597","v":9240}]
[{"$f":"'kosten tabel 2015'!A598","v":59500},null,{"$f":"'kosten tabel 2015'!K598","v":8900},{"$f":"'kosten tabel 2015'!L598","v":9345}]
[{"$f":"'kosten tabel 2015'!A599","v":59600},null,{"$f":"'kosten tabel 2015'!K599","v":8900},{"$f":"'kosten tabel 2015'!L599","v":9345}]
[{"$f":"'kosten tabel 2015'!A600","v":59700},null,{"$f":"'kosten tabel 2015'!K600","v":8900},{"$f":"'kosten tabel 2015'!L600","v":9345}]
[{"$f":"'kosten tabel 2015'!A601","v":59800},null,{"$f":"'kosten tabel 2015'!K601","v":8900},{"$f":"'kosten tabel 2015'!L601","v":9345}]
[{"$f":"'kosten tabel 2015'!A602","v":59900},null,{"$f":"'kosten tabel 2015'!K602","v":8900},{"$f":"'kosten tabel 2015'!L602","v":9345}]
[{"$f":"'kosten tabel 2015'!A603","v":60000},null,{"$f":"'kosten tabel 2015'!K603","v":8900},{"$f":"'kosten tabel 2015'!L603","v":9345}]
[{"$f":"'kosten tabel 2015'!A604","v":60100},null,{"$f":"'kosten tabel 2015'!K604","v":9000},{"$f":"'kosten tabel 2015'!L604","v":9450}]
[{"$f":"'kosten tabel 2015'!A605","v":60200},null,{"$f":"'kosten tabel 2015'!K605","v":9000},{"$f":"'kosten tabel 2015'!L605","v":9450}]
[{"$f":"'kosten tabel 2015'!A606","v":60300},null,{"$f":"'kosten tabel 2015'!K606","v":9000},{"$f":"'kosten tabel 2015'!L606","v":9450}]
[{"$f":"'kosten tabel 2015'!A607","v":60400},null,{"$f":"'kosten tabel 2015'!K607","v":9000},{"$f":"'kosten tabel 2015'!L607","v":9450}]
[{"$f":"'kosten tabel 2015'!A608","v":60500},null,{"$f":"'kosten tabel 2015'!K608","v":9000},{"$f":"'kosten tabel 2015'!L608","v":9450}]
[{"$f":"'kosten tabel 2015'!A609","v":60600},null,{"$f":"'kosten tabel 2015'!K609","v":9000},{"$f":"'kosten tabel 2015'!L609","v":9450}]
[{"$f":"'kosten tabel 2015'!A610","v":60700},null,{"$f":"'kosten tabel 2015'!K610","v":9100},{"$f":"'kosten tabel 2015'!L610","v":9555}]
[{"$f":"'kosten tabel 2015'!A611","v":60800},null,{"$f":"'kosten tabel 2015'!K611","v":9100},{"$f":"'kosten tabel 2015'!L611","v":9555}]
[{"$f":"'kosten tabel 2015'!A612","v":60900},null,{"$f":"'kosten tabel 2015'!K612","v":9100},{"$f":"'kosten tabel 2015'!L612","v":9555}]
[{"$f":"'kosten tabel 2015'!A613","v":61000},null,{"$f":"'kosten tabel 2015'!K613","v":9100},{"$f":"'kosten tabel 2015'!L613","v":9555}]
[{"$f":"'kosten tabel 2015'!A614","v":61100},null,{"$f":"'kosten tabel 2015'!K614","v":9100},{"$f":"'kosten tabel 2015'!L614","v":9555}]
[{"$f":"'kosten tabel 2015'!A615","v":61200},null,{"$f":"'kosten tabel 2015'!K615","v":9100},{"$f":"'kosten tabel 2015'!L615","v":9555}]
[{"$f":"'kosten tabel 2015'!A616","v":61300},null,{"$f":"'kosten tabel 2015'!K616","v":9200},{"$f":"'kosten tabel 2015'!L616","v":9660}]
[{"$f":"'kosten tabel 2015'!A617","v":61400},null,{"$f":"'kosten tabel 2015'!K617","v":9200},{"$f":"'kosten tabel 2015'!L617","v":9660}]
[{"$f":"'kosten tabel 2015'!A618","v":61500},null,{"$f":"'kosten tabel 2015'!K618","v":9200},{"$f":"'kosten tabel 2015'!L618","v":9660}]
[{"$f":"'kosten tabel 2015'!A619","v":61600},null,{"$f":"'kosten tabel 2015'!K619","v":9200},{"$f":"'kosten tabel 2015'!L619","v":9660}]
[{"$f":"'kosten tabel 2015'!A620","v":61700},null,{"$f":"'kosten tabel 2015'!K620","v":9200},{"$f":"'kosten tabel 2015'!L620","v":9660}]
[{"$f":"'kosten tabel 2015'!A621","v":61800},null,{"$f":"'kosten tabel 2015'!K621","v":9200},{"$f":"'kosten tabel 2015'!L621","v":9660}]
[{"$f":"'kosten tabel 2015'!A622","v":61900},null,{"$f":"'kosten tabel 2015'!K622","v":9300},{"$f":"'kosten tabel 2015'!L622","v":9765}]
[{"$f":"'kosten tabel 2015'!A623","v":62000},null,{"$f":"'kosten tabel 2015'!K623","v":9300},{"$f":"'kosten tabel 2015'!L623","v":9765}]
[{"$f":"'kosten tabel 2015'!A624","v":62100},null,{"$f":"'kosten tabel 2015'!K624","v":9300},{"$f":"'kosten tabel 2015'!L624","v":9765}]
[{"$f":"'kosten tabel 2015'!A625","v":62200},null,{"$f":"'kosten tabel 2015'!K625","v":9300},{"$f":"'kosten tabel 2015'!L625","v":9765}]
[{"$f":"'kosten tabel 2015'!A626","v":62300},null,{"$f":"'kosten tabel 2015'!K626","v":9300},{"$f":"'kosten tabel 2015'!L626","v":9765}]
[{"$f":"'kosten tabel 2015'!A627","v":62400},null,{"$f":"'kosten tabel 2015'!K627","v":9400},{"$f":"'kosten tabel 2015'!L627","v":9870}]
[{"$f":"'kosten tabel 2015'!A628","v":62500},null,{"$f":"'kosten tabel 2015'!K628","v":9400},{"$f":"'kosten tabel 2015'!L628","v":9870}]
[{"$f":"'kosten tabel 2015'!A629","v":62600},null,{"$f":"'kosten tabel 2015'!K629","v":9400},{"$f":"'kosten tabel 2015'!L629","v":9870}]
[{"$f":"'kosten tabel 2015'!A630","v":62700},null,{"$f":"'kosten tabel 2015'!K630","v":9400},{"$f":"'kosten tabel 2015'!L630","v":9870}]
[{"$f":"'kosten tabel 2015'!A631","v":62800},null,{"$f":"'kosten tabel 2015'!K631","v":9400},{"$f":"'kosten tabel 2015'!L631","v":9870}]
[{"$f":"'kosten tabel 2015'!A632","v":62900},null,{"$f":"'kosten tabel 2015'!K632","v":9400},{"$f":"'kosten tabel 2015'!L632","v":9870}]
[{"$f":"'kosten tabel 2015'!A633","v":63000},null,{"$f":"'kosten tabel 2015'!K633","v":9500},{"$f":"'kosten tabel 2015'!L633","v":9975}]
[{"$f":"'kosten tabel 2015'!A634","v":63100},null,{"$f":"'kosten tabel 2015'!K634","v":9500},{"$f":"'kosten tabel 2015'!L634","v":9975}]
[{"$f":"'kosten tabel 2015'!A635","v":63200},null,{"$f":"'kosten tabel 2015'!K635","v":9500},{"$f":"'kosten tabel 2015'!L635","v":9975}]
[{"$f":"'kosten tabel 2015'!A636","v":63300},null,{"$f":"'kosten tabel 2015'!K636","v":9500},{"$f":"'kosten tabel 2015'!L636","v":9975}]
[{"$f":"'kosten tabel 2015'!A637","v":63400},null,{"$f":"'kosten tabel 2015'!K637","v":9500},{"$f":"'kosten tabel 2015'!L637","v":9975}]
[{"$f":"'kosten tabel 2015'!A638","v":63500},null,{"$f":"'kosten tabel 2015'!K638","v":9500},{"$f":"'kosten tabel 2015'!L638","v":9975}]
[{"$f":"'kosten tabel 2015'!A639","v":63600},null,{"$f":"'kosten tabel 2015'!K639","v":9600},{"$f":"'kosten tabel 2015'!L639","v":10080}]
[{"$f":"'kosten tabel 2015'!A640","v":63700},null,{"$f":"'kosten tabel 2015'!K640","v":9600},{"$f":"'kosten tabel 2015'!L640","v":10080}]
[{"$f":"'kosten tabel 2015'!A641","v":63800},null,{"$f":"'kosten tabel 2015'!K641","v":9600},{"$f":"'kosten tabel 2015'!L641","v":10080}]
[{"$f":"'kosten tabel 2015'!A642","v":63900},null,{"$f":"'kosten tabel 2015'!K642","v":9600},{"$f":"'kosten tabel 2015'!L642","v":10080}]
[{"$f":"'kosten tabel 2015'!A643","v":64000},null,{"$f":"'kosten tabel 2015'!K643","v":9600},{"$f":"'kosten tabel 2015'!L643","v":10080}]
[{"$f":"'kosten tabel 2015'!A644","v":64100},null,{"$f":"'kosten tabel 2015'!K644","v":9600},{"$f":"'kosten tabel 2015'!L644","v":10080}]
[{"$f":"'kosten tabel 2015'!A645","v":64200},null,{"$f":"'kosten tabel 2015'!K645","v":9700},{"$f":"'kosten tabel 2015'!L645","v":10185}]
[{"$f":"'kosten tabel 2015'!A646","v":64300},null,{"$f":"'kosten tabel 2015'!K646","v":9700},{"$f":"'kosten tabel 2015'!L646","v":10185}]
[{"$f":"'kosten tabel 2015'!A647","v":64400},null,{"$f":"'kosten tabel 2015'!K647","v":9700},{"$f":"'kosten tabel 2015'!L647","v":10185}]
[{"$f":"'kosten tabel 2015'!A648","v":64500},null,{"$f":"'kosten tabel 2015'!K648","v":9700},{"$f":"'kosten tabel 2015'!L648","v":10185}]
[{"$f":"'kosten tabel 2015'!A649","v":64600},null,{"$f":"'kosten tabel 2015'!K649","v":9700},{"$f":"'kosten tabel 2015'!L649","v":10185}]
[{"$f":"'kosten tabel 2015'!A650","v":64700},null,{"$f":"'kosten tabel 2015'!K650","v":9700},{"$f":"'kosten tabel 2015'!L650","v":10185}]
[{"$f":"'kosten tabel 2015'!A651","v":64800},null,{"$f":"'kosten tabel 2015'!K651","v":9800},{"$f":"'kosten tabel 2015'!L651","v":10290}]
[{"$f":"'kosten tabel 2015'!A652","v":64900},null,{"$f":"'kosten tabel 2015'!K652","v":9800},{"$f":"'kosten tabel 2015'!L652","v":10290}]
[{"$f":"'kosten tabel 2015'!A653","v":65000},null,{"$f":"'kosten tabel 2015'!K653","v":9800},{"$f":"'kosten tabel 2015'!L653","v":10290}]
[{"$f":"'kosten tabel 2015'!A654","v":65100},null,{"$f":"'kosten tabel 2015'!K654","v":9800},{"$f":"'kosten tabel 2015'!L654","v":10290}]
[{"$f":"'kosten tabel 2015'!A655","v":65200},null,{"$f":"'kosten tabel 2015'!K655","v":9800},{"$f":"'kosten tabel 2015'!L655","v":10290}]
[{"$f":"'kosten tabel 2015'!A656","v":65300},null,{"$f":"'kosten tabel 2015'!K656","v":9900},{"$f":"'kosten tabel 2015'!L656","v":10395}]
[{"$f":"'kosten tabel 2015'!A657","v":65400},null,{"$f":"'kosten tabel 2015'!K657","v":9900},{"$f":"'kosten tabel 2015'!L657","v":10395}]
[{"$f":"'kosten tabel 2015'!A658","v":65500},null,{"$f":"'kosten tabel 2015'!K658","v":9900},{"$f":"'kosten tabel 2015'!L658","v":10395}]
[{"$f":"'kosten tabel 2015'!A659","v":65600},null,{"$f":"'kosten tabel 2015'!K659","v":9900},{"$f":"'kosten tabel 2015'!L659","v":10395}]
[{"$f":"'kosten tabel 2015'!A660","v":65700},null,{"$f":"'kosten tabel 2015'!K660","v":9900},{"$f":"'kosten tabel 2015'!L660","v":10395}]
[{"$f":"'kosten tabel 2015'!A661","v":65800},null,{"$f":"'kosten tabel 2015'!K661","v":9900},{"$f":"'kosten tabel 2015'!L661","v":10395}]
[{"$f":"'kosten tabel 2015'!A662","v":65900},null,{"$f":"'kosten tabel 2015'!K662","v":10000},{"$f":"'kosten tabel 2015'!L662","v":10500}]
[{"$f":"'kosten tabel 2015'!A663","v":66000},null,{"$f":"'kosten tabel 2015'!K663","v":10000},{"$f":"'kosten tabel 2015'!L663","v":10500}]
[{"$f":"'kosten tabel 2015'!A664","v":66100},null,{"$f":"'kosten tabel 2015'!K664","v":10000},{"$f":"'kosten tabel 2015'!L664","v":10500}]
[{"$f":"'kosten tabel 2015'!A665","v":66200},null,{"$f":"'kosten tabel 2015'!K665","v":10000},{"$f":"'kosten tabel 2015'!L665","v":10500}]
[{"$f":"'kosten tabel 2015'!A666","v":66300},null,{"$f":"'kosten tabel 2015'!K666","v":10000},{"$f":"'kosten tabel 2015'!L666","v":10500}]
[{"$f":"'kosten tabel 2015'!A667","v":66400},null,{"$f":"'kosten tabel 2015'!K667","v":10000},{"$f":"'kosten tabel 2015'!L667","v":10500}]
[{"$f":"'kosten tabel 2015'!A668","v":66500},null,{"$f":"'kosten tabel 2015'!K668","v":10100},{"$f":"'kosten tabel 2015'!L668","v":10605}]
[{"$f":"'kosten tabel 2015'!A669","v":66600},null,{"$f":"'kosten tabel 2015'!K669","v":10100},{"$f":"'kosten tabel 2015'!L669","v":10605}]
[{"$f":"'kosten tabel 2015'!A670","v":66700},null,{"$f":"'kosten tabel 2015'!K670","v":10100},{"$f":"'kosten tabel 2015'!L670","v":10605}]
[{"$f":"'kosten tabel 2015'!A671","v":66800},null,{"$f":"'kosten tabel 2015'!K671","v":10100},{"$f":"'kosten tabel 2015'!L671","v":10605}]
[{"$f":"'kosten tabel 2015'!A672","v":66900},null,{"$f":"'kosten tabel 2015'!K672","v":10100},{"$f":"'kosten tabel 2015'!L672","v":10605}]
[{"$f":"'kosten tabel 2015'!A673","v":67000},null,{"$f":"'kosten tabel 2015'!K673","v":10100},{"$f":"'kosten tabel 2015'!L673","v":10605}]
[{"$f":"'kosten tabel 2015'!A674","v":67100},null,{"$f":"'kosten tabel 2015'!K674","v":10200},{"$f":"'kosten tabel 2015'!L674","v":10710}]
[{"$f":"'kosten tabel 2015'!A675","v":67200},null,{"$f":"'kosten tabel 2015'!K675","v":10200},{"$f":"'kosten tabel 2015'!L675","v":10710}]
[{"$f":"'kosten tabel 2015'!A676","v":67300},null,{"$f":"'kosten tabel 2015'!K676","v":10200},{"$f":"'kosten tabel 2015'!L676","v":10710}]
[{"$f":"'kosten tabel 2015'!A677","v":67400},null,{"$f":"'kosten tabel 2015'!K677","v":10200},{"$f":"'kosten tabel 2015'!L677","v":10710}]
[{"$f":"'kosten tabel 2015'!A678","v":67500},null,{"$f":"'kosten tabel 2015'!K678","v":10200},{"$f":"'kosten tabel 2015'!L678","v":10710}]
[{"$f":"'kosten tabel 2015'!A679","v":67600},null,{"$f":"'kosten tabel 2015'!K679","v":10200},{"$f":"'kosten tabel 2015'!L679","v":10710}]
[{"$f":"'kosten tabel 2015'!A680","v":67700},null,{"$f":"'kosten tabel 2015'!K680","v":10300},{"$f":"'kosten tabel 2015'!L680","v":10815}]
[{"$f":"'kosten tabel 2015'!A681","v":67800},null,{"$f":"'kosten tabel 2015'!K681","v":10300},{"$f":"'kosten tabel 2015'!L681","v":10815}]
[{"$f":"'kosten tabel 2015'!A682","v":67900},null,{"$f":"'kosten tabel 2015'!K682","v":10300},{"$f":"'kosten tabel 2015'!L682","v":10815}]
[{"$f":"'kosten tabel 2015'!A683","v":68000},null,{"$f":"'kosten tabel 2015'!K683","v":10300},{"$f":"'kosten tabel 2015'!L683","v":10815}]
[{"$f":"'kosten tabel 2015'!A684","v":68100},null,{"$f":"'kosten tabel 2015'!K684","v":10300},{"$f":"'kosten tabel 2015'!L684","v":10815}]
[{"$f":"'kosten tabel 2015'!A685","v":68200},null,{"$f":"'kosten tabel 2015'!K685","v":10400},{"$f":"'kosten tabel 2015'!L685","v":10920}]
[{"$f":"'kosten tabel 2015'!A686","v":68300},null,{"$f":"'kosten tabel 2015'!K686","v":10400},{"$f":"'kosten tabel 2015'!L686","v":10920}]
[{"$f":"'kosten tabel 2015'!A687","v":68400},null,{"$f":"'kosten tabel 2015'!K687","v":10400},{"$f":"'kosten tabel 2015'!L687","v":10920}]
[{"$f":"'kosten tabel 2015'!A688","v":68500},null,{"$f":"'kosten tabel 2015'!K688","v":10400},{"$f":"'kosten tabel 2015'!L688","v":10920}]
[{"$f":"'kosten tabel 2015'!A689","v":68600},null,{"$f":"'kosten tabel 2015'!K689","v":10400},{"$f":"'kosten tabel 2015'!L689","v":10920}]
[{"$f":"'kosten tabel 2015'!A690","v":68700},null,{"$f":"'kosten tabel 2015'!K690","v":10400},{"$f":"'kosten tabel 2015'!L690","v":10920}]
[{"$f":"'kosten tabel 2015'!A691","v":68800},null,{"$f":"'kosten tabel 2015'!K691","v":10500},{"$f":"'kosten tabel 2015'!L691","v":11025}]
[{"$f":"'kosten tabel 2015'!A692","v":68900},null,{"$f":"'kosten tabel 2015'!K692","v":10500},{"$f":"'kosten tabel 2015'!L692","v":11025}]
[{"$f":"'kosten tabel 2015'!A693","v":69000},null,{"$f":"'kosten tabel 2015'!K693","v":10500},{"$f":"'kosten tabel 2015'!L693","v":11025}]
[{"$f":"'kosten tabel 2015'!A694","v":69100},null,{"$f":"'kosten tabel 2015'!K694","v":10500},{"$f":"'kosten tabel 2015'!L694","v":11025}]
[{"$f":"'kosten tabel 2015'!A695","v":69200},null,{"$f":"'kosten tabel 2015'!K695","v":10500},{"$f":"'kosten tabel 2015'!L695","v":11025}]
[{"$f":"'kosten tabel 2015'!A696","v":69300},null,{"$f":"'kosten tabel 2015'!K696","v":10500},{"$f":"'kosten tabel 2015'!L696","v":11025}]
[{"$f":"'kosten tabel 2015'!A697","v":69400},null,{"$f":"'kosten tabel 2015'!K697","v":10600},{"$f":"'kosten tabel 2015'!L697","v":11130}]
[{"$f":"'kosten tabel 2015'!A698","v":69500},null,{"$f":"'kosten tabel 2015'!K698","v":10600},{"$f":"'kosten tabel 2015'!L698","v":11130}]
[{"$f":"'kosten tabel 2015'!A699","v":69600},null,{"$f":"'kosten tabel 2015'!K699","v":10600},{"$f":"'kosten tabel 2015'!L699","v":11130}]
[{"$f":"'kosten tabel 2015'!A700","v":69700},null,{"$f":"'kosten tabel 2015'!K700","v":10600},{"$f":"'kosten tabel 2015'!L700","v":11130}]
[{"$f":"'kosten tabel 2015'!A701","v":69800},null,{"$f":"'kosten tabel 2015'!K701","v":10600},{"$f":"'kosten tabel 2015'!L701","v":11130}]
[{"$f":"'kosten tabel 2015'!A702","v":69900},null,{"$f":"'kosten tabel 2015'!K702","v":10600},{"$f":"'kosten tabel 2015'!L702","v":11130}]
[{"$f":"'kosten tabel 2015'!A703","v":70000},null,{"$f":"'kosten tabel 2015'!K703","v":10700},{"$f":"'kosten tabel 2015'!L703","v":11235}]
[{"$f":"'kosten tabel 2015'!A704","v":70100},null,{"$f":"'kosten tabel 2015'!K704","v":10700},{"$f":"'kosten tabel 2015'!L704","v":11235}]
[{"$f":"'kosten tabel 2015'!A705","v":70200},null,{"$f":"'kosten tabel 2015'!K705","v":10700},{"$f":"'kosten tabel 2015'!L705","v":11235}]
[{"$f":"'kosten tabel 2015'!A706","v":70300},null,{"$f":"'kosten tabel 2015'!K706","v":10700},{"$f":"'kosten tabel 2015'!L706","v":11235}]
[{"$f":"'kosten tabel 2015'!A707","v":70400},null,{"$f":"'kosten tabel 2015'!K707","v":10700},{"$f":"'kosten tabel 2015'!L707","v":11235}]
[{"$f":"'kosten tabel 2015'!A708","v":70500},null,{"$f":"'kosten tabel 2015'!K708","v":10700},{"$f":"'kosten tabel 2015'!L708","v":11235}]
[{"$f":"'kosten tabel 2015'!A709","v":70600},null,{"$f":"'kosten tabel 2015'!K709","v":10800},{"$f":"'kosten tabel 2015'!L709","v":11340}]
[{"$f":"'kosten tabel 2015'!A710","v":70700},null,{"$f":"'kosten tabel 2015'!K710","v":10800},{"$f":"'kosten tabel 2015'!L710","v":11340}]
[{"$f":"'kosten tabel 2015'!A711","v":70800},null,{"$f":"'kosten tabel 2015'!K711","v":10800},{"$f":"'kosten tabel 2015'!L711","v":11340}]
[{"$f":"'kosten tabel 2015'!A712","v":70900},null,{"$f":"'kosten tabel 2015'!K712","v":10800},{"$f":"'kosten tabel 2015'!L712","v":11340}]
[{"$f":"'kosten tabel 2015'!A713","v":71000},null,{"$f":"'kosten tabel 2015'!K713","v":10800},{"$f":"'kosten tabel 2015'!L713","v":11340}]
[{"$f":"'kosten tabel 2015'!A714","v":71100},null,{"$f":"'kosten tabel 2015'!K714","v":10900},{"$f":"'kosten tabel 2015'!L714","v":11445}]
[{"$f":"'kosten tabel 2015'!A715","v":71200},null,{"$f":"'kosten tabel 2015'!K715","v":10900},{"$f":"'kosten tabel 2015'!L715","v":11445}]
[{"$f":"'kosten tabel 2015'!A716","v":71300},null,{"$f":"'kosten tabel 2015'!K716","v":10900},{"$f":"'kosten tabel 2015'!L716","v":11445}]
[{"$f":"'kosten tabel 2015'!A717","v":71400},null,{"$f":"'kosten tabel 2015'!K717","v":10900},{"$f":"'kosten tabel 2015'!L717","v":11445}]
[{"$f":"'kosten tabel 2015'!A718","v":71500},null,{"$f":"'kosten tabel 2015'!K718","v":10900},{"$f":"'kosten tabel 2015'!L718","v":11445}]
[{"$f":"'kosten tabel 2015'!A719","v":71600},null,{"$f":"'kosten tabel 2015'!K719","v":10900},{"$f":"'kosten tabel 2015'!L719","v":11445}]
[{"$f":"'kosten tabel 2015'!A720","v":71700},null,{"$f":"'kosten tabel 2015'!K720","v":11000},{"$f":"'kosten tabel 2015'!L720","v":11550}]
[{"$f":"'kosten tabel 2015'!A721","v":71800},null,{"$f":"'kosten tabel 2015'!K721","v":11000},{"$f":"'kosten tabel 2015'!L721","v":11550}]
[{"$f":"'kosten tabel 2015'!A722","v":71900},null,{"$f":"'kosten tabel 2015'!K722","v":11000},{"$f":"'kosten tabel 2015'!L722","v":11550}]
[{"$f":"'kosten tabel 2015'!A723","v":72000},null,{"$f":"'kosten tabel 2015'!K723","v":11000},{"$f":"'kosten tabel 2015'!L723","v":11550}]
[{"$f":"'kosten tabel 2015'!A724","v":72100},null,{"$f":"'kosten tabel 2015'!K724","v":11000},{"$f":"'kosten tabel 2015'!L724","v":11550}]
[{"$f":"'kosten tabel 2015'!A725","v":72200},null,{"$f":"'kosten tabel 2015'!K725","v":11000},{"$f":"'kosten tabel 2015'!L725","v":11550}]
[{"$f":"'kosten tabel 2015'!A726","v":72300},null,{"$f":"'kosten tabel 2015'!K726","v":11100},{"$f":"'kosten tabel 2015'!L726","v":11655}]
[{"$f":"'kosten tabel 2015'!A727","v":72400},null,{"$f":"'kosten tabel 2015'!K727","v":11100},{"$f":"'kosten tabel 2015'!L727","v":11655}]
[{"$f":"'kosten tabel 2015'!A728","v":72500},null,{"$f":"'kosten tabel 2015'!K728","v":11100},{"$f":"'kosten tabel 2015'!L728","v":11655}]
[{"$f":"'kosten tabel 2015'!A729","v":72600},null,{"$f":"'kosten tabel 2015'!K729","v":11100},{"$f":"'kosten tabel 2015'!L729","v":11655}]
[{"$f":"'kosten tabel 2015'!A730","v":72700},null,{"$f":"'kosten tabel 2015'!K730","v":11100},{"$f":"'kosten tabel 2015'!L730","v":11655}]
[{"$f":"'kosten tabel 2015'!A731","v":72800},null,{"$f":"'kosten tabel 2015'!K731","v":11100},{"$f":"'kosten tabel 2015'!L731","v":11655}]
[{"$f":"'kosten tabel 2015'!A732","v":72900},null,{"$f":"'kosten tabel 2015'!K732","v":11200},{"$f":"'kosten tabel 2015'!L732","v":11760}]
[{"$f":"'kosten tabel 2015'!A733","v":73000},null,{"$f":"'kosten tabel 2015'!K733","v":11200},{"$f":"'kosten tabel 2015'!L733","v":11760}]
[{"$f":"'kosten tabel 2015'!A734","v":73100},null,{"$f":"'kosten tabel 2015'!K734","v":11200},{"$f":"'kosten tabel 2015'!L734","v":11760}]
[{"$f":"'kosten tabel 2015'!A735","v":73200},null,{"$f":"'kosten tabel 2015'!K735","v":11200},{"$f":"'kosten tabel 2015'!L735","v":11760}]
[{"$f":"'kosten tabel 2015'!A736","v":73300},null,{"$f":"'kosten tabel 2015'!K736","v":11200},{"$f":"'kosten tabel 2015'!L736","v":11760}]
[{"$f":"'kosten tabel 2015'!A737","v":73400},null,{"$f":"'kosten tabel 2015'!K737","v":11200},{"$f":"'kosten tabel 2015'!L737","v":11760}]
[{"$f":"'kosten tabel 2015'!A738","v":73500},null,{"$f":"'kosten tabel 2015'!K738","v":11300},{"$f":"'kosten tabel 2015'!L738","v":11865}]
[{"$f":"'kosten tabel 2015'!A739","v":73600},null,{"$f":"'kosten tabel 2015'!K739","v":11300},{"$f":"'kosten tabel 2015'!L739","v":11865}]
[{"$f":"'kosten tabel 2015'!A740","v":73700},null,{"$f":"'kosten tabel 2015'!K740","v":11300},{"$f":"'kosten tabel 2015'!L740","v":11865}]
[{"$f":"'kosten tabel 2015'!A741","v":73800},null,{"$f":"'kosten tabel 2015'!K741","v":11300},{"$f":"'kosten tabel 2015'!L741","v":11865}]
[{"$f":"'kosten tabel 2015'!A742","v":73900},null,{"$f":"'kosten tabel 2015'!K742","v":11300},{"$f":"'kosten tabel 2015'!L742","v":11865}]
[{"$f":"'kosten tabel 2015'!A743","v":74000},null,{"$f":"'kosten tabel 2015'!K743","v":11400},{"$f":"'kosten tabel 2015'!L743","v":11970}]
[{"$f":"'kosten tabel 2015'!A744","v":74100},null,{"$f":"'kosten tabel 2015'!K744","v":11400},{"$f":"'kosten tabel 2015'!L744","v":11970}]
[{"$f":"'kosten tabel 2015'!A745","v":74200},null,{"$f":"'kosten tabel 2015'!K745","v":11400},{"$f":"'kosten tabel 2015'!L745","v":11970}]
[{"$f":"'kosten tabel 2015'!A746","v":74300},null,{"$f":"'kosten tabel 2015'!K746","v":11400},{"$f":"'kosten tabel 2015'!L746","v":11970}]
[{"$f":"'kosten tabel 2015'!A747","v":74400},null,{"$f":"'kosten tabel 2015'!K747","v":11400},{"$f":"'kosten tabel 2015'!L747","v":11970}]
[{"$f":"'kosten tabel 2015'!A748","v":74500},null,{"$f":"'kosten tabel 2015'!K748","v":11400},{"$f":"'kosten tabel 2015'!L748","v":11970}]
[{"$f":"'kosten tabel 2015'!A749","v":74600},null,{"$f":"'kosten tabel 2015'!K749","v":11500},{"$f":"'kosten tabel 2015'!L749","v":12075}]
[{"$f":"'kosten tabel 2015'!A750","v":74700},null,{"$f":"'kosten tabel 2015'!K750","v":11500},{"$f":"'kosten tabel 2015'!L750","v":12075}]
[{"$f":"'kosten tabel 2015'!A751","v":74800},null,{"$f":"'kosten tabel 2015'!K751","v":11500},{"$f":"'kosten tabel 2015'!L751","v":12075}]
[{"$f":"'kosten tabel 2015'!A752","v":74900},null,{"$f":"'kosten tabel 2015'!K752","v":11500},{"$f":"'kosten tabel 2015'!L752","v":12075}]
[{"$f":"'kosten tabel 2015'!A753","v":75000},null,{"$f":"'kosten tabel 2015'!K753","v":11500},{"$f":"'kosten tabel 2015'!L753","v":12075}]
[{"$f":"'kosten tabel 2015'!A754","v":75100},null,{"$f":"'kosten tabel 2015'!K754","v":11600},{"$f":"'kosten tabel 2015'!L754","v":12180}]
[{"$f":"'kosten tabel 2015'!A755","v":75200},null,{"$f":"'kosten tabel 2015'!K755","v":11600},{"$f":"'kosten tabel 2015'!L755","v":12180}]
[{"$f":"'kosten tabel 2015'!A756","v":75300},null,{"$f":"'kosten tabel 2015'!K756","v":11600},{"$f":"'kosten tabel 2015'!L756","v":12180}]
[{"$f":"'kosten tabel 2015'!A757","v":75400},null,{"$f":"'kosten tabel 2015'!K757","v":11600},{"$f":"'kosten tabel 2015'!L757","v":12180}]
[{"$f":"'kosten tabel 2015'!A758","v":75500},null,{"$f":"'kosten tabel 2015'!K758","v":11600},{"$f":"'kosten tabel 2015'!L758","v":12180}]
[{"$f":"'kosten tabel 2015'!A759","v":75600},null,{"$f":"'kosten tabel 2015'!K759","v":11600},{"$f":"'kosten tabel 2015'!L759","v":12180}]
[{"$f":"'kosten tabel 2015'!A760","v":75700},null,{"$f":"'kosten tabel 2015'!K760","v":11700},{"$f":"'kosten tabel 2015'!L760","v":12285}]
[{"$f":"'kosten tabel 2015'!A761","v":75800},null,{"$f":"'kosten tabel 2015'!K761","v":11700},{"$f":"'kosten tabel 2015'!L761","v":12285}]
[{"$f":"'kosten tabel 2015'!A762","v":75900},null,{"$f":"'kosten tabel 2015'!K762","v":11700},{"$f":"'kosten tabel 2015'!L762","v":12285}]
[{"$f":"'kosten tabel 2015'!A763","v":76000},null,{"$f":"'kosten tabel 2015'!K763","v":11700},{"$f":"'kosten tabel 2015'!L763","v":12285}]
[{"$f":"'kosten tabel 2015'!A764","v":76100},null,{"$f":"'kosten tabel 2015'!K764","v":11700},{"$f":"'kosten tabel 2015'!L764","v":12285}]
[{"$f":"'kosten tabel 2015'!A765","v":76200},null,{"$f":"'kosten tabel 2015'!K765","v":11700},{"$f":"'kosten tabel 2015'!L765","v":12285}]
[{"$f":"'kosten tabel 2015'!A766","v":76300},null,{"$f":"'kosten tabel 2015'!K766","v":11700},{"$f":"'kosten tabel 2015'!L766","v":12285}]
[{"$f":"'kosten tabel 2015'!A767","v":76400},null,{"$f":"'kosten tabel 2015'!K767","v":11800},{"$f":"'kosten tabel 2015'!L767","v":12390}]
[{"$f":"'kosten tabel 2015'!A768","v":76500},null,{"$f":"'kosten tabel 2015'!K768","v":11800},{"$f":"'kosten tabel 2015'!L768","v":12390}]
[{"$f":"'kosten tabel 2015'!A769","v":76600},null,{"$f":"'kosten tabel 2015'!K769","v":11800},{"$f":"'kosten tabel 2015'!L769","v":12390}]
[{"$f":"'kosten tabel 2015'!A770","v":76700},null,{"$f":"'kosten tabel 2015'!K770","v":11800},{"$f":"'kosten tabel 2015'!L770","v":12390}]
[{"$f":"'kosten tabel 2015'!A771","v":76800},null,{"$f":"'kosten tabel 2015'!K771","v":11800},{"$f":"'kosten tabel 2015'!L771","v":12390}]
[{"$f":"'kosten tabel 2015'!A772","v":76900},null,{"$f":"'kosten tabel 2015'!K772","v":11800},{"$f":"'kosten tabel 2015'!L772","v":12390}]
[{"$f":"'kosten tabel 2015'!A773","v":77000},null,{"$f":"'kosten tabel 2015'!K773","v":11800},{"$f":"'kosten tabel 2015'!L773","v":12390}]
[{"$f":"'kosten tabel 2015'!A774","v":77100},null,{"$f":"'kosten tabel 2015'!K774","v":11900},{"$f":"'kosten tabel 2015'!L774","v":12495}]
[{"$f":"'kosten tabel 2015'!A775","v":77200},null,{"$f":"'kosten tabel 2015'!K775","v":11900},{"$f":"'kosten tabel 2015'!L775","v":12495}]
[{"$f":"'kosten tabel 2015'!A776","v":77300},null,{"$f":"'kosten tabel 2015'!K776","v":11900},{"$f":"'kosten tabel 2015'!L776","v":12495}]
[{"$f":"'kosten tabel 2015'!A777","v":77400},null,{"$f":"'kosten tabel 2015'!K777","v":11900},{"$f":"'kosten tabel 2015'!L777","v":12495}]
[{"$f":"'kosten tabel 2015'!A778","v":77500},null,{"$f":"'kosten tabel 2015'!K778","v":11900},{"$f":"'kosten tabel 2015'!L778","v":12495}]
[{"$f":"'kosten tabel 2015'!A779","v":77600},null,{"$f":"'kosten tabel 2015'!K779","v":11900},{"$f":"'kosten tabel 2015'!L779","v":12495}]
[{"$f":"'kosten tabel 2015'!A780","v":77700},null,{"$f":"'kosten tabel 2015'!K780","v":11900},{"$f":"'kosten tabel 2015'!L780","v":12495}]
[{"$f":"'kosten tabel 2015'!A781","v":77800},null,{"$f":"'kosten tabel 2015'!K781","v":12000},{"$f":"'kosten tabel 2015'!L781","v":12600}]
[{"$f":"'kosten tabel 2015'!A782","v":77900},null,{"$f":"'kosten tabel 2015'!K782","v":12000},{"$f":"'kosten tabel 2015'!L782","v":12600}]
[{"$f":"'kosten tabel 2015'!A783","v":78000},null,{"$f":"'kosten tabel 2015'!K783","v":12000},{"$f":"'kosten tabel 2015'!L783","v":12600}]
[{"$f":"'kosten tabel 2015'!A784","v":78100},null,{"$f":"'kosten tabel 2015'!K784","v":12000},{"$f":"'kosten tabel 2015'!L784","v":12600}]
[{"$f":"'kosten tabel 2015'!A785","v":78200},null,{"$f":"'kosten tabel 2015'!K785","v":12000},{"$f":"'kosten tabel 2015'!L785","v":12600}]
[{"$f":"'kosten tabel 2015'!A786","v":78300},null,{"$f":"'kosten tabel 2015'!K786","v":12000},{"$f":"'kosten tabel 2015'!L786","v":12600}]
[{"$f":"'kosten tabel 2015'!A787","v":78400},null,{"$f":"'kosten tabel 2015'!K787","v":12100},{"$f":"'kosten tabel 2015'!L787","v":12705}]
[{"$f":"'kosten tabel 2015'!A788","v":78500},null,{"$f":"'kosten tabel 2015'!K788","v":12100},{"$f":"'kosten tabel 2015'!L788","v":12705}]
[{"$f":"'kosten tabel 2015'!A789","v":78600},null,{"$f":"'kosten tabel 2015'!K789","v":12100},{"$f":"'kosten tabel 2015'!L789","v":12705}]
[{"$f":"'kosten tabel 2015'!A790","v":78700},null,{"$f":"'kosten tabel 2015'!K790","v":12100},{"$f":"'kosten tabel 2015'!L790","v":12705}]
[{"$f":"'kosten tabel 2015'!A791","v":78800},null,{"$f":"'kosten tabel 2015'!K791","v":12100},{"$f":"'kosten tabel 2015'!L791","v":12705}]
[{"$f":"'kosten tabel 2015'!A792","v":78900},null,{"$f":"'kosten tabel 2015'!K792","v":12100},{"$f":"'kosten tabel 2015'!L792","v":12705}]
[{"$f":"'kosten tabel 2015'!A793","v":79000},null,{"$f":"'kosten tabel 2015'!K793","v":12100},{"$f":"'kosten tabel 2015'!L793","v":12705}]
[{"$f":"'kosten tabel 2015'!A794","v":79100},null,{"$f":"'kosten tabel 2015'!K794","v":12200},{"$f":"'kosten tabel 2015'!L794","v":12810}]
[{"$f":"'kosten tabel 2015'!A795","v":79200},null,{"$f":"'kosten tabel 2015'!K795","v":12200},{"$f":"'kosten tabel 2015'!L795","v":12810}]
[{"$f":"'kosten tabel 2015'!A796","v":79300},null,{"$f":"'kosten tabel 2015'!K796","v":12200},{"$f":"'kosten tabel 2015'!L796","v":12810}]
[{"$f":"'kosten tabel 2015'!A797","v":79400},null,{"$f":"'kosten tabel 2015'!K797","v":12200},{"$f":"'kosten tabel 2015'!L797","v":12810}]
[{"$f":"'kosten tabel 2015'!A798","v":79500},null,{"$f":"'kosten tabel 2015'!K798","v":12200},{"$f":"'kosten tabel 2015'!L798","v":12810}]
[{"$f":"'kosten tabel 2015'!A799","v":79600},null,{"$f":"'kosten tabel 2015'!K799","v":12200},{"$f":"'kosten tabel 2015'!L799","v":12810}]
[{"$f":"'kosten tabel 2015'!A800","v":79700},null,{"$f":"'kosten tabel 2015'!K800","v":12200},{"$f":"'kosten tabel 2015'!L800","v":12810}]
[{"$f":"'kosten tabel 2015'!A801","v":79800},null,{"$f":"'kosten tabel 2015'!K801","v":12300},{"$f":"'kosten tabel 2015'!L801","v":12915}]
[{"$f":"'kosten tabel 2015'!A802","v":79900},null,{"$f":"'kosten tabel 2015'!K802","v":12300},{"$f":"'kosten tabel 2015'!L802","v":12915}]
[{"$f":"'kosten tabel 2015'!A803","v":80000},null,{"$f":"'kosten tabel 2015'!K803","v":12300},{"$f":"'kosten tabel 2015'!L803","v":12915}]
[{"$f":"'kosten tabel 2015'!A804","v":80100},null,{"$f":"'kosten tabel 2015'!K804","v":12300},{"$f":"'kosten tabel 2015'!L804","v":12915}]
[{"$f":"'kosten tabel 2015'!A805","v":80200},null,{"$f":"'kosten tabel 2015'!K805","v":12300},{"$f":"'kosten tabel 2015'!L805","v":12915}]
[{"$f":"'kosten tabel 2015'!A806","v":80300},null,{"$f":"'kosten tabel 2015'!K806","v":12300},{"$f":"'kosten tabel 2015'!L806","v":12915}]
[{"$f":"'kosten tabel 2015'!A807","v":80400},null,{"$f":"'kosten tabel 2015'!K807","v":12300},{"$f":"'kosten tabel 2015'!L807","v":12915}]
[{"$f":"'kosten tabel 2015'!A808","v":80500},null,{"$f":"'kosten tabel 2015'!K808","v":12400},{"$f":"'kosten tabel 2015'!L808","v":13020}]
[{"$f":"'kosten tabel 2015'!A809","v":80600},null,{"$f":"'kosten tabel 2015'!K809","v":12400},{"$f":"'kosten tabel 2015'!L809","v":13020}]
[{"$f":"'kosten tabel 2015'!A810","v":80700},null,{"$f":"'kosten tabel 2015'!K810","v":12400},{"$f":"'kosten tabel 2015'!L810","v":13020}]
[{"$f":"'kosten tabel 2015'!A811","v":80800},null,{"$f":"'kosten tabel 2015'!K811","v":12400},{"$f":"'kosten tabel 2015'!L811","v":13020}]
[{"$f":"'kosten tabel 2015'!A812","v":80900},null,{"$f":"'kosten tabel 2015'!K812","v":12400},{"$f":"'kosten tabel 2015'!L812","v":13020}]
[{"$f":"'kosten tabel 2015'!A813","v":81000},null,{"$f":"'kosten tabel 2015'!K813","v":12400},{"$f":"'kosten tabel 2015'!L813","v":13020}]
[{"$f":"'kosten tabel 2015'!A814","v":81100},null,{"$f":"'kosten tabel 2015'!K814","v":12500},{"$f":"'kosten tabel 2015'!L814","v":13125}]
[{"$f":"'kosten tabel 2015'!A815","v":81200},null,{"$f":"'kosten tabel 2015'!K815","v":12500},{"$f":"'kosten tabel 2015'!L815","v":13125}]
[{"$f":"'kosten tabel 2015'!A816","v":81300},null,{"$f":"'kosten tabel 2015'!K816","v":12500},{"$f":"'kosten tabel 2015'!L816","v":13125}]
[{"$f":"'kosten tabel 2015'!A817","v":81400},null,{"$f":"'kosten tabel 2015'!K817","v":12500},{"$f":"'kosten tabel 2015'!L817","v":13125}]
[{"$f":"'kosten tabel 2015'!A818","v":81500},null,{"$f":"'kosten tabel 2015'!K818","v":12500},{"$f":"'kosten tabel 2015'!L818","v":13125}]
[{"$f":"'kosten tabel 2015'!A819","v":81600},null,{"$f":"'kosten tabel 2015'!K819","v":12500},{"$f":"'kosten tabel 2015'!L819","v":13125}]
[{"$f":"'kosten tabel 2015'!A820","v":81700},null,{"$f":"'kosten tabel 2015'!K820","v":12500},{"$f":"'kosten tabel 2015'!L820","v":13125}]
[{"$f":"'kosten tabel 2015'!A821","v":81800},null,{"$f":"'kosten tabel 2015'!K821","v":12600},{"$f":"'kosten tabel 2015'!L821","v":13230}]
[{"$f":"'kosten tabel 2015'!A822","v":81900},null,{"$f":"'kosten tabel 2015'!K822","v":12600},{"$f":"'kosten tabel 2015'!L822","v":13230}]
[{"$f":"'kosten tabel 2015'!A823","v":82000},null,{"$f":"'kosten tabel 2015'!K823","v":12600},{"$f":"'kosten tabel 2015'!L823","v":13230}]
[{"$f":"'kosten tabel 2015'!A824","v":82100},null,{"$f":"'kosten tabel 2015'!K824","v":12600},{"$f":"'kosten tabel 2015'!L824","v":13230}]
[{"$f":"'kosten tabel 2015'!A825","v":82200},null,{"$f":"'kosten tabel 2015'!K825","v":12600},{"$f":"'kosten tabel 2015'!L825","v":13230}]
[{"$f":"'kosten tabel 2015'!A826","v":82300},null,{"$f":"'kosten tabel 2015'!K826","v":12600},{"$f":"'kosten tabel 2015'!L826","v":13230}]
[{"$f":"'kosten tabel 2015'!A827","v":82400},null,{"$f":"'kosten tabel 2015'!K827","v":12600},{"$f":"'kosten tabel 2015'!L827","v":13230}]
[{"$f":"'kosten tabel 2015'!A828","v":82500},null,{"$f":"'kosten tabel 2015'!K828","v":12700},{"$f":"'kosten tabel 2015'!L828","v":13335}]
[{"$f":"'kosten tabel 2015'!A829","v":82600},null,{"$f":"'kosten tabel 2015'!K829","v":12700},{"$f":"'kosten tabel 2015'!L829","v":13335}]
[{"$f":"'kosten tabel 2015'!A830","v":82700},null,{"$f":"'kosten tabel 2015'!K830","v":12700},{"$f":"'kosten tabel 2015'!L830","v":13335}]
[{"$f":"'kosten tabel 2015'!A831","v":82800},null,{"$f":"'kosten tabel 2015'!K831","v":12700},{"$f":"'kosten tabel 2015'!L831","v":13335}]
[{"$f":"'kosten tabel 2015'!A832","v":82900},null,{"$f":"'kosten tabel 2015'!K832","v":12700},{"$f":"'kosten tabel 2015'!L832","v":13335}]
[{"$f":"'kosten tabel 2015'!A833","v":83000},null,{"$f":"'kosten tabel 2015'!K833","v":12700},{"$f":"'kosten tabel 2015'!L833","v":13335}]
[{"$f":"'kosten tabel 2015'!A834","v":83100},null,{"$f":"'kosten tabel 2015'!K834","v":12700},{"$f":"'kosten tabel 2015'!L834","v":13335}]
[{"$f":"'kosten tabel 2015'!A835","v":83200},null,{"$f":"'kosten tabel 2015'!K835","v":12800},{"$f":"'kosten tabel 2015'!L835","v":13440}]
[{"$f":"'kosten tabel 2015'!A836","v":83300},null,{"$f":"'kosten tabel 2015'!K836","v":12800},{"$f":"'kosten tabel 2015'!L836","v":13440}]
[{"$f":"'kosten tabel 2015'!A837","v":83400},null,{"$f":"'kosten tabel 2015'!K837","v":12800},{"$f":"'kosten tabel 2015'!L837","v":13440}]
[{"$f":"'kosten tabel 2015'!A838","v":83500},null,{"$f":"'kosten tabel 2015'!K838","v":12800},{"$f":"'kosten tabel 2015'!L838","v":13440}]
[{"$f":"'kosten tabel 2015'!A839","v":83600},null,{"$f":"'kosten tabel 2015'!K839","v":12800},{"$f":"'kosten tabel 2015'!L839","v":13440}]
[{"$f":"'kosten tabel 2015'!A840","v":83700},null,{"$f":"'kosten tabel 2015'!K840","v":12800},{"$f":"'kosten tabel 2015'!L840","v":13440}]
[{"$f":"'kosten tabel 2015'!A841","v":83800},null,{"$f":"'kosten tabel 2015'!K841","v":12900},{"$f":"'kosten tabel 2015'!L841","v":13545}]
[{"$f":"'kosten tabel 2015'!A842","v":83900},null,{"$f":"'kosten tabel 2015'!K842","v":12900},{"$f":"'kosten tabel 2015'!L842","v":13545}]
[{"$f":"'kosten tabel 2015'!A843","v":84000},null,{"$f":"'kosten tabel 2015'!K843","v":12900},{"$f":"'kosten tabel 2015'!L843","v":13545}]
[{"$f":"'kosten tabel 2015'!A844","v":84100},null,{"$f":"'kosten tabel 2015'!K844","v":12900},{"$f":"'kosten tabel 2015'!L844","v":13545}]
[{"$f":"'kosten tabel 2015'!A845","v":84200},null,{"$f":"'kosten tabel 2015'!K845","v":12900},{"$f":"'kosten tabel 2015'!L845","v":13545}]
[{"$f":"'kosten tabel 2015'!A846","v":84300},null,{"$f":"'kosten tabel 2015'!K846","v":12900},{"$f":"'kosten tabel 2015'!L846","v":13545}]
[{"$f":"'kosten tabel 2015'!A847","v":84400},null,{"$f":"'kosten tabel 2015'!K847","v":12900},{"$f":"'kosten tabel 2015'!L847","v":13545}]
[{"$f":"'kosten tabel 2015'!A848","v":84500},null,{"$f":"'kosten tabel 2015'!K848","v":13000},{"$f":"'kosten tabel 2015'!L848","v":13650}]
[{"$f":"'kosten tabel 2015'!A849","v":84600},null,{"$f":"'kosten tabel 2015'!K849","v":13000},{"$f":"'kosten tabel 2015'!L849","v":13650}]
[{"$f":"'kosten tabel 2015'!A850","v":84700},null,{"$f":"'kosten tabel 2015'!K850","v":13000},{"$f":"'kosten tabel 2015'!L850","v":13650}]
[{"$f":"'kosten tabel 2015'!A851","v":84800},null,{"$f":"'kosten tabel 2015'!K851","v":13000},{"$f":"'kosten tabel 2015'!L851","v":13650}]
[{"$f":"'kosten tabel 2015'!A852","v":84900},null,{"$f":"'kosten tabel 2015'!K852","v":13000},{"$f":"'kosten tabel 2015'!L852","v":13650}]
[{"$f":"'kosten tabel 2015'!A853","v":85000},null,{"$f":"'kosten tabel 2015'!K853","v":13000},{"$f":"'kosten tabel 2015'!L853","v":13650}]
[{"$f":"'kosten tabel 2015'!A854","v":85100},null,{"$f":"'kosten tabel 2015'!K854","v":13000},{"$f":"'kosten tabel 2015'!L854","v":13650}]
[{"$f":"'kosten tabel 2015'!A855","v":85200},null,{"$f":"'kosten tabel 2015'!K855","v":13100},{"$f":"'kosten tabel 2015'!L855","v":13755}]
[{"$f":"'kosten tabel 2015'!A856","v":85300},null,{"$f":"'kosten tabel 2015'!K856","v":13100},{"$f":"'kosten tabel 2015'!L856","v":13755}]
[{"$f":"'kosten tabel 2015'!A857","v":85400},null,{"$f":"'kosten tabel 2015'!K857","v":13100},{"$f":"'kosten tabel 2015'!L857","v":13755}]
[{"$f":"'kosten tabel 2015'!A858","v":85500},null,{"$f":"'kosten tabel 2015'!K858","v":13100},{"$f":"'kosten tabel 2015'!L858","v":13755}]
[{"$f":"'kosten tabel 2015'!A859","v":85600},null,{"$f":"'kosten tabel 2015'!K859","v":13100},{"$f":"'kosten tabel 2015'!L859","v":13755}]
[{"$f":"'kosten tabel 2015'!A860","v":85700},null,{"$f":"'kosten tabel 2015'!K860","v":13100},{"$f":"'kosten tabel 2015'!L860","v":13755}]
[{"$f":"'kosten tabel 2015'!A861","v":85800},null,{"$f":"'kosten tabel 2015'!K861","v":13100},{"$f":"'kosten tabel 2015'!L861","v":13755}]
[{"$f":"'kosten tabel 2015'!A862","v":85900},null,{"$f":"'kosten tabel 2015'!K862","v":13200},{"$f":"'kosten tabel 2015'!L862","v":13860}]
[{"$f":"'kosten tabel 2015'!A863","v":86000},null,{"$f":"'kosten tabel 2015'!K863","v":13200},{"$f":"'kosten tabel 2015'!L863","v":13860}]
[{"$f":"'kosten tabel 2015'!A864","v":86100},null,{"$f":"'kosten tabel 2015'!K864","v":13200},{"$f":"'kosten tabel 2015'!L864","v":13860}]
[{"$f":"'kosten tabel 2015'!A865","v":86200},null,{"$f":"'kosten tabel 2015'!K865","v":13200},{"$f":"'kosten tabel 2015'!L865","v":13860}]
[{"$f":"'kosten tabel 2015'!A866","v":86300},null,{"$f":"'kosten tabel 2015'!K866","v":13200},{"$f":"'kosten tabel 2015'!L866","v":13860}]
[{"$f":"'kosten tabel 2015'!A867","v":86400},null,{"$f":"'kosten tabel 2015'!K867","v":13200},{"$f":"'kosten tabel 2015'!L867","v":13860}]
[{"$f":"'kosten tabel 2015'!A868","v":86500},null,{"$f":"'kosten tabel 2015'!K868","v":13200},{"$f":"'kosten tabel 2015'!L868","v":13860}]
[{"$f":"'kosten tabel 2015'!A869","v":86600},null,{"$f":"'kosten tabel 2015'!K869","v":13300},{"$f":"'kosten tabel 2015'!L869","v":13965}]
[{"$f":"'kosten tabel 2015'!A870","v":86700},null,{"$f":"'kosten tabel 2015'!K870","v":13300},{"$f":"'kosten tabel 2015'!L870","v":13965}]
[{"$f":"'kosten tabel 2015'!A871","v":86800},null,{"$f":"'kosten tabel 2015'!K871","v":13300},{"$f":"'kosten tabel 2015'!L871","v":13965}]
[{"$f":"'kosten tabel 2015'!A872","v":86900},null,{"$f":"'kosten tabel 2015'!K872","v":13300},{"$f":"'kosten tabel 2015'!L872","v":13965}]
[{"$f":"'kosten tabel 2015'!A873","v":87000},null,{"$f":"'kosten tabel 2015'!K873","v":13300},{"$f":"'kosten tabel 2015'!L873","v":13965}]
[{"$f":"'kosten tabel 2015'!A874","v":87100},null,{"$f":"'kosten tabel 2015'!K874","v":13300},{"$f":"'kosten tabel 2015'!L874","v":13965}]
[{"$f":"'kosten tabel 2015'!A875","v":87200},null,{"$f":"'kosten tabel 2015'!K875","v":13400},{"$f":"'kosten tabel 2015'!L875","v":14070}]
[{"$f":"'kosten tabel 2015'!A876","v":87300},null,{"$f":"'kosten tabel 2015'!K876","v":13400},{"$f":"'kosten tabel 2015'!L876","v":14070}]
[{"$f":"'kosten tabel 2015'!A877","v":87400},null,{"$f":"'kosten tabel 2015'!K877","v":13400},{"$f":"'kosten tabel 2015'!L877","v":14070}]
[{"$f":"'kosten tabel 2015'!A878","v":87500},null,{"$f":"'kosten tabel 2015'!K878","v":13400},{"$f":"'kosten tabel 2015'!L878","v":14070}]
[{"$f":"'kosten tabel 2015'!A879","v":87600},null,{"$f":"'kosten tabel 2015'!K879","v":13400},{"$f":"'kosten tabel 2015'!L879","v":14070}]
[{"$f":"'kosten tabel 2015'!A880","v":87700},null,{"$f":"'kosten tabel 2015'!K880","v":13400},{"$f":"'kosten tabel 2015'!L880","v":14070}]
[{"$f":"'kosten tabel 2015'!A881","v":87800},null,{"$f":"'kosten tabel 2015'!K881","v":13400},{"$f":"'kosten tabel 2015'!L881","v":14070}]
[{"$f":"'kosten tabel 2015'!A882","v":87900},null,{"$f":"'kosten tabel 2015'!K882","v":13500},{"$f":"'kosten tabel 2015'!L882","v":14175}]
[{"$f":"'kosten tabel 2015'!A883","v":88000},null,{"$f":"'kosten tabel 2015'!K883","v":13500},{"$f":"'kosten tabel 2015'!L883","v":14175}]
[{"$f":"'kosten tabel 2015'!A884","v":88100},null,{"$f":"'kosten tabel 2015'!K884","v":13500},{"$f":"'kosten tabel 2015'!L884","v":14175}]
[{"$f":"'kosten tabel 2015'!A885","v":88200},null,{"$f":"'kosten tabel 2015'!K885","v":13500},{"$f":"'kosten tabel 2015'!L885","v":14175}]
[{"$f":"'kosten tabel 2015'!A886","v":88300},null,{"$f":"'kosten tabel 2015'!K886","v":13500},{"$f":"'kosten tabel 2015'!L886","v":14175}]
[{"$f":"'kosten tabel 2015'!A887","v":88400},null,{"$f":"'kosten tabel 2015'!K887","v":13500},{"$f":"'kosten tabel 2015'!L887","v":14175}]
[{"$f":"'kosten tabel 2015'!A888","v":88500},null,{"$f":"'kosten tabel 2015'!K888","v":13500},{"$f":"'kosten tabel 2015'!L888","v":14175}]
[{"$f":"'kosten tabel 2015'!A889","v":88600},null,{"$f":"'kosten tabel 2015'!K889","v":13600},{"$f":"'kosten tabel 2015'!L889","v":14280}]
[{"$f":"'kosten tabel 2015'!A890","v":88700},null,{"$f":"'kosten tabel 2015'!K890","v":13600},{"$f":"'kosten tabel 2015'!L890","v":14280}]
[{"$f":"'kosten tabel 2015'!A891","v":88800},null,{"$f":"'kosten tabel 2015'!K891","v":13600},{"$f":"'kosten tabel 2015'!L891","v":14280}]
[{"$f":"'kosten tabel 2015'!A892","v":88900},null,{"$f":"'kosten tabel 2015'!K892","v":13600},{"$f":"'kosten tabel 2015'!L892","v":14280}]
[{"$f":"'kosten tabel 2015'!A893","v":89000},null,{"$f":"'kosten tabel 2015'!K893","v":13600},{"$f":"'kosten tabel 2015'!L893","v":14280}]
[{"$f":"'kosten tabel 2015'!A894","v":89100},null,{"$f":"'kosten tabel 2015'!K894","v":13600},{"$f":"'kosten tabel 2015'!L894","v":14280}]
[{"$f":"'kosten tabel 2015'!A895","v":89200},null,{"$f":"'kosten tabel 2015'!K895","v":13600},{"$f":"'kosten tabel 2015'!L895","v":14280}]
[{"$f":"'kosten tabel 2015'!A896","v":89300},null,{"$f":"'kosten tabel 2015'!K896","v":13700},{"$f":"'kosten tabel 2015'!L896","v":14385}]
[{"$f":"'kosten tabel 2015'!A897","v":89400},null,{"$f":"'kosten tabel 2015'!K897","v":13700},{"$f":"'kosten tabel 2015'!L897","v":14385}]
[{"$f":"'kosten tabel 2015'!A898","v":89500},null,{"$f":"'kosten tabel 2015'!K898","v":13700},{"$f":"'kosten tabel 2015'!L898","v":14385}]
[{"$f":"'kosten tabel 2015'!A899","v":89600},null,{"$f":"'kosten tabel 2015'!K899","v":13700},{"$f":"'kosten tabel 2015'!L899","v":14385}]
[{"$f":"'kosten tabel 2015'!A900","v":89700},null,{"$f":"'kosten tabel 2015'!K900","v":13700},{"$f":"'kosten tabel 2015'!L900","v":14385}]
[{"$f":"'kosten tabel 2015'!A901","v":89800},null,{"$f":"'kosten tabel 2015'!K901","v":13700},{"$f":"'kosten tabel 2015'!L901","v":14385}]
[{"$f":"'kosten tabel 2015'!A902","v":89900},null,{"$f":"'kosten tabel 2015'!K902","v":13800},{"$f":"'kosten tabel 2015'!L902","v":14490}]
[{"$f":"'kosten tabel 2015'!A903","v":90000},null,{"$f":"'kosten tabel 2015'!K903","v":13800},{"$f":"'kosten tabel 2015'!L903","v":14490}]
[{"$f":"'kosten tabel 2015'!A904","v":90100},null,{"$f":"'kosten tabel 2015'!K904","v":13800},{"$f":"'kosten tabel 2015'!L904","v":14490}]
[{"$f":"'kosten tabel 2015'!A905","v":90200},null,{"$f":"'kosten tabel 2015'!K905","v":13800},{"$f":"'kosten tabel 2015'!L905","v":14490}]
[{"$f":"'kosten tabel 2015'!A906","v":90300},null,{"$f":"'kosten tabel 2015'!K906","v":13800},{"$f":"'kosten tabel 2015'!L906","v":14490}]
[{"$f":"'kosten tabel 2015'!A907","v":90400},null,{"$f":"'kosten tabel 2015'!K907","v":13800},{"$f":"'kosten tabel 2015'!L907","v":14490}]
[{"$f":"'kosten tabel 2015'!A908","v":90500},null,{"$f":"'kosten tabel 2015'!K908","v":13800},{"$f":"'kosten tabel 2015'!L908","v":14490}]
[{"$f":"'kosten tabel 2015'!A909","v":90600},null,{"$f":"'kosten tabel 2015'!K909","v":13900},{"$f":"'kosten tabel 2015'!L909","v":14595}]
[{"$f":"'kosten tabel 2015'!A910","v":90700},null,{"$f":"'kosten tabel 2015'!K910","v":13900},{"$f":"'kosten tabel 2015'!L910","v":14595}]
[{"$f":"'kosten tabel 2015'!A911","v":90800},null,{"$f":"'kosten tabel 2015'!K911","v":13900},{"$f":"'kosten tabel 2015'!L911","v":14595}]
[{"$f":"'kosten tabel 2015'!A912","v":90900},null,{"$f":"'kosten tabel 2015'!K912","v":13900},{"$f":"'kosten tabel 2015'!L912","v":14595}]
[{"$f":"'kosten tabel 2015'!A913","v":91000},null,{"$f":"'kosten tabel 2015'!K913","v":13900},{"$f":"'kosten tabel 2015'!L913","v":14595}]
[{"$f":"'kosten tabel 2015'!A914","v":91100},null,{"$f":"'kosten tabel 2015'!K914","v":13900},{"$f":"'kosten tabel 2015'!L914","v":14595}]
[{"$f":"'kosten tabel 2015'!A915","v":91200},null,{"$f":"'kosten tabel 2015'!K915","v":13900},{"$f":"'kosten tabel 2015'!L915","v":14595}]
[{"$f":"'kosten tabel 2015'!A916","v":91300},null,{"$f":"'kosten tabel 2015'!K916","v":14000},{"$f":"'kosten tabel 2015'!L916","v":14700}]
[{"$f":"'kosten tabel 2015'!A917","v":91400},null,{"$f":"'kosten tabel 2015'!K917","v":14000},{"$f":"'kosten tabel 2015'!L917","v":14700}]
[{"$f":"'kosten tabel 2015'!A918","v":91500},null,{"$f":"'kosten tabel 2015'!K918","v":14000},{"$f":"'kosten tabel 2015'!L918","v":14700}]
[{"$f":"'kosten tabel 2015'!A919","v":91600},null,{"$f":"'kosten tabel 2015'!K919","v":14000},{"$f":"'kosten tabel 2015'!L919","v":14700}]
[{"$f":"'kosten tabel 2015'!A920","v":91700},null,{"$f":"'kosten tabel 2015'!K920","v":14000},{"$f":"'kosten tabel 2015'!L920","v":14700}]
[{"$f":"'kosten tabel 2015'!A921","v":91800},null,{"$f":"'kosten tabel 2015'!K921","v":14000},{"$f":"'kosten tabel 2015'!L921","v":14700}]
[{"$f":"'kosten tabel 2015'!A922","v":91900},null,{"$f":"'kosten tabel 2015'!K922","v":14000},{"$f":"'kosten tabel 2015'!L922","v":14700}]
[{"$f":"'kosten tabel 2015'!A923","v":92000},null,{"$f":"'kosten tabel 2015'!K923","v":14100},{"$f":"'kosten tabel 2015'!L923","v":14805}]
[{"$f":"'kosten tabel 2015'!A924","v":92100},null,{"$f":"'kosten tabel 2015'!K924","v":14100},{"$f":"'kosten tabel 2015'!L924","v":14805}]
[{"$f":"'kosten tabel 2015'!A925","v":92200},null,{"$f":"'kosten tabel 2015'!K925","v":14100},{"$f":"'kosten tabel 2015'!L925","v":14805}]
[{"$f":"'kosten tabel 2015'!A926","v":92300},null,{"$f":"'kosten tabel 2015'!K926","v":14100},{"$f":"'kosten tabel 2015'!L926","v":14805}]
[{"$f":"'kosten tabel 2015'!A927","v":92400},null,{"$f":"'kosten tabel 2015'!K927","v":14100},{"$f":"'kosten tabel 2015'!L927","v":14805}]
[{"$f":"'kosten tabel 2015'!A928","v":92500},null,{"$f":"'kosten tabel 2015'!K928","v":14100},{"$f":"'kosten tabel 2015'!L928","v":14805}]
[{"$f":"'kosten tabel 2015'!A929","v":92600},null,{"$f":"'kosten tabel 2015'!K929","v":14200},{"$f":"'kosten tabel 2015'!L929","v":14910}]
[{"$f":"'kosten tabel 2015'!A930","v":92700},null,{"$f":"'kosten tabel 2015'!K930","v":14200},{"$f":"'kosten tabel 2015'!L930","v":14910}]
[{"$f":"'kosten tabel 2015'!A931","v":92800},null,{"$f":"'kosten tabel 2015'!K931","v":14200},{"$f":"'kosten tabel 2015'!L931","v":14910}]
[{"$f":"'kosten tabel 2015'!A932","v":92900},null,{"$f":"'kosten tabel 2015'!K932","v":14200},{"$f":"'kosten tabel 2015'!L932","v":14910}]
[{"$f":"'kosten tabel 2015'!A933","v":93000},null,{"$f":"'kosten tabel 2015'!K933","v":14200},{"$f":"'kosten tabel 2015'!L933","v":14910}]
[{"$f":"'kosten tabel 2015'!A934","v":93100},null,{"$f":"'kosten tabel 2015'!K934","v":14200},{"$f":"'kosten tabel 2015'!L934","v":14910}]
[{"$f":"'kosten tabel 2015'!A935","v":93200},null,{"$f":"'kosten tabel 2015'!K935","v":14200},{"$f":"'kosten tabel 2015'!L935","v":14910}]
[{"$f":"'kosten tabel 2015'!A936","v":93300},null,{"$f":"'kosten tabel 2015'!K936","v":14300},{"$f":"'kosten tabel 2015'!L936","v":15015}]
[{"$f":"'kosten tabel 2015'!A937","v":93400},null,{"$f":"'kosten tabel 2015'!K937","v":14300},{"$f":"'kosten tabel 2015'!L937","v":15015}]
[{"$f":"'kosten tabel 2015'!A938","v":93500},null,{"$f":"'kosten tabel 2015'!K938","v":14300},{"$f":"'kosten tabel 2015'!L938","v":15015}]
[{"$f":"'kosten tabel 2015'!A939","v":93600},null,{"$f":"'kosten tabel 2015'!K939","v":14300},{"$f":"'kosten tabel 2015'!L939","v":15015}]
[{"$f":"'kosten tabel 2015'!A940","v":93700},null,{"$f":"'kosten tabel 2015'!K940","v":14300},{"$f":"'kosten tabel 2015'!L940","v":15015}]
[{"$f":"'kosten tabel 2015'!A941","v":93800},null,{"$f":"'kosten tabel 2015'!K941","v":14300},{"$f":"'kosten tabel 2015'!L941","v":15015}]
[{"$f":"'kosten tabel 2015'!A942","v":93900},null,{"$f":"'kosten tabel 2015'!K942","v":14300},{"$f":"'kosten tabel 2015'!L942","v":15015}]
[{"$f":"'kosten tabel 2015'!A943","v":94000},null,{"$f":"'kosten tabel 2015'!K943","v":14400},{"$f":"'kosten tabel 2015'!L943","v":15120}]
[{"$f":"'kosten tabel 2015'!A944","v":94100},null,{"$f":"'kosten tabel 2015'!K944","v":14400},{"$f":"'kosten tabel 2015'!L944","v":15120}]
[{"$f":"'kosten tabel 2015'!A945","v":94200},null,{"$f":"'kosten tabel 2015'!K945","v":14400},{"$f":"'kosten tabel 2015'!L945","v":15120}]
[{"$f":"'kosten tabel 2015'!A946","v":94300},null,{"$f":"'kosten tabel 2015'!K946","v":14400},{"$f":"'kosten tabel 2015'!L946","v":15120}]
[{"$f":"'kosten tabel 2015'!A947","v":94400},null,{"$f":"'kosten tabel 2015'!K947","v":14400},{"$f":"'kosten tabel 2015'!L947","v":15120}]
[{"$f":"'kosten tabel 2015'!A948","v":94500},null,{"$f":"'kosten tabel 2015'!K948","v":14400},{"$f":"'kosten tabel 2015'!L948","v":15120}]
[{"$f":"'kosten tabel 2015'!A949","v":94600},null,{"$f":"'kosten tabel 2015'!K949","v":14400},{"$f":"'kosten tabel 2015'!L949","v":15120}]
[{"$f":"'kosten tabel 2015'!A950","v":94700},null,{"$f":"'kosten tabel 2015'!K950","v":14500},{"$f":"'kosten tabel 2015'!L950","v":15225}]
[{"$f":"'kosten tabel 2015'!A951","v":94800},null,{"$f":"'kosten tabel 2015'!K951","v":14500},{"$f":"'kosten tabel 2015'!L951","v":15225}]
[{"$f":"'kosten tabel 2015'!A952","v":94900},null,{"$f":"'kosten tabel 2015'!K952","v":14500},{"$f":"'kosten tabel 2015'!L952","v":15225}]
[{"$f":"'kosten tabel 2015'!A953","v":95000},null,{"$f":"'kosten tabel 2015'!K953","v":14500},{"$f":"'kosten tabel 2015'!L953","v":15225}]
[{"$f":"'kosten tabel 2015'!A954","v":95100},null,{"$f":"'kosten tabel 2015'!K954","v":14500},{"$f":"'kosten tabel 2015'!L954","v":15225}]
[{"$f":"'kosten tabel 2015'!A955","v":95200},null,{"$f":"'kosten tabel 2015'!K955","v":14500},{"$f":"'kosten tabel 2015'!L955","v":15225}]
[{"$f":"'kosten tabel 2015'!A956","v":95300},null,{"$f":"'kosten tabel 2015'!K956","v":14600},{"$f":"'kosten tabel 2015'!L956","v":15330}]
[{"$f":"'kosten tabel 2015'!A957","v":95400},null,{"$f":"'kosten tabel 2015'!K957","v":14600},{"$f":"'kosten tabel 2015'!L957","v":15330}]
[{"$f":"'kosten tabel 2015'!A958","v":95500},null,{"$f":"'kosten tabel 2015'!K958","v":14600},{"$f":"'kosten tabel 2015'!L958","v":15330}]
[{"$f":"'kosten tabel 2015'!A959","v":95600},null,{"$f":"'kosten tabel 2015'!K959","v":14600},{"$f":"'kosten tabel 2015'!L959","v":15330}]
[{"$f":"'kosten tabel 2015'!A960","v":95700},null,{"$f":"'kosten tabel 2015'!K960","v":14600},{"$f":"'kosten tabel 2015'!L960","v":15330}]
[{"$f":"'kosten tabel 2015'!A961","v":95800},null,{"$f":"'kosten tabel 2015'!K961","v":14600},{"$f":"'kosten tabel 2015'!L961","v":15330}]
[{"$f":"'kosten tabel 2015'!A962","v":95900},null,{"$f":"'kosten tabel 2015'!K962","v":14600},{"$f":"'kosten tabel 2015'!L962","v":15330}]
[{"$f":"'kosten tabel 2015'!A963","v":96000},null,{"$f":"'kosten tabel 2015'!K963","v":14700},{"$f":"'kosten tabel 2015'!L963","v":15435}]
[{"$f":"'kosten tabel 2015'!A964","v":96100},null,{"$f":"'kosten tabel 2015'!K964","v":14700},{"$f":"'kosten tabel 2015'!L964","v":15435}]
[{"$f":"'kosten tabel 2015'!A965","v":96200},null,{"$f":"'kosten tabel 2015'!K965","v":14700},{"$f":"'kosten tabel 2015'!L965","v":15435}]
[{"$f":"'kosten tabel 2015'!A966","v":96300},null,{"$f":"'kosten tabel 2015'!K966","v":14700},{"$f":"'kosten tabel 2015'!L966","v":15435}]
[{"$f":"'kosten tabel 2015'!A967","v":96400},null,{"$f":"'kosten tabel 2015'!K967","v":14700},{"$f":"'kosten tabel 2015'!L967","v":15435}]
[{"$f":"'kosten tabel 2015'!A968","v":96500},null,{"$f":"'kosten tabel 2015'!K968","v":14700},{"$f":"'kosten tabel 2015'!L968","v":15435}]
[{"$f":"'kosten tabel 2015'!A969","v":96600},null,{"$f":"'kosten tabel 2015'!K969","v":14700},{"$f":"'kosten tabel 2015'!L969","v":15435}]
[{"$f":"'kosten tabel 2015'!A970","v":96700},null,{"$f":"'kosten tabel 2015'!K970","v":14800},{"$f":"'kosten tabel 2015'!L970","v":15540}]
[{"$f":"'kosten tabel 2015'!A971","v":96800},null,{"$f":"'kosten tabel 2015'!K971","v":14800},{"$f":"'kosten tabel 2015'!L971","v":15540}]
[{"$f":"'kosten tabel 2015'!A972","v":96900},null,{"$f":"'kosten tabel 2015'!K972","v":14800},{"$f":"'kosten tabel 2015'!L972","v":15540}]
[{"$f":"'kosten tabel 2015'!A973","v":97000},null,{"$f":"'kosten tabel 2015'!K973","v":14800},{"$f":"'kosten tabel 2015'!L973","v":15540}]
[{"$f":"'kosten tabel 2015'!A974","v":97100},null,{"$f":"'kosten tabel 2015'!K974","v":14800},{"$f":"'kosten tabel 2015'!L974","v":15540}]
[{"$f":"'kosten tabel 2015'!A975","v":97200},null,{"$f":"'kosten tabel 2015'!K975","v":14800},{"$f":"'kosten tabel 2015'!L975","v":15540}]
[{"$f":"'kosten tabel 2015'!A976","v":97300},null,{"$f":"'kosten tabel 2015'!K976","v":14800},{"$f":"'kosten tabel 2015'!L976","v":15540}]
[{"$f":"'kosten tabel 2015'!A977","v":97400},null,{"$f":"'kosten tabel 2015'!K977","v":14900},{"$f":"'kosten tabel 2015'!L977","v":15645}]
[{"$f":"'kosten tabel 2015'!A978","v":97500},null,{"$f":"'kosten tabel 2015'!K978","v":14900},{"$f":"'kosten tabel 2015'!L978","v":15645}]
[{"$f":"'kosten tabel 2015'!A979","v":97600},null,{"$f":"'kosten tabel 2015'!K979","v":14900},{"$f":"'kosten tabel 2015'!L979","v":15645}]
[{"$f":"'kosten tabel 2015'!A980","v":97700},null,{"$f":"'kosten tabel 2015'!K980","v":14900},{"$f":"'kosten tabel 2015'!L980","v":15645}]
[{"$f":"'kosten tabel 2015'!A981","v":97800},null,{"$f":"'kosten tabel 2015'!K981","v":14900},{"$f":"'kosten tabel 2015'!L981","v":15645}]
[{"$f":"'kosten tabel 2015'!A982","v":97900},null,{"$f":"'kosten tabel 2015'!K982","v":14900},{"$f":"'kosten tabel 2015'!L982","v":15645}]
[{"$f":"'kosten tabel 2015'!A983","v":98000},null,{"$f":"'kosten tabel 2015'!K983","v":14900},{"$f":"'kosten tabel 2015'!L983","v":15645}]
[{"$f":"'kosten tabel 2015'!A984","v":98100},null,{"$f":"'kosten tabel 2015'!K984","v":15000},{"$f":"'kosten tabel 2015'!L984","v":15750}]
[{"$f":"'kosten tabel 2015'!A985","v":98200},null,{"$f":"'kosten tabel 2015'!K985","v":15000},{"$f":"'kosten tabel 2015'!L985","v":15750}]
[{"$f":"'kosten tabel 2015'!A986","v":98300},null,{"$f":"'kosten tabel 2015'!K986","v":15000},{"$f":"'kosten tabel 2015'!L986","v":15750}]
[{"$f":"'kosten tabel 2015'!A987","v":98400},null,{"$f":"'kosten tabel 2015'!K987","v":15000},{"$f":"'kosten tabel 2015'!L987","v":15750}]
[{"$f":"'kosten tabel 2015'!A988","v":98500},null,{"$f":"'kosten tabel 2015'!K988","v":15000},{"$f":"'kosten tabel 2015'!L988","v":15750}]
[{"$f":"'kosten tabel 2015'!A989","v":98600},null,{"$f":"'kosten tabel 2015'!K989","v":15000},{"$f":"'kosten tabel 2015'!L989","v":15750}]
[{"$f":"'kosten tabel 2015'!A990","v":98700},null,{"$f":"'kosten tabel 2015'!K990","v":15100},{"$f":"'kosten tabel 2015'!L990","v":15855}]
[{"$f":"'kosten tabel 2015'!A991","v":98800},null,{"$f":"'kosten tabel 2015'!K991","v":15100},{"$f":"'kosten tabel 2015'!L991","v":15855}]
[{"$f":"'kosten tabel 2015'!A992","v":98900},null,{"$f":"'kosten tabel 2015'!K992","v":15100},{"$f":"'kosten tabel 2015'!L992","v":15855}]
[{"$f":"'kosten tabel 2015'!A993","v":99000},null,{"$f":"'kosten tabel 2015'!K993","v":15100},{"$f":"'kosten tabel 2015'!L993","v":15855}]
[{"$f":"'kosten tabel 2015'!A994","v":99100},null,{"$f":"'kosten tabel 2015'!K994","v":15100},{"$f":"'kosten tabel 2015'!L994","v":15855}]
[{"$f":"'kosten tabel 2015'!A995","v":99200},null,{"$f":"'kosten tabel 2015'!K995","v":15100},{"$f":"'kosten tabel 2015'!L995","v":15855}]
[{"$f":"'kosten tabel 2015'!A996","v":99300},null,{"$f":"'kosten tabel 2015'!K996","v":15100},{"$f":"'kosten tabel 2015'!L996","v":15855}]
[{"$f":"'kosten tabel 2015'!A997","v":99400},null,{"$f":"'kosten tabel 2015'!K997","v":15200},{"$f":"'kosten tabel 2015'!L997","v":15960}]
[{"$f":"'kosten tabel 2015'!A998","v":99500},null,{"$f":"'kosten tabel 2015'!K998","v":15200},{"$f":"'kosten tabel 2015'!L998","v":15960}]
[{"$f":"'kosten tabel 2015'!A999","v":99600},null,{"$f":"'kosten tabel 2015'!K999","v":15200},{"$f":"'kosten tabel 2015'!L999","v":15960}]
[{"$f":"'kosten tabel 2015'!A1000","v":99700},null,{"$f":"'kosten tabel 2015'!K1000","v":15200},{"$f":"'kosten tabel 2015'!L1000","v":15960}]
[{"$f":"'kosten tabel 2015'!A1001","v":99800},null,{"$f":"'kosten tabel 2015'!K1001","v":15200},{"$f":"'kosten tabel 2015'!L1001","v":15960}]
[{"$f":"'kosten tabel 2015'!A1002","v":99900},null,{"$f":"'kosten tabel 2015'!K1002","v":15200},{"$f":"'kosten tabel 2015'!L1002","v":15960}]
[{"$f":"'kosten tabel 2015'!A1003","v":100000},null,{"$f":"'kosten tabel 2015'!K1003","v":15200},{"$f":"'kosten tabel 2015'!L1003","v":15960}]
[{"$f":"'kosten tabel 2015'!A1004","v":100100},null,{"$f":"'kosten tabel 2015'!K1004","v":15300},{"$f":"'kosten tabel 2015'!L1004","v":16065}]
[{"$f":"'kosten tabel 2015'!A1005","v":100200},null,{"$f":"'kosten tabel 2015'!K1005","v":15300},{"$f":"'kosten tabel 2015'!L1005","v":16065}]
[{"$f":"'kosten tabel 2015'!A1006","v":100300},null,{"$f":"'kosten tabel 2015'!K1006","v":15300},{"$f":"'kosten tabel 2015'!L1006","v":16065}]
[{"$f":"'kosten tabel 2015'!A1007","v":100400},null,{"$f":"'kosten tabel 2015'!K1007","v":15300},{"$f":"'kosten tabel 2015'!L1007","v":16065}]
[{"$f":"'kosten tabel 2015'!A1008","v":100500},null,{"$f":"'kosten tabel 2015'!K1008","v":15300},{"$f":"'kosten tabel 2015'!L1008","v":16065}]
[{"$f":"'kosten tabel 2015'!A1009","v":100600},null,{"$f":"'kosten tabel 2015'!K1009","v":15300},{"$f":"'kosten tabel 2015'!L1009","v":16065}]
[{"$f":"'kosten tabel 2015'!A1010","v":100700},null,{"$f":"'kosten tabel 2015'!K1010","v":15300},{"$f":"'kosten tabel 2015'!L1010","v":16065}]
[{"$f":"'kosten tabel 2015'!A1011","v":100800},null,{"$f":"'kosten tabel 2015'!K1011","v":15300},{"$f":"'kosten tabel 2015'!L1011","v":16065}]
[{"$f":"'kosten tabel 2015'!A1012","v":100900},null,{"$f":"'kosten tabel 2015'!K1012","v":15300},{"$f":"'kosten tabel 2015'!L1012","v":16065}]
[{"$f":"'kosten tabel 2015'!A1013","v":101000},null,{"$f":"'kosten tabel 2015'!K1013","v":15300},{"$f":"'kosten tabel 2015'!L1013","v":16065}]
[{"$f":"'kosten tabel 2015'!A1014","v":101100},null,{"$f":"'kosten tabel 2015'!K1014","v":15400},{"$f":"'kosten tabel 2015'!L1014","v":16170}]
[{"$f":"'kosten tabel 2015'!A1015","v":101200},null,{"$f":"'kosten tabel 2015'!K1015","v":15400},{"$f":"'kosten tabel 2015'!L1015","v":16170}]
[{"$f":"'kosten tabel 2015'!A1016","v":101300},null,{"$f":"'kosten tabel 2015'!K1016","v":15400},{"$f":"'kosten tabel 2015'!L1016","v":16170}]
[{"$f":"'kosten tabel 2015'!A1017","v":101400},null,{"$f":"'kosten tabel 2015'!K1017","v":15400},{"$f":"'kosten tabel 2015'!L1017","v":16170}]
[{"$f":"'kosten tabel 2015'!A1018","v":101500},null,{"$f":"'kosten tabel 2015'!K1018","v":15400},{"$f":"'kosten tabel 2015'!L1018","v":16170}]
[{"$f":"'kosten tabel 2015'!A1019","v":101600},null,{"$f":"'kosten tabel 2015'!K1019","v":15400},{"$f":"'kosten tabel 2015'!L1019","v":16170}]
[{"$f":"'kosten tabel 2015'!A1020","v":101700},null,{"$f":"'kosten tabel 2015'!K1020","v":15400},{"$f":"'kosten tabel 2015'!L1020","v":16170}]
[{"$f":"'kosten tabel 2015'!A1021","v":101800},null,{"$f":"'kosten tabel 2015'!K1021","v":15400},{"$f":"'kosten tabel 2015'!L1021","v":16170}]
[{"$f":"'kosten tabel 2015'!A1022","v":101900},null,{"$f":"'kosten tabel 2015'!K1022","v":15400},{"$f":"'kosten tabel 2015'!L1022","v":16170}]
[{"$f":"'kosten tabel 2015'!A1023","v":102000},null,{"$f":"'kosten tabel 2015'!K1023","v":15400},{"$f":"'kosten tabel 2015'!L1023","v":16170}]
[{"$f":"'kosten tabel 2015'!A1024","v":102100},null,{"$f":"'kosten tabel 2015'!K1024","v":15500},{"$f":"'kosten tabel 2015'!L1024","v":16275}]
[{"$f":"'kosten tabel 2015'!A1025","v":102200},null,{"$f":"'kosten tabel 2015'!K1025","v":15500},{"$f":"'kosten tabel 2015'!L1025","v":16275}]
[{"$f":"'kosten tabel 2015'!A1026","v":102300},null,{"$f":"'kosten tabel 2015'!K1026","v":15500},{"$f":"'kosten tabel 2015'!L1026","v":16275}]
[{"$f":"'kosten tabel 2015'!A1027","v":102400},null,{"$f":"'kosten tabel 2015'!K1027","v":15500},{"$f":"'kosten tabel 2015'!L1027","v":16275}]
[{"$f":"'kosten tabel 2015'!A1028","v":102500},null,{"$f":"'kosten tabel 2015'!K1028","v":15500},{"$f":"'kosten tabel 2015'!L1028","v":16275}]
[{"$f":"'kosten tabel 2015'!A1029","v":102600},null,{"$f":"'kosten tabel 2015'!K1029","v":15500},{"$f":"'kosten tabel 2015'!L1029","v":16275}]
[{"$f":"'kosten tabel 2015'!A1030","v":102700},null,{"$f":"'kosten tabel 2015'!K1030","v":15500},{"$f":"'kosten tabel 2015'!L1030","v":16275}]
[{"$f":"'kosten tabel 2015'!A1031","v":102800},null,{"$f":"'kosten tabel 2015'!K1031","v":15500},{"$f":"'kosten tabel 2015'!L1031","v":16275}]
[{"$f":"'kosten tabel 2015'!A1032","v":102900},null,{"$f":"'kosten tabel 2015'!K1032","v":15500},{"$f":"'kosten tabel 2015'!L1032","v":16275}]
[{"$f":"'kosten tabel 2015'!A1033","v":103000},null,{"$f":"'kosten tabel 2015'!K1033","v":15500},{"$f":"'kosten tabel 2015'!L1033","v":16275}]
[{"$f":"'kosten tabel 2015'!A1034","v":103100},null,{"$f":"'kosten tabel 2015'!K1034","v":15600},{"$f":"'kosten tabel 2015'!L1034","v":16380}]
[{"$f":"'kosten tabel 2015'!A1035","v":103200},null,{"$f":"'kosten tabel 2015'!K1035","v":15600},{"$f":"'kosten tabel 2015'!L1035","v":16380}]
[{"$f":"'kosten tabel 2015'!A1036","v":103300},null,{"$f":"'kosten tabel 2015'!K1036","v":15600},{"$f":"'kosten tabel 2015'!L1036","v":16380}]
[{"$f":"'kosten tabel 2015'!A1037","v":103400},null,{"$f":"'kosten tabel 2015'!K1037","v":15600},{"$f":"'kosten tabel 2015'!L1037","v":16380}]
[{"$f":"'kosten tabel 2015'!A1038","v":103500},null,{"$f":"'kosten tabel 2015'!K1038","v":15600},{"$f":"'kosten tabel 2015'!L1038","v":16380}]
[{"$f":"'kosten tabel 2015'!A1039","v":103600},null,{"$f":"'kosten tabel 2015'!K1039","v":15600},{"$f":"'kosten tabel 2015'!L1039","v":16380}]
[{"$f":"'kosten tabel 2015'!A1040","v":103700},null,{"$f":"'kosten tabel 2015'!K1040","v":15600},{"$f":"'kosten tabel 2015'!L1040","v":16380}]
[{"$f":"'kosten tabel 2015'!A1041","v":103800},null,{"$f":"'kosten tabel 2015'!K1041","v":15600},{"$f":"'kosten tabel 2015'!L1041","v":16380}]
[{"$f":"'kosten tabel 2015'!A1042","v":103900},null,{"$f":"'kosten tabel 2015'!K1042","v":15600},{"$f":"'kosten tabel 2015'!L1042","v":16380}]
[{"$f":"'kosten tabel 2015'!A1043","v":104000},null,{"$f":"'kosten tabel 2015'!K1043","v":15600},{"$f":"'kosten tabel 2015'!L1043","v":16380}]
[{"$f":"'kosten tabel 2015'!A1044","v":104100},null,{"$f":"'kosten tabel 2015'!K1044","v":15700},{"$f":"'kosten tabel 2015'!L1044","v":16485}]
[{"$f":"'kosten tabel 2015'!A1045","v":104200},null,{"$f":"'kosten tabel 2015'!K1045","v":15700},{"$f":"'kosten tabel 2015'!L1045","v":16485}]
[{"$f":"'kosten tabel 2015'!A1046","v":104300},null,{"$f":"'kosten tabel 2015'!K1046","v":15700},{"$f":"'kosten tabel 2015'!L1046","v":16485}]
[{"$f":"'kosten tabel 2015'!A1047","v":104400},null,{"$f":"'kosten tabel 2015'!K1047","v":15700},{"$f":"'kosten tabel 2015'!L1047","v":16485}]
[{"$f":"'kosten tabel 2015'!A1048","v":104500},null,{"$f":"'kosten tabel 2015'!K1048","v":15700},{"$f":"'kosten tabel 2015'!L1048","v":16485}]
[{"$f":"'kosten tabel 2015'!A1049","v":104600},null,{"$f":"'kosten tabel 2015'!K1049","v":15700},{"$f":"'kosten tabel 2015'!L1049","v":16485}]
[{"$f":"'kosten tabel 2015'!A1050","v":104700},null,{"$f":"'kosten tabel 2015'!K1050","v":15700},{"$f":"'kosten tabel 2015'!L1050","v":16485}]
[{"$f":"'kosten tabel 2015'!A1051","v":104800},null,{"$f":"'kosten tabel 2015'!K1051","v":15700},{"$f":"'kosten tabel 2015'!L1051","v":16485}]
[{"$f":"'kosten tabel 2015'!A1052","v":104900},null,{"$f":"'kosten tabel 2015'!K1052","v":15700},{"$f":"'kosten tabel 2015'!L1052","v":16485}]
[{"$f":"'kosten tabel 2015'!A1053","v":105000},null,{"$f":"'kosten tabel 2015'!K1053","v":15700},{"$f":"'kosten tabel 2015'!L1053","v":16485}]
[{"$f":"'kosten tabel 2015'!A1054","v":105100},null,{"$f":"'kosten tabel 2015'!K1054","v":15800},{"$f":"'kosten tabel 2015'!L1054","v":16590}]
[{"$f":"'kosten tabel 2015'!A1055","v":105200},null,{"$f":"'kosten tabel 2015'!K1055","v":15800},{"$f":"'kosten tabel 2015'!L1055","v":16590}]
[{"$f":"'kosten tabel 2015'!A1056","v":105300},null,{"$f":"'kosten tabel 2015'!K1056","v":15800},{"$f":"'kosten tabel 2015'!L1056","v":16590}]
[{"$f":"'kosten tabel 2015'!A1057","v":105400},null,{"$f":"'kosten tabel 2015'!K1057","v":15800},{"$f":"'kosten tabel 2015'!L1057","v":16590}]
[{"$f":"'kosten tabel 2015'!A1058","v":105500},null,{"$f":"'kosten tabel 2015'!K1058","v":15800},{"$f":"'kosten tabel 2015'!L1058","v":16590}]
[{"$f":"'kosten tabel 2015'!A1059","v":105600},null,{"$f":"'kosten tabel 2015'!K1059","v":15800},{"$f":"'kosten tabel 2015'!L1059","v":16590}]
[{"$f":"'kosten tabel 2015'!A1060","v":105700},null,{"$f":"'kosten tabel 2015'!K1060","v":15800},{"$f":"'kosten tabel 2015'!L1060","v":16590}]
[{"$f":"'kosten tabel 2015'!A1061","v":105800},null,{"$f":"'kosten tabel 2015'!K1061","v":15800},{"$f":"'kosten tabel 2015'!L1061","v":16590}]
[{"$f":"'kosten tabel 2015'!A1062","v":105900},null,{"$f":"'kosten tabel 2015'!K1062","v":15800},{"$f":"'kosten tabel 2015'!L1062","v":16590}]
[{"$f":"'kosten tabel 2015'!A1063","v":106000},null,{"$f":"'kosten tabel 2015'!K1063","v":15800},{"$f":"'kosten tabel 2015'!L1063","v":16590}]
[{"$f":"'kosten tabel 2015'!A1064","v":106100},null,{"$f":"'kosten tabel 2015'!K1064","v":15900},{"$f":"'kosten tabel 2015'!L1064","v":16695}]
[{"$f":"'kosten tabel 2015'!A1065","v":106200},null,{"$f":"'kosten tabel 2015'!K1065","v":15900},{"$f":"'kosten tabel 2015'!L1065","v":16695}]
[{"$f":"'kosten tabel 2015'!A1066","v":106300},null,{"$f":"'kosten tabel 2015'!K1066","v":15900},{"$f":"'kosten tabel 2015'!L1066","v":16695}]
[{"$f":"'kosten tabel 2015'!A1067","v":106400},null,{"$f":"'kosten tabel 2015'!K1067","v":15900},{"$f":"'kosten tabel 2015'!L1067","v":16695}]
[{"$f":"'kosten tabel 2015'!A1068","v":106500},null,{"$f":"'kosten tabel 2015'!K1068","v":15900},{"$f":"'kosten tabel 2015'!L1068","v":16695}]
[{"$f":"'kosten tabel 2015'!A1069","v":106600},null,{"$f":"'kosten tabel 2015'!K1069","v":15900},{"$f":"'kosten tabel 2015'!L1069","v":16695}]
[{"$f":"'kosten tabel 2015'!A1070","v":106700},null,{"$f":"'kosten tabel 2015'!K1070","v":15900},{"$f":"'kosten tabel 2015'!L1070","v":16695}]
[{"$f":"'kosten tabel 2015'!A1071","v":106800},null,{"$f":"'kosten tabel 2015'!K1071","v":15900},{"$f":"'kosten tabel 2015'!L1071","v":16695}]
[{"$f":"'kosten tabel 2015'!A1072","v":106900},null,{"$f":"'kosten tabel 2015'!K1072","v":15900},{"$f":"'kosten tabel 2015'!L1072","v":16695}]
[{"$f":"'kosten tabel 2015'!A1073","v":107000},null,{"$f":"'kosten tabel 2015'!K1073","v":15900},{"$f":"'kosten tabel 2015'!L1073","v":16695}]
[{"$f":"'kosten tabel 2015'!A1074","v":107100},null,{"$f":"'kosten tabel 2015'!K1074","v":15900},{"$f":"'kosten tabel 2015'!L1074","v":16695}]
[{"$f":"'kosten tabel 2015'!A1075","v":107200},null,{"$f":"'kosten tabel 2015'!K1075","v":16000},{"$f":"'kosten tabel 2015'!L1075","v":16800}]
[{"$f":"'kosten tabel 2015'!A1076","v":107300},null,{"$f":"'kosten tabel 2015'!K1076","v":16000},{"$f":"'kosten tabel 2015'!L1076","v":16800}]
[{"$f":"'kosten tabel 2015'!A1077","v":107400},null,{"$f":"'kosten tabel 2015'!K1077","v":16000},{"$f":"'kosten tabel 2015'!L1077","v":16800}]
[{"$f":"'kosten tabel 2015'!A1078","v":107500},null,{"$f":"'kosten tabel 2015'!K1078","v":16000},{"$f":"'kosten tabel 2015'!L1078","v":16800}]
[{"$f":"'kosten tabel 2015'!A1079","v":107600},null,{"$f":"'kosten tabel 2015'!K1079","v":16000},{"$f":"'kosten tabel 2015'!L1079","v":16800}]
[{"$f":"'kosten tabel 2015'!A1080","v":107700},null,{"$f":"'kosten tabel 2015'!K1080","v":16000},{"$f":"'kosten tabel 2015'!L1080","v":16800}]
[{"$f":"'kosten tabel 2015'!A1081","v":107800},null,{"$f":"'kosten tabel 2015'!K1081","v":16000},{"$f":"'kosten tabel 2015'!L1081","v":16800}]
[{"$f":"'kosten tabel 2015'!A1082","v":107900},null,{"$f":"'kosten tabel 2015'!K1082","v":16000},{"$f":"'kosten tabel 2015'!L1082","v":16800}]
[{"$f":"'kosten tabel 2015'!A1083","v":108000},null,{"$f":"'kosten tabel 2015'!K1083","v":16000},{"$f":"'kosten tabel 2015'!L1083","v":16800}]
[{"$f":"'kosten tabel 2015'!A1084","v":108100},null,{"$f":"'kosten tabel 2015'!K1084","v":16000},{"$f":"'kosten tabel 2015'!L1084","v":16800}]
[{"$f":"'kosten tabel 2015'!A1085","v":108200},null,{"$f":"'kosten tabel 2015'!K1085","v":16100},{"$f":"'kosten tabel 2015'!L1085","v":16905}]
[{"$f":"'kosten tabel 2015'!A1086","v":108300},null,{"$f":"'kosten tabel 2015'!K1086","v":16100},{"$f":"'kosten tabel 2015'!L1086","v":16905}]
[{"$f":"'kosten tabel 2015'!A1087","v":108400},null,{"$f":"'kosten tabel 2015'!K1087","v":16100},{"$f":"'kosten tabel 2015'!L1087","v":16905}]
[{"$f":"'kosten tabel 2015'!A1088","v":108500},null,{"$f":"'kosten tabel 2015'!K1088","v":16100},{"$f":"'kosten tabel 2015'!L1088","v":16905}]
[{"$f":"'kosten tabel 2015'!A1089","v":108600},null,{"$f":"'kosten tabel 2015'!K1089","v":16100},{"$f":"'kosten tabel 2015'!L1089","v":16905}]
[{"$f":"'kosten tabel 2015'!A1090","v":108700},null,{"$f":"'kosten tabel 2015'!K1090","v":16100},{"$f":"'kosten tabel 2015'!L1090","v":16905}]
[{"$f":"'kosten tabel 2015'!A1091","v":108800},null,{"$f":"'kosten tabel 2015'!K1091","v":16100},{"$f":"'kosten tabel 2015'!L1091","v":16905}]
[{"$f":"'kosten tabel 2015'!A1092","v":108900},null,{"$f":"'kosten tabel 2015'!K1092","v":16100},{"$f":"'kosten tabel 2015'!L1092","v":16905}]
[{"$f":"'kosten tabel 2015'!A1093","v":109000},null,{"$f":"'kosten tabel 2015'!K1093","v":16100},{"$f":"'kosten tabel 2015'!L1093","v":16905}]
[{"$f":"'kosten tabel 2015'!A1094","v":109100},null,{"$f":"'kosten tabel 2015'!K1094","v":16100},{"$f":"'kosten tabel 2015'!L1094","v":16905}]
[{"$f":"'kosten tabel 2015'!A1095","v":109200},null,{"$f":"'kosten tabel 2015'!K1095","v":16200},{"$f":"'kosten tabel 2015'!L1095","v":17010}]
[{"$f":"'kosten tabel 2015'!A1096","v":109300},null,{"$f":"'kosten tabel 2015'!K1096","v":16200},{"$f":"'kosten tabel 2015'!L1096","v":17010}]
[{"$f":"'kosten tabel 2015'!A1097","v":109400},null,{"$f":"'kosten tabel 2015'!K1097","v":16200},{"$f":"'kosten tabel 2015'!L1097","v":17010}]
[{"$f":"'kosten tabel 2015'!A1098","v":109500},null,{"$f":"'kosten tabel 2015'!K1098","v":16200},{"$f":"'kosten tabel 2015'!L1098","v":17010}]
[{"$f":"'kosten tabel 2015'!A1099","v":109600},null,{"$f":"'kosten tabel 2015'!K1099","v":16200},{"$f":"'kosten tabel 2015'!L1099","v":17010}]
[{"$f":"'kosten tabel 2015'!A1100","v":109700},null,{"$f":"'kosten tabel 2015'!K1100","v":16200},{"$f":"'kosten tabel 2015'!L1100","v":17010}]
[{"$f":"'kosten tabel 2015'!A1101","v":109800},null,{"$f":"'kosten tabel 2015'!K1101","v":16200},{"$f":"'kosten tabel 2015'!L1101","v":17010}]
[{"$f":"'kosten tabel 2015'!A1102","v":109900},null,{"$f":"'kosten tabel 2015'!K1102","v":16200},{"$f":"'kosten tabel 2015'!L1102","v":17010}]
[{"$f":"'kosten tabel 2015'!A1103","v":110000},null,{"$f":"'kosten tabel 2015'!K1103","v":16200},{"$f":"'kosten tabel 2015'!L1103","v":17010}]
[{"$f":"'kosten tabel 2015'!A1104","v":110100},null,{"$f":"'kosten tabel 2015'!K1104","v":16200},{"$f":"'kosten tabel 2015'!L1104","v":17010}]
[{"$f":"'kosten tabel 2015'!A1105","v":110200},null,{"$f":"'kosten tabel 2015'!K1105","v":16300},{"$f":"'kosten tabel 2015'!L1105","v":17115}]
[{"$f":"'kosten tabel 2015'!A1106","v":110300},null,{"$f":"'kosten tabel 2015'!K1106","v":16300},{"$f":"'kosten tabel 2015'!L1106","v":17115}]
[{"$f":"'kosten tabel 2015'!A1107","v":110400},null,{"$f":"'kosten tabel 2015'!K1107","v":16300},{"$f":"'kosten tabel 2015'!L1107","v":17115}]
[{"$f":"'kosten tabel 2015'!A1108","v":110500},null,{"$f":"'kosten tabel 2015'!K1108","v":16300},{"$f":"'kosten tabel 2015'!L1108","v":17115}]
[{"$f":"'kosten tabel 2015'!A1109","v":110600},null,{"$f":"'kosten tabel 2015'!K1109","v":16300},{"$f":"'kosten tabel 2015'!L1109","v":17115}]
[{"$f":"'kosten tabel 2015'!A1110","v":110700},null,{"$f":"'kosten tabel 2015'!K1110","v":16300},{"$f":"'kosten tabel 2015'!L1110","v":17115}]
[{"$f":"'kosten tabel 2015'!A1111","v":110800},null,{"$f":"'kosten tabel 2015'!K1111","v":16300},{"$f":"'kosten tabel 2015'!L1111","v":17115}]
[{"$f":"'kosten tabel 2015'!A1112","v":110900},null,{"$f":"'kosten tabel 2015'!K1112","v":16300},{"$f":"'kosten tabel 2015'!L1112","v":17115}]
[{"$f":"'kosten tabel 2015'!A1113","v":111000},null,{"$f":"'kosten tabel 2015'!K1113","v":16300},{"$f":"'kosten tabel 2015'!L1113","v":17115}]
[{"$f":"'kosten tabel 2015'!A1114","v":111100},null,{"$f":"'kosten tabel 2015'!K1114","v":16300},{"$f":"'kosten tabel 2015'!L1114","v":17115}]
[{"$f":"'kosten tabel 2015'!A1115","v":111200},null,{"$f":"'kosten tabel 2015'!K1115","v":16400},{"$f":"'kosten tabel 2015'!L1115","v":17220}]
[{"$f":"'kosten tabel 2015'!A1116","v":111300},null,{"$f":"'kosten tabel 2015'!K1116","v":16400},{"$f":"'kosten tabel 2015'!L1116","v":17220}]
[{"$f":"'kosten tabel 2015'!A1117","v":111400},null,{"$f":"'kosten tabel 2015'!K1117","v":16400},{"$f":"'kosten tabel 2015'!L1117","v":17220}]
[{"$f":"'kosten tabel 2015'!A1118","v":111500},null,{"$f":"'kosten tabel 2015'!K1118","v":16400},{"$f":"'kosten tabel 2015'!L1118","v":17220}]
[{"$f":"'kosten tabel 2015'!A1119","v":111600},null,{"$f":"'kosten tabel 2015'!K1119","v":16400},{"$f":"'kosten tabel 2015'!L1119","v":17220}]
[{"$f":"'kosten tabel 2015'!A1120","v":111700},null,{"$f":"'kosten tabel 2015'!K1120","v":16400},{"$f":"'kosten tabel 2015'!L1120","v":17220}]
[{"$f":"'kosten tabel 2015'!A1121","v":111800},null,{"$f":"'kosten tabel 2015'!K1121","v":16400},{"$f":"'kosten tabel 2015'!L1121","v":17220}]
[{"$f":"'kosten tabel 2015'!A1122","v":111900},null,{"$f":"'kosten tabel 2015'!K1122","v":16400},{"$f":"'kosten tabel 2015'!L1122","v":17220}]
[{"$f":"'kosten tabel 2015'!A1123","v":112000},null,{"$f":"'kosten tabel 2015'!K1123","v":16400},{"$f":"'kosten tabel 2015'!L1123","v":17220}]
[{"$f":"'kosten tabel 2015'!A1124","v":112100},null,{"$f":"'kosten tabel 2015'!K1124","v":16400},{"$f":"'kosten tabel 2015'!L1124","v":17220}]
[{"$f":"'kosten tabel 2015'!A1125","v":112200},null,{"$f":"'kosten tabel 2015'!K1125","v":16500},{"$f":"'kosten tabel 2015'!L1125","v":17325}]
[{"$f":"'kosten tabel 2015'!A1126","v":112300},null,{"$f":"'kosten tabel 2015'!K1126","v":16500},{"$f":"'kosten tabel 2015'!L1126","v":17325}]
[{"$f":"'kosten tabel 2015'!A1127","v":112400},null,{"$f":"'kosten tabel 2015'!K1127","v":16500},{"$f":"'kosten tabel 2015'!L1127","v":17325}]
[{"$f":"'kosten tabel 2015'!A1128","v":112500},null,{"$f":"'kosten tabel 2015'!K1128","v":16500},{"$f":"'kosten tabel 2015'!L1128","v":17325}]
[{"$f":"'kosten tabel 2015'!A1129","v":112600},null,{"$f":"'kosten tabel 2015'!K1129","v":16500},{"$f":"'kosten tabel 2015'!L1129","v":17325}]
[{"$f":"'kosten tabel 2015'!A1130","v":112700},null,{"$f":"'kosten tabel 2015'!K1130","v":16500},{"$f":"'kosten tabel 2015'!L1130","v":17325}]
[{"$f":"'kosten tabel 2015'!A1131","v":112800},null,{"$f":"'kosten tabel 2015'!K1131","v":16500},{"$f":"'kosten tabel 2015'!L1131","v":17325}]
[{"$f":"'kosten tabel 2015'!A1132","v":112900},null,{"$f":"'kosten tabel 2015'!K1132","v":16500},{"$f":"'kosten tabel 2015'!L1132","v":17325}]
[{"$f":"'kosten tabel 2015'!A1133","v":113000},null,{"$f":"'kosten tabel 2015'!K1133","v":16500},{"$f":"'kosten tabel 2015'!L1133","v":17325}]
[{"$f":"'kosten tabel 2015'!A1134","v":113100},null,{"$f":"'kosten tabel 2015'!K1134","v":16500},{"$f":"'kosten tabel 2015'!L1134","v":17325}]
[{"$f":"'kosten tabel 2015'!A1135","v":113200},null,{"$f":"'kosten tabel 2015'!K1135","v":16600},{"$f":"'kosten tabel 2015'!L1135","v":17430}]
[{"$f":"'kosten tabel 2015'!A1136","v":113300},null,{"$f":"'kosten tabel 2015'!K1136","v":16600},{"$f":"'kosten tabel 2015'!L1136","v":17430}]
[{"$f":"'kosten tabel 2015'!A1137","v":113400},null,{"$f":"'kosten tabel 2015'!K1137","v":16600},{"$f":"'kosten tabel 2015'!L1137","v":17430}]
[{"$f":"'kosten tabel 2015'!A1138","v":113500},null,{"$f":"'kosten tabel 2015'!K1138","v":16600},{"$f":"'kosten tabel 2015'!L1138","v":17430}]
[{"$f":"'kosten tabel 2015'!A1139","v":113600},null,{"$f":"'kosten tabel 2015'!K1139","v":16600},{"$f":"'kosten tabel 2015'!L1139","v":17430}]
[{"$f":"'kosten tabel 2015'!A1140","v":113700},null,{"$f":"'kosten tabel 2015'!K1140","v":16600},{"$f":"'kosten tabel 2015'!L1140","v":17430}]
[{"$f":"'kosten tabel 2015'!A1141","v":113800},null,{"$f":"'kosten tabel 2015'!K1141","v":16600},{"$f":"'kosten tabel 2015'!L1141","v":17430}]
[{"$f":"'kosten tabel 2015'!A1142","v":113900},null,{"$f":"'kosten tabel 2015'!K1142","v":16600},{"$f":"'kosten tabel 2015'!L1142","v":17430}]
[{"$f":"'kosten tabel 2015'!A1143","v":114000},null,{"$f":"'kosten tabel 2015'!K1143","v":16600},{"$f":"'kosten tabel 2015'!L1143","v":17430}]
[{"$f":"'kosten tabel 2015'!A1144","v":114100},null,{"$f":"'kosten tabel 2015'!K1144","v":16600},{"$f":"'kosten tabel 2015'!L1144","v":17430}]
[{"$f":"'kosten tabel 2015'!A1145","v":114200},null,{"$f":"'kosten tabel 2015'!K1145","v":16600},{"$f":"'kosten tabel 2015'!L1145","v":17430}]
[{"$f":"'kosten tabel 2015'!A1146","v":114300},null,{"$f":"'kosten tabel 2015'!K1146","v":16700},{"$f":"'kosten tabel 2015'!L1146","v":17535}]
[{"$f":"'kosten tabel 2015'!A1147","v":114400},null,{"$f":"'kosten tabel 2015'!K1147","v":16700},{"$f":"'kosten tabel 2015'!L1147","v":17535}]
[{"$f":"'kosten tabel 2015'!A1148","v":114500},null,{"$f":"'kosten tabel 2015'!K1148","v":16700},{"$f":"'kosten tabel 2015'!L1148","v":17535}]
[{"$f":"'kosten tabel 2015'!A1149","v":114600},null,{"$f":"'kosten tabel 2015'!K1149","v":16700},{"$f":"'kosten tabel 2015'!L1149","v":17535}]
[{"$f":"'kosten tabel 2015'!A1150","v":114700},null,{"$f":"'kosten tabel 2015'!K1150","v":16700},{"$f":"'kosten tabel 2015'!L1150","v":17535}]
[{"$f":"'kosten tabel 2015'!A1151","v":114800},null,{"$f":"'kosten tabel 2015'!K1151","v":16700},{"$f":"'kosten tabel 2015'!L1151","v":17535}]
[{"$f":"'kosten tabel 2015'!A1152","v":114900},null,{"$f":"'kosten tabel 2015'!K1152","v":16700},{"$f":"'kosten tabel 2015'!L1152","v":17535}]
[{"$f":"'kosten tabel 2015'!A1153","v":115000},null,{"$f":"'kosten tabel 2015'!K1153","v":16700},{"$f":"'kosten tabel 2015'!L1153","v":17535}]
[{"$f":"'kosten tabel 2015'!A1154","v":115100},null,{"$f":"'kosten tabel 2015'!K1154","v":16700},{"$f":"'kosten tabel 2015'!L1154","v":17535}]
[{"$f":"'kosten tabel 2015'!A1155","v":115200},null,{"$f":"'kosten tabel 2015'!K1155","v":16700},{"$f":"'kosten tabel 2015'!L1155","v":17535}]
[{"$f":"'kosten tabel 2015'!A1156","v":115300},null,{"$f":"'kosten tabel 2015'!K1156","v":16800},{"$f":"'kosten tabel 2015'!L1156","v":17640}]
[{"$f":"'kosten tabel 2015'!A1157","v":115400},null,{"$f":"'kosten tabel 2015'!K1157","v":16800},{"$f":"'kosten tabel 2015'!L1157","v":17640}]
[{"$f":"'kosten tabel 2015'!A1158","v":115500},null,{"$f":"'kosten tabel 2015'!K1158","v":16800},{"$f":"'kosten tabel 2015'!L1158","v":17640}]
[{"$f":"'kosten tabel 2015'!A1159","v":115600},null,{"$f":"'kosten tabel 2015'!K1159","v":16800},{"$f":"'kosten tabel 2015'!L1159","v":17640}]
[{"$f":"'kosten tabel 2015'!A1160","v":115700},null,{"$f":"'kosten tabel 2015'!K1160","v":16800},{"$f":"'kosten tabel 2015'!L1160","v":17640}]
[{"$f":"'kosten tabel 2015'!A1161","v":115800},null,{"$f":"'kosten tabel 2015'!K1161","v":16800},{"$f":"'kosten tabel 2015'!L1161","v":17640}]
[{"$f":"'kosten tabel 2015'!A1162","v":115900},null,{"$f":"'kosten tabel 2015'!K1162","v":16800},{"$f":"'kosten tabel 2015'!L1162","v":17640}]
[{"$f":"'kosten tabel 2015'!A1163","v":116000},null,{"$f":"'kosten tabel 2015'!K1163","v":16800},{"$f":"'kosten tabel 2015'!L1163","v":17640}]
[{"$f":"'kosten tabel 2015'!A1164","v":116100},null,{"$f":"'kosten tabel 2015'!K1164","v":16800},{"$f":"'kosten tabel 2015'!L1164","v":17640}]
[{"$f":"'kosten tabel 2015'!A1165","v":116200},null,{"$f":"'kosten tabel 2015'!K1165","v":16800},{"$f":"'kosten tabel 2015'!L1165","v":17640}]
[{"$f":"'kosten tabel 2015'!A1166","v":116300},null,{"$f":"'kosten tabel 2015'!K1166","v":16900},{"$f":"'kosten tabel 2015'!L1166","v":17745}]
[{"$f":"'kosten tabel 2015'!A1167","v":116400},null,{"$f":"'kosten tabel 2015'!K1167","v":16900},{"$f":"'kosten tabel 2015'!L1167","v":17745}]
[{"$f":"'kosten tabel 2015'!A1168","v":116500},null,{"$f":"'kosten tabel 2015'!K1168","v":16900},{"$f":"'kosten tabel 2015'!L1168","v":17745}]
[{"$f":"'kosten tabel 2015'!A1169","v":116600},null,{"$f":"'kosten tabel 2015'!K1169","v":16900},{"$f":"'kosten tabel 2015'!L1169","v":17745}]
[{"$f":"'kosten tabel 2015'!A1170","v":116700},null,{"$f":"'kosten tabel 2015'!K1170","v":16900},{"$f":"'kosten tabel 2015'!L1170","v":17745}]
[{"$f":"'kosten tabel 2015'!A1171","v":116800},null,{"$f":"'kosten tabel 2015'!K1171","v":16900},{"$f":"'kosten tabel 2015'!L1171","v":17745}]
[{"$f":"'kosten tabel 2015'!A1172","v":116900},null,{"$f":"'kosten tabel 2015'!K1172","v":16900},{"$f":"'kosten tabel 2015'!L1172","v":17745}]
[{"$f":"'kosten tabel 2015'!A1173","v":117000},null,{"$f":"'kosten tabel 2015'!K1173","v":16900},{"$f":"'kosten tabel 2015'!L1173","v":17745}]
[{"$f":"'kosten tabel 2015'!A1174","v":117100},null,{"$f":"'kosten tabel 2015'!K1174","v":16900},{"$f":"'kosten tabel 2015'!L1174","v":17745}]
[{"$f":"'kosten tabel 2015'!A1175","v":117200},null,{"$f":"'kosten tabel 2015'!K1175","v":16900},{"$f":"'kosten tabel 2015'!L1175","v":17745}]
[{"$f":"'kosten tabel 2015'!A1176","v":117300},null,{"$f":"'kosten tabel 2015'!K1176","v":17000},{"$f":"'kosten tabel 2015'!L1176","v":17850}]
[{"$f":"'kosten tabel 2015'!A1177","v":117400},null,{"$f":"'kosten tabel 2015'!K1177","v":17000},{"$f":"'kosten tabel 2015'!L1177","v":17850}]
[{"$f":"'kosten tabel 2015'!A1178","v":117500},null,{"$f":"'kosten tabel 2015'!K1178","v":17000},{"$f":"'kosten tabel 2015'!L1178","v":17850}]
[{"$f":"'kosten tabel 2015'!A1179","v":117600},null,{"$f":"'kosten tabel 2015'!K1179","v":17000},{"$f":"'kosten tabel 2015'!L1179","v":17850}]
[{"$f":"'kosten tabel 2015'!A1180","v":117700},null,{"$f":"'kosten tabel 2015'!K1180","v":17000},{"$f":"'kosten tabel 2015'!L1180","v":17850}]
[{"$f":"'kosten tabel 2015'!A1181","v":117800},null,{"$f":"'kosten tabel 2015'!K1181","v":17000},{"$f":"'kosten tabel 2015'!L1181","v":17850}]
[{"$f":"'kosten tabel 2015'!A1182","v":117900},null,{"$f":"'kosten tabel 2015'!K1182","v":17000},{"$f":"'kosten tabel 2015'!L1182","v":17850}]
[{"$f":"'kosten tabel 2015'!A1183","v":118000},null,{"$f":"'kosten tabel 2015'!K1183","v":17000},{"$f":"'kosten tabel 2015'!L1183","v":17850}]
[{"$f":"'kosten tabel 2015'!A1184","v":118100},null,{"$f":"'kosten tabel 2015'!K1184","v":17000},{"$f":"'kosten tabel 2015'!L1184","v":17850}]
[{"$f":"'kosten tabel 2015'!A1185","v":118200},null,{"$f":"'kosten tabel 2015'!K1185","v":17000},{"$f":"'kosten tabel 2015'!L1185","v":17850}]
[{"$f":"'kosten tabel 2015'!A1186","v":118300},null,{"$f":"'kosten tabel 2015'!K1186","v":17100},{"$f":"'kosten tabel 2015'!L1186","v":17955}]
[{"$f":"'kosten tabel 2015'!A1187","v":118400},null,{"$f":"'kosten tabel 2015'!K1187","v":17100},{"$f":"'kosten tabel 2015'!L1187","v":17955}]
[{"$f":"'kosten tabel 2015'!A1188","v":118500},null,{"$f":"'kosten tabel 2015'!K1188","v":17100},{"$f":"'kosten tabel 2015'!L1188","v":17955}]
[{"$f":"'kosten tabel 2015'!A1189","v":118600},null,{"$f":"'kosten tabel 2015'!K1189","v":17100},{"$f":"'kosten tabel 2015'!L1189","v":17955}]
[{"$f":"'kosten tabel 2015'!A1190","v":118700},null,{"$f":"'kosten tabel 2015'!K1190","v":17100},{"$f":"'kosten tabel 2015'!L1190","v":17955}]
[{"$f":"'kosten tabel 2015'!A1191","v":118800},null,{"$f":"'kosten tabel 2015'!K1191","v":17100},{"$f":"'kosten tabel 2015'!L1191","v":17955}]
[{"$f":"'kosten tabel 2015'!A1192","v":118900},null,{"$f":"'kosten tabel 2015'!K1192","v":17100},{"$f":"'kosten tabel 2015'!L1192","v":17955}]
[{"$f":"'kosten tabel 2015'!A1193","v":119000},null,{"$f":"'kosten tabel 2015'!K1193","v":17100},{"$f":"'kosten tabel 2015'!L1193","v":17955}]
[{"$f":"'kosten tabel 2015'!A1194","v":119100},null,{"$f":"'kosten tabel 2015'!K1194","v":17100},{"$f":"'kosten tabel 2015'!L1194","v":17955}]
[{"$f":"'kosten tabel 2015'!A1195","v":119200},null,{"$f":"'kosten tabel 2015'!K1195","v":17100},{"$f":"'kosten tabel 2015'!L1195","v":17955}]
[{"$f":"'kosten tabel 2015'!A1196","v":119300},null,{"$f":"'kosten tabel 2015'!K1196","v":17200},{"$f":"'kosten tabel 2015'!L1196","v":18060}]
[{"$f":"'kosten tabel 2015'!A1197","v":119400},null,{"$f":"'kosten tabel 2015'!K1197","v":17200},{"$f":"'kosten tabel 2015'!L1197","v":18060}]
[{"$f":"'kosten tabel 2015'!A1198","v":119500},null,{"$f":"'kosten tabel 2015'!K1198","v":17200},{"$f":"'kosten tabel 2015'!L1198","v":18060}]
[{"$f":"'kosten tabel 2015'!A1199","v":119600},null,{"$f":"'kosten tabel 2015'!K1199","v":17200},{"$f":"'kosten tabel 2015'!L1199","v":18060}]
[{"$f":"'kosten tabel 2015'!A1200","v":119700},null,{"$f":"'kosten tabel 2015'!K1200","v":17200},{"$f":"'kosten tabel 2015'!L1200","v":18060}]
[{"$f":"'kosten tabel 2015'!A1201","v":119800},null,{"$f":"'kosten tabel 2015'!K1201","v":17200},{"$f":"'kosten tabel 2015'!L1201","v":18060}]
[{"$f":"'kosten tabel 2015'!A1202","v":119900},null,{"$f":"'kosten tabel 2015'!K1202","v":17200},{"$f":"'kosten tabel 2015'!L1202","v":18060}]
[{"$f":"'kosten tabel 2015'!A1203","v":120000},null,{"$f":"'kosten tabel 2015'!K1203","v":17200},{"$f":"'kosten tabel 2015'!L1203","v":18060}]
[{"$f":"'kosten tabel 2015'!A1204","v":120100},null,{"$f":"'kosten tabel 2015'!K1204","v":17200},{"$f":"'kosten tabel 2015'!L1204","v":18060}]
[{"$f":"'kosten tabel 2015'!A1205","v":120200},null,{"$f":"'kosten tabel 2015'!K1205","v":17200},{"$f":"'kosten tabel 2015'!L1205","v":18060}]
[{"$f":"'kosten tabel 2015'!A1206","v":120300},null,{"$f":"'kosten tabel 2015'!K1206","v":17300},{"$f":"'kosten tabel 2015'!L1206","v":18165}]
[{"$f":"'kosten tabel 2015'!A1207","v":120400},null,{"$f":"'kosten tabel 2015'!K1207","v":17300},{"$f":"'kosten tabel 2015'!L1207","v":18165}]
[{"$f":"'kosten tabel 2015'!A1208","v":120500},null,{"$f":"'kosten tabel 2015'!K1208","v":17300},{"$f":"'kosten tabel 2015'!L1208","v":18165}]
[{"$f":"'kosten tabel 2015'!A1209","v":120600},null,{"$f":"'kosten tabel 2015'!K1209","v":17300},{"$f":"'kosten tabel 2015'!L1209","v":18165}]
[{"$f":"'kosten tabel 2015'!A1210","v":120700},null,{"$f":"'kosten tabel 2015'!K1210","v":17300},{"$f":"'kosten tabel 2015'!L1210","v":18165}]
[{"$f":"'kosten tabel 2015'!A1211","v":120800},null,{"$f":"'kosten tabel 2015'!K1211","v":17300},{"$f":"'kosten tabel 2015'!L1211","v":18165}]
[{"$f":"'kosten tabel 2015'!A1212","v":120900},null,{"$f":"'kosten tabel 2015'!K1212","v":17300},{"$f":"'kosten tabel 2015'!L1212","v":18165}]
[{"$f":"'kosten tabel 2015'!A1213","v":121000},null,{"$f":"'kosten tabel 2015'!K1213","v":17300},{"$f":"'kosten tabel 2015'!L1213","v":18165}]
[{"$f":"'kosten tabel 2015'!A1214","v":121100},null,{"$f":"'kosten tabel 2015'!K1214","v":17300},{"$f":"'kosten tabel 2015'!L1214","v":18165}]
[{"$f":"'kosten tabel 2015'!A1215","v":121200},null,{"$f":"'kosten tabel 2015'!K1215","v":17300},{"$f":"'kosten tabel 2015'!L1215","v":18165}]
[{"$f":"'kosten tabel 2015'!A1216","v":121300},null,{"$f":"'kosten tabel 2015'!K1216","v":17300},{"$f":"'kosten tabel 2015'!L1216","v":18165}]
[{"$f":"'kosten tabel 2015'!A1217","v":121400},null,{"$f":"'kosten tabel 2015'!K1217","v":17400},{"$f":"'kosten tabel 2015'!L1217","v":18270}]
[{"$f":"'kosten tabel 2015'!A1218","v":121500},null,{"$f":"'kosten tabel 2015'!K1218","v":17400},{"$f":"'kosten tabel 2015'!L1218","v":18270}]
[{"$f":"'kosten tabel 2015'!A1219","v":121600},null,{"$f":"'kosten tabel 2015'!K1219","v":17400},{"$f":"'kosten tabel 2015'!L1219","v":18270}]
[{"$f":"'kosten tabel 2015'!A1220","v":121700},null,{"$f":"'kosten tabel 2015'!K1220","v":17400},{"$f":"'kosten tabel 2015'!L1220","v":18270}]
[{"$f":"'kosten tabel 2015'!A1221","v":121800},null,{"$f":"'kosten tabel 2015'!K1221","v":17400},{"$f":"'kosten tabel 2015'!L1221","v":18270}]
[{"$f":"'kosten tabel 2015'!A1222","v":121900},null,{"$f":"'kosten tabel 2015'!K1222","v":17400},{"$f":"'kosten tabel 2015'!L1222","v":18270}]
[{"$f":"'kosten tabel 2015'!A1223","v":122000},null,{"$f":"'kosten tabel 2015'!K1223","v":17400},{"$f":"'kosten tabel 2015'!L1223","v":18270}]
[{"$f":"'kosten tabel 2015'!A1224","v":122100},null,{"$f":"'kosten tabel 2015'!K1224","v":17400},{"$f":"'kosten tabel 2015'!L1224","v":18270}]
[{"$f":"'kosten tabel 2015'!A1225","v":122200},null,{"$f":"'kosten tabel 2015'!K1225","v":17400},{"$f":"'kosten tabel 2015'!L1225","v":18270}]
[{"$f":"'kosten tabel 2015'!A1226","v":122300},null,{"$f":"'kosten tabel 2015'!K1226","v":17400},{"$f":"'kosten tabel 2015'!L1226","v":18270}]
[{"$f":"'kosten tabel 2015'!A1227","v":122400},null,{"$f":"'kosten tabel 2015'!K1227","v":17500},{"$f":"'kosten tabel 2015'!L1227","v":18375}]
[{"$f":"'kosten tabel 2015'!A1228","v":122500},null,{"$f":"'kosten tabel 2015'!K1228","v":17500},{"$f":"'kosten tabel 2015'!L1228","v":18375}]
[{"$f":"'kosten tabel 2015'!A1229","v":122600},null,{"$f":"'kosten tabel 2015'!K1229","v":17500},{"$f":"'kosten tabel 2015'!L1229","v":18375}]
[{"$f":"'kosten tabel 2015'!A1230","v":122700},null,{"$f":"'kosten tabel 2015'!K1230","v":17500},{"$f":"'kosten tabel 2015'!L1230","v":18375}]
[{"$f":"'kosten tabel 2015'!A1231","v":122800},null,{"$f":"'kosten tabel 2015'!K1231","v":17500},{"$f":"'kosten tabel 2015'!L1231","v":18375}]
[{"$f":"'kosten tabel 2015'!A1232","v":122900},null,{"$f":"'kosten tabel 2015'!K1232","v":17500},{"$f":"'kosten tabel 2015'!L1232","v":18375}]
[{"$f":"'kosten tabel 2015'!A1233","v":123000},null,{"$f":"'kosten tabel 2015'!K1233","v":17500},{"$f":"'kosten tabel 2015'!L1233","v":18375}]
[{"$f":"'kosten tabel 2015'!A1234","v":123100},null,{"$f":"'kosten tabel 2015'!K1234","v":17500},{"$f":"'kosten tabel 2015'!L1234","v":18375}]
[{"$f":"'kosten tabel 2015'!A1235","v":123200},null,{"$f":"'kosten tabel 2015'!K1235","v":17500},{"$f":"'kosten tabel 2015'!L1235","v":18375}]
[{"$f":"'kosten tabel 2015'!A1236","v":123300},null,{"$f":"'kosten tabel 2015'!K1236","v":17500},{"$f":"'kosten tabel 2015'!L1236","v":18375}]
[{"$f":"'kosten tabel 2015'!A1237","v":123400},null,{"$f":"'kosten tabel 2015'!K1237","v":17600},{"$f":"'kosten tabel 2015'!L1237","v":18480}]
[{"$f":"'kosten tabel 2015'!A1238","v":123500},null,{"$f":"'kosten tabel 2015'!K1238","v":17600},{"$f":"'kosten tabel 2015'!L1238","v":18480}]
[{"$f":"'kosten tabel 2015'!A1239","v":123600},null,{"$f":"'kosten tabel 2015'!K1239","v":17600},{"$f":"'kosten tabel 2015'!L1239","v":18480}]
[{"$f":"'kosten tabel 2015'!A1240","v":123700},null,{"$f":"'kosten tabel 2015'!K1240","v":17600},{"$f":"'kosten tabel 2015'!L1240","v":18480}]
[{"$f":"'kosten tabel 2015'!A1241","v":123800},null,{"$f":"'kosten tabel 2015'!K1241","v":17600},{"$f":"'kosten tabel 2015'!L1241","v":18480}]
[{"$f":"'kosten tabel 2015'!A1242","v":123900},null,{"$f":"'kosten tabel 2015'!K1242","v":17600},{"$f":"'kosten tabel 2015'!L1242","v":18480}]
[{"$f":"'kosten tabel 2015'!A1243","v":124000},null,{"$f":"'kosten tabel 2015'!K1243","v":17600},{"$f":"'kosten tabel 2015'!L1243","v":18480}]
[{"$f":"'kosten tabel 2015'!A1244","v":124100},null,{"$f":"'kosten tabel 2015'!K1244","v":17600},{"$f":"'kosten tabel 2015'!L1244","v":18480}]
[{"$f":"'kosten tabel 2015'!A1245","v":124200},null,{"$f":"'kosten tabel 2015'!K1245","v":17600},{"$f":"'kosten tabel 2015'!L1245","v":18480}]
[{"$f":"'kosten tabel 2015'!A1246","v":124300},null,{"$f":"'kosten tabel 2015'!K1246","v":17600},{"$f":"'kosten tabel 2015'!L1246","v":18480}]
[{"$f":"'kosten tabel 2015'!A1247","v":124400},null,{"$f":"'kosten tabel 2015'!K1247","v":17700},{"$f":"'kosten tabel 2015'!L1247","v":18585}]
[{"$f":"'kosten tabel 2015'!A1248","v":124500},null,{"$f":"'kosten tabel 2015'!K1248","v":17700},{"$f":"'kosten tabel 2015'!L1248","v":18585}]
[{"$f":"'kosten tabel 2015'!A1249","v":124600},null,{"$f":"'kosten tabel 2015'!K1249","v":17700},{"$f":"'kosten tabel 2015'!L1249","v":18585}]
[{"$f":"'kosten tabel 2015'!A1250","v":124700},null,{"$f":"'kosten tabel 2015'!K1250","v":17700},{"$f":"'kosten tabel 2015'!L1250","v":18585}]
[{"$f":"'kosten tabel 2015'!A1251","v":124800},null,{"$f":"'kosten tabel 2015'!K1251","v":17700},{"$f":"'kosten tabel 2015'!L1251","v":18585}]
[{"$f":"'kosten tabel 2015'!A1252","v":124900},null,{"$f":"'kosten tabel 2015'!K1252","v":17700},{"$f":"'kosten tabel 2015'!L1252","v":18585}]
[{"$f":"'kosten tabel 2015'!A1253","v":125000},null,{"$f":"'kosten tabel 2015'!K1253","v":17700},{"$f":"'kosten tabel 2015'!L1253","v":18585}]
[{"$f":"'kosten tabel 2015'!A1254","v":125100},null,{"$f":"'kosten tabel 2015'!K1254","v":17700},{"$f":"'kosten tabel 2015'!L1254","v":18585}]
[{"$f":"'kosten tabel 2015'!A1255","v":125200},null,{"$f":"'kosten tabel 2015'!K1255","v":17700},{"$f":"'kosten tabel 2015'!L1255","v":18585}]
[{"$f":"'kosten tabel 2015'!A1256","v":125300},null,{"$f":"'kosten tabel 2015'!K1256","v":17700},{"$f":"'kosten tabel 2015'!L1256","v":18585}]
[{"$f":"'kosten tabel 2015'!A1257","v":125400},null,{"$f":"'kosten tabel 2015'!K1257","v":17800},{"$f":"'kosten tabel 2015'!L1257","v":18690}]
[{"$f":"'kosten tabel 2015'!A1258","v":125500},null,{"$f":"'kosten tabel 2015'!K1258","v":17800},{"$f":"'kosten tabel 2015'!L1258","v":18690}]
[{"$f":"'kosten tabel 2015'!A1259","v":125600},null,{"$f":"'kosten tabel 2015'!K1259","v":17800},{"$f":"'kosten tabel 2015'!L1259","v":18690}]
[{"$f":"'kosten tabel 2015'!A1260","v":125700},null,{"$f":"'kosten tabel 2015'!K1260","v":17800},{"$f":"'kosten tabel 2015'!L1260","v":18690}]
[{"$f":"'kosten tabel 2015'!A1261","v":125800},null,{"$f":"'kosten tabel 2015'!K1261","v":17800},{"$f":"'kosten tabel 2015'!L1261","v":18690}]
[{"$f":"'kosten tabel 2015'!A1262","v":125900},null,{"$f":"'kosten tabel 2015'!K1262","v":17800},{"$f":"'kosten tabel 2015'!L1262","v":18690}]
[{"$f":"'kosten tabel 2015'!A1263","v":126000},null,{"$f":"'kosten tabel 2015'!K1263","v":17800},{"$f":"'kosten tabel 2015'!L1263","v":18690}]
[{"$f":"'kosten tabel 2015'!A1264","v":126100},null,{"$f":"'kosten tabel 2015'!K1264","v":17800},{"$f":"'kosten tabel 2015'!L1264","v":18690}]
[{"$f":"'kosten tabel 2015'!A1265","v":126200},null,{"$f":"'kosten tabel 2015'!K1265","v":17800},{"$f":"'kosten tabel 2015'!L1265","v":18690}]
[{"$f":"'kosten tabel 2015'!A1266","v":126300},null,{"$f":"'kosten tabel 2015'!K1266","v":17800},{"$f":"'kosten tabel 2015'!L1266","v":18690}]
[{"$f":"'kosten tabel 2015'!A1267","v":126400},null,{"$f":"'kosten tabel 2015'!K1267","v":17900},{"$f":"'kosten tabel 2015'!L1267","v":18795}]
[{"$f":"'kosten tabel 2015'!A1268","v":126500},null,{"$f":"'kosten tabel 2015'!K1268","v":17900},{"$f":"'kosten tabel 2015'!L1268","v":18795}]
[{"$f":"'kosten tabel 2015'!A1269","v":126600},null,{"$f":"'kosten tabel 2015'!K1269","v":17900},{"$f":"'kosten tabel 2015'!L1269","v":18795}]
[{"$f":"'kosten tabel 2015'!A1270","v":126700},null,{"$f":"'kosten tabel 2015'!K1270","v":17900},{"$f":"'kosten tabel 2015'!L1270","v":18795}]
[{"$f":"'kosten tabel 2015'!A1271","v":126800},null,{"$f":"'kosten tabel 2015'!K1271","v":17900},{"$f":"'kosten tabel 2015'!L1271","v":18795}]
[{"$f":"'kosten tabel 2015'!A1272","v":126900},null,{"$f":"'kosten tabel 2015'!K1272","v":17900},{"$f":"'kosten tabel 2015'!L1272","v":18795}]
[{"$f":"'kosten tabel 2015'!A1273","v":127000},null,{"$f":"'kosten tabel 2015'!K1273","v":17900},{"$f":"'kosten tabel 2015'!L1273","v":18795}]
[{"$f":"'kosten tabel 2015'!A1274","v":127100},null,{"$f":"'kosten tabel 2015'!K1274","v":17900},{"$f":"'kosten tabel 2015'!L1274","v":18795}]
[{"$f":"'kosten tabel 2015'!A1275","v":127200},null,{"$f":"'kosten tabel 2015'!K1275","v":17900},{"$f":"'kosten tabel 2015'!L1275","v":18795}]
[{"$f":"'kosten tabel 2015'!A1276","v":127300},null,{"$f":"'kosten tabel 2015'!K1276","v":17900},{"$f":"'kosten tabel 2015'!L1276","v":18795}]
[{"$f":"'kosten tabel 2015'!A1277","v":127400},null,{"$f":"'kosten tabel 2015'!K1277","v":17900},{"$f":"'kosten tabel 2015'!L1277","v":18795}]
[{"$f":"'kosten tabel 2015'!A1278","v":127500},null,{"$f":"'kosten tabel 2015'!K1278","v":18000},{"$f":"'kosten tabel 2015'!L1278","v":18900}]
[{"$f":"'kosten tabel 2015'!A1279","v":127600},null,{"$f":"'kosten tabel 2015'!K1279","v":18000},{"$f":"'kosten tabel 2015'!L1279","v":18900}]
[{"$f":"'kosten tabel 2015'!A1280","v":127700},null,{"$f":"'kosten tabel 2015'!K1280","v":18000},{"$f":"'kosten tabel 2015'!L1280","v":18900}]
[{"$f":"'kosten tabel 2015'!A1281","v":127800},null,{"$f":"'kosten tabel 2015'!K1281","v":18000},{"$f":"'kosten tabel 2015'!L1281","v":18900}]
[{"$f":"'kosten tabel 2015'!A1282","v":127900},null,{"$f":"'kosten tabel 2015'!K1282","v":18000},{"$f":"'kosten tabel 2015'!L1282","v":18900}]
[{"$f":"'kosten tabel 2015'!A1283","v":128000},null,{"$f":"'kosten tabel 2015'!K1283","v":18000},{"$f":"'kosten tabel 2015'!L1283","v":18900}]
[{"$f":"'kosten tabel 2015'!A1284","v":128100},null,{"$f":"'kosten tabel 2015'!K1284","v":18000},{"$f":"'kosten tabel 2015'!L1284","v":18900}]
[{"$f":"'kosten tabel 2015'!A1285","v":128200},null,{"$f":"'kosten tabel 2015'!K1285","v":18000},{"$f":"'kosten tabel 2015'!L1285","v":18900}]
[{"$f":"'kosten tabel 2015'!A1286","v":128300},null,{"$f":"'kosten tabel 2015'!K1286","v":18000},{"$f":"'kosten tabel 2015'!L1286","v":18900}]
[{"$f":"'kosten tabel 2015'!A1287","v":128400},null,{"$f":"'kosten tabel 2015'!K1287","v":18000},{"$f":"'kosten tabel 2015'!L1287","v":18900}]
[{"$f":"'kosten tabel 2015'!A1288","v":128500},null,{"$f":"'kosten tabel 2015'!K1288","v":18100},{"$f":"'kosten tabel 2015'!L1288","v":19005}]
[{"$f":"'kosten tabel 2015'!A1289","v":128600},null,{"$f":"'kosten tabel 2015'!K1289","v":18100},{"$f":"'kosten tabel 2015'!L1289","v":19005}]
[{"$f":"'kosten tabel 2015'!A1290","v":128700},null,{"$f":"'kosten tabel 2015'!K1290","v":18100},{"$f":"'kosten tabel 2015'!L1290","v":19005}]
[{"$f":"'kosten tabel 2015'!A1291","v":128800},null,{"$f":"'kosten tabel 2015'!K1291","v":18100},{"$f":"'kosten tabel 2015'!L1291","v":19005}]
[{"$f":"'kosten tabel 2015'!A1292","v":128900},null,{"$f":"'kosten tabel 2015'!K1292","v":18100},{"$f":"'kosten tabel 2015'!L1292","v":19005}]
[{"$f":"'kosten tabel 2015'!A1293","v":129000},null,{"$f":"'kosten tabel 2015'!K1293","v":18100},{"$f":"'kosten tabel 2015'!L1293","v":19005}]
[{"$f":"'kosten tabel 2015'!A1294","v":129100},null,{"$f":"'kosten tabel 2015'!K1294","v":18100},{"$f":"'kosten tabel 2015'!L1294","v":19005}]
[{"$f":"'kosten tabel 2015'!A1295","v":129200},null,{"$f":"'kosten tabel 2015'!K1295","v":18100},{"$f":"'kosten tabel 2015'!L1295","v":19005}]
[{"$f":"'kosten tabel 2015'!A1296","v":129300},null,{"$f":"'kosten tabel 2015'!K1296","v":18100},{"$f":"'kosten tabel 2015'!L1296","v":19005}]
[{"$f":"'kosten tabel 2015'!A1297","v":129400},null,{"$f":"'kosten tabel 2015'!K1297","v":18100},{"$f":"'kosten tabel 2015'!L1297","v":19005}]
[{"$f":"'kosten tabel 2015'!A1298","v":129500},null,{"$f":"'kosten tabel 2015'!K1298","v":18200},{"$f":"'kosten tabel 2015'!L1298","v":19110}]
[{"$f":"'kosten tabel 2015'!A1299","v":129600},null,{"$f":"'kosten tabel 2015'!K1299","v":18200},{"$f":"'kosten tabel 2015'!L1299","v":19110}]
[{"$f":"'kosten tabel 2015'!A1300","v":129700},null,{"$f":"'kosten tabel 2015'!K1300","v":18200},{"$f":"'kosten tabel 2015'!L1300","v":19110}]
[{"$f":"'kosten tabel 2015'!A1301","v":129800},null,{"$f":"'kosten tabel 2015'!K1301","v":18200},{"$f":"'kosten tabel 2015'!L1301","v":19110}]
[{"$f":"'kosten tabel 2015'!A1302","v":129900},null,{"$f":"'kosten tabel 2015'!K1302","v":18200},{"$f":"'kosten tabel 2015'!L1302","v":19110}]
[{"$f":"'kosten tabel 2015'!A1303","v":130000},null,{"$f":"'kosten tabel 2015'!K1303","v":18200},{"$f":"'kosten tabel 2015'!L1303","v":19110}]
[{"$f":"'kosten tabel 2015'!A1304","v":130100},null,{"$f":"'kosten tabel 2015'!K1304","v":18200},{"$f":"'kosten tabel 2015'!L1304","v":19110}]
[{"$f":"'kosten tabel 2015'!A1305","v":130200},null,{"$f":"'kosten tabel 2015'!K1305","v":18200},{"$f":"'kosten tabel 2015'!L1305","v":19110}]
[{"$f":"'kosten tabel 2015'!A1306","v":130300},null,{"$f":"'kosten tabel 2015'!K1306","v":18200},{"$f":"'kosten tabel 2015'!L1306","v":19110}]
[{"$f":"'kosten tabel 2015'!A1307","v":130400},null,{"$f":"'kosten tabel 2015'!K1307","v":18200},{"$f":"'kosten tabel 2015'!L1307","v":19110}]
[{"$f":"'kosten tabel 2015'!A1308","v":130500},null,{"$f":"'kosten tabel 2015'!K1308","v":18300},{"$f":"'kosten tabel 2015'!L1308","v":19215}]
[{"$f":"'kosten tabel 2015'!A1309","v":130600},null,{"$f":"'kosten tabel 2015'!K1309","v":18300},{"$f":"'kosten tabel 2015'!L1309","v":19215}]
[{"$f":"'kosten tabel 2015'!A1310","v":130700},null,{"$f":"'kosten tabel 2015'!K1310","v":18300},{"$f":"'kosten tabel 2015'!L1310","v":19215}]
[{"$f":"'kosten tabel 2015'!A1311","v":130800},null,{"$f":"'kosten tabel 2015'!K1311","v":18300},{"$f":"'kosten tabel 2015'!L1311","v":19215}]
[{"$f":"'kosten tabel 2015'!A1312","v":130900},null,{"$f":"'kosten tabel 2015'!K1312","v":18300},{"$f":"'kosten tabel 2015'!L1312","v":19215}]
[{"$f":"'kosten tabel 2015'!A1313","v":131000},null,{"$f":"'kosten tabel 2015'!K1313","v":18300},{"$f":"'kosten tabel 2015'!L1313","v":19215}]
[{"$f":"'kosten tabel 2015'!A1314","v":131100},null,{"$f":"'kosten tabel 2015'!K1314","v":18300},{"$f":"'kosten tabel 2015'!L1314","v":19215}]
[{"$f":"'kosten tabel 2015'!A1315","v":131200},null,{"$f":"'kosten tabel 2015'!K1315","v":18300},{"$f":"'kosten tabel 2015'!L1315","v":19215}]
[{"$f":"'kosten tabel 2015'!A1316","v":131300},null,{"$f":"'kosten tabel 2015'!K1316","v":18300},{"$f":"'kosten tabel 2015'!L1316","v":19215}]
[{"$f":"'kosten tabel 2015'!A1317","v":131400},null,{"$f":"'kosten tabel 2015'!K1317","v":18300},{"$f":"'kosten tabel 2015'!L1317","v":19215}]
[{"$f":"'kosten tabel 2015'!A1318","v":131500},null,{"$f":"'kosten tabel 2015'!K1318","v":18400},{"$f":"'kosten tabel 2015'!L1318","v":19320}]
[{"$f":"'kosten tabel 2015'!A1319","v":131600},null,{"$f":"'kosten tabel 2015'!K1319","v":18400},{"$f":"'kosten tabel 2015'!L1319","v":19320}]
[{"$f":"'kosten tabel 2015'!A1320","v":131700},null,{"$f":"'kosten tabel 2015'!K1320","v":18400},{"$f":"'kosten tabel 2015'!L1320","v":19320}]
[{"$f":"'kosten tabel 2015'!A1321","v":131800},null,{"$f":"'kosten tabel 2015'!K1321","v":18400},{"$f":"'kosten tabel 2015'!L1321","v":19320}]
[{"$f":"'kosten tabel 2015'!A1322","v":131900},null,{"$f":"'kosten tabel 2015'!K1322","v":18400},{"$f":"'kosten tabel 2015'!L1322","v":19320}]
[{"$f":"'kosten tabel 2015'!A1323","v":132000},null,{"$f":"'kosten tabel 2015'!K1323","v":18400},{"$f":"'kosten tabel 2015'!L1323","v":19320}]
[{"$f":"'kosten tabel 2015'!A1324","v":132100},null,{"$f":"'kosten tabel 2015'!K1324","v":18400},{"$f":"'kosten tabel 2015'!L1324","v":19320}]
[{"$f":"'kosten tabel 2015'!A1325","v":132200},null,{"$f":"'kosten tabel 2015'!K1325","v":18400},{"$f":"'kosten tabel 2015'!L1325","v":19320}]
[{"$f":"'kosten tabel 2015'!A1326","v":132300},null,{"$f":"'kosten tabel 2015'!K1326","v":18400},{"$f":"'kosten tabel 2015'!L1326","v":19320}]
[{"$f":"'kosten tabel 2015'!A1327","v":132400},null,{"$f":"'kosten tabel 2015'!K1327","v":18400},{"$f":"'kosten tabel 2015'!L1327","v":19320}]
[{"$f":"'kosten tabel 2015'!A1328","v":132500},null,{"$f":"'kosten tabel 2015'!K1328","v":18500},{"$f":"'kosten tabel 2015'!L1328","v":19425}]
[{"$f":"'kosten tabel 2015'!A1329","v":132600},null,{"$f":"'kosten tabel 2015'!K1329","v":18500},{"$f":"'kosten tabel 2015'!L1329","v":19425}]
[{"$f":"'kosten tabel 2015'!A1330","v":132700},null,{"$f":"'kosten tabel 2015'!K1330","v":18500},{"$f":"'kosten tabel 2015'!L1330","v":19425}]
[{"$f":"'kosten tabel 2015'!A1331","v":132800},null,{"$f":"'kosten tabel 2015'!K1331","v":18500},{"$f":"'kosten tabel 2015'!L1331","v":19425}]
[{"$f":"'kosten tabel 2015'!A1332","v":132900},null,{"$f":"'kosten tabel 2015'!K1332","v":18500},{"$f":"'kosten tabel 2015'!L1332","v":19425}]
[{"$f":"'kosten tabel 2015'!A1333","v":133000},null,{"$f":"'kosten tabel 2015'!K1333","v":18500},{"$f":"'kosten tabel 2015'!L1333","v":19425}]
[{"$f":"'kosten tabel 2015'!A1334","v":133100},null,{"$f":"'kosten tabel 2015'!K1334","v":18500},{"$f":"'kosten tabel 2015'!L1334","v":19425}]
[{"$f":"'kosten tabel 2015'!A1335","v":133200},null,{"$f":"'kosten tabel 2015'!K1335","v":18500},{"$f":"'kosten tabel 2015'!L1335","v":19425}]
[{"$f":"'kosten tabel 2015'!A1336","v":133300},null,{"$f":"'kosten tabel 2015'!K1336","v":18500},{"$f":"'kosten tabel 2015'!L1336","v":19425}]
[{"$f":"'kosten tabel 2015'!A1337","v":133400},null,{"$f":"'kosten tabel 2015'!K1337","v":18500},{"$f":"'kosten tabel 2015'!L1337","v":19425}]
[{"$f":"'kosten tabel 2015'!A1338","v":133500},null,{"$f":"'kosten tabel 2015'!K1338","v":18600},{"$f":"'kosten tabel 2015'!L1338","v":19530}]
[{"$f":"'kosten tabel 2015'!A1339","v":133600},null,{"$f":"'kosten tabel 2015'!K1339","v":18600},{"$f":"'kosten tabel 2015'!L1339","v":19530}]
[{"$f":"'kosten tabel 2015'!A1340","v":133700},null,{"$f":"'kosten tabel 2015'!K1340","v":18600},{"$f":"'kosten tabel 2015'!L1340","v":19530}]
[{"$f":"'kosten tabel 2015'!A1341","v":133800},null,{"$f":"'kosten tabel 2015'!K1341","v":18600},{"$f":"'kosten tabel 2015'!L1341","v":19530}]
[{"$f":"'kosten tabel 2015'!A1342","v":133900},null,{"$f":"'kosten tabel 2015'!K1342","v":18600},{"$f":"'kosten tabel 2015'!L1342","v":19530}]
[{"$f":"'kosten tabel 2015'!A1343","v":134000},null,{"$f":"'kosten tabel 2015'!K1343","v":18600},{"$f":"'kosten tabel 2015'!L1343","v":19530}]
[{"$f":"'kosten tabel 2015'!A1344","v":134100},null,{"$f":"'kosten tabel 2015'!K1344","v":18600},{"$f":"'kosten tabel 2015'!L1344","v":19530}]
[{"$f":"'kosten tabel 2015'!A1345","v":134200},null,{"$f":"'kosten tabel 2015'!K1345","v":18600},{"$f":"'kosten tabel 2015'!L1345","v":19530}]
[{"$f":"'kosten tabel 2015'!A1346","v":134300},null,{"$f":"'kosten tabel 2015'!K1346","v":18600},{"$f":"'kosten tabel 2015'!L1346","v":19530}]
[{"$f":"'kosten tabel 2015'!A1347","v":134400},null,{"$f":"'kosten tabel 2015'!K1347","v":18600},{"$f":"'kosten tabel 2015'!L1347","v":19530}]
[{"$f":"'kosten tabel 2015'!A1348","v":134500},null,{"$f":"'kosten tabel 2015'!K1348","v":18600},{"$f":"'kosten tabel 2015'!L1348","v":19530}]
[{"$f":"'kosten tabel 2015'!A1349","v":134600},null,{"$f":"'kosten tabel 2015'!K1349","v":18700},{"$f":"'kosten tabel 2015'!L1349","v":19635}]
[{"$f":"'kosten tabel 2015'!A1350","v":134700},null,{"$f":"'kosten tabel 2015'!K1350","v":18700},{"$f":"'kosten tabel 2015'!L1350","v":19635}]
[{"$f":"'kosten tabel 2015'!A1351","v":134800},null,{"$f":"'kosten tabel 2015'!K1351","v":18700},{"$f":"'kosten tabel 2015'!L1351","v":19635}]
[{"$f":"'kosten tabel 2015'!A1352","v":134900},null,{"$f":"'kosten tabel 2015'!K1352","v":18700},{"$f":"'kosten tabel 2015'!L1352","v":19635}]
[{"$f":"'kosten tabel 2015'!A1353","v":135000},null,{"$f":"'kosten tabel 2015'!K1353","v":18700},{"$f":"'kosten tabel 2015'!L1353","v":19635}]
[{"$f":"'kosten tabel 2015'!A1354","v":135100},null,{"$f":"'kosten tabel 2015'!K1354","v":18700},{"$f":"'kosten tabel 2015'!L1354","v":19635}]
[{"$f":"'kosten tabel 2015'!A1355","v":135200},null,{"$f":"'kosten tabel 2015'!K1355","v":18700},{"$f":"'kosten tabel 2015'!L1355","v":19635}]
[{"$f":"'kosten tabel 2015'!A1356","v":135300},null,{"$f":"'kosten tabel 2015'!K1356","v":18700},{"$f":"'kosten tabel 2015'!L1356","v":19635}]
[{"$f":"'kosten tabel 2015'!A1357","v":135400},null,{"$f":"'kosten tabel 2015'!K1357","v":18700},{"$f":"'kosten tabel 2015'!L1357","v":19635}]
[{"$f":"'kosten tabel 2015'!A1358","v":135500},null,{"$f":"'kosten tabel 2015'!K1358","v":18700},{"$f":"'kosten tabel 2015'!L1358","v":19635}]
[{"$f":"'kosten tabel 2015'!A1359","v":135600},null,{"$f":"'kosten tabel 2015'!K1359","v":18800},{"$f":"'kosten tabel 2015'!L1359","v":19740}]
[{"$f":"'kosten tabel 2015'!A1360","v":135700},null,{"$f":"'kosten tabel 2015'!K1360","v":18800},{"$f":"'kosten tabel 2015'!L1360","v":19740}]
[{"$f":"'kosten tabel 2015'!A1361","v":135800},null,{"$f":"'kosten tabel 2015'!K1361","v":18800},{"$f":"'kosten tabel 2015'!L1361","v":19740}]
[{"$f":"'kosten tabel 2015'!A1362","v":135900},null,{"$f":"'kosten tabel 2015'!K1362","v":18800},{"$f":"'kosten tabel 2015'!L1362","v":19740}]
[{"$f":"'kosten tabel 2015'!A1363","v":136000},null,{"$f":"'kosten tabel 2015'!K1363","v":18800},{"$f":"'kosten tabel 2015'!L1363","v":19740}]
[{"$f":"'kosten tabel 2015'!A1364","v":136100},null,{"$f":"'kosten tabel 2015'!K1364","v":18800},{"$f":"'kosten tabel 2015'!L1364","v":19740}]
[{"$f":"'kosten tabel 2015'!A1365","v":136200},null,{"$f":"'kosten tabel 2015'!K1365","v":18800},{"$f":"'kosten tabel 2015'!L1365","v":19740}]
[{"$f":"'kosten tabel 2015'!A1366","v":136300},null,{"$f":"'kosten tabel 2015'!K1366","v":18800},{"$f":"'kosten tabel 2015'!L1366","v":19740}]
[{"$f":"'kosten tabel 2015'!A1367","v":136400},null,{"$f":"'kosten tabel 2015'!K1367","v":18800},{"$f":"'kosten tabel 2015'!L1367","v":19740}]
[{"$f":"'kosten tabel 2015'!A1368","v":136500},null,{"$f":"'kosten tabel 2015'!K1368","v":18800},{"$f":"'kosten tabel 2015'!L1368","v":19740}]
[{"$f":"'kosten tabel 2015'!A1369","v":136600},null,{"$f":"'kosten tabel 2015'!K1369","v":18900},{"$f":"'kosten tabel 2015'!L1369","v":19845}]
[{"$f":"'kosten tabel 2015'!A1370","v":136700},null,{"$f":"'kosten tabel 2015'!K1370","v":18900},{"$f":"'kosten tabel 2015'!L1370","v":19845}]
[{"$f":"'kosten tabel 2015'!A1371","v":136800},null,{"$f":"'kosten tabel 2015'!K1371","v":18900},{"$f":"'kosten tabel 2015'!L1371","v":19845}]
[{"$f":"'kosten tabel 2015'!A1372","v":136900},null,{"$f":"'kosten tabel 2015'!K1372","v":18900},{"$f":"'kosten tabel 2015'!L1372","v":19845}]
[{"$f":"'kosten tabel 2015'!A1373","v":137000},null,{"$f":"'kosten tabel 2015'!K1373","v":18900},{"$f":"'kosten tabel 2015'!L1373","v":19845}]
[{"$f":"'kosten tabel 2015'!A1374","v":137100},null,{"$f":"'kosten tabel 2015'!K1374","v":18900},{"$f":"'kosten tabel 2015'!L1374","v":19845}]
[{"$f":"'kosten tabel 2015'!A1375","v":137200},null,{"$f":"'kosten tabel 2015'!K1375","v":18900},{"$f":"'kosten tabel 2015'!L1375","v":19845}]
[{"$f":"'kosten tabel 2015'!A1376","v":137300},null,{"$f":"'kosten tabel 2015'!K1376","v":18900},{"$f":"'kosten tabel 2015'!L1376","v":19845}]
[{"$f":"'kosten tabel 2015'!A1377","v":137400},null,{"$f":"'kosten tabel 2015'!K1377","v":18900},{"$f":"'kosten tabel 2015'!L1377","v":19845}]
[{"$f":"'kosten tabel 2015'!A1378","v":137500},null,{"$f":"'kosten tabel 2015'!K1378","v":18900},{"$f":"'kosten tabel 2015'!L1378","v":19845}]
[{"$f":"'kosten tabel 2015'!A1379","v":137600},null,{"$f":"'kosten tabel 2015'!K1379","v":19000},{"$f":"'kosten tabel 2015'!L1379","v":19950}]
[{"$f":"'kosten tabel 2015'!A1380","v":137700},null,{"$f":"'kosten tabel 2015'!K1380","v":19000},{"$f":"'kosten tabel 2015'!L1380","v":19950}]
[{"$f":"'kosten tabel 2015'!A1381","v":137800},null,{"$f":"'kosten tabel 2015'!K1381","v":19000},{"$f":"'kosten tabel 2015'!L1381","v":19950}]
[{"$f":"'kosten tabel 2015'!A1382","v":137900},null,{"$f":"'kosten tabel 2015'!K1382","v":19000},{"$f":"'kosten tabel 2015'!L1382","v":19950}]
[{"$f":"'kosten tabel 2015'!A1383","v":138000},null,{"$f":"'kosten tabel 2015'!K1383","v":19000},{"$f":"'kosten tabel 2015'!L1383","v":19950}]
[{"$f":"'kosten tabel 2015'!A1384","v":138100},null,{"$f":"'kosten tabel 2015'!K1384","v":19000},{"$f":"'kosten tabel 2015'!L1384","v":19950}]
[{"$f":"'kosten tabel 2015'!A1385","v":138200},null,{"$f":"'kosten tabel 2015'!K1385","v":19000},{"$f":"'kosten tabel 2015'!L1385","v":19950}]
[{"$f":"'kosten tabel 2015'!A1386","v":138300},null,{"$f":"'kosten tabel 2015'!K1386","v":19000},{"$f":"'kosten tabel 2015'!L1386","v":19950}]
[{"$f":"'kosten tabel 2015'!A1387","v":138400},null,{"$f":"'kosten tabel 2015'!K1387","v":19000},{"$f":"'kosten tabel 2015'!L1387","v":19950}]
[{"$f":"'kosten tabel 2015'!A1388","v":138500},null,{"$f":"'kosten tabel 2015'!K1388","v":19000},{"$f":"'kosten tabel 2015'!L1388","v":19950}]
[{"$f":"'kosten tabel 2015'!A1389","v":138600},null,{"$f":"'kosten tabel 2015'!K1389","v":19100},{"$f":"'kosten tabel 2015'!L1389","v":20055}]
[{"$f":"'kosten tabel 2015'!A1390","v":138700},null,{"$f":"'kosten tabel 2015'!K1390","v":19100},{"$f":"'kosten tabel 2015'!L1390","v":20055}]
[{"$f":"'kosten tabel 2015'!A1391","v":138800},null,{"$f":"'kosten tabel 2015'!K1391","v":19100},{"$f":"'kosten tabel 2015'!L1391","v":20055}]
[{"$f":"'kosten tabel 2015'!A1392","v":138900},null,{"$f":"'kosten tabel 2015'!K1392","v":19100},{"$f":"'kosten tabel 2015'!L1392","v":20055}]
[{"$f":"'kosten tabel 2015'!A1393","v":139000},null,{"$f":"'kosten tabel 2015'!K1393","v":19100},{"$f":"'kosten tabel 2015'!L1393","v":20055}]
[{"$f":"'kosten tabel 2015'!A1394","v":139100},null,{"$f":"'kosten tabel 2015'!K1394","v":19100},{"$f":"'kosten tabel 2015'!L1394","v":20055}]
[{"$f":"'kosten tabel 2015'!A1395","v":139200},null,{"$f":"'kosten tabel 2015'!K1395","v":19100},{"$f":"'kosten tabel 2015'!L1395","v":20055}]
[{"$f":"'kosten tabel 2015'!A1396","v":139300},null,{"$f":"'kosten tabel 2015'!K1396","v":19100},{"$f":"'kosten tabel 2015'!L1396","v":20055}]
[{"$f":"'kosten tabel 2015'!A1397","v":139400},null,{"$f":"'kosten tabel 2015'!K1397","v":19100},{"$f":"'kosten tabel 2015'!L1397","v":20055}]
[{"$f":"'kosten tabel 2015'!A1398","v":139500},null,{"$f":"'kosten tabel 2015'!K1398","v":19100},{"$f":"'kosten tabel 2015'!L1398","v":20055}]
[{"$f":"'kosten tabel 2015'!A1399","v":139600},null,{"$f":"'kosten tabel 2015'!K1399","v":19200},{"$f":"'kosten tabel 2015'!L1399","v":20160}]
[{"$f":"'kosten tabel 2015'!A1400","v":139700},null,{"$f":"'kosten tabel 2015'!K1400","v":19200},{"$f":"'kosten tabel 2015'!L1400","v":20160}]
[{"$f":"'kosten tabel 2015'!A1401","v":139800},null,{"$f":"'kosten tabel 2015'!K1401","v":19200},{"$f":"'kosten tabel 2015'!L1401","v":20160}]
[{"$f":"'kosten tabel 2015'!A1402","v":139900},null,{"$f":"'kosten tabel 2015'!K1402","v":19200},{"$f":"'kosten tabel 2015'!L1402","v":20160}]
[{"$f":"'kosten tabel 2015'!A1403","v":140000},null,{"$f":"'kosten tabel 2015'!K1403","v":19200},{"$f":"'kosten tabel 2015'!L1403","v":20160}]
[{"$f":"'kosten tabel 2015'!A1404","v":140100},null,{"$f":"'kosten tabel 2015'!K1404","v":19200},{"$f":"'kosten tabel 2015'!L1404","v":20160}]
[{"$f":"'kosten tabel 2015'!A1405","v":140200},null,{"$f":"'kosten tabel 2015'!K1405","v":19200},{"$f":"'kosten tabel 2015'!L1405","v":20160}]
[{"$f":"'kosten tabel 2015'!A1406","v":140300},null,{"$f":"'kosten tabel 2015'!K1406","v":19200},{"$f":"'kosten tabel 2015'!L1406","v":20160}]
[{"$f":"'kosten tabel 2015'!A1407","v":140400},null,{"$f":"'kosten tabel 2015'!K1407","v":19200},{"$f":"'kosten tabel 2015'!L1407","v":20160}]
[{"$f":"'kosten tabel 2015'!A1408","v":140500},null,{"$f":"'kosten tabel 2015'!K1408","v":19200},{"$f":"'kosten tabel 2015'!L1408","v":20160}]
[{"$f":"'kosten tabel 2015'!A1409","v":140600},null,{"$f":"'kosten tabel 2015'!K1409","v":19300},{"$f":"'kosten tabel 2015'!L1409","v":20265}]
[{"$f":"'kosten tabel 2015'!A1410","v":140700},null,{"$f":"'kosten tabel 2015'!K1410","v":19300},{"$f":"'kosten tabel 2015'!L1410","v":20265}]
[{"$f":"'kosten tabel 2015'!A1411","v":140800},null,{"$f":"'kosten tabel 2015'!K1411","v":19300},{"$f":"'kosten tabel 2015'!L1411","v":20265}]
[{"$f":"'kosten tabel 2015'!A1412","v":140900},null,{"$f":"'kosten tabel 2015'!K1412","v":19300},{"$f":"'kosten tabel 2015'!L1412","v":20265}]
[{"$f":"'kosten tabel 2015'!A1413","v":141000},null,{"$f":"'kosten tabel 2015'!K1413","v":19300},{"$f":"'kosten tabel 2015'!L1413","v":20265}]
[{"$f":"'kosten tabel 2015'!A1414","v":141100},null,{"$f":"'kosten tabel 2015'!K1414","v":19300},{"$f":"'kosten tabel 2015'!L1414","v":20265}]
[{"$f":"'kosten tabel 2015'!A1415","v":141200},null,{"$f":"'kosten tabel 2015'!K1415","v":19300},{"$f":"'kosten tabel 2015'!L1415","v":20265}]
[{"$f":"'kosten tabel 2015'!A1416","v":141300},null,{"$f":"'kosten tabel 2015'!K1416","v":19300},{"$f":"'kosten tabel 2015'!L1416","v":20265}]
[{"$f":"'kosten tabel 2015'!A1417","v":141400},null,{"$f":"'kosten tabel 2015'!K1417","v":19300},{"$f":"'kosten tabel 2015'!L1417","v":20265}]
[{"$f":"'kosten tabel 2015'!A1418","v":141500},null,{"$f":"'kosten tabel 2015'!K1418","v":19300},{"$f":"'kosten tabel 2015'!L1418","v":20265}]
[{"$f":"'kosten tabel 2015'!A1419","v":141600},null,{"$f":"'kosten tabel 2015'!K1419","v":19300},{"$f":"'kosten tabel 2015'!L1419","v":20265}]
[{"$f":"'kosten tabel 2015'!A1420","v":141700},null,{"$f":"'kosten tabel 2015'!K1420","v":19400},{"$f":"'kosten tabel 2015'!L1420","v":20370}]
[{"$f":"'kosten tabel 2015'!A1421","v":141800},null,{"$f":"'kosten tabel 2015'!K1421","v":19400},{"$f":"'kosten tabel 2015'!L1421","v":20370}]
[{"$f":"'kosten tabel 2015'!A1422","v":141900},null,{"$f":"'kosten tabel 2015'!K1422","v":19400},{"$f":"'kosten tabel 2015'!L1422","v":20370}]
[{"$f":"'kosten tabel 2015'!A1423","v":142000},null,{"$f":"'kosten tabel 2015'!K1423","v":19400},{"$f":"'kosten tabel 2015'!L1423","v":20370}]
[{"$f":"'kosten tabel 2015'!A1424","v":142100},null,{"$f":"'kosten tabel 2015'!K1424","v":19400},{"$f":"'kosten tabel 2015'!L1424","v":20370}]
[{"$f":"'kosten tabel 2015'!A1425","v":142200},null,{"$f":"'kosten tabel 2015'!K1425","v":19400},{"$f":"'kosten tabel 2015'!L1425","v":20370}]
[{"$f":"'kosten tabel 2015'!A1426","v":142300},null,{"$f":"'kosten tabel 2015'!K1426","v":19400},{"$f":"'kosten tabel 2015'!L1426","v":20370}]
[{"$f":"'kosten tabel 2015'!A1427","v":142400},null,{"$f":"'kosten tabel 2015'!K1427","v":19400},{"$f":"'kosten tabel 2015'!L1427","v":20370}]
[{"$f":"'kosten tabel 2015'!A1428","v":142500},null,{"$f":"'kosten tabel 2015'!K1428","v":19400},{"$f":"'kosten tabel 2015'!L1428","v":20370}]
[{"$f":"'kosten tabel 2015'!A1429","v":142600},null,{"$f":"'kosten tabel 2015'!K1429","v":19400},{"$f":"'kosten tabel 2015'!L1429","v":20370}]
[{"$f":"'kosten tabel 2015'!A1430","v":142700},null,{"$f":"'kosten tabel 2015'!K1430","v":19500},{"$f":"'kosten tabel 2015'!L1430","v":20475}]
[{"$f":"'kosten tabel 2015'!A1431","v":142800},null,{"$f":"'kosten tabel 2015'!K1431","v":19500},{"$f":"'kosten tabel 2015'!L1431","v":20475}]
[{"$f":"'kosten tabel 2015'!A1432","v":142900},null,{"$f":"'kosten tabel 2015'!K1432","v":19500},{"$f":"'kosten tabel 2015'!L1432","v":20475}]
[{"$f":"'kosten tabel 2015'!A1433","v":143000},null,{"$f":"'kosten tabel 2015'!K1433","v":19500},{"$f":"'kosten tabel 2015'!L1433","v":20475}]
[{"$f":"'kosten tabel 2015'!A1434","v":143100},null,{"$f":"'kosten tabel 2015'!K1434","v":19500},{"$f":"'kosten tabel 2015'!L1434","v":20475}]
[{"$f":"'kosten tabel 2015'!A1435","v":143200},null,{"$f":"'kosten tabel 2015'!K1435","v":19500},{"$f":"'kosten tabel 2015'!L1435","v":20475}]
[{"$f":"'kosten tabel 2015'!A1436","v":143300},null,{"$f":"'kosten tabel 2015'!K1436","v":19500},{"$f":"'kosten tabel 2015'!L1436","v":20475}]
[{"$f":"'kosten tabel 2015'!A1437","v":143400},null,{"$f":"'kosten tabel 2015'!K1437","v":19500},{"$f":"'kosten tabel 2015'!L1437","v":20475}]
[{"$f":"'kosten tabel 2015'!A1438","v":143500},null,{"$f":"'kosten tabel 2015'!K1438","v":19500},{"$f":"'kosten tabel 2015'!L1438","v":20475}]
[{"$f":"'kosten tabel 2015'!A1439","v":143600},null,{"$f":"'kosten tabel 2015'!K1439","v":19500},{"$f":"'kosten tabel 2015'!L1439","v":20475}]
[{"$f":"'kosten tabel 2015'!A1440","v":143700},null,{"$f":"'kosten tabel 2015'!K1440","v":19600},{"$f":"'kosten tabel 2015'!L1440","v":20580}]
[{"$f":"'kosten tabel 2015'!A1441","v":143800},null,{"$f":"'kosten tabel 2015'!K1441","v":19600},{"$f":"'kosten tabel 2015'!L1441","v":20580}]
[{"$f":"'kosten tabel 2015'!A1442","v":143900},null,{"$f":"'kosten tabel 2015'!K1442","v":19600},{"$f":"'kosten tabel 2015'!L1442","v":20580}]
[{"$f":"'kosten tabel 2015'!A1443","v":144000},null,{"$f":"'kosten tabel 2015'!K1443","v":19600},{"$f":"'kosten tabel 2015'!L1443","v":20580}]
[{"$f":"'kosten tabel 2015'!A1444","v":144100},null,{"$f":"'kosten tabel 2015'!K1444","v":19600},{"$f":"'kosten tabel 2015'!L1444","v":20580}]
[{"$f":"'kosten tabel 2015'!A1445","v":144200},null,{"$f":"'kosten tabel 2015'!K1445","v":19600},{"$f":"'kosten tabel 2015'!L1445","v":20580}]
[{"$f":"'kosten tabel 2015'!A1446","v":144300},null,{"$f":"'kosten tabel 2015'!K1446","v":19600},{"$f":"'kosten tabel 2015'!L1446","v":20580}]
[{"$f":"'kosten tabel 2015'!A1447","v":144400},null,{"$f":"'kosten tabel 2015'!K1447","v":19600},{"$f":"'kosten tabel 2015'!L1447","v":20580}]
[{"$f":"'kosten tabel 2015'!A1448","v":144500},null,{"$f":"'kosten tabel 2015'!K1448","v":19600},{"$f":"'kosten tabel 2015'!L1448","v":20580}]
[{"$f":"'kosten tabel 2015'!A1449","v":144600},null,{"$f":"'kosten tabel 2015'!K1449","v":19600},{"$f":"'kosten tabel 2015'!L1449","v":20580}]
[{"$f":"'kosten tabel 2015'!A1450","v":144700},null,{"$f":"'kosten tabel 2015'!K1450","v":19700},{"$f":"'kosten tabel 2015'!L1450","v":20685}]
[{"$f":"'kosten tabel 2015'!A1451","v":144800},null,{"$f":"'kosten tabel 2015'!K1451","v":19700},{"$f":"'kosten tabel 2015'!L1451","v":20685}]
[{"$f":"'kosten tabel 2015'!A1452","v":144900},null,{"$f":"'kosten tabel 2015'!K1452","v":19700},{"$f":"'kosten tabel 2015'!L1452","v":20685}]
[{"$f":"'kosten tabel 2015'!A1453","v":145000},null,{"$f":"'kosten tabel 2015'!K1453","v":19700},{"$f":"'kosten tabel 2015'!L1453","v":20685}]
[{"$f":"'kosten tabel 2015'!A1454","v":145100},null,{"$f":"'kosten tabel 2015'!K1454","v":19700},{"$f":"'kosten tabel 2015'!L1454","v":20685}]
[{"$f":"'kosten tabel 2015'!A1455","v":145200},null,{"$f":"'kosten tabel 2015'!K1455","v":19700},{"$f":"'kosten tabel 2015'!L1455","v":20685}]
[{"$f":"'kosten tabel 2015'!A1456","v":145300},null,{"$f":"'kosten tabel 2015'!K1456","v":19700},{"$f":"'kosten tabel 2015'!L1456","v":20685}]
[{"$f":"'kosten tabel 2015'!A1457","v":145400},null,{"$f":"'kosten tabel 2015'!K1457","v":19700},{"$f":"'kosten tabel 2015'!L1457","v":20685}]
[{"$f":"'kosten tabel 2015'!A1458","v":145500},null,{"$f":"'kosten tabel 2015'!K1458","v":19700},{"$f":"'kosten tabel 2015'!L1458","v":20685}]
[{"$f":"'kosten tabel 2015'!A1459","v":145600},null,{"$f":"'kosten tabel 2015'!K1459","v":19700},{"$f":"'kosten tabel 2015'!L1459","v":20685}]
[{"$f":"'kosten tabel 2015'!A1460","v":145700},null,{"$f":"'kosten tabel 2015'!K1460","v":19800},{"$f":"'kosten tabel 2015'!L1460","v":20790}]
[{"$f":"'kosten tabel 2015'!A1461","v":145800},null,{"$f":"'kosten tabel 2015'!K1461","v":19800},{"$f":"'kosten tabel 2015'!L1461","v":20790}]
[{"$f":"'kosten tabel 2015'!A1462","v":145900},null,{"$f":"'kosten tabel 2015'!K1462","v":19800},{"$f":"'kosten tabel 2015'!L1462","v":20790}]
[{"$f":"'kosten tabel 2015'!A1463","v":146000},null,{"$f":"'kosten tabel 2015'!K1463","v":19800},{"$f":"'kosten tabel 2015'!L1463","v":20790}]
[{"$f":"'kosten tabel 2015'!A1464","v":146100},null,{"$f":"'kosten tabel 2015'!K1464","v":19800},{"$f":"'kosten tabel 2015'!L1464","v":20790}]
[{"$f":"'kosten tabel 2015'!A1465","v":146200},null,{"$f":"'kosten tabel 2015'!K1465","v":19800},{"$f":"'kosten tabel 2015'!L1465","v":20790}]
[{"$f":"'kosten tabel 2015'!A1466","v":146300},null,{"$f":"'kosten tabel 2015'!K1466","v":19800},{"$f":"'kosten tabel 2015'!L1466","v":20790}]
[{"$f":"'kosten tabel 2015'!A1467","v":146400},null,{"$f":"'kosten tabel 2015'!K1467","v":19800},{"$f":"'kosten tabel 2015'!L1467","v":20790}]
[{"$f":"'kosten tabel 2015'!A1468","v":146500},null,{"$f":"'kosten tabel 2015'!K1468","v":19800},{"$f":"'kosten tabel 2015'!L1468","v":20790}]
[{"$f":"'kosten tabel 2015'!A1469","v":146600},null,{"$f":"'kosten tabel 2015'!K1469","v":19800},{"$f":"'kosten tabel 2015'!L1469","v":20790}]
[{"$f":"'kosten tabel 2015'!A1470","v":146700},null,{"$f":"'kosten tabel 2015'!K1470","v":19900},{"$f":"'kosten tabel 2015'!L1470","v":20895}]
[{"$f":"'kosten tabel 2015'!A1471","v":146800},null,{"$f":"'kosten tabel 2015'!K1471","v":19900},{"$f":"'kosten tabel 2015'!L1471","v":20895}]
[{"$f":"'kosten tabel 2015'!A1472","v":146900},null,{"$f":"'kosten tabel 2015'!K1472","v":19900},{"$f":"'kosten tabel 2015'!L1472","v":20895}]
[{"$f":"'kosten tabel 2015'!A1473","v":147000},null,{"$f":"'kosten tabel 2015'!K1473","v":19900},{"$f":"'kosten tabel 2015'!L1473","v":20895}]
[{"$f":"'kosten tabel 2015'!A1474","v":147100},null,{"$f":"'kosten tabel 2015'!K1474","v":19900},{"$f":"'kosten tabel 2015'!L1474","v":20895}]
[{"$f":"'kosten tabel 2015'!A1475","v":147200},null,{"$f":"'kosten tabel 2015'!K1475","v":19900},{"$f":"'kosten tabel 2015'!L1475","v":20895}]
[{"$f":"'kosten tabel 2015'!A1476","v":147300},null,{"$f":"'kosten tabel 2015'!K1476","v":19900},{"$f":"'kosten tabel 2015'!L1476","v":20895}]
[{"$f":"'kosten tabel 2015'!A1477","v":147400},null,{"$f":"'kosten tabel 2015'!K1477","v":19900},{"$f":"'kosten tabel 2015'!L1477","v":20895}]
[{"$f":"'kosten tabel 2015'!A1478","v":147500},null,{"$f":"'kosten tabel 2015'!K1478","v":19900},{"$f":"'kosten tabel 2015'!L1478","v":20895}]
[{"$f":"'kosten tabel 2015'!A1479","v":147600},null,{"$f":"'kosten tabel 2015'!K1479","v":19900},{"$f":"'kosten tabel 2015'!L1479","v":20895}]
[{"$f":"'kosten tabel 2015'!A1480","v":147700},null,{"$f":"'kosten tabel 2015'!K1480","v":19900},{"$f":"'kosten tabel 2015'!L1480","v":20895}]
[{"$f":"'kosten tabel 2015'!A1481","v":147800},null,{"$f":"'kosten tabel 2015'!K1481","v":20000},{"$f":"'kosten tabel 2015'!L1481","v":21000}]
[{"$f":"'kosten tabel 2015'!A1482","v":147900},null,{"$f":"'kosten tabel 2015'!K1482","v":20000},{"$f":"'kosten tabel 2015'!L1482","v":21000}]
[{"$f":"'kosten tabel 2015'!A1483","v":148000},null,{"$f":"'kosten tabel 2015'!K1483","v":20000},{"$f":"'kosten tabel 2015'!L1483","v":21000}]
[{"$f":"'kosten tabel 2015'!A1484","v":148100},null,{"$f":"'kosten tabel 2015'!K1484","v":20000},{"$f":"'kosten tabel 2015'!L1484","v":21000}]
[{"$f":"'kosten tabel 2015'!A1485","v":148200},null,{"$f":"'kosten tabel 2015'!K1485","v":20000},{"$f":"'kosten tabel 2015'!L1485","v":21000}]
[{"$f":"'kosten tabel 2015'!A1486","v":148300},null,{"$f":"'kosten tabel 2015'!K1486","v":20000},{"$f":"'kosten tabel 2015'!L1486","v":21000}]
[{"$f":"'kosten tabel 2015'!A1487","v":148400},null,{"$f":"'kosten tabel 2015'!K1487","v":20000},{"$f":"'kosten tabel 2015'!L1487","v":21000}]
[{"$f":"'kosten tabel 2015'!A1488","v":148500},null,{"$f":"'kosten tabel 2015'!K1488","v":20000},{"$f":"'kosten tabel 2015'!L1488","v":21000}]
[{"$f":"'kosten tabel 2015'!A1489","v":148600},null,{"$f":"'kosten tabel 2015'!K1489","v":20000},{"$f":"'kosten tabel 2015'!L1489","v":21000}]
[{"$f":"'kosten tabel 2015'!A1490","v":148700},null,{"$f":"'kosten tabel 2015'!K1490","v":20000},{"$f":"'kosten tabel 2015'!L1490","v":21000}]
[{"$f":"'kosten tabel 2015'!A1491","v":148800},null,{"$f":"'kosten tabel 2015'!K1491","v":20100},{"$f":"'kosten tabel 2015'!L1491","v":21105}]
[{"$f":"'kosten tabel 2015'!A1492","v":148900},null,{"$f":"'kosten tabel 2015'!K1492","v":20100},{"$f":"'kosten tabel 2015'!L1492","v":21105}]
[{"$f":"'kosten tabel 2015'!A1493","v":149000},null,{"$f":"'kosten tabel 2015'!K1493","v":20100},{"$f":"'kosten tabel 2015'!L1493","v":21105}]
[{"$f":"'kosten tabel 2015'!A1494","v":149100},null,{"$f":"'kosten tabel 2015'!K1494","v":20100},{"$f":"'kosten tabel 2015'!L1494","v":21105}]
[{"$f":"'kosten tabel 2015'!A1495","v":149200},null,{"$f":"'kosten tabel 2015'!K1495","v":20100},{"$f":"'kosten tabel 2015'!L1495","v":21105}]
[{"$f":"'kosten tabel 2015'!A1496","v":149300},null,{"$f":"'kosten tabel 2015'!K1496","v":20100},{"$f":"'kosten tabel 2015'!L1496","v":21105}]
[{"$f":"'kosten tabel 2015'!A1497","v":149400},null,{"$f":"'kosten tabel 2015'!K1497","v":20100},{"$f":"'kosten tabel 2015'!L1497","v":21105}]
[{"$f":"'kosten tabel 2015'!A1498","v":149500},null,{"$f":"'kosten tabel 2015'!K1498","v":20100},{"$f":"'kosten tabel 2015'!L1498","v":21105}]
[{"$f":"'kosten tabel 2015'!A1499","v":149600},null,{"$f":"'kosten tabel 2015'!K1499","v":20100},{"$f":"'kosten tabel 2015'!L1499","v":21105}]
[{"$f":"'kosten tabel 2015'!A1500","v":149700},null,{"$f":"'kosten tabel 2015'!K1500","v":20100},{"$f":"'kosten tabel 2015'!L1500","v":21105}]
[{"$f":"'kosten tabel 2015'!A1501","v":149800},null,{"$f":"'kosten tabel 2015'!K1501","v":20200},{"$f":"'kosten tabel 2015'!L1501","v":21210}]
[{"$f":"'kosten tabel 2015'!A1502","v":149900},null,{"$f":"'kosten tabel 2015'!K1502","v":20200},{"$f":"'kosten tabel 2015'!L1502","v":21210}]
[{"$f":"'kosten tabel 2015'!A1503","v":150000},null,{"$f":"'kosten tabel 2015'!K1503","v":20200},{"$f":"'kosten tabel 2015'!L1503","v":21210}]
[{"$f":"'kosten tabel 2015'!A1504","v":150100},null,{"$f":"'kosten tabel 2015'!K1504","v":20200},{"$f":"'kosten tabel 2015'!L1504","v":21210}]
[{"$f":"'kosten tabel 2015'!A1505","v":150200},null,{"$f":"'kosten tabel 2015'!K1505","v":20200},{"$f":"'kosten tabel 2015'!L1505","v":21210}]
[{"$f":"'kosten tabel 2015'!A1506","v":150300},null,{"$f":"'kosten tabel 2015'!K1506","v":20200},{"$f":"'kosten tabel 2015'!L1506","v":21210}]
[{"$f":"'kosten tabel 2015'!A1507","v":150400},null,{"$f":"'kosten tabel 2015'!K1507","v":20200},{"$f":"'kosten tabel 2015'!L1507","v":21210}]
[{"$f":"'kosten tabel 2015'!A1508","v":150500},null,{"$f":"'kosten tabel 2015'!K1508","v":20200},{"$f":"'kosten tabel 2015'!L1508","v":21210}]
[{"$f":"'kosten tabel 2015'!A1509","v":150600},null,{"$f":"'kosten tabel 2015'!K1509","v":20200},{"$f":"'kosten tabel 2015'!L1509","v":21210}]
[{"$f":"'kosten tabel 2015'!A1510","v":150700},null,{"$f":"'kosten tabel 2015'!K1510","v":20200},{"$f":"'kosten tabel 2015'!L1510","v":21210}]
[{"$f":"'kosten tabel 2015'!A1511","v":150800},null,{"$f":"'kosten tabel 2015'!K1511","v":20300},{"$f":"'kosten tabel 2015'!L1511","v":21315}]
[{"$f":"'kosten tabel 2015'!A1512","v":150900},null,{"$f":"'kosten tabel 2015'!K1512","v":20300},{"$f":"'kosten tabel 2015'!L1512","v":21315}]
[{"$f":"'kosten tabel 2015'!A1513","v":151000},null,{"$f":"'kosten tabel 2015'!K1513","v":20300},{"$f":"'kosten tabel 2015'!L1513","v":21315}]
[{"$f":"'kosten tabel 2015'!A1514","v":151100},null,{"$f":"'kosten tabel 2015'!K1514","v":20300},{"$f":"'kosten tabel 2015'!L1514","v":21315}]
[{"$f":"'kosten tabel 2015'!A1515","v":151200},null,{"$f":"'kosten tabel 2015'!K1515","v":20300},{"$f":"'kosten tabel 2015'!L1515","v":21315}]
[{"$f":"'kosten tabel 2015'!A1516","v":151300},null,{"$f":"'kosten tabel 2015'!K1516","v":20300},{"$f":"'kosten tabel 2015'!L1516","v":21315}]
[{"$f":"'kosten tabel 2015'!A1517","v":151400},null,{"$f":"'kosten tabel 2015'!K1517","v":20300},{"$f":"'kosten tabel 2015'!L1517","v":21315}]
[{"$f":"'kosten tabel 2015'!A1518","v":151500},null,{"$f":"'kosten tabel 2015'!K1518","v":20300},{"$f":"'kosten tabel 2015'!L1518","v":21315}]
[{"$f":"'kosten tabel 2015'!A1519","v":151600},null,{"$f":"'kosten tabel 2015'!K1519","v":20300},{"$f":"'kosten tabel 2015'!L1519","v":21315}]
[{"$f":"'kosten tabel 2015'!A1520","v":151700},null,{"$f":"'kosten tabel 2015'!K1520","v":20300},{"$f":"'kosten tabel 2015'!L1520","v":21315}]
[{"$f":"'kosten tabel 2015'!A1521","v":151800},null,{"$f":"'kosten tabel 2015'!K1521","v":20400},{"$f":"'kosten tabel 2015'!L1521","v":21420}]
[{"$f":"'kosten tabel 2015'!A1522","v":151900},null,{"$f":"'kosten tabel 2015'!K1522","v":20400},{"$f":"'kosten tabel 2015'!L1522","v":21420}]
[{"$f":"'kosten tabel 2015'!A1523","v":152000},null,{"$f":"'kosten tabel 2015'!K1523","v":20400},{"$f":"'kosten tabel 2015'!L1523","v":21420}]
[{"$f":"'kosten tabel 2015'!A1524","v":152100},null,{"$f":"'kosten tabel 2015'!K1524","v":20400},{"$f":"'kosten tabel 2015'!L1524","v":21420}]
[{"$f":"'kosten tabel 2015'!A1525","v":152200},null,{"$f":"'kosten tabel 2015'!K1525","v":20400},{"$f":"'kosten tabel 2015'!L1525","v":21420}]
[{"$f":"'kosten tabel 2015'!A1526","v":152300},null,{"$f":"'kosten tabel 2015'!K1526","v":20400},{"$f":"'kosten tabel 2015'!L1526","v":21420}]
[{"$f":"'kosten tabel 2015'!A1527","v":152400},null,{"$f":"'kosten tabel 2015'!K1527","v":20400},{"$f":"'kosten tabel 2015'!L1527","v":21420}]
[{"$f":"'kosten tabel 2015'!A1528","v":152500},null,{"$f":"'kosten tabel 2015'!K1528","v":20400},{"$f":"'kosten tabel 2015'!L1528","v":21420}]
[{"$f":"'kosten tabel 2015'!A1529","v":152600},null,{"$f":"'kosten tabel 2015'!K1529","v":20400},{"$f":"'kosten tabel 2015'!L1529","v":21420}]
[{"$f":"'kosten tabel 2015'!A1530","v":152700},null,{"$f":"'kosten tabel 2015'!K1530","v":20400},{"$f":"'kosten tabel 2015'!L1530","v":21420}]
[{"$f":"'kosten tabel 2015'!A1531","v":152800},null,{"$f":"'kosten tabel 2015'!K1531","v":20500},{"$f":"'kosten tabel 2015'!L1531","v":21525}]
[{"$f":"'kosten tabel 2015'!A1532","v":152900},null,{"$f":"'kosten tabel 2015'!K1532","v":20500},{"$f":"'kosten tabel 2015'!L1532","v":21525}]
[{"$f":"'kosten tabel 2015'!A1533","v":153000},null,{"$f":"'kosten tabel 2015'!K1533","v":20500},{"$f":"'kosten tabel 2015'!L1533","v":21525}]
[{"$f":"'kosten tabel 2015'!A1534","v":153100},null,{"$f":"'kosten tabel 2015'!K1534","v":20500},{"$f":"'kosten tabel 2015'!L1534","v":21525}]
[{"$f":"'kosten tabel 2015'!A1535","v":153200},null,{"$f":"'kosten tabel 2015'!K1535","v":20500},{"$f":"'kosten tabel 2015'!L1535","v":21525}]
[{"$f":"'kosten tabel 2015'!A1536","v":153300},null,{"$f":"'kosten tabel 2015'!K1536","v":20500},{"$f":"'kosten tabel 2015'!L1536","v":21525}]
[{"$f":"'kosten tabel 2015'!A1537","v":153400},null,{"$f":"'kosten tabel 2015'!K1537","v":20500},{"$f":"'kosten tabel 2015'!L1537","v":21525}]
[{"$f":"'kosten tabel 2015'!A1538","v":153500},null,{"$f":"'kosten tabel 2015'!K1538","v":20500},{"$f":"'kosten tabel 2015'!L1538","v":21525}]
[{"$f":"'kosten tabel 2015'!A1539","v":153600},null,{"$f":"'kosten tabel 2015'!K1539","v":20500},{"$f":"'kosten tabel 2015'!L1539","v":21525}]
[{"$f":"'kosten tabel 2015'!A1540","v":153700},null,{"$f":"'kosten tabel 2015'!K1540","v":20500},{"$f":"'kosten tabel 2015'!L1540","v":21525}]
[{"$f":"'kosten tabel 2015'!A1541","v":153800},null,{"$f":"'kosten tabel 2015'!K1541","v":20600},{"$f":"'kosten tabel 2015'!L1541","v":21630}]
[{"$f":"'kosten tabel 2015'!A1542","v":153900},null,{"$f":"'kosten tabel 2015'!K1542","v":20600},{"$f":"'kosten tabel 2015'!L1542","v":21630}]
[{"$f":"'kosten tabel 2015'!A1543","v":154000},null,{"$f":"'kosten tabel 2015'!K1543","v":20600},{"$f":"'kosten tabel 2015'!L1543","v":21630}]
[{"$f":"'kosten tabel 2015'!A1544","v":154100},null,{"$f":"'kosten tabel 2015'!K1544","v":20600},{"$f":"'kosten tabel 2015'!L1544","v":21630}]
[{"$f":"'kosten tabel 2015'!A1545","v":154200},null,{"$f":"'kosten tabel 2015'!K1545","v":20600},{"$f":"'kosten tabel 2015'!L1545","v":21630}]
[{"$f":"'kosten tabel 2015'!A1546","v":154300},null,{"$f":"'kosten tabel 2015'!K1546","v":20600},{"$f":"'kosten tabel 2015'!L1546","v":21630}]
[{"$f":"'kosten tabel 2015'!A1547","v":154400},null,{"$f":"'kosten tabel 2015'!K1547","v":20600},{"$f":"'kosten tabel 2015'!L1547","v":21630}]
[{"$f":"'kosten tabel 2015'!A1548","v":154500},null,{"$f":"'kosten tabel 2015'!K1548","v":20600},{"$f":"'kosten tabel 2015'!L1548","v":21630}]
[{"$f":"'kosten tabel 2015'!A1549","v":154600},null,{"$f":"'kosten tabel 2015'!K1549","v":20600},{"$f":"'kosten tabel 2015'!L1549","v":21630}]
[{"$f":"'kosten tabel 2015'!A1550","v":154700},null,{"$f":"'kosten tabel 2015'!K1550","v":20600},{"$f":"'kosten tabel 2015'!L1550","v":21630}]
[{"$f":"'kosten tabel 2015'!A1551","v":154800},null,{"$f":"'kosten tabel 2015'!K1551","v":20600},{"$f":"'kosten tabel 2015'!L1551","v":21630}]
[{"$f":"'kosten tabel 2015'!A1552","v":154900},null,{"$f":"'kosten tabel 2015'!K1552","v":20700},{"$f":"'kosten tabel 2015'!L1552","v":21735}]
[{"$f":"'kosten tabel 2015'!A1553","v":155000},null,{"$f":"'kosten tabel 2015'!K1553","v":20700},{"$f":"'kosten tabel 2015'!L1553","v":21735}]
[{"$f":"'kosten tabel 2015'!A1554","v":155100},null,{"$f":"'kosten tabel 2015'!K1554","v":20700},{"$f":"'kosten tabel 2015'!L1554","v":21735}]
[{"$f":"'kosten tabel 2015'!A1555","v":155200},null,{"$f":"'kosten tabel 2015'!K1555","v":20700},{"$f":"'kosten tabel 2015'!L1555","v":21735}]
[{"$f":"'kosten tabel 2015'!A1556","v":155300},null,{"$f":"'kosten tabel 2015'!K1556","v":20700},{"$f":"'kosten tabel 2015'!L1556","v":21735}]
[{"$f":"'kosten tabel 2015'!A1557","v":155400},null,{"$f":"'kosten tabel 2015'!K1557","v":20700},{"$f":"'kosten tabel 2015'!L1557","v":21735}]
[{"$f":"'kosten tabel 2015'!A1558","v":155500},null,{"$f":"'kosten tabel 2015'!K1558","v":20700},{"$f":"'kosten tabel 2015'!L1558","v":21735}]
[{"$f":"'kosten tabel 2015'!A1559","v":155600},null,{"$f":"'kosten tabel 2015'!K1559","v":20700},{"$f":"'kosten tabel 2015'!L1559","v":21735}]
[{"$f":"'kosten tabel 2015'!A1560","v":155700},null,{"$f":"'kosten tabel 2015'!K1560","v":20700},{"$f":"'kosten tabel 2015'!L1560","v":21735}]
[{"$f":"'kosten tabel 2015'!A1561","v":155800},null,{"$f":"'kosten tabel 2015'!K1561","v":20700},{"$f":"'kosten tabel 2015'!L1561","v":21735}]
[{"$f":"'kosten tabel 2015'!A1562","v":155900},null,{"$f":"'kosten tabel 2015'!K1562","v":20800},{"$f":"'kosten tabel 2015'!L1562","v":21840}]
[{"$f":"'kosten tabel 2015'!A1563","v":156000},null,{"$f":"'kosten tabel 2015'!K1563","v":20800},{"$f":"'kosten tabel 2015'!L1563","v":21840}]
[{"$f":"'kosten tabel 2015'!A1564","v":156100},null,{"$f":"'kosten tabel 2015'!K1564","v":20800},{"$f":"'kosten tabel 2015'!L1564","v":21840}]
[{"$f":"'kosten tabel 2015'!A1565","v":156200},null,{"$f":"'kosten tabel 2015'!K1565","v":20800},{"$f":"'kosten tabel 2015'!L1565","v":21840}]
[{"$f":"'kosten tabel 2015'!A1566","v":156300},null,{"$f":"'kosten tabel 2015'!K1566","v":20800},{"$f":"'kosten tabel 2015'!L1566","v":21840}]
[{"$f":"'kosten tabel 2015'!A1567","v":156400},null,{"$f":"'kosten tabel 2015'!K1567","v":20800},{"$f":"'kosten tabel 2015'!L1567","v":21840}]
[{"$f":"'kosten tabel 2015'!A1568","v":156500},null,{"$f":"'kosten tabel 2015'!K1568","v":20800},{"$f":"'kosten tabel 2015'!L1568","v":21840}]
[{"$f":"'kosten tabel 2015'!A1569","v":156600},null,{"$f":"'kosten tabel 2015'!K1569","v":20800},{"$f":"'kosten tabel 2015'!L1569","v":21840}]
[{"$f":"'kosten tabel 2015'!A1570","v":156700},null,{"$f":"'kosten tabel 2015'!K1570","v":20800},{"$f":"'kosten tabel 2015'!L1570","v":21840}]
[{"$f":"'kosten tabel 2015'!A1571","v":156800},null,{"$f":"'kosten tabel 2015'!K1571","v":20800},{"$f":"'kosten tabel 2015'!L1571","v":21840}]
[{"$f":"'kosten tabel 2015'!A1572","v":156900},null,{"$f":"'kosten tabel 2015'!K1572","v":20900},{"$f":"'kosten tabel 2015'!L1572","v":21945}]
[{"$f":"'kosten tabel 2015'!A1573","v":157000},null,{"$f":"'kosten tabel 2015'!K1573","v":20900},{"$f":"'kosten tabel 2015'!L1573","v":21945}]
[{"$f":"'kosten tabel 2015'!A1574","v":157100},null,{"$f":"'kosten tabel 2015'!K1574","v":20900},{"$f":"'kosten tabel 2015'!L1574","v":21945}]
[{"$f":"'kosten tabel 2015'!A1575","v":157200},null,{"$f":"'kosten tabel 2015'!K1575","v":20900},{"$f":"'kosten tabel 2015'!L1575","v":21945}]
[{"$f":"'kosten tabel 2015'!A1576","v":157300},null,{"$f":"'kosten tabel 2015'!K1576","v":20900},{"$f":"'kosten tabel 2015'!L1576","v":21945}]
[{"$f":"'kosten tabel 2015'!A1577","v":157400},null,{"$f":"'kosten tabel 2015'!K1577","v":20900},{"$f":"'kosten tabel 2015'!L1577","v":21945}]
[{"$f":"'kosten tabel 2015'!A1578","v":157500},null,{"$f":"'kosten tabel 2015'!K1578","v":20900},{"$f":"'kosten tabel 2015'!L1578","v":21945}]
[{"$f":"'kosten tabel 2015'!A1579","v":157600},null,{"$f":"'kosten tabel 2015'!K1579","v":20900},{"$f":"'kosten tabel 2015'!L1579","v":21945}]
[{"$f":"'kosten tabel 2015'!A1580","v":157700},null,{"$f":"'kosten tabel 2015'!K1580","v":20900},{"$f":"'kosten tabel 2015'!L1580","v":21945}]
[{"$f":"'kosten tabel 2015'!A1581","v":157800},null,{"$f":"'kosten tabel 2015'!K1581","v":20900},{"$f":"'kosten tabel 2015'!L1581","v":21945}]
[{"$f":"'kosten tabel 2015'!A1582","v":157900},null,{"$f":"'kosten tabel 2015'!K1582","v":21000},{"$f":"'kosten tabel 2015'!L1582","v":22050}]
[{"$f":"'kosten tabel 2015'!A1583","v":158000},null,{"$f":"'kosten tabel 2015'!K1583","v":21000},{"$f":"'kosten tabel 2015'!L1583","v":22050}]
[{"$f":"'kosten tabel 2015'!A1584","v":158100},null,{"$f":"'kosten tabel 2015'!K1584","v":21000},{"$f":"'kosten tabel 2015'!L1584","v":22050}]
[{"$f":"'kosten tabel 2015'!A1585","v":158200},null,{"$f":"'kosten tabel 2015'!K1585","v":21000},{"$f":"'kosten tabel 2015'!L1585","v":22050}]
[{"$f":"'kosten tabel 2015'!A1586","v":158300},null,{"$f":"'kosten tabel 2015'!K1586","v":21000},{"$f":"'kosten tabel 2015'!L1586","v":22050}]
[{"$f":"'kosten tabel 2015'!A1587","v":158400},null,{"$f":"'kosten tabel 2015'!K1587","v":21000},{"$f":"'kosten tabel 2015'!L1587","v":22050}]
[{"$f":"'kosten tabel 2015'!A1588","v":158500},null,{"$f":"'kosten tabel 2015'!K1588","v":21000},{"$f":"'kosten tabel 2015'!L1588","v":22050}]
[{"$f":"'kosten tabel 2015'!A1589","v":158600},null,{"$f":"'kosten tabel 2015'!K1589","v":21000},{"$f":"'kosten tabel 2015'!L1589","v":22050}]
[{"$f":"'kosten tabel 2015'!A1590","v":158700},null,{"$f":"'kosten tabel 2015'!K1590","v":21000},{"$f":"'kosten tabel 2015'!L1590","v":22050}]
[{"$f":"'kosten tabel 2015'!A1591","v":158800},null,{"$f":"'kosten tabel 2015'!K1591","v":21000},{"$f":"'kosten tabel 2015'!L1591","v":22050}]
[{"$f":"'kosten tabel 2015'!A1592","v":158900},null,{"$f":"'kosten tabel 2015'!K1592","v":21100},{"$f":"'kosten tabel 2015'!L1592","v":22155}]
[{"$f":"'kosten tabel 2015'!A1593","v":159000},null,{"$f":"'kosten tabel 2015'!K1593","v":21100},{"$f":"'kosten tabel 2015'!L1593","v":22155}]
[{"$f":"'kosten tabel 2015'!A1594","v":159100},null,{"$f":"'kosten tabel 2015'!K1594","v":21100},{"$f":"'kosten tabel 2015'!L1594","v":22155}]
[{"$f":"'kosten tabel 2015'!A1595","v":159200},null,{"$f":"'kosten tabel 2015'!K1595","v":21100},{"$f":"'kosten tabel 2015'!L1595","v":22155}]
[{"$f":"'kosten tabel 2015'!A1596","v":159300},null,{"$f":"'kosten tabel 2015'!K1596","v":21100},{"$f":"'kosten tabel 2015'!L1596","v":22155}]
[{"$f":"'kosten tabel 2015'!A1597","v":159400},null,{"$f":"'kosten tabel 2015'!K1597","v":21100},{"$f":"'kosten tabel 2015'!L1597","v":22155}]
[{"$f":"'kosten tabel 2015'!A1598","v":159500},null,{"$f":"'kosten tabel 2015'!K1598","v":21100},{"$f":"'kosten tabel 2015'!L1598","v":22155}]
[{"$f":"'kosten tabel 2015'!A1599","v":159600},null,{"$f":"'kosten tabel 2015'!K1599","v":21100},{"$f":"'kosten tabel 2015'!L1599","v":22155}]
[{"$f":"'kosten tabel 2015'!A1600","v":159700},null,{"$f":"'kosten tabel 2015'!K1600","v":21100},{"$f":"'kosten tabel 2015'!L1600","v":22155}]
[{"$f":"'kosten tabel 2015'!A1601","v":159800},null,{"$f":"'kosten tabel 2015'!K1601","v":21100},{"$f":"'kosten tabel 2015'!L1601","v":22155}]
[{"$f":"'kosten tabel 2015'!A1602","v":159900},null,{"$f":"'kosten tabel 2015'!K1602","v":21200},{"$f":"'kosten tabel 2015'!L1602","v":22260}]
[{"$f":"'kosten tabel 2015'!A1603","v":160000},null,{"$f":"'kosten tabel 2015'!K1603","v":21200},{"$f":"'kosten tabel 2015'!L1603","v":22260}]
[{"$f":"'kosten tabel 2015'!A1604","v":160100},null,{"$f":"'kosten tabel 2015'!K1604","v":21200},{"$f":"'kosten tabel 2015'!L1604","v":22260}]
[{"$f":"'kosten tabel 2015'!A1605","v":160200},null,{"$f":"'kosten tabel 2015'!K1605","v":21200},{"$f":"'kosten tabel 2015'!L1605","v":22260}]
[{"$f":"'kosten tabel 2015'!A1606","v":160300},null,{"$f":"'kosten tabel 2015'!K1606","v":21200},{"$f":"'kosten tabel 2015'!L1606","v":22260}]
[{"$f":"'kosten tabel 2015'!A1607","v":160400},null,{"$f":"'kosten tabel 2015'!K1607","v":21200},{"$f":"'kosten tabel 2015'!L1607","v":22260}]
[{"$f":"'kosten tabel 2015'!A1608","v":160500},null,{"$f":"'kosten tabel 2015'!K1608","v":21200},{"$f":"'kosten tabel 2015'!L1608","v":22260}]
[{"$f":"'kosten tabel 2015'!A1609","v":160600},null,{"$f":"'kosten tabel 2015'!K1609","v":21200},{"$f":"'kosten tabel 2015'!L1609","v":22260}]
[{"$f":"'kosten tabel 2015'!A1610","v":160700},null,{"$f":"'kosten tabel 2015'!K1610","v":21200},{"$f":"'kosten tabel 2015'!L1610","v":22260}]
[{"$f":"'kosten tabel 2015'!A1611","v":160800},null,{"$f":"'kosten tabel 2015'!K1611","v":21200},{"$f":"'kosten tabel 2015'!L1611","v":22260}]
[{"$f":"'kosten tabel 2015'!A1612","v":160900},null,{"$f":"'kosten tabel 2015'!K1612","v":21300},{"$f":"'kosten tabel 2015'!L1612","v":22365}]
[{"$f":"'kosten tabel 2015'!A1613","v":161000},null,{"$f":"'kosten tabel 2015'!K1613","v":21300},{"$f":"'kosten tabel 2015'!L1613","v":22365}]
[{"$f":"'kosten tabel 2015'!A1614","v":161100},null,{"$f":"'kosten tabel 2015'!K1614","v":21300},{"$f":"'kosten tabel 2015'!L1614","v":22365}]
[{"$f":"'kosten tabel 2015'!A1615","v":161200},null,{"$f":"'kosten tabel 2015'!K1615","v":21300},{"$f":"'kosten tabel 2015'!L1615","v":22365}]
[{"$f":"'kosten tabel 2015'!A1616","v":161300},null,{"$f":"'kosten tabel 2015'!K1616","v":21300},{"$f":"'kosten tabel 2015'!L1616","v":22365}]
[{"$f":"'kosten tabel 2015'!A1617","v":161400},null,{"$f":"'kosten tabel 2015'!K1617","v":21300},{"$f":"'kosten tabel 2015'!L1617","v":22365}]
[{"$f":"'kosten tabel 2015'!A1618","v":161500},null,{"$f":"'kosten tabel 2015'!K1618","v":21300},{"$f":"'kosten tabel 2015'!L1618","v":22365}]
[{"$f":"'kosten tabel 2015'!A1619","v":161600},null,{"$f":"'kosten tabel 2015'!K1619","v":21300},{"$f":"'kosten tabel 2015'!L1619","v":22365}]
[{"$f":"'kosten tabel 2015'!A1620","v":161700},null,{"$f":"'kosten tabel 2015'!K1620","v":21300},{"$f":"'kosten tabel 2015'!L1620","v":22365}]
[{"$f":"'kosten tabel 2015'!A1621","v":161800},null,{"$f":"'kosten tabel 2015'!K1621","v":21300},{"$f":"'kosten tabel 2015'!L1621","v":22365}]
[{"$f":"'kosten tabel 2015'!A1622","v":161900},null,{"$f":"'kosten tabel 2015'!K1622","v":21300},{"$f":"'kosten tabel 2015'!L1622","v":22365}]
[{"$f":"'kosten tabel 2015'!A1623","v":162000},null,{"$f":"'kosten tabel 2015'!K1623","v":21400},{"$f":"'kosten tabel 2015'!L1623","v":22470}]
[{"$f":"'kosten tabel 2015'!A1624","v":162100},null,{"$f":"'kosten tabel 2015'!K1624","v":21400},{"$f":"'kosten tabel 2015'!L1624","v":22470}]
[{"$f":"'kosten tabel 2015'!A1625","v":162200},null,{"$f":"'kosten tabel 2015'!K1625","v":21400},{"$f":"'kosten tabel 2015'!L1625","v":22470}]
[{"$f":"'kosten tabel 2015'!A1626","v":162300},null,{"$f":"'kosten tabel 2015'!K1626","v":21400},{"$f":"'kosten tabel 2015'!L1626","v":22470}]
[{"$f":"'kosten tabel 2015'!A1627","v":162400},null,{"$f":"'kosten tabel 2015'!K1627","v":21400},{"$f":"'kosten tabel 2015'!L1627","v":22470}]
[{"$f":"'kosten tabel 2015'!A1628","v":162500},null,{"$f":"'kosten tabel 2015'!K1628","v":21400},{"$f":"'kosten tabel 2015'!L1628","v":22470}]
[{"$f":"'kosten tabel 2015'!A1629","v":162600},null,{"$f":"'kosten tabel 2015'!K1629","v":21400},{"$f":"'kosten tabel 2015'!L1629","v":22470}]
[{"$f":"'kosten tabel 2015'!A1630","v":162700},null,{"$f":"'kosten tabel 2015'!K1630","v":21400},{"$f":"'kosten tabel 2015'!L1630","v":22470}]
[{"$f":"'kosten tabel 2015'!A1631","v":162800},null,{"$f":"'kosten tabel 2015'!K1631","v":21400},{"$f":"'kosten tabel 2015'!L1631","v":22470}]
[{"$f":"'kosten tabel 2015'!A1632","v":162900},null,{"$f":"'kosten tabel 2015'!K1632","v":21400},{"$f":"'kosten tabel 2015'!L1632","v":22470}]
[{"$f":"'kosten tabel 2015'!A1633","v":163000},null,{"$f":"'kosten tabel 2015'!K1633","v":21500},{"$f":"'kosten tabel 2015'!L1633","v":22575}]
[{"$f":"'kosten tabel 2015'!A1634","v":163100},null,{"$f":"'kosten tabel 2015'!K1634","v":21500},{"$f":"'kosten tabel 2015'!L1634","v":22575}]
[{"$f":"'kosten tabel 2015'!A1635","v":163200},null,{"$f":"'kosten tabel 2015'!K1635","v":21500},{"$f":"'kosten tabel 2015'!L1635","v":22575}]
[{"$f":"'kosten tabel 2015'!A1636","v":163300},null,{"$f":"'kosten tabel 2015'!K1636","v":21500},{"$f":"'kosten tabel 2015'!L1636","v":22575}]
[{"$f":"'kosten tabel 2015'!A1637","v":163400},null,{"$f":"'kosten tabel 2015'!K1637","v":21500},{"$f":"'kosten tabel 2015'!L1637","v":22575}]
[{"$f":"'kosten tabel 2015'!A1638","v":163500},null,{"$f":"'kosten tabel 2015'!K1638","v":21500},{"$f":"'kosten tabel 2015'!L1638","v":22575}]
[{"$f":"'kosten tabel 2015'!A1639","v":163600},null,{"$f":"'kosten tabel 2015'!K1639","v":21500},{"$f":"'kosten tabel 2015'!L1639","v":22575}]
[{"$f":"'kosten tabel 2015'!A1640","v":163700},null,{"$f":"'kosten tabel 2015'!K1640","v":21500},{"$f":"'kosten tabel 2015'!L1640","v":22575}]
[{"$f":"'kosten tabel 2015'!A1641","v":163800},null,{"$f":"'kosten tabel 2015'!K1641","v":21500},{"$f":"'kosten tabel 2015'!L1641","v":22575}]
[{"$f":"'kosten tabel 2015'!A1642","v":163900},null,{"$f":"'kosten tabel 2015'!K1642","v":21500},{"$f":"'kosten tabel 2015'!L1642","v":22575}]
[{"$f":"'kosten tabel 2015'!A1643","v":164000},null,{"$f":"'kosten tabel 2015'!K1643","v":21600},{"$f":"'kosten tabel 2015'!L1643","v":22680}]
[{"$f":"'kosten tabel 2015'!A1644","v":164100},null,{"$f":"'kosten tabel 2015'!K1644","v":21600},{"$f":"'kosten tabel 2015'!L1644","v":22680}]
[{"$f":"'kosten tabel 2015'!A1645","v":164200},null,{"$f":"'kosten tabel 2015'!K1645","v":21600},{"$f":"'kosten tabel 2015'!L1645","v":22680}]
[{"$f":"'kosten tabel 2015'!A1646","v":164300},null,{"$f":"'kosten tabel 2015'!K1646","v":21600},{"$f":"'kosten tabel 2015'!L1646","v":22680}]
[{"$f":"'kosten tabel 2015'!A1647","v":164400},null,{"$f":"'kosten tabel 2015'!K1647","v":21600},{"$f":"'kosten tabel 2015'!L1647","v":22680}]
[{"$f":"'kosten tabel 2015'!A1648","v":164500},null,{"$f":"'kosten tabel 2015'!K1648","v":21600},{"$f":"'kosten tabel 2015'!L1648","v":22680}]
[{"$f":"'kosten tabel 2015'!A1649","v":164600},null,{"$f":"'kosten tabel 2015'!K1649","v":21600},{"$f":"'kosten tabel 2015'!L1649","v":22680}]
[{"$f":"'kosten tabel 2015'!A1650","v":164700},null,{"$f":"'kosten tabel 2015'!K1650","v":21600},{"$f":"'kosten tabel 2015'!L1650","v":22680}]
[{"$f":"'kosten tabel 2015'!A1651","v":164800},null,{"$f":"'kosten tabel 2015'!K1651","v":21600},{"$f":"'kosten tabel 2015'!L1651","v":22680}]
[{"$f":"'kosten tabel 2015'!A1652","v":164900},null,{"$f":"'kosten tabel 2015'!K1652","v":21600},{"$f":"'kosten tabel 2015'!L1652","v":22680}]
[{"$f":"'kosten tabel 2015'!A1653","v":165000},null,{"$f":"'kosten tabel 2015'!K1653","v":21700},{"$f":"'kosten tabel 2015'!L1653","v":22785}]
[{"$f":"'kosten tabel 2015'!A1654","v":165100},null,{"$f":"'kosten tabel 2015'!K1654","v":21700},{"$f":"'kosten tabel 2015'!L1654","v":22785}]
[{"$f":"'kosten tabel 2015'!A1655","v":165200},null,{"$f":"'kosten tabel 2015'!K1655","v":21700},{"$f":"'kosten tabel 2015'!L1655","v":22785}]
[{"$f":"'kosten tabel 2015'!A1656","v":165300},null,{"$f":"'kosten tabel 2015'!K1656","v":21700},{"$f":"'kosten tabel 2015'!L1656","v":22785}]
[{"$f":"'kosten tabel 2015'!A1657","v":165400},null,{"$f":"'kosten tabel 2015'!K1657","v":21700},{"$f":"'kosten tabel 2015'!L1657","v":22785}]
[{"$f":"'kosten tabel 2015'!A1658","v":165500},null,{"$f":"'kosten tabel 2015'!K1658","v":21700},{"$f":"'kosten tabel 2015'!L1658","v":22785}]
[{"$f":"'kosten tabel 2015'!A1659","v":165600},null,{"$f":"'kosten tabel 2015'!K1659","v":21700},{"$f":"'kosten tabel 2015'!L1659","v":22785}]
[{"$f":"'kosten tabel 2015'!A1660","v":165700},null,{"$f":"'kosten tabel 2015'!K1660","v":21700},{"$f":"'kosten tabel 2015'!L1660","v":22785}]
[{"$f":"'kosten tabel 2015'!A1661","v":165800},null,{"$f":"'kosten tabel 2015'!K1661","v":21700},{"$f":"'kosten tabel 2015'!L1661","v":22785}]
[{"$f":"'kosten tabel 2015'!A1662","v":165900},null,{"$f":"'kosten tabel 2015'!K1662","v":21700},{"$f":"'kosten tabel 2015'!L1662","v":22785}]
[{"$f":"'kosten tabel 2015'!A1663","v":166000},null,{"$f":"'kosten tabel 2015'!K1663","v":21800},{"$f":"'kosten tabel 2015'!L1663","v":22890}]
[{"$f":"'kosten tabel 2015'!A1664","v":166100},null,{"$f":"'kosten tabel 2015'!K1664","v":21800},{"$f":"'kosten tabel 2015'!L1664","v":22890}]
[{"$f":"'kosten tabel 2015'!A1665","v":166200},null,{"$f":"'kosten tabel 2015'!K1665","v":21800},{"$f":"'kosten tabel 2015'!L1665","v":22890}]
[{"$f":"'kosten tabel 2015'!A1666","v":166300},null,{"$f":"'kosten tabel 2015'!K1666","v":21800},{"$f":"'kosten tabel 2015'!L1666","v":22890}]
[{"$f":"'kosten tabel 2015'!A1667","v":166400},null,{"$f":"'kosten tabel 2015'!K1667","v":21800},{"$f":"'kosten tabel 2015'!L1667","v":22890}]
[{"$f":"'kosten tabel 2015'!A1668","v":166500},null,{"$f":"'kosten tabel 2015'!K1668","v":21800},{"$f":"'kosten tabel 2015'!L1668","v":22890}]
[{"$f":"'kosten tabel 2015'!A1669","v":166600},null,{"$f":"'kosten tabel 2015'!K1669","v":21800},{"$f":"'kosten tabel 2015'!L1669","v":22890}]
[{"$f":"'kosten tabel 2015'!A1670","v":166700},null,{"$f":"'kosten tabel 2015'!K1670","v":21800},{"$f":"'kosten tabel 2015'!L1670","v":22890}]
[{"$f":"'kosten tabel 2015'!A1671","v":166800},null,{"$f":"'kosten tabel 2015'!K1671","v":21800},{"$f":"'kosten tabel 2015'!L1671","v":22890}]
[{"$f":"'kosten tabel 2015'!A1672","v":166900},null,{"$f":"'kosten tabel 2015'!K1672","v":21800},{"$f":"'kosten tabel 2015'!L1672","v":22890}]
[{"$f":"'kosten tabel 2015'!A1673","v":167000},null,{"$f":"'kosten tabel 2015'!K1673","v":21900},{"$f":"'kosten tabel 2015'!L1673","v":22995}]
[{"$f":"'kosten tabel 2015'!A1674","v":167100},null,{"$f":"'kosten tabel 2015'!K1674","v":21900},{"$f":"'kosten tabel 2015'!L1674","v":22995}]
[{"$f":"'kosten tabel 2015'!A1675","v":167200},null,{"$f":"'kosten tabel 2015'!K1675","v":21900},{"$f":"'kosten tabel 2015'!L1675","v":22995}]
[{"$f":"'kosten tabel 2015'!A1676","v":167300},null,{"$f":"'kosten tabel 2015'!K1676","v":21900},{"$f":"'kosten tabel 2015'!L1676","v":22995}]
[{"$f":"'kosten tabel 2015'!A1677","v":167400},null,{"$f":"'kosten tabel 2015'!K1677","v":21900},{"$f":"'kosten tabel 2015'!L1677","v":22995}]
[{"$f":"'kosten tabel 2015'!A1678","v":167500},null,{"$f":"'kosten tabel 2015'!K1678","v":21900},{"$f":"'kosten tabel 2015'!L1678","v":22995}]
[{"$f":"'kosten tabel 2015'!A1679","v":167600},null,{"$f":"'kosten tabel 2015'!K1679","v":21900},{"$f":"'kosten tabel 2015'!L1679","v":22995}]
[{"$f":"'kosten tabel 2015'!A1680","v":167700},null,{"$f":"'kosten tabel 2015'!K1680","v":21900},{"$f":"'kosten tabel 2015'!L1680","v":22995}]
[{"$f":"'kosten tabel 2015'!A1681","v":167800},null,{"$f":"'kosten tabel 2015'!K1681","v":21900},{"$f":"'kosten tabel 2015'!L1681","v":22995}]
[{"$f":"'kosten tabel 2015'!A1682","v":167900},null,{"$f":"'kosten tabel 2015'!K1682","v":21900},{"$f":"'kosten tabel 2015'!L1682","v":22995}]
[{"$f":"'kosten tabel 2015'!A1683","v":168000},null,{"$f":"'kosten tabel 2015'!K1683","v":21900},{"$f":"'kosten tabel 2015'!L1683","v":22995}]
[{"$f":"'kosten tabel 2015'!A1684","v":168100},null,{"$f":"'kosten tabel 2015'!K1684","v":22000},{"$f":"'kosten tabel 2015'!L1684","v":23100}]
[{"$f":"'kosten tabel 2015'!A1685","v":168200},null,{"$f":"'kosten tabel 2015'!K1685","v":22000},{"$f":"'kosten tabel 2015'!L1685","v":23100}]
[{"$f":"'kosten tabel 2015'!A1686","v":168300},null,{"$f":"'kosten tabel 2015'!K1686","v":22000},{"$f":"'kosten tabel 2015'!L1686","v":23100}]
[{"$f":"'kosten tabel 2015'!A1687","v":168400},null,{"$f":"'kosten tabel 2015'!K1687","v":22000},{"$f":"'kosten tabel 2015'!L1687","v":23100}]
[{"$f":"'kosten tabel 2015'!A1688","v":168500},null,{"$f":"'kosten tabel 2015'!K1688","v":22000},{"$f":"'kosten tabel 2015'!L1688","v":23100}]
[{"$f":"'kosten tabel 2015'!A1689","v":168600},null,{"$f":"'kosten tabel 2015'!K1689","v":22000},{"$f":"'kosten tabel 2015'!L1689","v":23100}]
[{"$f":"'kosten tabel 2015'!A1690","v":168700},null,{"$f":"'kosten tabel 2015'!K1690","v":22000},{"$f":"'kosten tabel 2015'!L1690","v":23100}]
[{"$f":"'kosten tabel 2015'!A1691","v":168800},null,{"$f":"'kosten tabel 2015'!K1691","v":22000},{"$f":"'kosten tabel 2015'!L1691","v":23100}]
[{"$f":"'kosten tabel 2015'!A1692","v":168900},null,{"$f":"'kosten tabel 2015'!K1692","v":22000},{"$f":"'kosten tabel 2015'!L1692","v":23100}]
[{"$f":"'kosten tabel 2015'!A1693","v":169000},null,{"$f":"'kosten tabel 2015'!K1693","v":22000},{"$f":"'kosten tabel 2015'!L1693","v":23100}]
[{"$f":"'kosten tabel 2015'!A1694","v":169100},null,{"$f":"'kosten tabel 2015'!K1694","v":22100},{"$f":"'kosten tabel 2015'!L1694","v":23205}]
[{"$f":"'kosten tabel 2015'!A1695","v":169200},null,{"$f":"'kosten tabel 2015'!K1695","v":22100},{"$f":"'kosten tabel 2015'!L1695","v":23205}]
[{"$f":"'kosten tabel 2015'!A1696","v":169300},null,{"$f":"'kosten tabel 2015'!K1696","v":22100},{"$f":"'kosten tabel 2015'!L1696","v":23205}]
[{"$f":"'kosten tabel 2015'!A1697","v":169400},null,{"$f":"'kosten tabel 2015'!K1697","v":22100},{"$f":"'kosten tabel 2015'!L1697","v":23205}]
[{"$f":"'kosten tabel 2015'!A1698","v":169500},null,{"$f":"'kosten tabel 2015'!K1698","v":22100},{"$f":"'kosten tabel 2015'!L1698","v":23205}]
[{"$f":"'kosten tabel 2015'!A1699","v":169600},null,{"$f":"'kosten tabel 2015'!K1699","v":22100},{"$f":"'kosten tabel 2015'!L1699","v":23205}]
[{"$f":"'kosten tabel 2015'!A1700","v":169700},null,{"$f":"'kosten tabel 2015'!K1700","v":22100},{"$f":"'kosten tabel 2015'!L1700","v":23205}]
[{"$f":"'kosten tabel 2015'!A1701","v":169800},null,{"$f":"'kosten tabel 2015'!K1701","v":22100},{"$f":"'kosten tabel 2015'!L1701","v":23205}]
[{"$f":"'kosten tabel 2015'!A1702","v":169900},null,{"$f":"'kosten tabel 2015'!K1702","v":22100},{"$f":"'kosten tabel 2015'!L1702","v":23205}]
[{"$f":"'kosten tabel 2015'!A1703","v":170000},null,{"$f":"'kosten tabel 2015'!K1703","v":22100},{"$f":"'kosten tabel 2015'!L1703","v":23205}]
[{"$f":"'kosten tabel 2015'!A1704","v":170100},null,{"$f":"'kosten tabel 2015'!K1704","v":22200},{"$f":"'kosten tabel 2015'!L1704","v":23310}]
[{"$f":"'kosten tabel 2015'!A1705","v":170200},null,{"$f":"'kosten tabel 2015'!K1705","v":22200},{"$f":"'kosten tabel 2015'!L1705","v":23310}]
[{"$f":"'kosten tabel 2015'!A1706","v":170300},null,{"$f":"'kosten tabel 2015'!K1706","v":22200},{"$f":"'kosten tabel 2015'!L1706","v":23310}]
[{"$f":"'kosten tabel 2015'!A1707","v":170400},null,{"$f":"'kosten tabel 2015'!K1707","v":22200},{"$f":"'kosten tabel 2015'!L1707","v":23310}]
[{"$f":"'kosten tabel 2015'!A1708","v":170500},null,{"$f":"'kosten tabel 2015'!K1708","v":22200},{"$f":"'kosten tabel 2015'!L1708","v":23310}]
[{"$f":"'kosten tabel 2015'!A1709","v":170600},null,{"$f":"'kosten tabel 2015'!K1709","v":22200},{"$f":"'kosten tabel 2015'!L1709","v":23310}]
[{"$f":"'kosten tabel 2015'!A1710","v":170700},null,{"$f":"'kosten tabel 2015'!K1710","v":22200},{"$f":"'kosten tabel 2015'!L1710","v":23310}]
[{"$f":"'kosten tabel 2015'!A1711","v":170800},null,{"$f":"'kosten tabel 2015'!K1711","v":22200},{"$f":"'kosten tabel 2015'!L1711","v":23310}]
[{"$f":"'kosten tabel 2015'!A1712","v":170900},null,{"$f":"'kosten tabel 2015'!K1712","v":22200},{"$f":"'kosten tabel 2015'!L1712","v":23310}]
[{"$f":"'kosten tabel 2015'!A1713","v":171000},null,{"$f":"'kosten tabel 2015'!K1713","v":22200},{"$f":"'kosten tabel 2015'!L1713","v":23310}]
[{"$f":"'kosten tabel 2015'!A1714","v":171100},null,{"$f":"'kosten tabel 2015'!K1714","v":22300},{"$f":"'kosten tabel 2015'!L1714","v":23415}]
[{"$f":"'kosten tabel 2015'!A1715","v":171200},null,{"$f":"'kosten tabel 2015'!K1715","v":22300},{"$f":"'kosten tabel 2015'!L1715","v":23415}]
[{"$f":"'kosten tabel 2015'!A1716","v":171300},null,{"$f":"'kosten tabel 2015'!K1716","v":22300},{"$f":"'kosten tabel 2015'!L1716","v":23415}]
[{"$f":"'kosten tabel 2015'!A1717","v":171400},null,{"$f":"'kosten tabel 2015'!K1717","v":22300},{"$f":"'kosten tabel 2015'!L1717","v":23415}]
[{"$f":"'kosten tabel 2015'!A1718","v":171500},null,{"$f":"'kosten tabel 2015'!K1718","v":22300},{"$f":"'kosten tabel 2015'!L1718","v":23415}]
[{"$f":"'kosten tabel 2015'!A1719","v":171600},null,{"$f":"'kosten tabel 2015'!K1719","v":22300},{"$f":"'kosten tabel 2015'!L1719","v":23415}]
[{"$f":"'kosten tabel 2015'!A1720","v":171700},null,{"$f":"'kosten tabel 2015'!K1720","v":22300},{"$f":"'kosten tabel 2015'!L1720","v":23415}]
[{"$f":"'kosten tabel 2015'!A1721","v":171800},null,{"$f":"'kosten tabel 2015'!K1721","v":22300},{"$f":"'kosten tabel 2015'!L1721","v":23415}]
[{"$f":"'kosten tabel 2015'!A1722","v":171900},null,{"$f":"'kosten tabel 2015'!K1722","v":22300},{"$f":"'kosten tabel 2015'!L1722","v":23415}]
[{"$f":"'kosten tabel 2015'!A1723","v":172000},null,{"$f":"'kosten tabel 2015'!K1723","v":22300},{"$f":"'kosten tabel 2015'!L1723","v":23415}]
[{"$f":"'kosten tabel 2015'!A1724","v":172100},null,{"$f":"'kosten tabel 2015'!K1724","v":22400},{"$f":"'kosten tabel 2015'!L1724","v":23520}]
[{"$f":"'kosten tabel 2015'!A1725","v":172200},null,{"$f":"'kosten tabel 2015'!K1725","v":22400},{"$f":"'kosten tabel 2015'!L1725","v":23520}]
[{"$f":"'kosten tabel 2015'!A1726","v":172300},null,{"$f":"'kosten tabel 2015'!K1726","v":22400},{"$f":"'kosten tabel 2015'!L1726","v":23520}]
[{"$f":"'kosten tabel 2015'!A1727","v":172400},null,{"$f":"'kosten tabel 2015'!K1727","v":22400},{"$f":"'kosten tabel 2015'!L1727","v":23520}]
[{"$f":"'kosten tabel 2015'!A1728","v":172500},null,{"$f":"'kosten tabel 2015'!K1728","v":22400},{"$f":"'kosten tabel 2015'!L1728","v":23520}]
[{"$f":"'kosten tabel 2015'!A1729","v":172600},null,{"$f":"'kosten tabel 2015'!K1729","v":22400},{"$f":"'kosten tabel 2015'!L1729","v":23520}]
[{"$f":"'kosten tabel 2015'!A1730","v":172700},null,{"$f":"'kosten tabel 2015'!K1730","v":22400},{"$f":"'kosten tabel 2015'!L1730","v":23520}]
[{"$f":"'kosten tabel 2015'!A1731","v":172800},null,{"$f":"'kosten tabel 2015'!K1731","v":22400},{"$f":"'kosten tabel 2015'!L1731","v":23520}]
[{"$f":"'kosten tabel 2015'!A1732","v":172900},null,{"$f":"'kosten tabel 2015'!K1732","v":22400},{"$f":"'kosten tabel 2015'!L1732","v":23520}]
[{"$f":"'kosten tabel 2015'!A1733","v":173000},null,{"$f":"'kosten tabel 2015'!K1733","v":22400},{"$f":"'kosten tabel 2015'!L1733","v":23520}]
[{"$f":"'kosten tabel 2015'!A1734","v":173100},null,{"$f":"'kosten tabel 2015'!K1734","v":22500},{"$f":"'kosten tabel 2015'!L1734","v":23625}]
[{"$f":"'kosten tabel 2015'!A1735","v":173200},null,{"$f":"'kosten tabel 2015'!K1735","v":22500},{"$f":"'kosten tabel 2015'!L1735","v":23625}]
[{"$f":"'kosten tabel 2015'!A1736","v":173300},null,{"$f":"'kosten tabel 2015'!K1736","v":22500},{"$f":"'kosten tabel 2015'!L1736","v":23625}]
[{"$f":"'kosten tabel 2015'!A1737","v":173400},null,{"$f":"'kosten tabel 2015'!K1737","v":22500},{"$f":"'kosten tabel 2015'!L1737","v":23625}]
[{"$f":"'kosten tabel 2015'!A1738","v":173500},null,{"$f":"'kosten tabel 2015'!K1738","v":22500},{"$f":"'kosten tabel 2015'!L1738","v":23625}]
[{"$f":"'kosten tabel 2015'!A1739","v":173600},null,{"$f":"'kosten tabel 2015'!K1739","v":22500},{"$f":"'kosten tabel 2015'!L1739","v":23625}]
[{"$f":"'kosten tabel 2015'!A1740","v":173700},null,{"$f":"'kosten tabel 2015'!K1740","v":22500},{"$f":"'kosten tabel 2015'!L1740","v":23625}]
[{"$f":"'kosten tabel 2015'!A1741","v":173800},null,{"$f":"'kosten tabel 2015'!K1741","v":22500},{"$f":"'kosten tabel 2015'!L1741","v":23625}]
[{"$f":"'kosten tabel 2015'!A1742","v":173900},null,{"$f":"'kosten tabel 2015'!K1742","v":22500},{"$f":"'kosten tabel 2015'!L1742","v":23625}]
[{"$f":"'kosten tabel 2015'!A1743","v":174000},null,{"$f":"'kosten tabel 2015'!K1743","v":22500},{"$f":"'kosten tabel 2015'!L1743","v":23625}]
[{"$f":"'kosten tabel 2015'!A1744","v":174100},null,{"$f":"'kosten tabel 2015'!K1744","v":22600},{"$f":"'kosten tabel 2015'!L1744","v":23730}]
[{"$f":"'kosten tabel 2015'!A1745","v":174200},null,{"$f":"'kosten tabel 2015'!K1745","v":22600},{"$f":"'kosten tabel 2015'!L1745","v":23730}]
[{"$f":"'kosten tabel 2015'!A1746","v":174300},null,{"$f":"'kosten tabel 2015'!K1746","v":22600},{"$f":"'kosten tabel 2015'!L1746","v":23730}]
[{"$f":"'kosten tabel 2015'!A1747","v":174400},null,{"$f":"'kosten tabel 2015'!K1747","v":22600},{"$f":"'kosten tabel 2015'!L1747","v":23730}]
[{"$f":"'kosten tabel 2015'!A1748","v":174500},null,{"$f":"'kosten tabel 2015'!K1748","v":22600},{"$f":"'kosten tabel 2015'!L1748","v":23730}]
[{"$f":"'kosten tabel 2015'!A1749","v":174600},null,{"$f":"'kosten tabel 2015'!K1749","v":22600},{"$f":"'kosten tabel 2015'!L1749","v":23730}]
[{"$f":"'kosten tabel 2015'!A1750","v":174700},null,{"$f":"'kosten tabel 2015'!K1750","v":22600},{"$f":"'kosten tabel 2015'!L1750","v":23730}]
[{"$f":"'kosten tabel 2015'!A1751","v":174800},null,{"$f":"'kosten tabel 2015'!K1751","v":22600},{"$f":"'kosten tabel 2015'!L1751","v":23730}]
[{"$f":"'kosten tabel 2015'!A1752","v":174900},null,{"$f":"'kosten tabel 2015'!K1752","v":22600},{"$f":"'kosten tabel 2015'!L1752","v":23730}]
[{"$f":"'kosten tabel 2015'!A1753","v":175000},null,{"$f":"'kosten tabel 2015'!K1753","v":22600},{"$f":"'kosten tabel 2015'!L1753","v":23730}]
[{"$f":"'kosten tabel 2015'!A1754","v":175100},null,{"$f":"'kosten tabel 2015'!K1754","v":22600},{"$f":"'kosten tabel 2015'!L1754","v":23730}]
[{"$f":"'kosten tabel 2015'!A1755","v":175200},null,{"$f":"'kosten tabel 2015'!K1755","v":22700},{"$f":"'kosten tabel 2015'!L1755","v":23835}]
[{"$f":"'kosten tabel 2015'!A1756","v":175300},null,{"$f":"'kosten tabel 2015'!K1756","v":22700},{"$f":"'kosten tabel 2015'!L1756","v":23835}]
[{"$f":"'kosten tabel 2015'!A1757","v":175400},null,{"$f":"'kosten tabel 2015'!K1757","v":22700},{"$f":"'kosten tabel 2015'!L1757","v":23835}]
[{"$f":"'kosten tabel 2015'!A1758","v":175500},null,{"$f":"'kosten tabel 2015'!K1758","v":22700},{"$f":"'kosten tabel 2015'!L1758","v":23835}]
[{"$f":"'kosten tabel 2015'!A1759","v":175600},null,{"$f":"'kosten tabel 2015'!K1759","v":22700},{"$f":"'kosten tabel 2015'!L1759","v":23835}]
[{"$f":"'kosten tabel 2015'!A1760","v":175700},null,{"$f":"'kosten tabel 2015'!K1760","v":22700},{"$f":"'kosten tabel 2015'!L1760","v":23835}]
[{"$f":"'kosten tabel 2015'!A1761","v":175800},null,{"$f":"'kosten tabel 2015'!K1761","v":22700},{"$f":"'kosten tabel 2015'!L1761","v":23835}]
[{"$f":"'kosten tabel 2015'!A1762","v":175900},null,{"$f":"'kosten tabel 2015'!K1762","v":22700},{"$f":"'kosten tabel 2015'!L1762","v":23835}]
[{"$f":"'kosten tabel 2015'!A1763","v":176000},null,{"$f":"'kosten tabel 2015'!K1763","v":22700},{"$f":"'kosten tabel 2015'!L1763","v":23835}]
[{"$f":"'kosten tabel 2015'!A1764","v":176100},null,{"$f":"'kosten tabel 2015'!K1764","v":22700},{"$f":"'kosten tabel 2015'!L1764","v":23835}]
[{"$f":"'kosten tabel 2015'!A1765","v":176200},null,{"$f":"'kosten tabel 2015'!K1765","v":22800},{"$f":"'kosten tabel 2015'!L1765","v":23940}]
[{"$f":"'kosten tabel 2015'!A1766","v":176300},null,{"$f":"'kosten tabel 2015'!K1766","v":22800},{"$f":"'kosten tabel 2015'!L1766","v":23940}]
[{"$f":"'kosten tabel 2015'!A1767","v":176400},null,{"$f":"'kosten tabel 2015'!K1767","v":22800},{"$f":"'kosten tabel 2015'!L1767","v":23940}]
[{"$f":"'kosten tabel 2015'!A1768","v":176500},null,{"$f":"'kosten tabel 2015'!K1768","v":22800},{"$f":"'kosten tabel 2015'!L1768","v":23940}]
[{"$f":"'kosten tabel 2015'!A1769","v":176600},null,{"$f":"'kosten tabel 2015'!K1769","v":22800},{"$f":"'kosten tabel 2015'!L1769","v":23940}]
[{"$f":"'kosten tabel 2015'!A1770","v":176700},null,{"$f":"'kosten tabel 2015'!K1770","v":22800},{"$f":"'kosten tabel 2015'!L1770","v":23940}]
[{"$f":"'kosten tabel 2015'!A1771","v":176800},null,{"$f":"'kosten tabel 2015'!K1771","v":22800},{"$f":"'kosten tabel 2015'!L1771","v":23940}]
[{"$f":"'kosten tabel 2015'!A1772","v":176900},null,{"$f":"'kosten tabel 2015'!K1772","v":22800},{"$f":"'kosten tabel 2015'!L1772","v":23940}]
[{"$f":"'kosten tabel 2015'!A1773","v":177000},null,{"$f":"'kosten tabel 2015'!K1773","v":22800},{"$f":"'kosten tabel 2015'!L1773","v":23940}]
[{"$f":"'kosten tabel 2015'!A1774","v":177100},null,{"$f":"'kosten tabel 2015'!K1774","v":22800},{"$f":"'kosten tabel 2015'!L1774","v":23940}]
[{"$f":"'kosten tabel 2015'!A1775","v":177200},null,{"$f":"'kosten tabel 2015'!K1775","v":22900},{"$f":"'kosten tabel 2015'!L1775","v":24045}]
[{"$f":"'kosten tabel 2015'!A1776","v":177300},null,{"$f":"'kosten tabel 2015'!K1776","v":22900},{"$f":"'kosten tabel 2015'!L1776","v":24045}]
[{"$f":"'kosten tabel 2015'!A1777","v":177400},null,{"$f":"'kosten tabel 2015'!K1777","v":22900},{"$f":"'kosten tabel 2015'!L1777","v":24045}]
[{"$f":"'kosten tabel 2015'!A1778","v":177500},null,{"$f":"'kosten tabel 2015'!K1778","v":22900},{"$f":"'kosten tabel 2015'!L1778","v":24045}]
[{"$f":"'kosten tabel 2015'!A1779","v":177600},null,{"$f":"'kosten tabel 2015'!K1779","v":22900},{"$f":"'kosten tabel 2015'!L1779","v":24045}]
[{"$f":"'kosten tabel 2015'!A1780","v":177700},null,{"$f":"'kosten tabel 2015'!K1780","v":22900},{"$f":"'kosten tabel 2015'!L1780","v":24045}]
[{"$f":"'kosten tabel 2015'!A1781","v":177800},null,{"$f":"'kosten tabel 2015'!K1781","v":22900},{"$f":"'kosten tabel 2015'!L1781","v":24045}]
[{"$f":"'kosten tabel 2015'!A1782","v":177900},null,{"$f":"'kosten tabel 2015'!K1782","v":22900},{"$f":"'kosten tabel 2015'!L1782","v":24045}]
[{"$f":"'kosten tabel 2015'!A1783","v":178000},null,{"$f":"'kosten tabel 2015'!K1783","v":22900},{"$f":"'kosten tabel 2015'!L1783","v":24045}]
[{"$f":"'kosten tabel 2015'!A1784","v":178100},null,{"$f":"'kosten tabel 2015'!K1784","v":22900},{"$f":"'kosten tabel 2015'!L1784","v":24045}]
[{"$f":"'kosten tabel 2015'!A1785","v":178200},null,{"$f":"'kosten tabel 2015'!K1785","v":23000},{"$f":"'kosten tabel 2015'!L1785","v":24150}]
[{"$f":"'kosten tabel 2015'!A1786","v":178300},null,{"$f":"'kosten tabel 2015'!K1786","v":23000},{"$f":"'kosten tabel 2015'!L1786","v":24150}]
[{"$f":"'kosten tabel 2015'!A1787","v":178400},null,{"$f":"'kosten tabel 2015'!K1787","v":23000},{"$f":"'kosten tabel 2015'!L1787","v":24150}]
[{"$f":"'kosten tabel 2015'!A1788","v":178500},null,{"$f":"'kosten tabel 2015'!K1788","v":23000},{"$f":"'kosten tabel 2015'!L1788","v":24150}]
[{"$f":"'kosten tabel 2015'!A1789","v":178600},null,{"$f":"'kosten tabel 2015'!K1789","v":23000},{"$f":"'kosten tabel 2015'!L1789","v":24150}]
[{"$f":"'kosten tabel 2015'!A1790","v":178700},null,{"$f":"'kosten tabel 2015'!K1790","v":23000},{"$f":"'kosten tabel 2015'!L1790","v":24150}]
[{"$f":"'kosten tabel 2015'!A1791","v":178800},null,{"$f":"'kosten tabel 2015'!K1791","v":23000},{"$f":"'kosten tabel 2015'!L1791","v":24150}]
[{"$f":"'kosten tabel 2015'!A1792","v":178900},null,{"$f":"'kosten tabel 2015'!K1792","v":23000},{"$f":"'kosten tabel 2015'!L1792","v":24150}]
[{"$f":"'kosten tabel 2015'!A1793","v":179000},null,{"$f":"'kosten tabel 2015'!K1793","v":23000},{"$f":"'kosten tabel 2015'!L1793","v":24150}]
[{"$f":"'kosten tabel 2015'!A1794","v":179100},null,{"$f":"'kosten tabel 2015'!K1794","v":23000},{"$f":"'kosten tabel 2015'!L1794","v":24150}]
[{"$f":"'kosten tabel 2015'!A1795","v":179200},null,{"$f":"'kosten tabel 2015'!K1795","v":23100},{"$f":"'kosten tabel 2015'!L1795","v":24255}]
[{"$f":"'kosten tabel 2015'!A1796","v":179300},null,{"$f":"'kosten tabel 2015'!K1796","v":23100},{"$f":"'kosten tabel 2015'!L1796","v":24255}]
[{"$f":"'kosten tabel 2015'!A1797","v":179400},null,{"$f":"'kosten tabel 2015'!K1797","v":23100},{"$f":"'kosten tabel 2015'!L1797","v":24255}]
[{"$f":"'kosten tabel 2015'!A1798","v":179500},null,{"$f":"'kosten tabel 2015'!K1798","v":23100},{"$f":"'kosten tabel 2015'!L1798","v":24255}]
[{"$f":"'kosten tabel 2015'!A1799","v":179600},null,{"$f":"'kosten tabel 2015'!K1799","v":23100},{"$f":"'kosten tabel 2015'!L1799","v":24255}]
[{"$f":"'kosten tabel 2015'!A1800","v":179700},null,{"$f":"'kosten tabel 2015'!K1800","v":23100},{"$f":"'kosten tabel 2015'!L1800","v":24255}]
[{"$f":"'kosten tabel 2015'!A1801","v":179800},null,{"$f":"'kosten tabel 2015'!K1801","v":23100},{"$f":"'kosten tabel 2015'!L1801","v":24255}]
[{"$f":"'kosten tabel 2015'!A1802","v":179900},null,{"$f":"'kosten tabel 2015'!K1802","v":23100},{"$f":"'kosten tabel 2015'!L1802","v":24255}]
[{"$f":"'kosten tabel 2015'!A1803","v":180000},null,{"$f":"'kosten tabel 2015'!K1803","v":23100},{"$f":"'kosten tabel 2015'!L1803","v":24255}]
[{"$f":"'kosten tabel 2015'!A1804","v":180100},null,{"$f":"'kosten tabel 2015'!K1804","v":23100},{"$f":"'kosten tabel 2015'!L1804","v":24255}]
[{"$f":"'kosten tabel 2015'!A1805","v":180200},null,{"$f":"'kosten tabel 2015'!K1805","v":23200},{"$f":"'kosten tabel 2015'!L1805","v":24360}]
[{"$f":"'kosten tabel 2015'!A1806","v":180300},null,{"$f":"'kosten tabel 2015'!K1806","v":23200},{"$f":"'kosten tabel 2015'!L1806","v":24360}]
[{"$f":"'kosten tabel 2015'!A1807","v":180400},null,{"$f":"'kosten tabel 2015'!K1807","v":23200},{"$f":"'kosten tabel 2015'!L1807","v":24360}]
[{"$f":"'kosten tabel 2015'!A1808","v":180500},null,{"$f":"'kosten tabel 2015'!K1808","v":23200},{"$f":"'kosten tabel 2015'!L1808","v":24360}]
[{"$f":"'kosten tabel 2015'!A1809","v":180600},null,{"$f":"'kosten tabel 2015'!K1809","v":23200},{"$f":"'kosten tabel 2015'!L1809","v":24360}]
[{"$f":"'kosten tabel 2015'!A1810","v":180700},null,{"$f":"'kosten tabel 2015'!K1810","v":23200},{"$f":"'kosten tabel 2015'!L1810","v":24360}]
[{"$f":"'kosten tabel 2015'!A1811","v":180800},null,{"$f":"'kosten tabel 2015'!K1811","v":23200},{"$f":"'kosten tabel 2015'!L1811","v":24360}]
[{"$f":"'kosten tabel 2015'!A1812","v":180900},null,{"$f":"'kosten tabel 2015'!K1812","v":23200},{"$f":"'kosten tabel 2015'!L1812","v":24360}]
[{"$f":"'kosten tabel 2015'!A1813","v":181000},null,{"$f":"'kosten tabel 2015'!K1813","v":23200},{"$f":"'kosten tabel 2015'!L1813","v":24360}]
[{"$f":"'kosten tabel 2015'!A1814","v":181100},null,{"$f":"'kosten tabel 2015'!K1814","v":23200},{"$f":"'kosten tabel 2015'!L1814","v":24360}]
[{"$f":"'kosten tabel 2015'!A1815","v":181200},null,{"$f":"'kosten tabel 2015'!K1815","v":23300},{"$f":"'kosten tabel 2015'!L1815","v":24465}]
[{"$f":"'kosten tabel 2015'!A1816","v":181300},null,{"$f":"'kosten tabel 2015'!K1816","v":23300},{"$f":"'kosten tabel 2015'!L1816","v":24465}]
[{"$f":"'kosten tabel 2015'!A1817","v":181400},null,{"$f":"'kosten tabel 2015'!K1817","v":23300},{"$f":"'kosten tabel 2015'!L1817","v":24465}]
[{"$f":"'kosten tabel 2015'!A1818","v":181500},null,{"$f":"'kosten tabel 2015'!K1818","v":23300},{"$f":"'kosten tabel 2015'!L1818","v":24465}]
[{"$f":"'kosten tabel 2015'!A1819","v":181600},null,{"$f":"'kosten tabel 2015'!K1819","v":23300},{"$f":"'kosten tabel 2015'!L1819","v":24465}]
[{"$f":"'kosten tabel 2015'!A1820","v":181700},null,{"$f":"'kosten tabel 2015'!K1820","v":23300},{"$f":"'kosten tabel 2015'!L1820","v":24465}]
[{"$f":"'kosten tabel 2015'!A1821","v":181800},null,{"$f":"'kosten tabel 2015'!K1821","v":23300},{"$f":"'kosten tabel 2015'!L1821","v":24465}]
[{"$f":"'kosten tabel 2015'!A1822","v":181900},null,{"$f":"'kosten tabel 2015'!K1822","v":23300},{"$f":"'kosten tabel 2015'!L1822","v":24465}]
[{"$f":"'kosten tabel 2015'!A1823","v":182000},null,{"$f":"'kosten tabel 2015'!K1823","v":23300},{"$f":"'kosten tabel 2015'!L1823","v":24465}]
[{"$f":"'kosten tabel 2015'!A1824","v":182100},null,{"$f":"'kosten tabel 2015'!K1824","v":23300},{"$f":"'kosten tabel 2015'!L1824","v":24465}]
[{"$f":"'kosten tabel 2015'!A1825","v":182200},null,{"$f":"'kosten tabel 2015'!K1825","v":23300},{"$f":"'kosten tabel 2015'!L1825","v":24465}]
[{"$f":"'kosten tabel 2015'!A1826","v":182300},null,{"$f":"'kosten tabel 2015'!K1826","v":23400},{"$f":"'kosten tabel 2015'!L1826","v":24570}]
[{"$f":"'kosten tabel 2015'!A1827","v":182400},null,{"$f":"'kosten tabel 2015'!K1827","v":23400},{"$f":"'kosten tabel 2015'!L1827","v":24570}]
[{"$f":"'kosten tabel 2015'!A1828","v":182500},null,{"$f":"'kosten tabel 2015'!K1828","v":23400},{"$f":"'kosten tabel 2015'!L1828","v":24570}]
[{"$f":"'kosten tabel 2015'!A1829","v":182600},null,{"$f":"'kosten tabel 2015'!K1829","v":23400},{"$f":"'kosten tabel 2015'!L1829","v":24570}]
[{"$f":"'kosten tabel 2015'!A1830","v":182700},null,{"$f":"'kosten tabel 2015'!K1830","v":23400},{"$f":"'kosten tabel 2015'!L1830","v":24570}]
[{"$f":"'kosten tabel 2015'!A1831","v":182800},null,{"$f":"'kosten tabel 2015'!K1831","v":23400},{"$f":"'kosten tabel 2015'!L1831","v":24570}]
[{"$f":"'kosten tabel 2015'!A1832","v":182900},null,{"$f":"'kosten tabel 2015'!K1832","v":23400},{"$f":"'kosten tabel 2015'!L1832","v":24570}]
[{"$f":"'kosten tabel 2015'!A1833","v":183000},null,{"$f":"'kosten tabel 2015'!K1833","v":23400},{"$f":"'kosten tabel 2015'!L1833","v":24570}]
[{"$f":"'kosten tabel 2015'!A1834","v":183100},null,{"$f":"'kosten tabel 2015'!K1834","v":23400},{"$f":"'kosten tabel 2015'!L1834","v":24570}]
[{"$f":"'kosten tabel 2015'!A1835","v":183200},null,{"$f":"'kosten tabel 2015'!K1835","v":23400},{"$f":"'kosten tabel 2015'!L1835","v":24570}]
[{"$f":"'kosten tabel 2015'!A1836","v":183300},null,{"$f":"'kosten tabel 2015'!K1836","v":23500},{"$f":"'kosten tabel 2015'!L1836","v":24675}]
[{"$f":"'kosten tabel 2015'!A1837","v":183400},null,{"$f":"'kosten tabel 2015'!K1837","v":23500},{"$f":"'kosten tabel 2015'!L1837","v":24675}]
[{"$f":"'kosten tabel 2015'!A1838","v":183500},null,{"$f":"'kosten tabel 2015'!K1838","v":23500},{"$f":"'kosten tabel 2015'!L1838","v":24675}]
[{"$f":"'kosten tabel 2015'!A1839","v":183600},null,{"$f":"'kosten tabel 2015'!K1839","v":23500},{"$f":"'kosten tabel 2015'!L1839","v":24675}]
[{"$f":"'kosten tabel 2015'!A1840","v":183700},null,{"$f":"'kosten tabel 2015'!K1840","v":23500},{"$f":"'kosten tabel 2015'!L1840","v":24675}]
[{"$f":"'kosten tabel 2015'!A1841","v":183800},null,{"$f":"'kosten tabel 2015'!K1841","v":23500},{"$f":"'kosten tabel 2015'!L1841","v":24675}]
[{"$f":"'kosten tabel 2015'!A1842","v":183900},null,{"$f":"'kosten tabel 2015'!K1842","v":23500},{"$f":"'kosten tabel 2015'!L1842","v":24675}]
[{"$f":"'kosten tabel 2015'!A1843","v":184000},null,{"$f":"'kosten tabel 2015'!K1843","v":23500},{"$f":"'kosten tabel 2015'!L1843","v":24675}]
[{"$f":"'kosten tabel 2015'!A1844","v":184100},null,{"$f":"'kosten tabel 2015'!K1844","v":23500},{"$f":"'kosten tabel 2015'!L1844","v":24675}]
[{"$f":"'kosten tabel 2015'!A1845","v":184200},null,{"$f":"'kosten tabel 2015'!K1845","v":23500},{"$f":"'kosten tabel 2015'!L1845","v":24675}]
[{"$f":"'kosten tabel 2015'!A1846","v":184300},null,{"$f":"'kosten tabel 2015'!K1846","v":23600},{"$f":"'kosten tabel 2015'!L1846","v":24780}]
[{"$f":"'kosten tabel 2015'!A1847","v":184400},null,{"$f":"'kosten tabel 2015'!K1847","v":23600},{"$f":"'kosten tabel 2015'!L1847","v":24780}]
[{"$f":"'kosten tabel 2015'!A1848","v":184500},null,{"$f":"'kosten tabel 2015'!K1848","v":23600},{"$f":"'kosten tabel 2015'!L1848","v":24780}]
[{"$f":"'kosten tabel 2015'!A1849","v":184600},null,{"$f":"'kosten tabel 2015'!K1849","v":23600},{"$f":"'kosten tabel 2015'!L1849","v":24780}]
[{"$f":"'kosten tabel 2015'!A1850","v":184700},null,{"$f":"'kosten tabel 2015'!K1850","v":23600},{"$f":"'kosten tabel 2015'!L1850","v":24780}]
[{"$f":"'kosten tabel 2015'!A1851","v":184800},null,{"$f":"'kosten tabel 2015'!K1851","v":23600},{"$f":"'kosten tabel 2015'!L1851","v":24780}]
[{"$f":"'kosten tabel 2015'!A1852","v":184900},null,{"$f":"'kosten tabel 2015'!K1852","v":23600},{"$f":"'kosten tabel 2015'!L1852","v":24780}]
[{"$f":"'kosten tabel 2015'!A1853","v":185000},null,{"$f":"'kosten tabel 2015'!K1853","v":23600},{"$f":"'kosten tabel 2015'!L1853","v":24780}]
[{"$f":"'kosten tabel 2015'!A1854","v":185100},null,{"$f":"'kosten tabel 2015'!K1854","v":23600},{"$f":"'kosten tabel 2015'!L1854","v":24780}]
[{"$f":"'kosten tabel 2015'!A1855","v":185200},null,{"$f":"'kosten tabel 2015'!K1855","v":23600},{"$f":"'kosten tabel 2015'!L1855","v":24780}]
[{"$f":"'kosten tabel 2015'!A1856","v":185300},null,{"$f":"'kosten tabel 2015'!K1856","v":23700},{"$f":"'kosten tabel 2015'!L1856","v":24885}]
[{"$f":"'kosten tabel 2015'!A1857","v":185400},null,{"$f":"'kosten tabel 2015'!K1857","v":23700},{"$f":"'kosten tabel 2015'!L1857","v":24885}]
[{"$f":"'kosten tabel 2015'!A1858","v":185500},null,{"$f":"'kosten tabel 2015'!K1858","v":23700},{"$f":"'kosten tabel 2015'!L1858","v":24885}]
[{"$f":"'kosten tabel 2015'!A1859","v":185600},null,{"$f":"'kosten tabel 2015'!K1859","v":23700},{"$f":"'kosten tabel 2015'!L1859","v":24885}]
[{"$f":"'kosten tabel 2015'!A1860","v":185700},null,{"$f":"'kosten tabel 2015'!K1860","v":23700},{"$f":"'kosten tabel 2015'!L1860","v":24885}]
[{"$f":"'kosten tabel 2015'!A1861","v":185800},null,{"$f":"'kosten tabel 2015'!K1861","v":23700},{"$f":"'kosten tabel 2015'!L1861","v":24885}]
[{"$f":"'kosten tabel 2015'!A1862","v":185900},null,{"$f":"'kosten tabel 2015'!K1862","v":23700},{"$f":"'kosten tabel 2015'!L1862","v":24885}]
[{"$f":"'kosten tabel 2015'!A1863","v":186000},null,{"$f":"'kosten tabel 2015'!K1863","v":23700},{"$f":"'kosten tabel 2015'!L1863","v":24885}]
[{"$f":"'kosten tabel 2015'!A1864","v":186100},null,{"$f":"'kosten tabel 2015'!K1864","v":23700},{"$f":"'kosten tabel 2015'!L1864","v":24885}]
[{"$f":"'kosten tabel 2015'!A1865","v":186200},null,{"$f":"'kosten tabel 2015'!K1865","v":23700},{"$f":"'kosten tabel 2015'!L1865","v":24885}]
[{"$f":"'kosten tabel 2015'!A1866","v":186300},null,{"$f":"'kosten tabel 2015'!K1866","v":23800},{"$f":"'kosten tabel 2015'!L1866","v":24990}]
[{"$f":"'kosten tabel 2015'!A1867","v":186400},null,{"$f":"'kosten tabel 2015'!K1867","v":23800},{"$f":"'kosten tabel 2015'!L1867","v":24990}]
[{"$f":"'kosten tabel 2015'!A1868","v":186500},null,{"$f":"'kosten tabel 2015'!K1868","v":23800},{"$f":"'kosten tabel 2015'!L1868","v":24990}]
[{"$f":"'kosten tabel 2015'!A1869","v":186600},null,{"$f":"'kosten tabel 2015'!K1869","v":23800},{"$f":"'kosten tabel 2015'!L1869","v":24990}]
[{"$f":"'kosten tabel 2015'!A1870","v":186700},null,{"$f":"'kosten tabel 2015'!K1870","v":23800},{"$f":"'kosten tabel 2015'!L1870","v":24990}]
[{"$f":"'kosten tabel 2015'!A1871","v":186800},null,{"$f":"'kosten tabel 2015'!K1871","v":23800},{"$f":"'kosten tabel 2015'!L1871","v":24990}]
[{"$f":"'kosten tabel 2015'!A1872","v":186900},null,{"$f":"'kosten tabel 2015'!K1872","v":23800},{"$f":"'kosten tabel 2015'!L1872","v":24990}]
[{"$f":"'kosten tabel 2015'!A1873","v":187000},null,{"$f":"'kosten tabel 2015'!K1873","v":23800},{"$f":"'kosten tabel 2015'!L1873","v":24990}]
[{"$f":"'kosten tabel 2015'!A1874","v":187100},null,{"$f":"'kosten tabel 2015'!K1874","v":23800},{"$f":"'kosten tabel 2015'!L1874","v":24990}]
[{"$f":"'kosten tabel 2015'!A1875","v":187200},null,{"$f":"'kosten tabel 2015'!K1875","v":23800},{"$f":"'kosten tabel 2015'!L1875","v":24990}]
[{"$f":"'kosten tabel 2015'!A1876","v":187300},null,{"$f":"'kosten tabel 2015'!K1876","v":23900},{"$f":"'kosten tabel 2015'!L1876","v":25095}]
[{"$f":"'kosten tabel 2015'!A1877","v":187400},null,{"$f":"'kosten tabel 2015'!K1877","v":23900},{"$f":"'kosten tabel 2015'!L1877","v":25095}]
[{"$f":"'kosten tabel 2015'!A1878","v":187500},null,{"$f":"'kosten tabel 2015'!K1878","v":23900},{"$f":"'kosten tabel 2015'!L1878","v":25095}]
[{"$f":"'kosten tabel 2015'!A1879","v":187600},null,{"$f":"'kosten tabel 2015'!K1879","v":23900},{"$f":"'kosten tabel 2015'!L1879","v":25095}]
[{"$f":"'kosten tabel 2015'!A1880","v":187700},null,{"$f":"'kosten tabel 2015'!K1880","v":23900},{"$f":"'kosten tabel 2015'!L1880","v":25095}]
[{"$f":"'kosten tabel 2015'!A1881","v":187800},null,{"$f":"'kosten tabel 2015'!K1881","v":23900},{"$f":"'kosten tabel 2015'!L1881","v":25095}]
[{"$f":"'kosten tabel 2015'!A1882","v":187900},null,{"$f":"'kosten tabel 2015'!K1882","v":23900},{"$f":"'kosten tabel 2015'!L1882","v":25095}]
[{"$f":"'kosten tabel 2015'!A1883","v":188000},null,{"$f":"'kosten tabel 2015'!K1883","v":23900},{"$f":"'kosten tabel 2015'!L1883","v":25095}]
[{"$f":"'kosten tabel 2015'!A1884","v":188100},null,{"$f":"'kosten tabel 2015'!K1884","v":23900},{"$f":"'kosten tabel 2015'!L1884","v":25095}]
[{"$f":"'kosten tabel 2015'!A1885","v":188200},null,{"$f":"'kosten tabel 2015'!K1885","v":23900},{"$f":"'kosten tabel 2015'!L1885","v":25095}]
[{"$f":"'kosten tabel 2015'!A1886","v":188300},null,{"$f":"'kosten tabel 2015'!K1886","v":23900},{"$f":"'kosten tabel 2015'!L1886","v":25095}]
[{"$f":"'kosten tabel 2015'!A1887","v":188400},null,{"$f":"'kosten tabel 2015'!K1887","v":24000},{"$f":"'kosten tabel 2015'!L1887","v":25200}]
[{"$f":"'kosten tabel 2015'!A1888","v":188500},null,{"$f":"'kosten tabel 2015'!K1888","v":24000},{"$f":"'kosten tabel 2015'!L1888","v":25200}]
[{"$f":"'kosten tabel 2015'!A1889","v":188600},null,{"$f":"'kosten tabel 2015'!K1889","v":24000},{"$f":"'kosten tabel 2015'!L1889","v":25200}]
[{"$f":"'kosten tabel 2015'!A1890","v":188700},null,{"$f":"'kosten tabel 2015'!K1890","v":24000},{"$f":"'kosten tabel 2015'!L1890","v":25200}]
[{"$f":"'kosten tabel 2015'!A1891","v":188800},null,{"$f":"'kosten tabel 2015'!K1891","v":24000},{"$f":"'kosten tabel 2015'!L1891","v":25200}]
[{"$f":"'kosten tabel 2015'!A1892","v":188900},null,{"$f":"'kosten tabel 2015'!K1892","v":24000},{"$f":"'kosten tabel 2015'!L1892","v":25200}]
[{"$f":"'kosten tabel 2015'!A1893","v":189000},null,{"$f":"'kosten tabel 2015'!K1893","v":24000},{"$f":"'kosten tabel 2015'!L1893","v":25200}]
[{"$f":"'kosten tabel 2015'!A1894","v":189100},null,{"$f":"'kosten tabel 2015'!K1894","v":24000},{"$f":"'kosten tabel 2015'!L1894","v":25200}]
[{"$f":"'kosten tabel 2015'!A1895","v":189200},null,{"$f":"'kosten tabel 2015'!K1895","v":24000},{"$f":"'kosten tabel 2015'!L1895","v":25200}]
[{"$f":"'kosten tabel 2015'!A1896","v":189300},null,{"$f":"'kosten tabel 2015'!K1896","v":24000},{"$f":"'kosten tabel 2015'!L1896","v":25200}]
[{"$f":"'kosten tabel 2015'!A1897","v":189400},null,{"$f":"'kosten tabel 2015'!K1897","v":24100},{"$f":"'kosten tabel 2015'!L1897","v":25305}]
[{"$f":"'kosten tabel 2015'!A1898","v":189500},null,{"$f":"'kosten tabel 2015'!K1898","v":24100},{"$f":"'kosten tabel 2015'!L1898","v":25305}]
[{"$f":"'kosten tabel 2015'!A1899","v":189600},null,{"$f":"'kosten tabel 2015'!K1899","v":24100},{"$f":"'kosten tabel 2015'!L1899","v":25305}]
[{"$f":"'kosten tabel 2015'!A1900","v":189700},null,{"$f":"'kosten tabel 2015'!K1900","v":24100},{"$f":"'kosten tabel 2015'!L1900","v":25305}]
[{"$f":"'kosten tabel 2015'!A1901","v":189800},null,{"$f":"'kosten tabel 2015'!K1901","v":24100},{"$f":"'kosten tabel 2015'!L1901","v":25305}]
[{"$f":"'kosten tabel 2015'!A1902","v":189900},null,{"$f":"'kosten tabel 2015'!K1902","v":24100},{"$f":"'kosten tabel 2015'!L1902","v":25305}]
[{"$f":"'kosten tabel 2015'!A1903","v":190000},null,{"$f":"'kosten tabel 2015'!K1903","v":24100},{"$f":"'kosten tabel 2015'!L1903","v":25305}]
[{"$f":"'kosten tabel 2015'!A1904","v":190100},null,{"$f":"'kosten tabel 2015'!K1904","v":24100},{"$f":"'kosten tabel 2015'!L1904","v":25305}]
[{"$f":"'kosten tabel 2015'!A1905","v":190200},null,{"$f":"'kosten tabel 2015'!K1905","v":24100},{"$f":"'kosten tabel 2015'!L1905","v":25305}]
[{"$f":"'kosten tabel 2015'!A1906","v":190300},null,{"$f":"'kosten tabel 2015'!K1906","v":24100},{"$f":"'kosten tabel 2015'!L1906","v":25305}]
[{"$f":"'kosten tabel 2015'!A1907","v":190400},null,{"$f":"'kosten tabel 2015'!K1907","v":24200},{"$f":"'kosten tabel 2015'!L1907","v":25410}]
[{"$f":"'kosten tabel 2015'!A1908","v":190500},null,{"$f":"'kosten tabel 2015'!K1908","v":24200},{"$f":"'kosten tabel 2015'!L1908","v":25410}]
[{"$f":"'kosten tabel 2015'!A1909","v":190600},null,{"$f":"'kosten tabel 2015'!K1909","v":24200},{"$f":"'kosten tabel 2015'!L1909","v":25410}]
[{"$f":"'kosten tabel 2015'!A1910","v":190700},null,{"$f":"'kosten tabel 2015'!K1910","v":24200},{"$f":"'kosten tabel 2015'!L1910","v":25410}]
[{"$f":"'kosten tabel 2015'!A1911","v":190800},null,{"$f":"'kosten tabel 2015'!K1911","v":24200},{"$f":"'kosten tabel 2015'!L1911","v":25410}]
[{"$f":"'kosten tabel 2015'!A1912","v":190900},null,{"$f":"'kosten tabel 2015'!K1912","v":24200},{"$f":"'kosten tabel 2015'!L1912","v":25410}]
[{"$f":"'kosten tabel 2015'!A1913","v":191000},null,{"$f":"'kosten tabel 2015'!K1913","v":24200},{"$f":"'kosten tabel 2015'!L1913","v":25410}]
[{"$f":"'kosten tabel 2015'!A1914","v":191100},null,{"$f":"'kosten tabel 2015'!K1914","v":24200},{"$f":"'kosten tabel 2015'!L1914","v":25410}]
[{"$f":"'kosten tabel 2015'!A1915","v":191200},null,{"$f":"'kosten tabel 2015'!K1915","v":24200},{"$f":"'kosten tabel 2015'!L1915","v":25410}]
[{"$f":"'kosten tabel 2015'!A1916","v":191300},null,{"$f":"'kosten tabel 2015'!K1916","v":24200},{"$f":"'kosten tabel 2015'!L1916","v":25410}]
[{"$f":"'kosten tabel 2015'!A1917","v":191400},null,{"$f":"'kosten tabel 2015'!K1917","v":24300},{"$f":"'kosten tabel 2015'!L1917","v":25515}]
[{"$f":"'kosten tabel 2015'!A1918","v":191500},null,{"$f":"'kosten tabel 2015'!K1918","v":24300},{"$f":"'kosten tabel 2015'!L1918","v":25515}]
[{"$f":"'kosten tabel 2015'!A1919","v":191600},null,{"$f":"'kosten tabel 2015'!K1919","v":24300},{"$f":"'kosten tabel 2015'!L1919","v":25515}]
[{"$f":"'kosten tabel 2015'!A1920","v":191700},null,{"$f":"'kosten tabel 2015'!K1920","v":24300},{"$f":"'kosten tabel 2015'!L1920","v":25515}]
[{"$f":"'kosten tabel 2015'!A1921","v":191800},null,{"$f":"'kosten tabel 2015'!K1921","v":24300},{"$f":"'kosten tabel 2015'!L1921","v":25515}]
[{"$f":"'kosten tabel 2015'!A1922","v":191900},null,{"$f":"'kosten tabel 2015'!K1922","v":24300},{"$f":"'kosten tabel 2015'!L1922","v":25515}]
[{"$f":"'kosten tabel 2015'!A1923","v":192000},null,{"$f":"'kosten tabel 2015'!K1923","v":24300},{"$f":"'kosten tabel 2015'!L1923","v":25515}]
[{"$f":"'kosten tabel 2015'!A1924","v":192100},null,{"$f":"'kosten tabel 2015'!K1924","v":24300},{"$f":"'kosten tabel 2015'!L1924","v":25515}]
[{"$f":"'kosten tabel 2015'!A1925","v":192200},null,{"$f":"'kosten tabel 2015'!K1925","v":24300},{"$f":"'kosten tabel 2015'!L1925","v":25515}]
[{"$f":"'kosten tabel 2015'!A1926","v":192300},null,{"$f":"'kosten tabel 2015'!K1926","v":24300},{"$f":"'kosten tabel 2015'!L1926","v":25515}]
[{"$f":"'kosten tabel 2015'!A1927","v":192400},null,{"$f":"'kosten tabel 2015'!K1927","v":24400},{"$f":"'kosten tabel 2015'!L1927","v":25620}]
[{"$f":"'kosten tabel 2015'!A1928","v":192500},null,{"$f":"'kosten tabel 2015'!K1928","v":24400},{"$f":"'kosten tabel 2015'!L1928","v":25620}]
[{"$f":"'kosten tabel 2015'!A1929","v":192600},null,{"$f":"'kosten tabel 2015'!K1929","v":24400},{"$f":"'kosten tabel 2015'!L1929","v":25620}]
[{"$f":"'kosten tabel 2015'!A1930","v":192700},null,{"$f":"'kosten tabel 2015'!K1930","v":24400},{"$f":"'kosten tabel 2015'!L1930","v":25620}]
[{"$f":"'kosten tabel 2015'!A1931","v":192800},null,{"$f":"'kosten tabel 2015'!K1931","v":24400},{"$f":"'kosten tabel 2015'!L1931","v":25620}]
[{"$f":"'kosten tabel 2015'!A1932","v":192900},null,{"$f":"'kosten tabel 2015'!K1932","v":24400},{"$f":"'kosten tabel 2015'!L1932","v":25620}]
[{"$f":"'kosten tabel 2015'!A1933","v":193000},null,{"$f":"'kosten tabel 2015'!K1933","v":24400},{"$f":"'kosten tabel 2015'!L1933","v":25620}]
[{"$f":"'kosten tabel 2015'!A1934","v":193100},null,{"$f":"'kosten tabel 2015'!K1934","v":24400},{"$f":"'kosten tabel 2015'!L1934","v":25620}]
[{"$f":"'kosten tabel 2015'!A1935","v":193200},null,{"$f":"'kosten tabel 2015'!K1935","v":24400},{"$f":"'kosten tabel 2015'!L1935","v":25620}]
[{"$f":"'kosten tabel 2015'!A1936","v":193300},null,{"$f":"'kosten tabel 2015'!K1936","v":24400},{"$f":"'kosten tabel 2015'!L1936","v":25620}]
[{"$f":"'kosten tabel 2015'!A1937","v":193400},null,{"$f":"'kosten tabel 2015'!K1937","v":24500},{"$f":"'kosten tabel 2015'!L1937","v":25725}]
[{"$f":"'kosten tabel 2015'!A1938","v":193500},null,{"$f":"'kosten tabel 2015'!K1938","v":24500},{"$f":"'kosten tabel 2015'!L1938","v":25725}]
[{"$f":"'kosten tabel 2015'!A1939","v":193600},null,{"$f":"'kosten tabel 2015'!K1939","v":24500},{"$f":"'kosten tabel 2015'!L1939","v":25725}]
[{"$f":"'kosten tabel 2015'!A1940","v":193700},null,{"$f":"'kosten tabel 2015'!K1940","v":24500},{"$f":"'kosten tabel 2015'!L1940","v":25725}]
[{"$f":"'kosten tabel 2015'!A1941","v":193800},null,{"$f":"'kosten tabel 2015'!K1941","v":24500},{"$f":"'kosten tabel 2015'!L1941","v":25725}]
[{"$f":"'kosten tabel 2015'!A1942","v":193900},null,{"$f":"'kosten tabel 2015'!K1942","v":24500},{"$f":"'kosten tabel 2015'!L1942","v":25725}]
[{"$f":"'kosten tabel 2015'!A1943","v":194000},null,{"$f":"'kosten tabel 2015'!K1943","v":24500},{"$f":"'kosten tabel 2015'!L1943","v":25725}]
[{"$f":"'kosten tabel 2015'!A1944","v":194100},null,{"$f":"'kosten tabel 2015'!K1944","v":24500},{"$f":"'kosten tabel 2015'!L1944","v":25725}]
[{"$f":"'kosten tabel 2015'!A1945","v":194200},null,{"$f":"'kosten tabel 2015'!K1945","v":24500},{"$f":"'kosten tabel 2015'!L1945","v":25725}]
[{"$f":"'kosten tabel 2015'!A1946","v":194300},null,{"$f":"'kosten tabel 2015'!K1946","v":24500},{"$f":"'kosten tabel 2015'!L1946","v":25725}]
[{"$f":"'kosten tabel 2015'!A1947","v":194400},null,{"$f":"'kosten tabel 2015'!K1947","v":24600},{"$f":"'kosten tabel 2015'!L1947","v":25830}]
[{"$f":"'kosten tabel 2015'!A1948","v":194500},null,{"$f":"'kosten tabel 2015'!K1948","v":24600},{"$f":"'kosten tabel 2015'!L1948","v":25830}]
[{"$f":"'kosten tabel 2015'!A1949","v":194600},null,{"$f":"'kosten tabel 2015'!K1949","v":24600},{"$f":"'kosten tabel 2015'!L1949","v":25830}]
[{"$f":"'kosten tabel 2015'!A1950","v":194700},null,{"$f":"'kosten tabel 2015'!K1950","v":24600},{"$f":"'kosten tabel 2015'!L1950","v":25830}]
[{"$f":"'kosten tabel 2015'!A1951","v":194800},null,{"$f":"'kosten tabel 2015'!K1951","v":24600},{"$f":"'kosten tabel 2015'!L1951","v":25830}]
[{"$f":"'kosten tabel 2015'!A1952","v":194900},null,{"$f":"'kosten tabel 2015'!K1952","v":24600},{"$f":"'kosten tabel 2015'!L1952","v":25830}]
[{"$f":"'kosten tabel 2015'!A1953","v":195000},null,{"$f":"'kosten tabel 2015'!K1953","v":24600},{"$f":"'kosten tabel 2015'!L1953","v":25830}]
[{"$f":"'kosten tabel 2015'!A1954","v":195100},null,{"$f":"'kosten tabel 2015'!K1954","v":24600},{"$f":"'kosten tabel 2015'!L1954","v":25830}]
[{"$f":"'kosten tabel 2015'!A1955","v":195200},null,{"$f":"'kosten tabel 2015'!K1955","v":24600},{"$f":"'kosten tabel 2015'!L1955","v":25830}]
[{"$f":"'kosten tabel 2015'!A1956","v":195300},null,{"$f":"'kosten tabel 2015'!K1956","v":24600},{"$f":"'kosten tabel 2015'!L1956","v":25830}]
[{"$f":"'kosten tabel 2015'!A1957","v":195400},null,{"$f":"'kosten tabel 2015'!K1957","v":24600},{"$f":"'kosten tabel 2015'!L1957","v":25830}]
[{"$f":"'kosten tabel 2015'!A1958","v":195500},null,{"$f":"'kosten tabel 2015'!K1958","v":24700},{"$f":"'kosten tabel 2015'!L1958","v":25935}]
[{"$f":"'kosten tabel 2015'!A1959","v":195600},null,{"$f":"'kosten tabel 2015'!K1959","v":24700},{"$f":"'kosten tabel 2015'!L1959","v":25935}]
[{"$f":"'kosten tabel 2015'!A1960","v":195700},null,{"$f":"'kosten tabel 2015'!K1960","v":24700},{"$f":"'kosten tabel 2015'!L1960","v":25935}]
[{"$f":"'kosten tabel 2015'!A1961","v":195800},null,{"$f":"'kosten tabel 2015'!K1961","v":24700},{"$f":"'kosten tabel 2015'!L1961","v":25935}]
[{"$f":"'kosten tabel 2015'!A1962","v":195900},null,{"$f":"'kosten tabel 2015'!K1962","v":24700},{"$f":"'kosten tabel 2015'!L1962","v":25935}]
[{"$f":"'kosten tabel 2015'!A1963","v":196000},null,{"$f":"'kosten tabel 2015'!K1963","v":24700},{"$f":"'kosten tabel 2015'!L1963","v":25935}]
[{"$f":"'kosten tabel 2015'!A1964","v":196100},null,{"$f":"'kosten tabel 2015'!K1964","v":24700},{"$f":"'kosten tabel 2015'!L1964","v":25935}]
[{"$f":"'kosten tabel 2015'!A1965","v":196200},null,{"$f":"'kosten tabel 2015'!K1965","v":24700},{"$f":"'kosten tabel 2015'!L1965","v":25935}]
[{"$f":"'kosten tabel 2015'!A1966","v":196300},null,{"$f":"'kosten tabel 2015'!K1966","v":24700},{"$f":"'kosten tabel 2015'!L1966","v":25935}]
[{"$f":"'kosten tabel 2015'!A1967","v":196400},null,{"$f":"'kosten tabel 2015'!K1967","v":24700},{"$f":"'kosten tabel 2015'!L1967","v":25935}]
[{"$f":"'kosten tabel 2015'!A1968","v":196500},null,{"$f":"'kosten tabel 2015'!K1968","v":24800},{"$f":"'kosten tabel 2015'!L1968","v":26040}]
[{"$f":"'kosten tabel 2015'!A1969","v":196600},null,{"$f":"'kosten tabel 2015'!K1969","v":24800},{"$f":"'kosten tabel 2015'!L1969","v":26040}]
[{"$f":"'kosten tabel 2015'!A1970","v":196700},null,{"$f":"'kosten tabel 2015'!K1970","v":24800},{"$f":"'kosten tabel 2015'!L1970","v":26040}]
[{"$f":"'kosten tabel 2015'!A1971","v":196800},null,{"$f":"'kosten tabel 2015'!K1971","v":24800},{"$f":"'kosten tabel 2015'!L1971","v":26040}]
[{"$f":"'kosten tabel 2015'!A1972","v":196900},null,{"$f":"'kosten tabel 2015'!K1972","v":24800},{"$f":"'kosten tabel 2015'!L1972","v":26040}]
[{"$f":"'kosten tabel 2015'!A1973","v":197000},null,{"$f":"'kosten tabel 2015'!K1973","v":24800},{"$f":"'kosten tabel 2015'!L1973","v":26040}]
[{"$f":"'kosten tabel 2015'!A1974","v":197100},null,{"$f":"'kosten tabel 2015'!K1974","v":24800},{"$f":"'kosten tabel 2015'!L1974","v":26040}]
[{"$f":"'kosten tabel 2015'!A1975","v":197200},null,{"$f":"'kosten tabel 2015'!K1975","v":24800},{"$f":"'kosten tabel 2015'!L1975","v":26040}]
[{"$f":"'kosten tabel 2015'!A1976","v":197300},null,{"$f":"'kosten tabel 2015'!K1976","v":24800},{"$f":"'kosten tabel 2015'!L1976","v":26040}]
[{"$f":"'kosten tabel 2015'!A1977","v":197400},null,{"$f":"'kosten tabel 2015'!K1977","v":24800},{"$f":"'kosten tabel 2015'!L1977","v":26040}]
[{"$f":"'kosten tabel 2015'!A1978","v":197500},null,{"$f":"'kosten tabel 2015'!K1978","v":24900},{"$f":"'kosten tabel 2015'!L1978","v":26145}]
[{"$f":"'kosten tabel 2015'!A1979","v":197600},null,{"$f":"'kosten tabel 2015'!K1979","v":24900},{"$f":"'kosten tabel 2015'!L1979","v":26145}]
[{"$f":"'kosten tabel 2015'!A1980","v":197700},null,{"$f":"'kosten tabel 2015'!K1980","v":24900},{"$f":"'kosten tabel 2015'!L1980","v":26145}]
[{"$f":"'kosten tabel 2015'!A1981","v":197800},null,{"$f":"'kosten tabel 2015'!K1981","v":24900},{"$f":"'kosten tabel 2015'!L1981","v":26145}]
[{"$f":"'kosten tabel 2015'!A1982","v":197900},null,{"$f":"'kosten tabel 2015'!K1982","v":24900},{"$f":"'kosten tabel 2015'!L1982","v":26145}]
[{"$f":"'kosten tabel 2015'!A1983","v":198000},null,{"$f":"'kosten tabel 2015'!K1983","v":24900},{"$f":"'kosten tabel 2015'!L1983","v":26145}]
[{"$f":"'kosten tabel 2015'!A1984","v":198100},null,{"$f":"'kosten tabel 2015'!K1984","v":24900},{"$f":"'kosten tabel 2015'!L1984","v":26145}]
[{"$f":"'kosten tabel 2015'!A1985","v":198200},null,{"$f":"'kosten tabel 2015'!K1985","v":24900},{"$f":"'kosten tabel 2015'!L1985","v":26145}]
[{"$f":"'kosten tabel 2015'!A1986","v":198300},null,{"$f":"'kosten tabel 2015'!K1986","v":24900},{"$f":"'kosten tabel 2015'!L1986","v":26145}]
[{"$f":"'kosten tabel 2015'!A1987","v":198400},null,{"$f":"'kosten tabel 2015'!K1987","v":24900},{"$f":"'kosten tabel 2015'!L1987","v":26145}]
[{"$f":"'kosten tabel 2015'!A1988","v":198500},null,{"$f":"'kosten tabel 2015'!K1988","v":25000},{"$f":"'kosten tabel 2015'!L1988","v":26250}]
[{"$f":"'kosten tabel 2015'!A1989","v":198600},null,{"$f":"'kosten tabel 2015'!K1989","v":25000},{"$f":"'kosten tabel 2015'!L1989","v":26250}]
[{"$f":"'kosten tabel 2015'!A1990","v":198700},null,{"$f":"'kosten tabel 2015'!K1990","v":25000},{"$f":"'kosten tabel 2015'!L1990","v":26250}]
[{"$f":"'kosten tabel 2015'!A1991","v":198800},null,{"$f":"'kosten tabel 2015'!K1991","v":25000},{"$f":"'kosten tabel 2015'!L1991","v":26250}]
[{"$f":"'kosten tabel 2015'!A1992","v":198900},null,{"$f":"'kosten tabel 2015'!K1992","v":25000},{"$f":"'kosten tabel 2015'!L1992","v":26250}]
[{"$f":"'kosten tabel 2015'!A1993","v":199000},null,{"$f":"'kosten tabel 2015'!K1993","v":25000},{"$f":"'kosten tabel 2015'!L1993","v":26250}]
[{"$f":"'kosten tabel 2015'!A1994","v":199100},null,{"$f":"'kosten tabel 2015'!K1994","v":25000},{"$f":"'kosten tabel 2015'!L1994","v":26250}]
[{"$f":"'kosten tabel 2015'!A1995","v":199200},null,{"$f":"'kosten tabel 2015'!K1995","v":25000},{"$f":"'kosten tabel 2015'!L1995","v":26250}]
[{"$f":"'kosten tabel 2015'!A1996","v":199300},null,{"$f":"'kosten tabel 2015'!K1996","v":25000},{"$f":"'kosten tabel 2015'!L1996","v":26250}]
[{"$f":"'kosten tabel 2015'!A1997","v":199400},null,{"$f":"'kosten tabel 2015'!K1997","v":25000},{"$f":"'kosten tabel 2015'!L1997","v":26250}]
[{"$f":"'kosten tabel 2015'!A1998","v":199500},null,{"$f":"'kosten tabel 2015'!K1998","v":25100},{"$f":"'kosten tabel 2015'!L1998","v":26355}]
[{"$f":"'kosten tabel 2015'!A1999","v":199600},null,{"$f":"'kosten tabel 2015'!K1999","v":25100},{"$f":"'kosten tabel 2015'!L1999","v":26355}]
[{"$f":"'kosten tabel 2015'!A2000","v":199700},null,{"$f":"'kosten tabel 2015'!K2000","v":25100},{"$f":"'kosten tabel 2015'!L2000","v":26355}]
[{"$f":"'kosten tabel 2015'!A2001","v":199800},null,{"$f":"'kosten tabel 2015'!K2001","v":25100},{"$f":"'kosten tabel 2015'!L2001","v":26355}]
[{"$f":"'kosten tabel 2015'!A2002","v":199900},null,{"$f":"'kosten tabel 2015'!K2002","v":25100},{"$f":"'kosten tabel 2015'!L2002","v":26355}]
[{"$f":"'kosten tabel 2015'!A2003","v":200000},null,{"$f":"'kosten tabel 2015'!K2003","v":25100},{"$f":"'kosten tabel 2015'!L2003","v":26355}]
[{"$f":"'kosten tabel 2015'!A2004","v":200100},null,{"$f":"'kosten tabel 2015'!K2004","v":25100},{"$f":"'kosten tabel 2015'!L2004","v":26355}]
[{"$f":"'kosten tabel 2015'!A2005","v":200200},null,{"$f":"'kosten tabel 2015'!K2005","v":25100},{"$f":"'kosten tabel 2015'!L2005","v":26355}]
[{"$f":"'kosten tabel 2015'!A2006","v":200300},null,{"$f":"'kosten tabel 2015'!K2006","v":25100},{"$f":"'kosten tabel 2015'!L2006","v":26355}]
[{"$f":"'kosten tabel 2015'!A2007","v":200400},null,{"$f":"'kosten tabel 2015'!K2007","v":25100},{"$f":"'kosten tabel 2015'!L2007","v":26355}]
[{"$f":"'kosten tabel 2015'!A2008","v":200500},null,{"$f":"'kosten tabel 2015'!K2008","v":25200},{"$f":"'kosten tabel 2015'!L2008","v":26460}]
[{"$f":"'kosten tabel 2015'!A2009","v":200600},null,{"$f":"'kosten tabel 2015'!K2009","v":25200},{"$f":"'kosten tabel 2015'!L2009","v":26460}]
[{"$f":"'kosten tabel 2015'!A2010","v":200700},null,{"$f":"'kosten tabel 2015'!K2010","v":25200},{"$f":"'kosten tabel 2015'!L2010","v":26460}]
[{"$f":"'kosten tabel 2015'!A2011","v":200800},null,{"$f":"'kosten tabel 2015'!K2011","v":25200},{"$f":"'kosten tabel 2015'!L2011","v":26460}]
[{"$f":"'kosten tabel 2015'!A2012","v":200900},null,{"$f":"'kosten tabel 2015'!K2012","v":25200},{"$f":"'kosten tabel 2015'!L2012","v":26460}]
[{"$f":"'kosten tabel 2015'!A2013","v":201000},null,{"$f":"'kosten tabel 2015'!K2013","v":25200},{"$f":"'kosten tabel 2015'!L2013","v":26460}]
[{"$f":"'kosten tabel 2015'!A2014","v":201100},null,{"$f":"'kosten tabel 2015'!K2014","v":25200},{"$f":"'kosten tabel 2015'!L2014","v":26460}]
[{"$f":"'kosten tabel 2015'!A2015","v":201200},null,{"$f":"'kosten tabel 2015'!K2015","v":25200},{"$f":"'kosten tabel 2015'!L2015","v":26460}]
[{"$f":"'kosten tabel 2015'!A2016","v":201300},null,{"$f":"'kosten tabel 2015'!K2016","v":25200},{"$f":"'kosten tabel 2015'!L2016","v":26460}]
[{"$f":"'kosten tabel 2015'!A2017","v":201400},null,{"$f":"'kosten tabel 2015'!K2017","v":25200},{"$f":"'kosten tabel 2015'!L2017","v":26460}]
[{"$f":"'kosten tabel 2015'!A2018","v":201500},null,{"$f":"'kosten tabel 2015'!K2018","v":25300},{"$f":"'kosten tabel 2015'!L2018","v":26565}]
[{"$f":"'kosten tabel 2015'!A2019","v":201600},null,{"$f":"'kosten tabel 2015'!K2019","v":25300},{"$f":"'kosten tabel 2015'!L2019","v":26565}]
[{"$f":"'kosten tabel 2015'!A2020","v":201700},null,{"$f":"'kosten tabel 2015'!K2020","v":25300},{"$f":"'kosten tabel 2015'!L2020","v":26565}]
[{"$f":"'kosten tabel 2015'!A2021","v":201800},null,{"$f":"'kosten tabel 2015'!K2021","v":25300},{"$f":"'kosten tabel 2015'!L2021","v":26565}]
[{"$f":"'kosten tabel 2015'!A2022","v":201900},null,{"$f":"'kosten tabel 2015'!K2022","v":25300},{"$f":"'kosten tabel 2015'!L2022","v":26565}]
[{"$f":"'kosten tabel 2015'!A2023","v":202000},null,{"$f":"'kosten tabel 2015'!K2023","v":25300},{"$f":"'kosten tabel 2015'!L2023","v":26565}]
[{"$f":"'kosten tabel 2015'!A2024","v":202100},null,{"$f":"'kosten tabel 2015'!K2024","v":25300},{"$f":"'kosten tabel 2015'!L2024","v":26565}]
[{"$f":"'kosten tabel 2015'!A2025","v":202200},null,{"$f":"'kosten tabel 2015'!K2025","v":25300},{"$f":"'kosten tabel 2015'!L2025","v":26565}]
[{"$f":"'kosten tabel 2015'!A2026","v":202300},null,{"$f":"'kosten tabel 2015'!K2026","v":25300},{"$f":"'kosten tabel 2015'!L2026","v":26565}]
[{"$f":"'kosten tabel 2015'!A2027","v":202400},null,{"$f":"'kosten tabel 2015'!K2027","v":25300},{"$f":"'kosten tabel 2015'!L2027","v":26565}]
[{"$f":"'kosten tabel 2015'!A2028","v":202500},null,{"$f":"'kosten tabel 2015'!K2028","v":25300},{"$f":"'kosten tabel 2015'!L2028","v":26565}]
[{"$f":"'kosten tabel 2015'!A2029","v":202600},null,{"$f":"'kosten tabel 2015'!K2029","v":25400},{"$f":"'kosten tabel 2015'!L2029","v":26670}]
[{"$f":"'kosten tabel 2015'!A2030","v":202700},null,{"$f":"'kosten tabel 2015'!K2030","v":25400},{"$f":"'kosten tabel 2015'!L2030","v":26670}]
[{"$f":"'kosten tabel 2015'!A2031","v":202800},null,{"$f":"'kosten tabel 2015'!K2031","v":25400},{"$f":"'kosten tabel 2015'!L2031","v":26670}]
[{"$f":"'kosten tabel 2015'!A2032","v":202900},null,{"$f":"'kosten tabel 2015'!K2032","v":25400},{"$f":"'kosten tabel 2015'!L2032","v":26670}]
[{"$f":"'kosten tabel 2015'!A2033","v":203000},null,{"$f":"'kosten tabel 2015'!K2033","v":25400},{"$f":"'kosten tabel 2015'!L2033","v":26670}]
[{"$f":"'kosten tabel 2015'!A2034","v":203100},null,{"$f":"'kosten tabel 2015'!K2034","v":25400},{"$f":"'kosten tabel 2015'!L2034","v":26670}]
[{"$f":"'kosten tabel 2015'!A2035","v":203200},null,{"$f":"'kosten tabel 2015'!K2035","v":25400},{"$f":"'kosten tabel 2015'!L2035","v":26670}]
[{"$f":"'kosten tabel 2015'!A2036","v":203300},null,{"$f":"'kosten tabel 2015'!K2036","v":25400},{"$f":"'kosten tabel 2015'!L2036","v":26670}]
[{"$f":"'kosten tabel 2015'!A2037","v":203400},null,{"$f":"'kosten tabel 2015'!K2037","v":25400},{"$f":"'kosten tabel 2015'!L2037","v":26670}]
[{"$f":"'kosten tabel 2015'!A2038","v":203500},null,{"$f":"'kosten tabel 2015'!K2038","v":25400},{"$f":"'kosten tabel 2015'!L2038","v":26670}]
[{"$f":"'kosten tabel 2015'!A2039","v":203600},null,{"$f":"'kosten tabel 2015'!K2039","v":25500},{"$f":"'kosten tabel 2015'!L2039","v":26775}]
[{"$f":"'kosten tabel 2015'!A2040","v":203700},null,{"$f":"'kosten tabel 2015'!K2040","v":25500},{"$f":"'kosten tabel 2015'!L2040","v":26775}]
[{"$f":"'kosten tabel 2015'!A2041","v":203800},null,{"$f":"'kosten tabel 2015'!K2041","v":25500},{"$f":"'kosten tabel 2015'!L2041","v":26775}]
[{"$f":"'kosten tabel 2015'!A2042","v":203900},null,{"$f":"'kosten tabel 2015'!K2042","v":25500},{"$f":"'kosten tabel 2015'!L2042","v":26775}]
[{"$f":"'kosten tabel 2015'!A2043","v":204000},null,{"$f":"'kosten tabel 2015'!K2043","v":25500},{"$f":"'kosten tabel 2015'!L2043","v":26775}]
[{"$f":"'kosten tabel 2015'!A2044","v":204100},null,{"$f":"'kosten tabel 2015'!K2044","v":25500},{"$f":"'kosten tabel 2015'!L2044","v":26775}]
[{"$f":"'kosten tabel 2015'!A2045","v":204200},null,{"$f":"'kosten tabel 2015'!K2045","v":25500},{"$f":"'kosten tabel 2015'!L2045","v":26775}]
[{"$f":"'kosten tabel 2015'!A2046","v":204300},null,{"$f":"'kosten tabel 2015'!K2046","v":25500},{"$f":"'kosten tabel 2015'!L2046","v":26775}]
[{"$f":"'kosten tabel 2015'!A2047","v":204400},null,{"$f":"'kosten tabel 2015'!K2047","v":25500},{"$f":"'kosten tabel 2015'!L2047","v":26775}]
[{"$f":"'kosten tabel 2015'!A2048","v":204500},null,{"$f":"'kosten tabel 2015'!K2048","v":25500},{"$f":"'kosten tabel 2015'!L2048","v":26775}]
[{"$f":"'kosten tabel 2015'!A2049","v":204600},null,{"$f":"'kosten tabel 2015'!K2049","v":25600},{"$f":"'kosten tabel 2015'!L2049","v":26880}]
[{"$f":"'kosten tabel 2015'!A2050","v":204700},null,{"$f":"'kosten tabel 2015'!K2050","v":25600},{"$f":"'kosten tabel 2015'!L2050","v":26880}]
[{"$f":"'kosten tabel 2015'!A2051","v":204800},null,{"$f":"'kosten tabel 2015'!K2051","v":25600},{"$f":"'kosten tabel 2015'!L2051","v":26880}]
[{"$f":"'kosten tabel 2015'!A2052","v":204900},null,{"$f":"'kosten tabel 2015'!K2052","v":25600},{"$f":"'kosten tabel 2015'!L2052","v":26880}]
[{"$f":"'kosten tabel 2015'!A2053","v":205000},null,{"$f":"'kosten tabel 2015'!K2053","v":25600},{"$f":"'kosten tabel 2015'!L2053","v":26880}]
[{"$f":"'kosten tabel 2015'!A2054","v":205100},null,{"$f":"'kosten tabel 2015'!K2054","v":25600},{"$f":"'kosten tabel 2015'!L2054","v":26880}]
[{"$f":"'kosten tabel 2015'!A2055","v":205200},null,{"$f":"'kosten tabel 2015'!K2055","v":25600},{"$f":"'kosten tabel 2015'!L2055","v":26880}]
[{"$f":"'kosten tabel 2015'!A2056","v":205300},null,{"$f":"'kosten tabel 2015'!K2056","v":25600},{"$f":"'kosten tabel 2015'!L2056","v":26880}]
[{"$f":"'kosten tabel 2015'!A2057","v":205400},null,{"$f":"'kosten tabel 2015'!K2057","v":25600},{"$f":"'kosten tabel 2015'!L2057","v":26880}]
[{"$f":"'kosten tabel 2015'!A2058","v":205500},null,{"$f":"'kosten tabel 2015'!K2058","v":25600},{"$f":"'kosten tabel 2015'!L2058","v":26880}]
[{"$f":"'kosten tabel 2015'!A2059","v":205600},null,{"$f":"'kosten tabel 2015'!K2059","v":25700},{"$f":"'kosten tabel 2015'!L2059","v":26985}]
[{"$f":"'kosten tabel 2015'!A2060","v":205700},null,{"$f":"'kosten tabel 2015'!K2060","v":25700},{"$f":"'kosten tabel 2015'!L2060","v":26985}]
[{"$f":"'kosten tabel 2015'!A2061","v":205800},null,{"$f":"'kosten tabel 2015'!K2061","v":25700},{"$f":"'kosten tabel 2015'!L2061","v":26985}]
[{"$f":"'kosten tabel 2015'!A2062","v":205900},null,{"$f":"'kosten tabel 2015'!K2062","v":25700},{"$f":"'kosten tabel 2015'!L2062","v":26985}]
[{"$f":"'kosten tabel 2015'!A2063","v":206000},null,{"$f":"'kosten tabel 2015'!K2063","v":25700},{"$f":"'kosten tabel 2015'!L2063","v":26985}]
[{"$f":"'kosten tabel 2015'!A2064","v":206100},null,{"$f":"'kosten tabel 2015'!K2064","v":25700},{"$f":"'kosten tabel 2015'!L2064","v":26985}]
[{"$f":"'kosten tabel 2015'!A2065","v":206200},null,{"$f":"'kosten tabel 2015'!K2065","v":25700},{"$f":"'kosten tabel 2015'!L2065","v":26985}]
[{"$f":"'kosten tabel 2015'!A2066","v":206300},null,{"$f":"'kosten tabel 2015'!K2066","v":25700},{"$f":"'kosten tabel 2015'!L2066","v":26985}]
[{"$f":"'kosten tabel 2015'!A2067","v":206400},null,{"$f":"'kosten tabel 2015'!K2067","v":25700},{"$f":"'kosten tabel 2015'!L2067","v":26985}]
[{"$f":"'kosten tabel 2015'!A2068","v":206500},null,{"$f":"'kosten tabel 2015'!K2068","v":25700},{"$f":"'kosten tabel 2015'!L2068","v":26985}]
[{"$f":"'kosten tabel 2015'!A2069","v":206600},null,{"$f":"'kosten tabel 2015'!K2069","v":25800},{"$f":"'kosten tabel 2015'!L2069","v":27090}]
[{"$f":"'kosten tabel 2015'!A2070","v":206700},null,{"$f":"'kosten tabel 2015'!K2070","v":25800},{"$f":"'kosten tabel 2015'!L2070","v":27090}]
[{"$f":"'kosten tabel 2015'!A2071","v":206800},null,{"$f":"'kosten tabel 2015'!K2071","v":25800},{"$f":"'kosten tabel 2015'!L2071","v":27090}]
[{"$f":"'kosten tabel 2015'!A2072","v":206900},null,{"$f":"'kosten tabel 2015'!K2072","v":25800},{"$f":"'kosten tabel 2015'!L2072","v":27090}]
[{"$f":"'kosten tabel 2015'!A2073","v":207000},null,{"$f":"'kosten tabel 2015'!K2073","v":25800},{"$f":"'kosten tabel 2015'!L2073","v":27090}]
[{"$f":"'kosten tabel 2015'!A2074","v":207100},null,{"$f":"'kosten tabel 2015'!K2074","v":25800},{"$f":"'kosten tabel 2015'!L2074","v":27090}]
[{"$f":"'kosten tabel 2015'!A2075","v":207200},null,{"$f":"'kosten tabel 2015'!K2075","v":25800},{"$f":"'kosten tabel 2015'!L2075","v":27090}]
[{"$f":"'kosten tabel 2015'!A2076","v":207300},null,{"$f":"'kosten tabel 2015'!K2076","v":25800},{"$f":"'kosten tabel 2015'!L2076","v":27090}]
[{"$f":"'kosten tabel 2015'!A2077","v":207400},null,{"$f":"'kosten tabel 2015'!K2077","v":25800},{"$f":"'kosten tabel 2015'!L2077","v":27090}]
[{"$f":"'kosten tabel 2015'!A2078","v":207500},null,{"$f":"'kosten tabel 2015'!K2078","v":25800},{"$f":"'kosten tabel 2015'!L2078","v":27090}]
[{"$f":"'kosten tabel 2015'!A2079","v":207600},null,{"$f":"'kosten tabel 2015'!K2079","v":25900},{"$f":"'kosten tabel 2015'!L2079","v":27195}]
[{"$f":"'kosten tabel 2015'!A2080","v":207700},null,{"$f":"'kosten tabel 2015'!K2080","v":25900},{"$f":"'kosten tabel 2015'!L2080","v":27195}]
[{"$f":"'kosten tabel 2015'!A2081","v":207800},null,{"$f":"'kosten tabel 2015'!K2081","v":25900},{"$f":"'kosten tabel 2015'!L2081","v":27195}]
[{"$f":"'kosten tabel 2015'!A2082","v":207900},null,{"$f":"'kosten tabel 2015'!K2082","v":25900},{"$f":"'kosten tabel 2015'!L2082","v":27195}]
[{"$f":"'kosten tabel 2015'!A2083","v":208000},null,{"$f":"'kosten tabel 2015'!K2083","v":25900},{"$f":"'kosten tabel 2015'!L2083","v":27195}]
[{"$f":"'kosten tabel 2015'!A2084","v":208100},null,{"$f":"'kosten tabel 2015'!K2084","v":25900},{"$f":"'kosten tabel 2015'!L2084","v":27195}]
[{"$f":"'kosten tabel 2015'!A2085","v":208200},null,{"$f":"'kosten tabel 2015'!K2085","v":25900},{"$f":"'kosten tabel 2015'!L2085","v":27195}]
[{"$f":"'kosten tabel 2015'!A2086","v":208300},null,{"$f":"'kosten tabel 2015'!K2086","v":25900},{"$f":"'kosten tabel 2015'!L2086","v":27195}]
[{"$f":"'kosten tabel 2015'!A2087","v":208400},null,{"$f":"'kosten tabel 2015'!K2087","v":25900},{"$f":"'kosten tabel 2015'!L2087","v":27195}]
[{"$f":"'kosten tabel 2015'!A2088","v":208500},null,{"$f":"'kosten tabel 2015'!K2088","v":25900},{"$f":"'kosten tabel 2015'!L2088","v":27195}]
[{"$f":"'kosten tabel 2015'!A2089","v":208600},null,{"$f":"'kosten tabel 2015'!K2089","v":26000},{"$f":"'kosten tabel 2015'!L2089","v":27300}]
[{"$f":"'kosten tabel 2015'!A2090","v":208700},null,{"$f":"'kosten tabel 2015'!K2090","v":26000},{"$f":"'kosten tabel 2015'!L2090","v":27300}]
[{"$f":"'kosten tabel 2015'!A2091","v":208800},null,{"$f":"'kosten tabel 2015'!K2091","v":26000},{"$f":"'kosten tabel 2015'!L2091","v":27300}]
[{"$f":"'kosten tabel 2015'!A2092","v":208900},null,{"$f":"'kosten tabel 2015'!K2092","v":26000},{"$f":"'kosten tabel 2015'!L2092","v":27300}]
[{"$f":"'kosten tabel 2015'!A2093","v":209000},null,{"$f":"'kosten tabel 2015'!K2093","v":26000},{"$f":"'kosten tabel 2015'!L2093","v":27300}]
[{"$f":"'kosten tabel 2015'!A2094","v":209100},null,{"$f":"'kosten tabel 2015'!K2094","v":26000},{"$f":"'kosten tabel 2015'!L2094","v":27300}]
[{"$f":"'kosten tabel 2015'!A2095","v":209200},null,{"$f":"'kosten tabel 2015'!K2095","v":26000},{"$f":"'kosten tabel 2015'!L2095","v":27300}]
[{"$f":"'kosten tabel 2015'!A2096","v":209300},null,{"$f":"'kosten tabel 2015'!K2096","v":26000},{"$f":"'kosten tabel 2015'!L2096","v":27300}]
[{"$f":"'kosten tabel 2015'!A2097","v":209400},null,{"$f":"'kosten tabel 2015'!K2097","v":26000},{"$f":"'kosten tabel 2015'!L2097","v":27300}]
[{"$f":"'kosten tabel 2015'!A2098","v":209500},null,{"$f":"'kosten tabel 2015'!K2098","v":26000},{"$f":"'kosten tabel 2015'!L2098","v":27300}]
[{"$f":"'kosten tabel 2015'!A2099","v":209600},null,{"$f":"'kosten tabel 2015'!K2099","v":26000},{"$f":"'kosten tabel 2015'!L2099","v":27300}]
[{"$f":"'kosten tabel 2015'!A2100","v":209700},null,{"$f":"'kosten tabel 2015'!K2100","v":26100},{"$f":"'kosten tabel 2015'!L2100","v":27405}]
[{"$f":"'kosten tabel 2015'!A2101","v":209800},null,{"$f":"'kosten tabel 2015'!K2101","v":26100},{"$f":"'kosten tabel 2015'!L2101","v":27405}]
[{"$f":"'kosten tabel 2015'!A2102","v":209900},null,{"$f":"'kosten tabel 2015'!K2102","v":26100},{"$f":"'kosten tabel 2015'!L2102","v":27405}]
[{"$f":"'kosten tabel 2015'!A2103","v":210000},null,{"$f":"'kosten tabel 2015'!K2103","v":26100},{"$f":"'kosten tabel 2015'!L2103","v":27405}]
[{"$f":"'kosten tabel 2015'!A2104","v":210100},null,{"$f":"'kosten tabel 2015'!K2104","v":26100},{"$f":"'kosten tabel 2015'!L2104","v":27405}]
[{"$f":"'kosten tabel 2015'!A2105","v":210200},null,{"$f":"'kosten tabel 2015'!K2105","v":26100},{"$f":"'kosten tabel 2015'!L2105","v":27405}]
[{"$f":"'kosten tabel 2015'!A2106","v":210300},null,{"$f":"'kosten tabel 2015'!K2106","v":26100},{"$f":"'kosten tabel 2015'!L2106","v":27405}]
[{"$f":"'kosten tabel 2015'!A2107","v":210400},null,{"$f":"'kosten tabel 2015'!K2107","v":26100},{"$f":"'kosten tabel 2015'!L2107","v":27405}]
[{"$f":"'kosten tabel 2015'!A2108","v":210500},null,{"$f":"'kosten tabel 2015'!K2108","v":26100},{"$f":"'kosten tabel 2015'!L2108","v":27405}]
[{"$f":"'kosten tabel 2015'!A2109","v":210600},null,{"$f":"'kosten tabel 2015'!K2109","v":26100},{"$f":"'kosten tabel 2015'!L2109","v":27405}]
[{"$f":"'kosten tabel 2015'!A2110","v":210700},null,{"$f":"'kosten tabel 2015'!K2110","v":26200},{"$f":"'kosten tabel 2015'!L2110","v":27510}]
[{"$f":"'kosten tabel 2015'!A2111","v":210800},null,{"$f":"'kosten tabel 2015'!K2111","v":26200},{"$f":"'kosten tabel 2015'!L2111","v":27510}]
[{"$f":"'kosten tabel 2015'!A2112","v":210900},null,{"$f":"'kosten tabel 2015'!K2112","v":26200},{"$f":"'kosten tabel 2015'!L2112","v":27510}]
[{"$f":"'kosten tabel 2015'!A2113","v":211000},null,{"$f":"'kosten tabel 2015'!K2113","v":26200},{"$f":"'kosten tabel 2015'!L2113","v":27510}]
[{"$f":"'kosten tabel 2015'!A2114","v":211100},null,{"$f":"'kosten tabel 2015'!K2114","v":26200},{"$f":"'kosten tabel 2015'!L2114","v":27510}]
[{"$f":"'kosten tabel 2015'!A2115","v":211200},null,{"$f":"'kosten tabel 2015'!K2115","v":26200},{"$f":"'kosten tabel 2015'!L2115","v":27510}]
[{"$f":"'kosten tabel 2015'!A2116","v":211300},null,{"$f":"'kosten tabel 2015'!K2116","v":26200},{"$f":"'kosten tabel 2015'!L2116","v":27510}]
[{"$f":"'kosten tabel 2015'!A2117","v":211400},null,{"$f":"'kosten tabel 2015'!K2117","v":26200},{"$f":"'kosten tabel 2015'!L2117","v":27510}]
[{"$f":"'kosten tabel 2015'!A2118","v":211500},null,{"$f":"'kosten tabel 2015'!K2118","v":26200},{"$f":"'kosten tabel 2015'!L2118","v":27510}]
[{"$f":"'kosten tabel 2015'!A2119","v":211600},null,{"$f":"'kosten tabel 2015'!K2119","v":26200},{"$f":"'kosten tabel 2015'!L2119","v":27510}]
[{"$f":"'kosten tabel 2015'!A2120","v":211700},null,{"$f":"'kosten tabel 2015'!K2120","v":26300},{"$f":"'kosten tabel 2015'!L2120","v":27615}]
[{"$f":"'kosten tabel 2015'!A2121","v":211800},null,{"$f":"'kosten tabel 2015'!K2121","v":26300},{"$f":"'kosten tabel 2015'!L2121","v":27615}]
[{"$f":"'kosten tabel 2015'!A2122","v":211900},null,{"$f":"'kosten tabel 2015'!K2122","v":26300},{"$f":"'kosten tabel 2015'!L2122","v":27615}]
[{"$f":"'kosten tabel 2015'!A2123","v":212000},null,{"$f":"'kosten tabel 2015'!K2123","v":26300},{"$f":"'kosten tabel 2015'!L2123","v":27615}]
[{"$f":"'kosten tabel 2015'!A2124","v":212100},null,{"$f":"'kosten tabel 2015'!K2124","v":26300},{"$f":"'kosten tabel 2015'!L2124","v":27615}]
[{"$f":"'kosten tabel 2015'!A2125","v":212200},null,{"$f":"'kosten tabel 2015'!K2125","v":26300},{"$f":"'kosten tabel 2015'!L2125","v":27615}]
[{"$f":"'kosten tabel 2015'!A2126","v":212300},null,{"$f":"'kosten tabel 2015'!K2126","v":26300},{"$f":"'kosten tabel 2015'!L2126","v":27615}]
[{"$f":"'kosten tabel 2015'!A2127","v":212400},null,{"$f":"'kosten tabel 2015'!K2127","v":26300},{"$f":"'kosten tabel 2015'!L2127","v":27615}]
[{"$f":"'kosten tabel 2015'!A2128","v":212500},null,{"$f":"'kosten tabel 2015'!K2128","v":26300},{"$f":"'kosten tabel 2015'!L2128","v":27615}]
[{"$f":"'kosten tabel 2015'!A2129","v":212600},null,{"$f":"'kosten tabel 2015'!K2129","v":26300},{"$f":"'kosten tabel 2015'!L2129","v":27615}]
[{"$f":"'kosten tabel 2015'!A2130","v":212700},null,{"$f":"'kosten tabel 2015'!K2130","v":26400},{"$f":"'kosten tabel 2015'!L2130","v":27720}]
[{"$f":"'kosten tabel 2015'!A2131","v":212800},null,{"$f":"'kosten tabel 2015'!K2131","v":26400},{"$f":"'kosten tabel 2015'!L2131","v":27720}]
[{"$f":"'kosten tabel 2015'!A2132","v":212900},null,{"$f":"'kosten tabel 2015'!K2132","v":26400},{"$f":"'kosten tabel 2015'!L2132","v":27720}]
[{"$f":"'kosten tabel 2015'!A2133","v":213000},null,{"$f":"'kosten tabel 2015'!K2133","v":26400},{"$f":"'kosten tabel 2015'!L2133","v":27720}]
[{"$f":"'kosten tabel 2015'!A2134","v":213100},null,{"$f":"'kosten tabel 2015'!K2134","v":26400},{"$f":"'kosten tabel 2015'!L2134","v":27720}]
[{"$f":"'kosten tabel 2015'!A2135","v":213200},null,{"$f":"'kosten tabel 2015'!K2135","v":26400},{"$f":"'kosten tabel 2015'!L2135","v":27720}]
[{"$f":"'kosten tabel 2015'!A2136","v":213300},null,{"$f":"'kosten tabel 2015'!K2136","v":26400},{"$f":"'kosten tabel 2015'!L2136","v":27720}]
[{"$f":"'kosten tabel 2015'!A2137","v":213400},null,{"$f":"'kosten tabel 2015'!K2137","v":26400},{"$f":"'kosten tabel 2015'!L2137","v":27720}]
[{"$f":"'kosten tabel 2015'!A2138","v":213500},null,{"$f":"'kosten tabel 2015'!K2138","v":26400},{"$f":"'kosten tabel 2015'!L2138","v":27720}]
[{"$f":"'kosten tabel 2015'!A2139","v":213600},null,{"$f":"'kosten tabel 2015'!K2139","v":26400},{"$f":"'kosten tabel 2015'!L2139","v":27720}]
[{"$f":"'kosten tabel 2015'!A2140","v":213700},null,{"$f":"'kosten tabel 2015'!K2140","v":26500},{"$f":"'kosten tabel 2015'!L2140","v":27825}]
[{"$f":"'kosten tabel 2015'!A2141","v":213800},null,{"$f":"'kosten tabel 2015'!K2141","v":26500},{"$f":"'kosten tabel 2015'!L2141","v":27825}]
[{"$f":"'kosten tabel 2015'!A2142","v":213900},null,{"$f":"'kosten tabel 2015'!K2142","v":26500},{"$f":"'kosten tabel 2015'!L2142","v":27825}]
[{"$f":"'kosten tabel 2015'!A2143","v":214000},null,{"$f":"'kosten tabel 2015'!K2143","v":26500},{"$f":"'kosten tabel 2015'!L2143","v":27825}]
[{"$f":"'kosten tabel 2015'!A2144","v":214100},null,{"$f":"'kosten tabel 2015'!K2144","v":26500},{"$f":"'kosten tabel 2015'!L2144","v":27825}]
[{"$f":"'kosten tabel 2015'!A2145","v":214200},null,{"$f":"'kosten tabel 2015'!K2145","v":26500},{"$f":"'kosten tabel 2015'!L2145","v":27825}]
[{"$f":"'kosten tabel 2015'!A2146","v":214300},null,{"$f":"'kosten tabel 2015'!K2146","v":26500},{"$f":"'kosten tabel 2015'!L2146","v":27825}]
[{"$f":"'kosten tabel 2015'!A2147","v":214400},null,{"$f":"'kosten tabel 2015'!K2147","v":26500},{"$f":"'kosten tabel 2015'!L2147","v":27825}]
[{"$f":"'kosten tabel 2015'!A2148","v":214500},null,{"$f":"'kosten tabel 2015'!K2148","v":26500},{"$f":"'kosten tabel 2015'!L2148","v":27825}]
[{"$f":"'kosten tabel 2015'!A2149","v":214600},null,{"$f":"'kosten tabel 2015'!K2149","v":26500},{"$f":"'kosten tabel 2015'!L2149","v":27825}]
[{"$f":"'kosten tabel 2015'!A2150","v":214700},null,{"$f":"'kosten tabel 2015'!K2150","v":26600},{"$f":"'kosten tabel 2015'!L2150","v":27930}]
[{"$f":"'kosten tabel 2015'!A2151","v":214800},null,{"$f":"'kosten tabel 2015'!K2151","v":26600},{"$f":"'kosten tabel 2015'!L2151","v":27930}]
[{"$f":"'kosten tabel 2015'!A2152","v":214900},null,{"$f":"'kosten tabel 2015'!K2152","v":26600},{"$f":"'kosten tabel 2015'!L2152","v":27930}]
[{"$f":"'kosten tabel 2015'!A2153","v":215000},null,{"$f":"'kosten tabel 2015'!K2153","v":26600},{"$f":"'kosten tabel 2015'!L2153","v":27930}]
[{"$f":"'kosten tabel 2015'!A2154","v":215100},null,{"$f":"'kosten tabel 2015'!K2154","v":26600},{"$f":"'kosten tabel 2015'!L2154","v":27930}]
[{"$f":"'kosten tabel 2015'!A2155","v":215200},null,{"$f":"'kosten tabel 2015'!K2155","v":26600},{"$f":"'kosten tabel 2015'!L2155","v":27930}]
[{"$f":"'kosten tabel 2015'!A2156","v":215300},null,{"$f":"'kosten tabel 2015'!K2156","v":26600},{"$f":"'kosten tabel 2015'!L2156","v":27930}]
[{"$f":"'kosten tabel 2015'!A2157","v":215400},null,{"$f":"'kosten tabel 2015'!K2157","v":26600},{"$f":"'kosten tabel 2015'!L2157","v":27930}]
[{"$f":"'kosten tabel 2015'!A2158","v":215500},null,{"$f":"'kosten tabel 2015'!K2158","v":26600},{"$f":"'kosten tabel 2015'!L2158","v":27930}]
[{"$f":"'kosten tabel 2015'!A2159","v":215600},null,{"$f":"'kosten tabel 2015'!K2159","v":26600},{"$f":"'kosten tabel 2015'!L2159","v":27930}]
[{"$f":"'kosten tabel 2015'!A2160","v":215700},null,{"$f":"'kosten tabel 2015'!K2160","v":26600},{"$f":"'kosten tabel 2015'!L2160","v":27930}]
[{"$f":"'kosten tabel 2015'!A2161","v":215800},null,{"$f":"'kosten tabel 2015'!K2161","v":26700},{"$f":"'kosten tabel 2015'!L2161","v":28035}]
[{"$f":"'kosten tabel 2015'!A2162","v":215900},null,{"$f":"'kosten tabel 2015'!K2162","v":26700},{"$f":"'kosten tabel 2015'!L2162","v":28035}]
[{"$f":"'kosten tabel 2015'!A2163","v":216000},null,{"$f":"'kosten tabel 2015'!K2163","v":26700},{"$f":"'kosten tabel 2015'!L2163","v":28035}]
[{"$f":"'kosten tabel 2015'!A2164","v":216100},null,{"$f":"'kosten tabel 2015'!K2164","v":26700},{"$f":"'kosten tabel 2015'!L2164","v":28035}]
[{"$f":"'kosten tabel 2015'!A2165","v":216200},null,{"$f":"'kosten tabel 2015'!K2165","v":26700},{"$f":"'kosten tabel 2015'!L2165","v":28035}]
[{"$f":"'kosten tabel 2015'!A2166","v":216300},null,{"$f":"'kosten tabel 2015'!K2166","v":26700},{"$f":"'kosten tabel 2015'!L2166","v":28035}]
[{"$f":"'kosten tabel 2015'!A2167","v":216400},null,{"$f":"'kosten tabel 2015'!K2167","v":26700},{"$f":"'kosten tabel 2015'!L2167","v":28035}]
[{"$f":"'kosten tabel 2015'!A2168","v":216500},null,{"$f":"'kosten tabel 2015'!K2168","v":26700},{"$f":"'kosten tabel 2015'!L2168","v":28035}]
[{"$f":"'kosten tabel 2015'!A2169","v":216600},null,{"$f":"'kosten tabel 2015'!K2169","v":26700},{"$f":"'kosten tabel 2015'!L2169","v":28035}]
[{"$f":"'kosten tabel 2015'!A2170","v":216700},null,{"$f":"'kosten tabel 2015'!K2170","v":26700},{"$f":"'kosten tabel 2015'!L2170","v":28035}]
[{"$f":"'kosten tabel 2015'!A2171","v":216800},null,{"$f":"'kosten tabel 2015'!K2171","v":26800},{"$f":"'kosten tabel 2015'!L2171","v":28140}]
[{"$f":"'kosten tabel 2015'!A2172","v":216900},null,{"$f":"'kosten tabel 2015'!K2172","v":26800},{"$f":"'kosten tabel 2015'!L2172","v":28140}]
[{"$f":"'kosten tabel 2015'!A2173","v":217000},null,{"$f":"'kosten tabel 2015'!K2173","v":26800},{"$f":"'kosten tabel 2015'!L2173","v":28140}]
[{"$f":"'kosten tabel 2015'!A2174","v":217100},null,{"$f":"'kosten tabel 2015'!K2174","v":26800},{"$f":"'kosten tabel 2015'!L2174","v":28140}]
[{"$f":"'kosten tabel 2015'!A2175","v":217200},null,{"$f":"'kosten tabel 2015'!K2175","v":26800},{"$f":"'kosten tabel 2015'!L2175","v":28140}]
[{"$f":"'kosten tabel 2015'!A2176","v":217300},null,{"$f":"'kosten tabel 2015'!K2176","v":26800},{"$f":"'kosten tabel 2015'!L2176","v":28140}]
[{"$f":"'kosten tabel 2015'!A2177","v":217400},null,{"$f":"'kosten tabel 2015'!K2177","v":26800},{"$f":"'kosten tabel 2015'!L2177","v":28140}]
[{"$f":"'kosten tabel 2015'!A2178","v":217500},null,{"$f":"'kosten tabel 2015'!K2178","v":26800},{"$f":"'kosten tabel 2015'!L2178","v":28140}]
[{"$f":"'kosten tabel 2015'!A2179","v":217600},null,{"$f":"'kosten tabel 2015'!K2179","v":26800},{"$f":"'kosten tabel 2015'!L2179","v":28140}]
[{"$f":"'kosten tabel 2015'!A2180","v":217700},null,{"$f":"'kosten tabel 2015'!K2180","v":26800},{"$f":"'kosten tabel 2015'!L2180","v":28140}]
[{"$f":"'kosten tabel 2015'!A2181","v":217800},null,{"$f":"'kosten tabel 2015'!K2181","v":26900},{"$f":"'kosten tabel 2015'!L2181","v":28245}]
[{"$f":"'kosten tabel 2015'!A2182","v":217900},null,{"$f":"'kosten tabel 2015'!K2182","v":26900},{"$f":"'kosten tabel 2015'!L2182","v":28245}]
[{"$f":"'kosten tabel 2015'!A2183","v":218000},null,{"$f":"'kosten tabel 2015'!K2183","v":26900},{"$f":"'kosten tabel 2015'!L2183","v":28245}]
[{"$f":"'kosten tabel 2015'!A2184","v":218100},null,{"$f":"'kosten tabel 2015'!K2184","v":26900},{"$f":"'kosten tabel 2015'!L2184","v":28245}]
[{"$f":"'kosten tabel 2015'!A2185","v":218200},null,{"$f":"'kosten tabel 2015'!K2185","v":26900},{"$f":"'kosten tabel 2015'!L2185","v":28245}]
[{"$f":"'kosten tabel 2015'!A2186","v":218300},null,{"$f":"'kosten tabel 2015'!K2186","v":26900},{"$f":"'kosten tabel 2015'!L2186","v":28245}]
[{"$f":"'kosten tabel 2015'!A2187","v":218400},null,{"$f":"'kosten tabel 2015'!K2187","v":26900},{"$f":"'kosten tabel 2015'!L2187","v":28245}]
[{"$f":"'kosten tabel 2015'!A2188","v":218500},null,{"$f":"'kosten tabel 2015'!K2188","v":26900},{"$f":"'kosten tabel 2015'!L2188","v":28245}]
[{"$f":"'kosten tabel 2015'!A2189","v":218600},null,{"$f":"'kosten tabel 2015'!K2189","v":26900},{"$f":"'kosten tabel 2015'!L2189","v":28245}]
[{"$f":"'kosten tabel 2015'!A2190","v":218700},null,{"$f":"'kosten tabel 2015'!K2190","v":26900},{"$f":"'kosten tabel 2015'!L2190","v":28245}]
[{"$f":"'kosten tabel 2015'!A2191","v":218800},null,{"$f":"'kosten tabel 2015'!K2191","v":27000},{"$f":"'kosten tabel 2015'!L2191","v":28350}]
[{"$f":"'kosten tabel 2015'!A2192","v":218900},null,{"$f":"'kosten tabel 2015'!K2192","v":27000},{"$f":"'kosten tabel 2015'!L2192","v":28350}]
[{"$f":"'kosten tabel 2015'!A2193","v":219000},null,{"$f":"'kosten tabel 2015'!K2193","v":27000},{"$f":"'kosten tabel 2015'!L2193","v":28350}]
[{"$f":"'kosten tabel 2015'!A2194","v":219100},null,{"$f":"'kosten tabel 2015'!K2194","v":27000},{"$f":"'kosten tabel 2015'!L2194","v":28350}]
[{"$f":"'kosten tabel 2015'!A2195","v":219200},null,{"$f":"'kosten tabel 2015'!K2195","v":27000},{"$f":"'kosten tabel 2015'!L2195","v":28350}]
[{"$f":"'kosten tabel 2015'!A2196","v":219300},null,{"$f":"'kosten tabel 2015'!K2196","v":27000},{"$f":"'kosten tabel 2015'!L2196","v":28350}]
[{"$f":"'kosten tabel 2015'!A2197","v":219400},null,{"$f":"'kosten tabel 2015'!K2197","v":27000},{"$f":"'kosten tabel 2015'!L2197","v":28350}]
[{"$f":"'kosten tabel 2015'!A2198","v":219500},null,{"$f":"'kosten tabel 2015'!K2198","v":27000},{"$f":"'kosten tabel 2015'!L2198","v":28350}]
[{"$f":"'kosten tabel 2015'!A2199","v":219600},null,{"$f":"'kosten tabel 2015'!K2199","v":27000},{"$f":"'kosten tabel 2015'!L2199","v":28350}]
[{"$f":"'kosten tabel 2015'!A2200","v":219700},null,{"$f":"'kosten tabel 2015'!K2200","v":27000},{"$f":"'kosten tabel 2015'!L2200","v":28350}]
[{"$f":"'kosten tabel 2015'!A2201","v":219800},null,{"$f":"'kosten tabel 2015'!K2201","v":27100},{"$f":"'kosten tabel 2015'!L2201","v":28455}]
[{"$f":"'kosten tabel 2015'!A2202","v":219900},null,{"$f":"'kosten tabel 2015'!K2202","v":27100},{"$f":"'kosten tabel 2015'!L2202","v":28455}]
[{"$f":"'kosten tabel 2015'!A2203","v":220000},null,{"$f":"'kosten tabel 2015'!K2203","v":27100},{"$f":"'kosten tabel 2015'!L2203","v":28455}]
[{"$f":"'kosten tabel 2015'!A2204","v":220100},null,{"$f":"'kosten tabel 2015'!K2204","v":27100},{"$f":"'kosten tabel 2015'!L2204","v":28455}]
[{"$f":"'kosten tabel 2015'!A2205","v":220200},null,{"$f":"'kosten tabel 2015'!K2205","v":27100},{"$f":"'kosten tabel 2015'!L2205","v":28455}]
[{"$f":"'kosten tabel 2015'!A2206","v":220300},null,{"$f":"'kosten tabel 2015'!K2206","v":27100},{"$f":"'kosten tabel 2015'!L2206","v":28455}]
[{"$f":"'kosten tabel 2015'!A2207","v":220400},null,{"$f":"'kosten tabel 2015'!K2207","v":27100},{"$f":"'kosten tabel 2015'!L2207","v":28455}]
[{"$f":"'kosten tabel 2015'!A2208","v":220500},null,{"$f":"'kosten tabel 2015'!K2208","v":27100},{"$f":"'kosten tabel 2015'!L2208","v":28455}]
[{"$f":"'kosten tabel 2015'!A2209","v":220600},null,{"$f":"'kosten tabel 2015'!K2209","v":27100},{"$f":"'kosten tabel 2015'!L2209","v":28455}]
[{"$f":"'kosten tabel 2015'!A2210","v":220700},null,{"$f":"'kosten tabel 2015'!K2210","v":27100},{"$f":"'kosten tabel 2015'!L2210","v":28455}]
[{"$f":"'kosten tabel 2015'!A2211","v":220800},null,{"$f":"'kosten tabel 2015'!K2211","v":27200},{"$f":"'kosten tabel 2015'!L2211","v":28560}]
[{"$f":"'kosten tabel 2015'!A2212","v":220900},null,{"$f":"'kosten tabel 2015'!K2212","v":27200},{"$f":"'kosten tabel 2015'!L2212","v":28560}]
[{"$f":"'kosten tabel 2015'!A2213","v":221000},null,{"$f":"'kosten tabel 2015'!K2213","v":27200},{"$f":"'kosten tabel 2015'!L2213","v":28560}]
[{"$f":"'kosten tabel 2015'!A2214","v":221100},null,{"$f":"'kosten tabel 2015'!K2214","v":27200},{"$f":"'kosten tabel 2015'!L2214","v":28560}]
[{"$f":"'kosten tabel 2015'!A2215","v":221200},null,{"$f":"'kosten tabel 2015'!K2215","v":27200},{"$f":"'kosten tabel 2015'!L2215","v":28560}]
[{"$f":"'kosten tabel 2015'!A2216","v":221300},null,{"$f":"'kosten tabel 2015'!K2216","v":27200},{"$f":"'kosten tabel 2015'!L2216","v":28560}]
[{"$f":"'kosten tabel 2015'!A2217","v":221400},null,{"$f":"'kosten tabel 2015'!K2217","v":27200},{"$f":"'kosten tabel 2015'!L2217","v":28560}]
[{"$f":"'kosten tabel 2015'!A2218","v":221500},null,{"$f":"'kosten tabel 2015'!K2218","v":27200},{"$f":"'kosten tabel 2015'!L2218","v":28560}]
[{"$f":"'kosten tabel 2015'!A2219","v":221600},null,{"$f":"'kosten tabel 2015'!K2219","v":27200},{"$f":"'kosten tabel 2015'!L2219","v":28560}]
[{"$f":"'kosten tabel 2015'!A2220","v":221700},null,{"$f":"'kosten tabel 2015'!K2220","v":27200},{"$f":"'kosten tabel 2015'!L2220","v":28560}]
[{"$f":"'kosten tabel 2015'!A2221","v":221800},null,{"$f":"'kosten tabel 2015'!K2221","v":27300},{"$f":"'kosten tabel 2015'!L2221","v":28665}]
[{"$f":"'kosten tabel 2015'!A2222","v":221900},null,{"$f":"'kosten tabel 2015'!K2222","v":27300},{"$f":"'kosten tabel 2015'!L2222","v":28665}]
[{"$f":"'kosten tabel 2015'!A2223","v":222000},null,{"$f":"'kosten tabel 2015'!K2223","v":27300},{"$f":"'kosten tabel 2015'!L2223","v":28665}]
[{"$f":"'kosten tabel 2015'!A2224","v":222100},null,{"$f":"'kosten tabel 2015'!K2224","v":27300},{"$f":"'kosten tabel 2015'!L2224","v":28665}]
[{"$f":"'kosten tabel 2015'!A2225","v":222200},null,{"$f":"'kosten tabel 2015'!K2225","v":27300},{"$f":"'kosten tabel 2015'!L2225","v":28665}]
[{"$f":"'kosten tabel 2015'!A2226","v":222300},null,{"$f":"'kosten tabel 2015'!K2226","v":27300},{"$f":"'kosten tabel 2015'!L2226","v":28665}]
[{"$f":"'kosten tabel 2015'!A2227","v":222400},null,{"$f":"'kosten tabel 2015'!K2227","v":27300},{"$f":"'kosten tabel 2015'!L2227","v":28665}]
[{"$f":"'kosten tabel 2015'!A2228","v":222500},null,{"$f":"'kosten tabel 2015'!K2228","v":27300},{"$f":"'kosten tabel 2015'!L2228","v":28665}]
[{"$f":"'kosten tabel 2015'!A2229","v":222600},null,{"$f":"'kosten tabel 2015'!K2229","v":27300},{"$f":"'kosten tabel 2015'!L2229","v":28665}]
[{"$f":"'kosten tabel 2015'!A2230","v":222700},null,{"$f":"'kosten tabel 2015'!K2230","v":27300},{"$f":"'kosten tabel 2015'!L2230","v":28665}]
[{"$f":"'kosten tabel 2015'!A2231","v":222800},null,{"$f":"'kosten tabel 2015'!K2231","v":27300},{"$f":"'kosten tabel 2015'!L2231","v":28665}]
[{"$f":"'kosten tabel 2015'!A2232","v":222900},null,{"$f":"'kosten tabel 2015'!K2232","v":27400},{"$f":"'kosten tabel 2015'!L2232","v":28770}]
[{"$f":"'kosten tabel 2015'!A2233","v":223000},null,{"$f":"'kosten tabel 2015'!K2233","v":27400},{"$f":"'kosten tabel 2015'!L2233","v":28770}]
[{"$f":"'kosten tabel 2015'!A2234","v":223100},null,{"$f":"'kosten tabel 2015'!K2234","v":27400},{"$f":"'kosten tabel 2015'!L2234","v":28770}]
[{"$f":"'kosten tabel 2015'!A2235","v":223200},null,{"$f":"'kosten tabel 2015'!K2235","v":27400},{"$f":"'kosten tabel 2015'!L2235","v":28770}]
[{"$f":"'kosten tabel 2015'!A2236","v":223300},null,{"$f":"'kosten tabel 2015'!K2236","v":27400},{"$f":"'kosten tabel 2015'!L2236","v":28770}]
[{"$f":"'kosten tabel 2015'!A2237","v":223400},null,{"$f":"'kosten tabel 2015'!K2237","v":27400},{"$f":"'kosten tabel 2015'!L2237","v":28770}]
[{"$f":"'kosten tabel 2015'!A2238","v":223500},null,{"$f":"'kosten tabel 2015'!K2238","v":27400},{"$f":"'kosten tabel 2015'!L2238","v":28770}]
[{"$f":"'kosten tabel 2015'!A2239","v":223600},null,{"$f":"'kosten tabel 2015'!K2239","v":27400},{"$f":"'kosten tabel 2015'!L2239","v":28770}]
[{"$f":"'kosten tabel 2015'!A2240","v":223700},null,{"$f":"'kosten tabel 2015'!K2240","v":27400},{"$f":"'kosten tabel 2015'!L2240","v":28770}]
[{"$f":"'kosten tabel 2015'!A2241","v":223800},null,{"$f":"'kosten tabel 2015'!K2241","v":27400},{"$f":"'kosten tabel 2015'!L2241","v":28770}]
[{"$f":"'kosten tabel 2015'!A2242","v":223900},null,{"$f":"'kosten tabel 2015'!K2242","v":27500},{"$f":"'kosten tabel 2015'!L2242","v":28875}]
[{"$f":"'kosten tabel 2015'!A2243","v":224000},null,{"$f":"'kosten tabel 2015'!K2243","v":27500},{"$f":"'kosten tabel 2015'!L2243","v":28875}]
[{"$f":"'kosten tabel 2015'!A2244","v":224100},null,{"$f":"'kosten tabel 2015'!K2244","v":27500},{"$f":"'kosten tabel 2015'!L2244","v":28875}]
[{"$f":"'kosten tabel 2015'!A2245","v":224200},null,{"$f":"'kosten tabel 2015'!K2245","v":27500},{"$f":"'kosten tabel 2015'!L2245","v":28875}]
[{"$f":"'kosten tabel 2015'!A2246","v":224300},null,{"$f":"'kosten tabel 2015'!K2246","v":27500},{"$f":"'kosten tabel 2015'!L2246","v":28875}]
[{"$f":"'kosten tabel 2015'!A2247","v":224400},null,{"$f":"'kosten tabel 2015'!K2247","v":27500},{"$f":"'kosten tabel 2015'!L2247","v":28875}]
[{"$f":"'kosten tabel 2015'!A2248","v":224500},null,{"$f":"'kosten tabel 2015'!K2248","v":27500},{"$f":"'kosten tabel 2015'!L2248","v":28875}]
[{"$f":"'kosten tabel 2015'!A2249","v":224600},null,{"$f":"'kosten tabel 2015'!K2249","v":27500},{"$f":"'kosten tabel 2015'!L2249","v":28875}]
[{"$f":"'kosten tabel 2015'!A2250","v":224700},null,{"$f":"'kosten tabel 2015'!K2250","v":27500},{"$f":"'kosten tabel 2015'!L2250","v":28875}]
[{"$f":"'kosten tabel 2015'!A2251","v":224800},null,{"$f":"'kosten tabel 2015'!K2251","v":27500},{"$f":"'kosten tabel 2015'!L2251","v":28875}]
[{"$f":"'kosten tabel 2015'!A2252","v":224900},null,{"$f":"'kosten tabel 2015'!K2252","v":27600},{"$f":"'kosten tabel 2015'!L2252","v":28980}]
[{"$f":"'kosten tabel 2015'!A2253","v":225000},null,{"$f":"'kosten tabel 2015'!K2253","v":27600},{"$f":"'kosten tabel 2015'!L2253","v":28980}]
[{"$f":"'kosten tabel 2015'!A2254","v":225100},null,{"$f":"'kosten tabel 2015'!K2254","v":27600},{"$f":"'kosten tabel 2015'!L2254","v":28980}]
[{"$f":"'kosten tabel 2015'!A2255","v":225200},null,{"$f":"'kosten tabel 2015'!K2255","v":27600},{"$f":"'kosten tabel 2015'!L2255","v":28980}]
[{"$f":"'kosten tabel 2015'!A2256","v":225300},null,{"$f":"'kosten tabel 2015'!K2256","v":27600},{"$f":"'kosten tabel 2015'!L2256","v":28980}]
[{"$f":"'kosten tabel 2015'!A2257","v":225400},null,{"$f":"'kosten tabel 2015'!K2257","v":27600},{"$f":"'kosten tabel 2015'!L2257","v":28980}]
[{"$f":"'kosten tabel 2015'!A2258","v":225500},null,{"$f":"'kosten tabel 2015'!K2258","v":27600},{"$f":"'kosten tabel 2015'!L2258","v":28980}]
[{"$f":"'kosten tabel 2015'!A2259","v":225600},null,{"$f":"'kosten tabel 2015'!K2259","v":27600},{"$f":"'kosten tabel 2015'!L2259","v":28980}]
[{"$f":"'kosten tabel 2015'!A2260","v":225700},null,{"$f":"'kosten tabel 2015'!K2260","v":27600},{"$f":"'kosten tabel 2015'!L2260","v":28980}]
[{"$f":"'kosten tabel 2015'!A2261","v":225800},null,{"$f":"'kosten tabel 2015'!K2261","v":27600},{"$f":"'kosten tabel 2015'!L2261","v":28980}]
[{"$f":"'kosten tabel 2015'!A2262","v":225900},null,{"$f":"'kosten tabel 2015'!K2262","v":27700},{"$f":"'kosten tabel 2015'!L2262","v":29085}]
[{"$f":"'kosten tabel 2015'!A2263","v":226000},null,{"$f":"'kosten tabel 2015'!K2263","v":27700},{"$f":"'kosten tabel 2015'!L2263","v":29085}]
[{"$f":"'kosten tabel 2015'!A2264","v":226100},null,{"$f":"'kosten tabel 2015'!K2264","v":27700},{"$f":"'kosten tabel 2015'!L2264","v":29085}]
[{"$f":"'kosten tabel 2015'!A2265","v":226200},null,{"$f":"'kosten tabel 2015'!K2265","v":27700},{"$f":"'kosten tabel 2015'!L2265","v":29085}]
[{"$f":"'kosten tabel 2015'!A2266","v":226300},null,{"$f":"'kosten tabel 2015'!K2266","v":27700},{"$f":"'kosten tabel 2015'!L2266","v":29085}]
[{"$f":"'kosten tabel 2015'!A2267","v":226400},null,{"$f":"'kosten tabel 2015'!K2267","v":27700},{"$f":"'kosten tabel 2015'!L2267","v":29085}]
[{"$f":"'kosten tabel 2015'!A2268","v":226500},null,{"$f":"'kosten tabel 2015'!K2268","v":27700},{"$f":"'kosten tabel 2015'!L2268","v":29085}]
[{"$f":"'kosten tabel 2015'!A2269","v":226600},null,{"$f":"'kosten tabel 2015'!K2269","v":27700},{"$f":"'kosten tabel 2015'!L2269","v":29085}]
[{"$f":"'kosten tabel 2015'!A2270","v":226700},null,{"$f":"'kosten tabel 2015'!K2270","v":27700},{"$f":"'kosten tabel 2015'!L2270","v":29085}]
[{"$f":"'kosten tabel 2015'!A2271","v":226800},null,{"$f":"'kosten tabel 2015'!K2271","v":27700},{"$f":"'kosten tabel 2015'!L2271","v":29085}]
[{"$f":"'kosten tabel 2015'!A2272","v":226900},null,{"$f":"'kosten tabel 2015'!K2272","v":27800},{"$f":"'kosten tabel 2015'!L2272","v":29190}]
[{"$f":"'kosten tabel 2015'!A2273","v":227000},null,{"$f":"'kosten tabel 2015'!K2273","v":27800},{"$f":"'kosten tabel 2015'!L2273","v":29190}]
[{"$f":"'kosten tabel 2015'!A2274","v":227100},null,{"$f":"'kosten tabel 2015'!K2274","v":27800},{"$f":"'kosten tabel 2015'!L2274","v":29190}]
[{"$f":"'kosten tabel 2015'!A2275","v":227200},null,{"$f":"'kosten tabel 2015'!K2275","v":27800},{"$f":"'kosten tabel 2015'!L2275","v":29190}]
[{"$f":"'kosten tabel 2015'!A2276","v":227300},null,{"$f":"'kosten tabel 2015'!K2276","v":27800},{"$f":"'kosten tabel 2015'!L2276","v":29190}]
[{"$f":"'kosten tabel 2015'!A2277","v":227400},null,{"$f":"'kosten tabel 2015'!K2277","v":27800},{"$f":"'kosten tabel 2015'!L2277","v":29190}]
[{"$f":"'kosten tabel 2015'!A2278","v":227500},null,{"$f":"'kosten tabel 2015'!K2278","v":27800},{"$f":"'kosten tabel 2015'!L2278","v":29190}]
[{"$f":"'kosten tabel 2015'!A2279","v":227600},null,{"$f":"'kosten tabel 2015'!K2279","v":27800},{"$f":"'kosten tabel 2015'!L2279","v":29190}]
[{"$f":"'kosten tabel 2015'!A2280","v":227700},null,{"$f":"'kosten tabel 2015'!K2280","v":27800},{"$f":"'kosten tabel 2015'!L2280","v":29190}]
[{"$f":"'kosten tabel 2015'!A2281","v":227800},null,{"$f":"'kosten tabel 2015'!K2281","v":27800},{"$f":"'kosten tabel 2015'!L2281","v":29190}]
[{"$f":"'kosten tabel 2015'!A2282","v":227900},null,{"$f":"'kosten tabel 2015'!K2282","v":27900},{"$f":"'kosten tabel 2015'!L2282","v":29295}]
[{"$f":"'kosten tabel 2015'!A2283","v":228000},null,{"$f":"'kosten tabel 2015'!K2283","v":27900},{"$f":"'kosten tabel 2015'!L2283","v":29295}]
[{"$f":"'kosten tabel 2015'!A2284","v":228100},null,{"$f":"'kosten tabel 2015'!K2284","v":27900},{"$f":"'kosten tabel 2015'!L2284","v":29295}]
[{"$f":"'kosten tabel 2015'!A2285","v":228200},null,{"$f":"'kosten tabel 2015'!K2285","v":27900},{"$f":"'kosten tabel 2015'!L2285","v":29295}]
[{"$f":"'kosten tabel 2015'!A2286","v":228300},null,{"$f":"'kosten tabel 2015'!K2286","v":27900},{"$f":"'kosten tabel 2015'!L2286","v":29295}]
[{"$f":"'kosten tabel 2015'!A2287","v":228400},null,{"$f":"'kosten tabel 2015'!K2287","v":27900},{"$f":"'kosten tabel 2015'!L2287","v":29295}]
[{"$f":"'kosten tabel 2015'!A2288","v":228500},null,{"$f":"'kosten tabel 2015'!K2288","v":27900},{"$f":"'kosten tabel 2015'!L2288","v":29295}]
[{"$f":"'kosten tabel 2015'!A2289","v":228600},null,{"$f":"'kosten tabel 2015'!K2289","v":27900},{"$f":"'kosten tabel 2015'!L2289","v":29295}]
[{"$f":"'kosten tabel 2015'!A2290","v":228700},null,{"$f":"'kosten tabel 2015'!K2290","v":27900},{"$f":"'kosten tabel 2015'!L2290","v":29295}]
[{"$f":"'kosten tabel 2015'!A2291","v":228800},null,{"$f":"'kosten tabel 2015'!K2291","v":27900},{"$f":"'kosten tabel 2015'!L2291","v":29295}]
[{"$f":"'kosten tabel 2015'!A2292","v":228900},null,{"$f":"'kosten tabel 2015'!K2292","v":28000},{"$f":"'kosten tabel 2015'!L2292","v":29400}]
[{"$f":"'kosten tabel 2015'!A2293","v":229000},null,{"$f":"'kosten tabel 2015'!K2293","v":28000},{"$f":"'kosten tabel 2015'!L2293","v":29400}]
[{"$f":"'kosten tabel 2015'!A2294","v":229100},null,{"$f":"'kosten tabel 2015'!K2294","v":28000},{"$f":"'kosten tabel 2015'!L2294","v":29400}]
[{"$f":"'kosten tabel 2015'!A2295","v":229200},null,{"$f":"'kosten tabel 2015'!K2295","v":28000},{"$f":"'kosten tabel 2015'!L2295","v":29400}]
[{"$f":"'kosten tabel 2015'!A2296","v":229300},null,{"$f":"'kosten tabel 2015'!K2296","v":28000},{"$f":"'kosten tabel 2015'!L2296","v":29400}]
[{"$f":"'kosten tabel 2015'!A2297","v":229400},null,{"$f":"'kosten tabel 2015'!K2297","v":28000},{"$f":"'kosten tabel 2015'!L2297","v":29400}]
[{"$f":"'kosten tabel 2015'!A2298","v":229500},null,{"$f":"'kosten tabel 2015'!K2298","v":28000},{"$f":"'kosten tabel 2015'!L2298","v":29400}]
[{"$f":"'kosten tabel 2015'!A2299","v":229600},null,{"$f":"'kosten tabel 2015'!K2299","v":28000},{"$f":"'kosten tabel 2015'!L2299","v":29400}]
[{"$f":"'kosten tabel 2015'!A2300","v":229700},null,{"$f":"'kosten tabel 2015'!K2300","v":28000},{"$f":"'kosten tabel 2015'!L2300","v":29400}]
[{"$f":"'kosten tabel 2015'!A2301","v":229800},null,{"$f":"'kosten tabel 2015'!K2301","v":28000},{"$f":"'kosten tabel 2015'!L2301","v":29400}]
[{"$f":"'kosten tabel 2015'!A2302","v":229900},null,{"$f":"'kosten tabel 2015'!K2302","v":28000},{"$f":"'kosten tabel 2015'!L2302","v":29400}]
[{"$f":"'kosten tabel 2015'!A2303","v":230000},null,{"$f":"'kosten tabel 2015'!K2303","v":28100},{"$f":"'kosten tabel 2015'!L2303","v":29505}]
[{"$f":"'kosten tabel 2015'!A2304","v":230100},null,{"$f":"'kosten tabel 2015'!K2304","v":28100},{"$f":"'kosten tabel 2015'!L2304","v":29505}]
[{"$f":"'kosten tabel 2015'!A2305","v":230200},null,{"$f":"'kosten tabel 2015'!K2305","v":28100},{"$f":"'kosten tabel 2015'!L2305","v":29505}]
[{"$f":"'kosten tabel 2015'!A2306","v":230300},null,{"$f":"'kosten tabel 2015'!K2306","v":28100},{"$f":"'kosten tabel 2015'!L2306","v":29505}]
[{"$f":"'kosten tabel 2015'!A2307","v":230400},null,{"$f":"'kosten tabel 2015'!K2307","v":28100},{"$f":"'kosten tabel 2015'!L2307","v":29505}]
[{"$f":"'kosten tabel 2015'!A2308","v":230500},null,{"$f":"'kosten tabel 2015'!K2308","v":28100},{"$f":"'kosten tabel 2015'!L2308","v":29505}]
[{"$f":"'kosten tabel 2015'!A2309","v":230600},null,{"$f":"'kosten tabel 2015'!K2309","v":28100},{"$f":"'kosten tabel 2015'!L2309","v":29505}]
[{"$f":"'kosten tabel 2015'!A2310","v":230700},null,{"$f":"'kosten tabel 2015'!K2310","v":28100},{"$f":"'kosten tabel 2015'!L2310","v":29505}]
[{"$f":"'kosten tabel 2015'!A2311","v":230800},null,{"$f":"'kosten tabel 2015'!K2311","v":28100},{"$f":"'kosten tabel 2015'!L2311","v":29505}]
[{"$f":"'kosten tabel 2015'!A2312","v":230900},null,{"$f":"'kosten tabel 2015'!K2312","v":28100},{"$f":"'kosten tabel 2015'!L2312","v":29505}]
[{"$f":"'kosten tabel 2015'!A2313","v":231000},null,{"$f":"'kosten tabel 2015'!K2313","v":28200},{"$f":"'kosten tabel 2015'!L2313","v":29610}]
[{"$f":"'kosten tabel 2015'!A2314","v":231100},null,{"$f":"'kosten tabel 2015'!K2314","v":28200},{"$f":"'kosten tabel 2015'!L2314","v":29610}]
[{"$f":"'kosten tabel 2015'!A2315","v":231200},null,{"$f":"'kosten tabel 2015'!K2315","v":28200},{"$f":"'kosten tabel 2015'!L2315","v":29610}]
[{"$f":"'kosten tabel 2015'!A2316","v":231300},null,{"$f":"'kosten tabel 2015'!K2316","v":28200},{"$f":"'kosten tabel 2015'!L2316","v":29610}]
[{"$f":"'kosten tabel 2015'!A2317","v":231400},null,{"$f":"'kosten tabel 2015'!K2317","v":28200},{"$f":"'kosten tabel 2015'!L2317","v":29610}]
[{"$f":"'kosten tabel 2015'!A2318","v":231500},null,{"$f":"'kosten tabel 2015'!K2318","v":28200},{"$f":"'kosten tabel 2015'!L2318","v":29610}]
[{"$f":"'kosten tabel 2015'!A2319","v":231600},null,{"$f":"'kosten tabel 2015'!K2319","v":28200},{"$f":"'kosten tabel 2015'!L2319","v":29610}]
[{"$f":"'kosten tabel 2015'!A2320","v":231700},null,{"$f":"'kosten tabel 2015'!K2320","v":28200},{"$f":"'kosten tabel 2015'!L2320","v":29610}]
[{"$f":"'kosten tabel 2015'!A2321","v":231800},null,{"$f":"'kosten tabel 2015'!K2321","v":28200},{"$f":"'kosten tabel 2015'!L2321","v":29610}]
[{"$f":"'kosten tabel 2015'!A2322","v":231900},null,{"$f":"'kosten tabel 2015'!K2322","v":28200},{"$f":"'kosten tabel 2015'!L2322","v":29610}]
[{"$f":"'kosten tabel 2015'!A2323","v":232000},null,{"$f":"'kosten tabel 2015'!K2323","v":28300},{"$f":"'kosten tabel 2015'!L2323","v":29715}]
[{"$f":"'kosten tabel 2015'!A2324","v":232100},null,{"$f":"'kosten tabel 2015'!K2324","v":28300},{"$f":"'kosten tabel 2015'!L2324","v":29715}]
[{"$f":"'kosten tabel 2015'!A2325","v":232200},null,{"$f":"'kosten tabel 2015'!K2325","v":28300},{"$f":"'kosten tabel 2015'!L2325","v":29715}]
[{"$f":"'kosten tabel 2015'!A2326","v":232300},null,{"$f":"'kosten tabel 2015'!K2326","v":28300},{"$f":"'kosten tabel 2015'!L2326","v":29715}]
[{"$f":"'kosten tabel 2015'!A2327","v":232400},null,{"$f":"'kosten tabel 2015'!K2327","v":28300},{"$f":"'kosten tabel 2015'!L2327","v":29715}]
[{"$f":"'kosten tabel 2015'!A2328","v":232500},null,{"$f":"'kosten tabel 2015'!K2328","v":28300},{"$f":"'kosten tabel 2015'!L2328","v":29715}]
[{"$f":"'kosten tabel 2015'!A2329","v":232600},null,{"$f":"'kosten tabel 2015'!K2329","v":28300},{"$f":"'kosten tabel 2015'!L2329","v":29715}]
[{"$f":"'kosten tabel 2015'!A2330","v":232700},null,{"$f":"'kosten tabel 2015'!K2330","v":28300},{"$f":"'kosten tabel 2015'!L2330","v":29715}]
[{"$f":"'kosten tabel 2015'!A2331","v":232800},null,{"$f":"'kosten tabel 2015'!K2331","v":28300},{"$f":"'kosten tabel 2015'!L2331","v":29715}]
[{"$f":"'kosten tabel 2015'!A2332","v":232900},null,{"$f":"'kosten tabel 2015'!K2332","v":28300},{"$f":"'kosten tabel 2015'!L2332","v":29715}]
[{"$f":"'kosten tabel 2015'!A2333","v":233000},null,{"$f":"'kosten tabel 2015'!K2333","v":28400},{"$f":"'kosten tabel 2015'!L2333","v":29820}]
[{"$f":"'kosten tabel 2015'!A2334","v":233100},null,{"$f":"'kosten tabel 2015'!K2334","v":28400},{"$f":"'kosten tabel 2015'!L2334","v":29820}]
[{"$f":"'kosten tabel 2015'!A2335","v":233200},null,{"$f":"'kosten tabel 2015'!K2335","v":28400},{"$f":"'kosten tabel 2015'!L2335","v":29820}]
[{"$f":"'kosten tabel 2015'!A2336","v":233300},null,{"$f":"'kosten tabel 2015'!K2336","v":28400},{"$f":"'kosten tabel 2015'!L2336","v":29820}]
[{"$f":"'kosten tabel 2015'!A2337","v":233400},null,{"$f":"'kosten tabel 2015'!K2337","v":28400},{"$f":"'kosten tabel 2015'!L2337","v":29820}]
[{"$f":"'kosten tabel 2015'!A2338","v":233500},null,{"$f":"'kosten tabel 2015'!K2338","v":28400},{"$f":"'kosten tabel 2015'!L2338","v":29820}]
[{"$f":"'kosten tabel 2015'!A2339","v":233600},null,{"$f":"'kosten tabel 2015'!K2339","v":28400},{"$f":"'kosten tabel 2015'!L2339","v":29820}]
[{"$f":"'kosten tabel 2015'!A2340","v":233700},null,{"$f":"'kosten tabel 2015'!K2340","v":28400},{"$f":"'kosten tabel 2015'!L2340","v":29820}]
[{"$f":"'kosten tabel 2015'!A2341","v":233800},null,{"$f":"'kosten tabel 2015'!K2341","v":28400},{"$f":"'kosten tabel 2015'!L2341","v":29820}]
[{"$f":"'kosten tabel 2015'!A2342","v":233900},null,{"$f":"'kosten tabel 2015'!K2342","v":28400},{"$f":"'kosten tabel 2015'!L2342","v":29820}]
[{"$f":"'kosten tabel 2015'!A2343","v":234000},null,{"$f":"'kosten tabel 2015'!K2343","v":28500},{"$f":"'kosten tabel 2015'!L2343","v":29925}]
[{"$f":"'kosten tabel 2015'!A2344","v":234100},null,{"$f":"'kosten tabel 2015'!K2344","v":28500},{"$f":"'kosten tabel 2015'!L2344","v":29925}]
[{"$f":"'kosten tabel 2015'!A2345","v":234200},null,{"$f":"'kosten tabel 2015'!K2345","v":28500},{"$f":"'kosten tabel 2015'!L2345","v":29925}]
[{"$f":"'kosten tabel 2015'!A2346","v":234300},null,{"$f":"'kosten tabel 2015'!K2346","v":28500},{"$f":"'kosten tabel 2015'!L2346","v":29925}]
[{"$f":"'kosten tabel 2015'!A2347","v":234400},null,{"$f":"'kosten tabel 2015'!K2347","v":28500},{"$f":"'kosten tabel 2015'!L2347","v":29925}]
[{"$f":"'kosten tabel 2015'!A2348","v":234500},null,{"$f":"'kosten tabel 2015'!K2348","v":28500},{"$f":"'kosten tabel 2015'!L2348","v":29925}]
[{"$f":"'kosten tabel 2015'!A2349","v":234600},null,{"$f":"'kosten tabel 2015'!K2349","v":28500},{"$f":"'kosten tabel 2015'!L2349","v":29925}]
[{"$f":"'kosten tabel 2015'!A2350","v":234700},null,{"$f":"'kosten tabel 2015'!K2350","v":28500},{"$f":"'kosten tabel 2015'!L2350","v":29925}]
[{"$f":"'kosten tabel 2015'!A2351","v":234800},null,{"$f":"'kosten tabel 2015'!K2351","v":28500},{"$f":"'kosten tabel 2015'!L2351","v":29925}]
[{"$f":"'kosten tabel 2015'!A2352","v":234900},null,{"$f":"'kosten tabel 2015'!K2352","v":28500},{"$f":"'kosten tabel 2015'!L2352","v":29925}]
[{"$f":"'kosten tabel 2015'!A2353","v":235000},null,{"$f":"'kosten tabel 2015'!K2353","v":28600},{"$f":"'kosten tabel 2015'!L2353","v":30030}]
[{"$f":"'kosten tabel 2015'!A2354","v":235100},null,{"$f":"'kosten tabel 2015'!K2354","v":28600},{"$f":"'kosten tabel 2015'!L2354","v":30030}]
[{"$f":"'kosten tabel 2015'!A2355","v":235200},null,{"$f":"'kosten tabel 2015'!K2355","v":28600},{"$f":"'kosten tabel 2015'!L2355","v":30030}]
[{"$f":"'kosten tabel 2015'!A2356","v":235300},null,{"$f":"'kosten tabel 2015'!K2356","v":28600},{"$f":"'kosten tabel 2015'!L2356","v":30030}]
[{"$f":"'kosten tabel 2015'!A2357","v":235400},null,{"$f":"'kosten tabel 2015'!K2357","v":28600},{"$f":"'kosten tabel 2015'!L2357","v":30030}]
[{"$f":"'kosten tabel 2015'!A2358","v":235500},null,{"$f":"'kosten tabel 2015'!K2358","v":28600},{"$f":"'kosten tabel 2015'!L2358","v":30030}]
[{"$f":"'kosten tabel 2015'!A2359","v":235600},null,{"$f":"'kosten tabel 2015'!K2359","v":28600},{"$f":"'kosten tabel 2015'!L2359","v":30030}]
[{"$f":"'kosten tabel 2015'!A2360","v":235700},null,{"$f":"'kosten tabel 2015'!K2360","v":28600},{"$f":"'kosten tabel 2015'!L2360","v":30030}]
[{"$f":"'kosten tabel 2015'!A2361","v":235800},null,{"$f":"'kosten tabel 2015'!K2361","v":28600},{"$f":"'kosten tabel 2015'!L2361","v":30030}]
[{"$f":"'kosten tabel 2015'!A2362","v":235900},null,{"$f":"'kosten tabel 2015'!K2362","v":28600},{"$f":"'kosten tabel 2015'!L2362","v":30030}]
[{"$f":"'kosten tabel 2015'!A2363","v":236000},null,{"$f":"'kosten tabel 2015'!K2363","v":28600},{"$f":"'kosten tabel 2015'!L2363","v":30030}]
[{"$f":"'kosten tabel 2015'!A2364","v":236100},null,{"$f":"'kosten tabel 2015'!K2364","v":28700},{"$f":"'kosten tabel 2015'!L2364","v":30135}]
[{"$f":"'kosten tabel 2015'!A2365","v":236200},null,{"$f":"'kosten tabel 2015'!K2365","v":28700},{"$f":"'kosten tabel 2015'!L2365","v":30135}]
[{"$f":"'kosten tabel 2015'!A2366","v":236300},null,{"$f":"'kosten tabel 2015'!K2366","v":28700},{"$f":"'kosten tabel 2015'!L2366","v":30135}]
[{"$f":"'kosten tabel 2015'!A2367","v":236400},null,{"$f":"'kosten tabel 2015'!K2367","v":28700},{"$f":"'kosten tabel 2015'!L2367","v":30135}]
[{"$f":"'kosten tabel 2015'!A2368","v":236500},null,{"$f":"'kosten tabel 2015'!K2368","v":28700},{"$f":"'kosten tabel 2015'!L2368","v":30135}]
[{"$f":"'kosten tabel 2015'!A2369","v":236600},null,{"$f":"'kosten tabel 2015'!K2369","v":28700},{"$f":"'kosten tabel 2015'!L2369","v":30135}]
[{"$f":"'kosten tabel 2015'!A2370","v":236700},null,{"$f":"'kosten tabel 2015'!K2370","v":28700},{"$f":"'kosten tabel 2015'!L2370","v":30135}]
[{"$f":"'kosten tabel 2015'!A2371","v":236800},null,{"$f":"'kosten tabel 2015'!K2371","v":28700},{"$f":"'kosten tabel 2015'!L2371","v":30135}]
[{"$f":"'kosten tabel 2015'!A2372","v":236900},null,{"$f":"'kosten tabel 2015'!K2372","v":28700},{"$f":"'kosten tabel 2015'!L2372","v":30135}]
[{"$f":"'kosten tabel 2015'!A2373","v":237000},null,{"$f":"'kosten tabel 2015'!K2373","v":28700},{"$f":"'kosten tabel 2015'!L2373","v":30135}]
[{"$f":"'kosten tabel 2015'!A2374","v":237100},null,{"$f":"'kosten tabel 2015'!K2374","v":28800},{"$f":"'kosten tabel 2015'!L2374","v":30240}]
[{"$f":"'kosten tabel 2015'!A2375","v":237200},null,{"$f":"'kosten tabel 2015'!K2375","v":28800},{"$f":"'kosten tabel 2015'!L2375","v":30240}]
[{"$f":"'kosten tabel 2015'!A2376","v":237300},null,{"$f":"'kosten tabel 2015'!K2376","v":28800},{"$f":"'kosten tabel 2015'!L2376","v":30240}]
[{"$f":"'kosten tabel 2015'!A2377","v":237400},null,{"$f":"'kosten tabel 2015'!K2377","v":28800},{"$f":"'kosten tabel 2015'!L2377","v":30240}]
[{"$f":"'kosten tabel 2015'!A2378","v":237500},null,{"$f":"'kosten tabel 2015'!K2378","v":28800},{"$f":"'kosten tabel 2015'!L2378","v":30240}]
[{"$f":"'kosten tabel 2015'!A2379","v":237600},null,{"$f":"'kosten tabel 2015'!K2379","v":28800},{"$f":"'kosten tabel 2015'!L2379","v":30240}]
[{"$f":"'kosten tabel 2015'!A2380","v":237700},null,{"$f":"'kosten tabel 2015'!K2380","v":28800},{"$f":"'kosten tabel 2015'!L2380","v":30240}]
[{"$f":"'kosten tabel 2015'!A2381","v":237800},null,{"$f":"'kosten tabel 2015'!K2381","v":28800},{"$f":"'kosten tabel 2015'!L2381","v":30240}]
[{"$f":"'kosten tabel 2015'!A2382","v":237900},null,{"$f":"'kosten tabel 2015'!K2382","v":28800},{"$f":"'kosten tabel 2015'!L2382","v":30240}]
[{"$f":"'kosten tabel 2015'!A2383","v":238000},null,{"$f":"'kosten tabel 2015'!K2383","v":28800},{"$f":"'kosten tabel 2015'!L2383","v":30240}]
[{"$f":"'kosten tabel 2015'!A2384","v":238100},null,{"$f":"'kosten tabel 2015'!K2384","v":28900},{"$f":"'kosten tabel 2015'!L2384","v":30345}]
[{"$f":"'kosten tabel 2015'!A2385","v":238200},null,{"$f":"'kosten tabel 2015'!K2385","v":28900},{"$f":"'kosten tabel 2015'!L2385","v":30345}]
[{"$f":"'kosten tabel 2015'!A2386","v":238300},null,{"$f":"'kosten tabel 2015'!K2386","v":28900},{"$f":"'kosten tabel 2015'!L2386","v":30345}]
[{"$f":"'kosten tabel 2015'!A2387","v":238400},null,{"$f":"'kosten tabel 2015'!K2387","v":28900},{"$f":"'kosten tabel 2015'!L2387","v":30345}]
[{"$f":"'kosten tabel 2015'!A2388","v":238500},null,{"$f":"'kosten tabel 2015'!K2388","v":28900},{"$f":"'kosten tabel 2015'!L2388","v":30345}]
[{"$f":"'kosten tabel 2015'!A2389","v":238600},null,{"$f":"'kosten tabel 2015'!K2389","v":28900},{"$f":"'kosten tabel 2015'!L2389","v":30345}]
[{"$f":"'kosten tabel 2015'!A2390","v":238700},null,{"$f":"'kosten tabel 2015'!K2390","v":28900},{"$f":"'kosten tabel 2015'!L2390","v":30345}]
[{"$f":"'kosten tabel 2015'!A2391","v":238800},null,{"$f":"'kosten tabel 2015'!K2391","v":28900},{"$f":"'kosten tabel 2015'!L2391","v":30345}]
[{"$f":"'kosten tabel 2015'!A2392","v":238900},null,{"$f":"'kosten tabel 2015'!K2392","v":28900},{"$f":"'kosten tabel 2015'!L2392","v":30345}]
[{"$f":"'kosten tabel 2015'!A2393","v":239000},null,{"$f":"'kosten tabel 2015'!K2393","v":28900},{"$f":"'kosten tabel 2015'!L2393","v":30345}]
[{"$f":"'kosten tabel 2015'!A2394","v":239100},null,{"$f":"'kosten tabel 2015'!K2394","v":29000},{"$f":"'kosten tabel 2015'!L2394","v":30450}]
[{"$f":"'kosten tabel 2015'!A2395","v":239200},null,{"$f":"'kosten tabel 2015'!K2395","v":29000},{"$f":"'kosten tabel 2015'!L2395","v":30450}]
[{"$f":"'kosten tabel 2015'!A2396","v":239300},null,{"$f":"'kosten tabel 2015'!K2396","v":29000},{"$f":"'kosten tabel 2015'!L2396","v":30450}]
[{"$f":"'kosten tabel 2015'!A2397","v":239400},null,{"$f":"'kosten tabel 2015'!K2397","v":29000},{"$f":"'kosten tabel 2015'!L2397","v":30450}]
[{"$f":"'kosten tabel 2015'!A2398","v":239500},null,{"$f":"'kosten tabel 2015'!K2398","v":29000},{"$f":"'kosten tabel 2015'!L2398","v":30450}]
[{"$f":"'kosten tabel 2015'!A2399","v":239600},null,{"$f":"'kosten tabel 2015'!K2399","v":29000},{"$f":"'kosten tabel 2015'!L2399","v":30450}]
[{"$f":"'kosten tabel 2015'!A2400","v":239700},null,{"$f":"'kosten tabel 2015'!K2400","v":29000},{"$f":"'kosten tabel 2015'!L2400","v":30450}]
[{"$f":"'kosten tabel 2015'!A2401","v":239800},null,{"$f":"'kosten tabel 2015'!K2401","v":29000},{"$f":"'kosten tabel 2015'!L2401","v":30450}]
[{"$f":"'kosten tabel 2015'!A2402","v":239900},null,{"$f":"'kosten tabel 2015'!K2402","v":29000},{"$f":"'kosten tabel 2015'!L2402","v":30450}]
[{"$f":"'kosten tabel 2015'!A2403","v":240000},null,{"$f":"'kosten tabel 2015'!K2403","v":29000},{"$f":"'kosten tabel 2015'!L2403","v":30450}]
[{"$f":"'kosten tabel 2015'!A2404","v":240100},null,{"$f":"'kosten tabel 2015'!K2404","v":29100},{"$f":"'kosten tabel 2015'!L2404","v":30555}]
[{"$f":"'kosten tabel 2015'!A2405","v":240200},null,{"$f":"'kosten tabel 2015'!K2405","v":29100},{"$f":"'kosten tabel 2015'!L2405","v":30555}]
[{"$f":"'kosten tabel 2015'!A2406","v":240300},null,{"$f":"'kosten tabel 2015'!K2406","v":29100},{"$f":"'kosten tabel 2015'!L2406","v":30555}]
[{"$f":"'kosten tabel 2015'!A2407","v":240400},null,{"$f":"'kosten tabel 2015'!K2407","v":29100},{"$f":"'kosten tabel 2015'!L2407","v":30555}]
[{"$f":"'kosten tabel 2015'!A2408","v":240500},null,{"$f":"'kosten tabel 2015'!K2408","v":29100},{"$f":"'kosten tabel 2015'!L2408","v":30555}]
[{"$f":"'kosten tabel 2015'!A2409","v":240600},null,{"$f":"'kosten tabel 2015'!K2409","v":29100},{"$f":"'kosten tabel 2015'!L2409","v":30555}]
[{"$f":"'kosten tabel 2015'!A2410","v":240700},null,{"$f":"'kosten tabel 2015'!K2410","v":29100},{"$f":"'kosten tabel 2015'!L2410","v":30555}]
[{"$f":"'kosten tabel 2015'!A2411","v":240800},null,{"$f":"'kosten tabel 2015'!K2411","v":29100},{"$f":"'kosten tabel 2015'!L2411","v":30555}]
[{"$f":"'kosten tabel 2015'!A2412","v":240900},null,{"$f":"'kosten tabel 2015'!K2412","v":29100},{"$f":"'kosten tabel 2015'!L2412","v":30555}]
[{"$f":"'kosten tabel 2015'!A2413","v":241000},null,{"$f":"'kosten tabel 2015'!K2413","v":29100},{"$f":"'kosten tabel 2015'!L2413","v":30555}]
[{"$f":"'kosten tabel 2015'!A2414","v":241100},null,{"$f":"'kosten tabel 2015'!K2414","v":29200},{"$f":"'kosten tabel 2015'!L2414","v":30660}]
[{"$f":"'kosten tabel 2015'!A2415","v":241200},null,{"$f":"'kosten tabel 2015'!K2415","v":29200},{"$f":"'kosten tabel 2015'!L2415","v":30660}]
[{"$f":"'kosten tabel 2015'!A2416","v":241300},null,{"$f":"'kosten tabel 2015'!K2416","v":29200},{"$f":"'kosten tabel 2015'!L2416","v":30660}]
[{"$f":"'kosten tabel 2015'!A2417","v":241400},null,{"$f":"'kosten tabel 2015'!K2417","v":29200},{"$f":"'kosten tabel 2015'!L2417","v":30660}]
[{"$f":"'kosten tabel 2015'!A2418","v":241500},null,{"$f":"'kosten tabel 2015'!K2418","v":29200},{"$f":"'kosten tabel 2015'!L2418","v":30660}]
[{"$f":"'kosten tabel 2015'!A2419","v":241600},null,{"$f":"'kosten tabel 2015'!K2419","v":29200},{"$f":"'kosten tabel 2015'!L2419","v":30660}]
[{"$f":"'kosten tabel 2015'!A2420","v":241700},null,{"$f":"'kosten tabel 2015'!K2420","v":29200},{"$f":"'kosten tabel 2015'!L2420","v":30660}]
[{"$f":"'kosten tabel 2015'!A2421","v":241800},null,{"$f":"'kosten tabel 2015'!K2421","v":29200},{"$f":"'kosten tabel 2015'!L2421","v":30660}]
[{"$f":"'kosten tabel 2015'!A2422","v":241900},null,{"$f":"'kosten tabel 2015'!K2422","v":29200},{"$f":"'kosten tabel 2015'!L2422","v":30660}]
[{"$f":"'kosten tabel 2015'!A2423","v":242000},null,{"$f":"'kosten tabel 2015'!K2423","v":29200},{"$f":"'kosten tabel 2015'!L2423","v":30660}]
[{"$f":"'kosten tabel 2015'!A2424","v":242100},null,{"$f":"'kosten tabel 2015'!K2424","v":29300},{"$f":"'kosten tabel 2015'!L2424","v":30765}]
[{"$f":"'kosten tabel 2015'!A2425","v":242200},null,{"$f":"'kosten tabel 2015'!K2425","v":29300},{"$f":"'kosten tabel 2015'!L2425","v":30765}]
[{"$f":"'kosten tabel 2015'!A2426","v":242300},null,{"$f":"'kosten tabel 2015'!K2426","v":29300},{"$f":"'kosten tabel 2015'!L2426","v":30765}]
[{"$f":"'kosten tabel 2015'!A2427","v":242400},null,{"$f":"'kosten tabel 2015'!K2427","v":29300},{"$f":"'kosten tabel 2015'!L2427","v":30765}]
[{"$f":"'kosten tabel 2015'!A2428","v":242500},null,{"$f":"'kosten tabel 2015'!K2428","v":29300},{"$f":"'kosten tabel 2015'!L2428","v":30765}]
[{"$f":"'kosten tabel 2015'!A2429","v":242600},null,{"$f":"'kosten tabel 2015'!K2429","v":29300},{"$f":"'kosten tabel 2015'!L2429","v":30765}]
[{"$f":"'kosten tabel 2015'!A2430","v":242700},null,{"$f":"'kosten tabel 2015'!K2430","v":29300},{"$f":"'kosten tabel 2015'!L2430","v":30765}]
[{"$f":"'kosten tabel 2015'!A2431","v":242800},null,{"$f":"'kosten tabel 2015'!K2431","v":29300},{"$f":"'kosten tabel 2015'!L2431","v":30765}]
[{"$f":"'kosten tabel 2015'!A2432","v":242900},null,{"$f":"'kosten tabel 2015'!K2432","v":29300},{"$f":"'kosten tabel 2015'!L2432","v":30765}]
[{"$f":"'kosten tabel 2015'!A2433","v":243000},null,{"$f":"'kosten tabel 2015'!K2433","v":29300},{"$f":"'kosten tabel 2015'!L2433","v":30765}]
[{"$f":"'kosten tabel 2015'!A2434","v":243100},null,{"$f":"'kosten tabel 2015'!K2434","v":29300},{"$f":"'kosten tabel 2015'!L2434","v":30765}]
[{"$f":"'kosten tabel 2015'!A2435","v":243200},null,{"$f":"'kosten tabel 2015'!K2435","v":29400},{"$f":"'kosten tabel 2015'!L2435","v":30870}]
[{"$f":"'kosten tabel 2015'!A2436","v":243300},null,{"$f":"'kosten tabel 2015'!K2436","v":29400},{"$f":"'kosten tabel 2015'!L2436","v":30870}]
[{"$f":"'kosten tabel 2015'!A2437","v":243400},null,{"$f":"'kosten tabel 2015'!K2437","v":29400},{"$f":"'kosten tabel 2015'!L2437","v":30870}]
[{"$f":"'kosten tabel 2015'!A2438","v":243500},null,{"$f":"'kosten tabel 2015'!K2438","v":29400},{"$f":"'kosten tabel 2015'!L2438","v":30870}]
[{"$f":"'kosten tabel 2015'!A2439","v":243600},null,{"$f":"'kosten tabel 2015'!K2439","v":29400},{"$f":"'kosten tabel 2015'!L2439","v":30870}]
[{"$f":"'kosten tabel 2015'!A2440","v":243700},null,{"$f":"'kosten tabel 2015'!K2440","v":29400},{"$f":"'kosten tabel 2015'!L2440","v":30870}]
[{"$f":"'kosten tabel 2015'!A2441","v":243800},null,{"$f":"'kosten tabel 2015'!K2441","v":29400},{"$f":"'kosten tabel 2015'!L2441","v":30870}]
[{"$f":"'kosten tabel 2015'!A2442","v":243900},null,{"$f":"'kosten tabel 2015'!K2442","v":29400},{"$f":"'kosten tabel 2015'!L2442","v":30870}]
[{"$f":"'kosten tabel 2015'!A2443","v":244000},null,{"$f":"'kosten tabel 2015'!K2443","v":29400},{"$f":"'kosten tabel 2015'!L2443","v":30870}]
[{"$f":"'kosten tabel 2015'!A2444","v":244100},null,{"$f":"'kosten tabel 2015'!K2444","v":29400},{"$f":"'kosten tabel 2015'!L2444","v":30870}]
[{"$f":"'kosten tabel 2015'!A2445","v":244200},null,{"$f":"'kosten tabel 2015'!K2445","v":29500},{"$f":"'kosten tabel 2015'!L2445","v":30975}]
[{"$f":"'kosten tabel 2015'!A2446","v":244300},null,{"$f":"'kosten tabel 2015'!K2446","v":29500},{"$f":"'kosten tabel 2015'!L2446","v":30975}]
[{"$f":"'kosten tabel 2015'!A2447","v":244400},null,{"$f":"'kosten tabel 2015'!K2447","v":29500},{"$f":"'kosten tabel 2015'!L2447","v":30975}]
[{"$f":"'kosten tabel 2015'!A2448","v":244500},null,{"$f":"'kosten tabel 2015'!K2448","v":29500},{"$f":"'kosten tabel 2015'!L2448","v":30975}]
[{"$f":"'kosten tabel 2015'!A2449","v":244600},null,{"$f":"'kosten tabel 2015'!K2449","v":29500},{"$f":"'kosten tabel 2015'!L2449","v":30975}]
[{"$f":"'kosten tabel 2015'!A2450","v":244700},null,{"$f":"'kosten tabel 2015'!K2450","v":29500},{"$f":"'kosten tabel 2015'!L2450","v":30975}]
[{"$f":"'kosten tabel 2015'!A2451","v":244800},null,{"$f":"'kosten tabel 2015'!K2451","v":29500},{"$f":"'kosten tabel 2015'!L2451","v":30975}]
[{"$f":"'kosten tabel 2015'!A2452","v":244900},null,{"$f":"'kosten tabel 2015'!K2452","v":29500},{"$f":"'kosten tabel 2015'!L2452","v":30975}]
[{"$f":"'kosten tabel 2015'!A2453","v":245000},null,{"$f":"'kosten tabel 2015'!K2453","v":29500},{"$f":"'kosten tabel 2015'!L2453","v":30975}]
[{"$f":"'kosten tabel 2015'!A2454","v":245100},null,{"$f":"'kosten tabel 2015'!K2454","v":29500},{"$f":"'kosten tabel 2015'!L2454","v":30975}]
[{"$f":"'kosten tabel 2015'!A2455","v":245200},null,{"$f":"'kosten tabel 2015'!K2455","v":29600},{"$f":"'kosten tabel 2015'!L2455","v":31080}]
[{"$f":"'kosten tabel 2015'!A2456","v":245300},null,{"$f":"'kosten tabel 2015'!K2456","v":29600},{"$f":"'kosten tabel 2015'!L2456","v":31080}]
[{"$f":"'kosten tabel 2015'!A2457","v":245400},null,{"$f":"'kosten tabel 2015'!K2457","v":29600},{"$f":"'kosten tabel 2015'!L2457","v":31080}]
[{"$f":"'kosten tabel 2015'!A2458","v":245500},null,{"$f":"'kosten tabel 2015'!K2458","v":29600},{"$f":"'kosten tabel 2015'!L2458","v":31080}]
[{"$f":"'kosten tabel 2015'!A2459","v":245600},null,{"$f":"'kosten tabel 2015'!K2459","v":29600},{"$f":"'kosten tabel 2015'!L2459","v":31080}]
[{"$f":"'kosten tabel 2015'!A2460","v":245700},null,{"$f":"'kosten tabel 2015'!K2460","v":29600},{"$f":"'kosten tabel 2015'!L2460","v":31080}]
[{"$f":"'kosten tabel 2015'!A2461","v":245800},null,{"$f":"'kosten tabel 2015'!K2461","v":29600},{"$f":"'kosten tabel 2015'!L2461","v":31080}]
[{"$f":"'kosten tabel 2015'!A2462","v":245900},null,{"$f":"'kosten tabel 2015'!K2462","v":29600},{"$f":"'kosten tabel 2015'!L2462","v":31080}]
[{"$f":"'kosten tabel 2015'!A2463","v":246000},null,{"$f":"'kosten tabel 2015'!K2463","v":29600},{"$f":"'kosten tabel 2015'!L2463","v":31080}]
[{"$f":"'kosten tabel 2015'!A2464","v":246100},null,{"$f":"'kosten tabel 2015'!K2464","v":29600},{"$f":"'kosten tabel 2015'!L2464","v":31080}]
[{"$f":"'kosten tabel 2015'!A2465","v":246200},null,{"$f":"'kosten tabel 2015'!K2465","v":29700},{"$f":"'kosten tabel 2015'!L2465","v":31185}]
[{"$f":"'kosten tabel 2015'!A2466","v":246300},null,{"$f":"'kosten tabel 2015'!K2466","v":29700},{"$f":"'kosten tabel 2015'!L2466","v":31185}]
[{"$f":"'kosten tabel 2015'!A2467","v":246400},null,{"$f":"'kosten tabel 2015'!K2467","v":29700},{"$f":"'kosten tabel 2015'!L2467","v":31185}]
[{"$f":"'kosten tabel 2015'!A2468","v":246500},null,{"$f":"'kosten tabel 2015'!K2468","v":29700},{"$f":"'kosten tabel 2015'!L2468","v":31185}]
[{"$f":"'kosten tabel 2015'!A2469","v":246600},null,{"$f":"'kosten tabel 2015'!K2469","v":29700},{"$f":"'kosten tabel 2015'!L2469","v":31185}]
[{"$f":"'kosten tabel 2015'!A2470","v":246700},null,{"$f":"'kosten tabel 2015'!K2470","v":29700},{"$f":"'kosten tabel 2015'!L2470","v":31185}]
[{"$f":"'kosten tabel 2015'!A2471","v":246800},null,{"$f":"'kosten tabel 2015'!K2471","v":29700},{"$f":"'kosten tabel 2015'!L2471","v":31185}]
[{"$f":"'kosten tabel 2015'!A2472","v":246900},null,{"$f":"'kosten tabel 2015'!K2472","v":29700},{"$f":"'kosten tabel 2015'!L2472","v":31185}]
[{"$f":"'kosten tabel 2015'!A2473","v":247000},null,{"$f":"'kosten tabel 2015'!K2473","v":29700},{"$f":"'kosten tabel 2015'!L2473","v":31185}]
[{"$f":"'kosten tabel 2015'!A2474","v":247100},null,{"$f":"'kosten tabel 2015'!K2474","v":29700},{"$f":"'kosten tabel 2015'!L2474","v":31185}]
[{"$f":"'kosten tabel 2015'!A2475","v":247200},null,{"$f":"'kosten tabel 2015'!K2475","v":29800},{"$f":"'kosten tabel 2015'!L2475","v":31290}]
[{"$f":"'kosten tabel 2015'!A2476","v":247300},null,{"$f":"'kosten tabel 2015'!K2476","v":29800},{"$f":"'kosten tabel 2015'!L2476","v":31290}]
[{"$f":"'kosten tabel 2015'!A2477","v":247400},null,{"$f":"'kosten tabel 2015'!K2477","v":29800},{"$f":"'kosten tabel 2015'!L2477","v":31290}]
[{"$f":"'kosten tabel 2015'!A2478","v":247500},null,{"$f":"'kosten tabel 2015'!K2478","v":29800},{"$f":"'kosten tabel 2015'!L2478","v":31290}]
[{"$f":"'kosten tabel 2015'!A2479","v":247600},null,{"$f":"'kosten tabel 2015'!K2479","v":29800},{"$f":"'kosten tabel 2015'!L2479","v":31290}]
[{"$f":"'kosten tabel 2015'!A2480","v":247700},null,{"$f":"'kosten tabel 2015'!K2480","v":29800},{"$f":"'kosten tabel 2015'!L2480","v":31290}]
[{"$f":"'kosten tabel 2015'!A2481","v":247800},null,{"$f":"'kosten tabel 2015'!K2481","v":29800},{"$f":"'kosten tabel 2015'!L2481","v":31290}]
[{"$f":"'kosten tabel 2015'!A2482","v":247900},null,{"$f":"'kosten tabel 2015'!K2482","v":29800},{"$f":"'kosten tabel 2015'!L2482","v":31290}]
[{"$f":"'kosten tabel 2015'!A2483","v":248000},null,{"$f":"'kosten tabel 2015'!K2483","v":29800},{"$f":"'kosten tabel 2015'!L2483","v":31290}]
[{"$f":"'kosten tabel 2015'!A2484","v":248100},null,{"$f":"'kosten tabel 2015'!K2484","v":29800},{"$f":"'kosten tabel 2015'!L2484","v":31290}]
[{"$f":"'kosten tabel 2015'!A2485","v":248200},null,{"$f":"'kosten tabel 2015'!K2485","v":29900},{"$f":"'kosten tabel 2015'!L2485","v":31395}]
[{"$f":"'kosten tabel 2015'!A2486","v":248300},null,{"$f":"'kosten tabel 2015'!K2486","v":29900},{"$f":"'kosten tabel 2015'!L2486","v":31395}]
[{"$f":"'kosten tabel 2015'!A2487","v":248400},null,{"$f":"'kosten tabel 2015'!K2487","v":29900},{"$f":"'kosten tabel 2015'!L2487","v":31395}]
[{"$f":"'kosten tabel 2015'!A2488","v":248500},null,{"$f":"'kosten tabel 2015'!K2488","v":29900},{"$f":"'kosten tabel 2015'!L2488","v":31395}]
[{"$f":"'kosten tabel 2015'!A2489","v":248600},null,{"$f":"'kosten tabel 2015'!K2489","v":29900},{"$f":"'kosten tabel 2015'!L2489","v":31395}]
[{"$f":"'kosten tabel 2015'!A2490","v":248700},null,{"$f":"'kosten tabel 2015'!K2490","v":29900},{"$f":"'kosten tabel 2015'!L2490","v":31395}]
[{"$f":"'kosten tabel 2015'!A2491","v":248800},null,{"$f":"'kosten tabel 2015'!K2491","v":29900},{"$f":"'kosten tabel 2015'!L2491","v":31395}]
[{"$f":"'kosten tabel 2015'!A2492","v":248900},null,{"$f":"'kosten tabel 2015'!K2492","v":29900},{"$f":"'kosten tabel 2015'!L2492","v":31395}]
[{"$f":"'kosten tabel 2015'!A2493","v":249000},null,{"$f":"'kosten tabel 2015'!K2493","v":29900},{"$f":"'kosten tabel 2015'!L2493","v":31395}]
[{"$f":"'kosten tabel 2015'!A2494","v":249100},null,{"$f":"'kosten tabel 2015'!K2494","v":29900},{"$f":"'kosten tabel 2015'!L2494","v":31395}]
[{"$f":"'kosten tabel 2015'!A2495","v":249200},null,{"$f":"'kosten tabel 2015'!K2495","v":30000},{"$f":"'kosten tabel 2015'!L2495","v":31500}]
[{"$f":"'kosten tabel 2015'!A2496","v":249300},null,{"$f":"'kosten tabel 2015'!K2496","v":30000},{"$f":"'kosten tabel 2015'!L2496","v":31500}]
[{"$f":"'kosten tabel 2015'!A2497","v":249400},null,{"$f":"'kosten tabel 2015'!K2497","v":30000},{"$f":"'kosten tabel 2015'!L2497","v":31500}]
[{"$f":"'kosten tabel 2015'!A2498","v":249500},null,{"$f":"'kosten tabel 2015'!K2498","v":30000},{"$f":"'kosten tabel 2015'!L2498","v":31500}]
[{"$f":"'kosten tabel 2015'!A2499","v":249600},null,{"$f":"'kosten tabel 2015'!K2499","v":30000},{"$f":"'kosten tabel 2015'!L2499","v":31500}]
[{"$f":"'kosten tabel 2015'!A2500","v":249700},null,{"$f":"'kosten tabel 2015'!K2500","v":30000},{"$f":"'kosten tabel 2015'!L2500","v":31500}]
[{"$f":"'kosten tabel 2015'!A2501","v":249800},null,{"$f":"'kosten tabel 2015'!K2501","v":30000},{"$f":"'kosten tabel 2015'!L2501","v":31500}]
[{"$f":"'kosten tabel 2015'!A2502","v":249900},null,{"$f":"'kosten tabel 2015'!K2502","v":30000},{"$f":"'kosten tabel 2015'!L2502","v":31500}]
[{"$f":"'kosten tabel 2015'!A2503","v":250000},null,{"$f":"'kosten tabel 2015'!K2503","v":30000},{"$f":"'kosten tabel 2015'!L2503","v":31500}]

{"sheet":"Versies","index":4,"n_rows":9,"n_cols":1,"rows_kept":9,"cut":false,"hidden":true,"merged":[]}
["2010-02-16"]
["spreadsheet CVS aangepast aan invoer"]
[]
[]
["2010-02-19"]
["gebruiksduur beperking ingevoerd"]
[]
["2014-12-22"]
["werkbad versies weer opgenomen"]

{"sheet":"Uitleg","index":5,"n_rows":20,"n_cols":1,"rows_kept":20,"cut":false,"hidden":true,"merged":[]}
["Voeg werkbladen uitleg, Tabel, Berekening BGK en versies in"]
["sla op in xls of xlsm bestand"]
["Kopieer de inhoud van het werkblad uitleg, Tabel  en van Berekening BGK en versies naar het nieuwe werkblad"]
[]
[]
["pas de houdbaarheidsgegevens aan, met bruikbaarheid tot 10 jaar later"]
["Controleer of de tabel in biv.  kosten tabel 2012 hetzelfde formaat als in het oude blad heeft en pas zonodig aan"]
[]
["Vervang in het werkblad Berekening BGK en het werkblad Tabel bijv. [2011-05-02 bgk bbh 2011 def.xls]kosten tabel 2011 door kosten tabel 2012"]
[]
["plak de waarden van de bladen tabel oud en nieuw in een nieuwe spreadsheet en vergelijk of er verschil inzit."]
["Controleer met de verschillen de verschillen tussen de oude en nieuwe spreadsheets in de bladen Berekening bgk"]
["pas de gegevens van houdbaarheid in Berekening bgk aan"]
["kopieer de macro's van oud naar nieuw en controleer die."]
[]
["Blokkeer de bovenste regels in tabel en pas het jaartal daar aan."]
[]
[]
["test de macro's na opslaan"]
["sla op in xls of xlsm bestand"]

{"sheet":"indexcijfers","index":6,"n_rows":44,"n_cols":4,"rows_kept":44,"cut":false,"hidden":true,"merged":[]}
[null,"index CAO-lonen particuliere bedrijven / fin. en zakelijke dienstverlening (1972=100) per maand inclusief bijzondere beloningen (Bron: CBS)"]
[]
[]
[1994,294]
[1995,297,{"$f":"B5/B4-1","v":1.0204081632652962E-2},"index CAO-lonen particuliere bedrijven / fin. en zakelijke dienstverlening"]
[1996,302,1.6835016835016869E-2,"index CAO-lonen particuliere bedrijven / fin. en zakelijke dienstverlening"]
[1997,308,1.9867549668874274E-2,"index CAO-lonen particuliere bedrijven / fin. en zakelijke dienstverlening"]
[1998,317,2.9220779220779258E-2,"index CAO-lonen particuliere bedrijven / fin. en zakelijke dienstverlening"]
[1999,325,2.5236593059936974E-2,"index CAO-lonen particuliere bedrijven / fin. en zakelijke dienstverlening"]
[2000,335,3.076923076923066E-2,"index CAO-lonen particuliere bedrijven / fin. en zakelijke dienstverlening"]
[2001,354,5.6716417910447792E-2,"index CAO-lonen particuliere bedrijven / fin. en zakelijke dienstverlening"]
[2002,366,3.3898305084745672E-2,"index CAO-lonen particuliere bedrijven / fin. en zakelijke dienstverlening"]
[2003,null,2.5999999999999999E-2,"index CAO-lonen particuliere bedrijven / fin. en zakelijke dienstverlening"]
[]
["index cao lonen per maand inclusief bijzonder beloningen, particuliere bedrijven, Financiele en zakelijke dienstverlening indexcijfers (2000=100)"]
[null,"jaarmutatie"]
[2004,1.4E-2,"jaarcijfer denifitief"]
[2005,8.9999999999999993E-3,"jaarcijfer denifitief"]
[2006,2.1999999999999999E-2,"jaarcijfer definitief"]
[2007,1.7999999999999999E-2,"jaarcijfer definitief"]
[2008,3.5000000000000003E-2,"jaarcijfer definitief"]
[2009,2.1999999999999999E-2,"jaarcijfer definitief"]
[2010,0.01,"jaarcijfer definitief"]
[2011,1.2999999999999999E-2,"jaarcijfer definitief"]
[2012,1.4999999999999999E-2,"jaarcijfer definitief"]
[2013,0.01,"jaarcijfer definitief"]
[2014,1.0999999999999999E-2,"(Bron; CBS stand van november, op 8-12-2014)"]
[]
["Consumentenprijsindex, alle huishoudens (jaarmutatie) (Bron: CBS) stand november"]
[null,"jaarmutatie"]
[2001,4.2000000000000003E-2,"jaarcijfer definitief "]
[2002,3.3000000000000002E-2,"jaarcijfer definitief "]
[2003,2.1000000000000001E-2,"jaarcijfer definitief "]
[2004,1.2E-2,"jaarcijfer definitief "]
[2005,1.7000000000000001E-2,"jaarcijfer definitief "]
[2006,1.2E-2,"jaarcijfer definitief "]
[2007,1.6E-2,"jaarcijfer definitief "]
[2008,2.5000000000000001E-2,"jaarcijfer definitief "]
[2009,1.2E-2,"jaarcijfer definitief "]
[2010,1.2999999999999999E-2,"jaarcijfer definitief "]
[2011,2.3E-2,"jaarcijfer definitief "]
[2012,2.5000000000000001E-2,"jaarcijfer definitief "]
[2013,2.5000000000000001E-2,"jaarcijfer definitief"]
[2014,0.01,"(Bron; CBS stand van november, op 8-12-2014)"]